Workbook

Sheet KPIs Data
A1: DATA
A8: Objet | B8: Réponse FDO | C8: Date du FDO | D8: Date de propale demandée | E8: Date de propale réelle | F8: Date d'acceptation propale | G8: Coûts | H8: Date livraison | I8: Retard FDO | J8: Nombre de non acceptations | K8: Date acceptation bon de livraison | L8: Acceptation facturation
A9: 366-00001058 | B9: Oui | C9: 42897 | D9: 42906 | E9: 42906 | F9: 42908 | G9: 1500 | H9: 42989 | I9: 0 | J9: 0 | P9: =INDEX(A:K,MATCH(A9,A:A,0),MATCH("Coûts",$A$8:$L$8,0))/(DATEDIF(INDEX(A:K,MATCH(A9,A:A,0),MATCH("Date d'acceptation propale",$A$8:$L$8,0)),INDEX(A:K,MATCH(A9,A:A,0),MATCH("Date livraison",$A$8:$L$8,0)),"d")/30) -> 555.55556
A10: 366-00001818 | B10: Non | C10: 42899 | J10: 0 | P10: =INDEX(A:K,MATCH(A10,A:A,0),MATCH("Coûts",$A$8:$L$8,0))/(DATEDIF(INDEX(A:K,MATCH(A10,A:A,0),MATCH("Date d'acceptation propale",$A$8:$L$8,0)),INDEX(A:K,MATCH(A10,A:A,0),MATCH("Date livraison",$A$8:$L$8,0)),"d")/30) -> #DIV/0!
A11: 366-00001902 | B11: Oui | C11: 42899 | D11: 42906 | E11: 42906 | F11: 42908 | G11: 2000 | H11: 43052 | I11: 0 | J11: 1 | P11: =INDEX(A:K,MATCH(A11,A:A,0),MATCH("Coûts",$A$8:$L$8,0))/(DATEDIF(INDEX(A:K,MATCH(A11,A:A,0),MATCH("Date d'acceptation propale",$A$8:$L$8,0)),INDEX(A:K,MATCH(A11,A:A,0),MATCH("Date livraison",$A$8:$L$8,0)),"d")/30) -> 416.66667
A12: 366-00001909 | B12: Oui | C12: 42845 | D12: 42916 | E12: 42920 | F12: 42926 | G12: 2700 | H12: 43089 | I12: 3 | J12: 0 | P12: =INDEX(A:K,MATCH(A12,A:A,0),MATCH("Coûts",$A$8:$L$8,0))/(DATEDIF(INDEX(A:K,MATCH(A12,A:A,0),MATCH("Date d'acceptation propale",$A$8:$L$8,0)),INDEX(A:K,MATCH(A12,A:A,0),MATCH("Date livraison",$A$8:$L$8,0)),"d")/30) -> 496.93252
A13: 300-00011838 | B13: Oui | C13: 42916 | D13: 42926 | E13: 42926 | F13: 42929 | G13: 3100 | H13: 43001 | I13: 7 | J13: 0 | P13: =INDEX(A:K,MATCH(A13,A:A,0),MATCH("Coûts",$A$8:$L$8,0))/(DATEDIF(INDEX(A:K,MATCH(A13,A:A,0),MATCH("Date d'acceptation propale",$A$8:$L$8,0)),INDEX(A:K,MATCH(A13,A:A,0),MATCH("Date livraison",$A$8:$L$8,0)),"d")/30) -> 1291.6667
A14: 300-00013698 | B14: Oui | C14: 42920 | D14: 42926 | E14: 42930 | F14: 42935 | G14: 2840 | H14: 43285 | I14: 13 | J14: 2 | P14: =INDEX(A:K,MATCH(A14,A:A,0),MATCH("Coûts",$A$8:$L$8,0))/(DATEDIF(INDEX(A:K,MATCH(A14,A:A,0),MATCH("Date d'acceptation propale",$A$8:$L$8,0)),INDEX(A:K,MATCH(A14,A:A,0),MATCH("Date livraison",$A$8:$L$8,0)),"d")/30) -> 243.42857
A15: 300-00014005 | B15: Oui | C15: 42920 | D15: 42926 | E15: 42926 | F15: 42935 | G15: 2120 | H15: 43100 | I15: 0 | J15: 0 | P15: =INDEX(A:K,MATCH(A15,A:A,0),MATCH("Coûts",$A$8:$L$8,0))/(DATEDIF(INDEX(A:K,MATCH(A15,A:A,0),MATCH("Date d'acceptation propale",$A$8:$L$8,0)),INDEX(A:K,MATCH(A15,A:A,0),MATCH("Date livraison",$A$8:$L$8,0)),"d")/30) -> 385.45455
A16: 300-00015637 | B16: Oui | C16: 42930 | D16: 42936 | E16: 42937 | F16: 42943 | G16: 570 | H16: 43114 | I16: 1 | J16: 1 | P16: =INDEX(A:K,MATCH(A16,A:A,0),MATCH("Coûts",$A$8:$L$8,0))/(DATEDIF(INDEX(A:K,MATCH(A16,A:A,0),MATCH("Date d'acceptation propale",$A$8:$L$8,0)),INDEX(A:K,MATCH(A16,A:A,0),MATCH("Date livraison",$A$8:$L$8,0)),"d")/30) -> 100
A17: 300-00015664 | B17: Oui | C17: 42936 | D17: 42946 | E17: 42946 | F17: 42951 | G17: 960 | H17: 43101 | I17: 4 | J17: 0 | P17: =INDEX(A:K,MATCH(A17,A:A,0),MATCH("Coûts",$A$8:$L$8,0))/(DATEDIF(INDEX(A:K,MATCH(A17,A:A,0),MATCH("Date d'acceptation propale",$A$8:$L$8,0)),INDEX(A:K,MATCH(A17,A:A,0),MATCH("Date livraison",$A$8:$L$8,0)),"d")/30) -> 192
P18: =INDEX(A:K,MATCH(A18,A:A,0),MATCH("Coûts",$A$8:$L$8,0))/(DATEDIF(INDEX(A:K,MATCH(A18,A:A,0),MATCH("Date d'acceptation propale",$A$8:$L$8,0)),INDEX(A:K,MATCH(A18,A:A,0),MATCH("Date livraison",$A$8:$L$8,0)),"d")/30) -> #N/A
P19: =INDEX(A:K,MATCH(A19,A:A,0),MATCH("Coûts",$A$8:$L$8,0))/(DATEDIF(INDEX(A:K,MATCH(A19,A:A,0),MATCH("Date d'acceptation propale",$A$8:$L$8,0)),INDEX(A:K,MATCH(A19,A:A,0),MATCH("Date livraison",$A$8:$L$8,0)),"d")/30) -> #N/A
P20: =INDEX(A:K,MATCH(A20,A:A,0),MATCH("Coûts",$A$8:$L$8,0))/(DATEDIF(INDEX(A:K,MATCH(A20,A:A,0),MATCH("Date d'acceptation propale",$A$8:$L$8,0)),INDEX(A:K,MATCH(A20,A:A,0),MATCH("Date livraison",$A$8:$L$8,0)),"d")/30) -> #N/A
P21: =INDEX(A:K,MATCH(A21,A:A,0),MATCH("Coûts",$A$8:$L$8,0))/(DATEDIF(INDEX(A:K,MATCH(A21,A:A,0),MATCH("Date d'acceptation propale",$A$8:$L$8,0)),INDEX(A:K,MATCH(A21,A:A,0),MATCH("Date livraison",$A$8:$L$8,0)),"d")/30) -> #N/A
P22: =INDEX(A:K,MATCH(A22,A:A,0),MATCH("Coûts",$A$8:$L$8,0))/(DATEDIF(INDEX(A:K,MATCH(A22,A:A,0),MATCH("Date d'acceptation propale",$A$8:$L$8,0)),INDEX(A:K,MATCH(A22,A:A,0),MATCH("Date livraison",$A$8:$L$8,0)),"d")/30) -> #N/A
P23: =INDEX(A:K,MATCH(A23,A:A,0),MATCH("Coûts",$A$8:$L$8,0))/(DATEDIF(INDEX(A:K,MATCH(A23,A:A,0),MATCH("Date d'acceptation propale",$A$8:$L$8,0)),INDEX(A:K,MATCH(A23,A:A,0),MATCH("Date livraison",$A$8:$L$8,0)),"d")/30) -> #N/A
P24: =INDEX(A:K,MATCH(A24,A:A,0),MATCH("Coûts",$A$8:$L$8,0))/(DATEDIF(INDEX(A:K,MATCH(A24,A:A,0),MATCH("Date d'acceptation propale",$A$8:$L$8,0)),INDEX(A:K,MATCH(A24,A:A,0),MATCH("Date livraison",$A$8:$L$8,0)),"d")/30) -> #N/A
P25: =INDEX(A:K,MATCH(A25,A:A,0),MATCH("Coûts",$A$8:$L$8,0))/(DATEDIF(INDEX(A:K,MATCH(A25,A:A,0),MATCH("Date d'acceptation propale",$A$8:$L$8,0)),INDEX(A:K,MATCH(A25,A:A,0),MATCH("Date livraison",$A$8:$L$8,0)),"d")/30) -> #N/A
P26: =INDEX(A:K,MATCH(A26,A:A,0),MATCH("Coûts",$A$8:$L$8,0))/(DATEDIF(INDEX(A:K,MATCH(A26,A:A,0),MATCH("Date d'acceptation propale",$A$8:$L$8,0)),INDEX(A:K,MATCH(A26,A:A,0),MATCH("Date livraison",$A$8:$L$8,0)),"d")/30) -> #N/A
P27: =INDEX(A:K,MATCH(A27,A:A,0),MATCH("Coûts",$A$8:$L$8,0))/(DATEDIF(INDEX(A:K,MATCH(A27,A:A,0),MATCH("Date d'acceptation propale",$A$8:$L$8,0)),INDEX(A:K,MATCH(A27,A:A,0),MATCH("Date livraison",$A$8:$L$8,0)),"d")/30) -> #N/A
P28: =INDEX(A:K,MATCH(A28,A:A,0),MATCH("Coûts",$A$8:$L$8,0))/(DATEDIF(INDEX(A:K,MATCH(A28,A:A,0),MATCH("Date d'acceptation propale",$A$8:$L$8,0)),INDEX(A:K,MATCH(A28,A:A,0),MATCH("Date livraison",$A$8:$L$8,0)),"d")/30) -> #N/A
P29: =INDEX(A:K,MATCH(A29,A:A,0),MATCH("Coûts",$A$8:$L$8,0))/(DATEDIF(INDEX(A:K,MATCH(A29,A:A,0),MATCH("Date d'acceptation propale",$A$8:$L$8,0)),INDEX(A:K,MATCH(A29,A:A,0),MATCH("Date livraison",$A$8:$L$8,0)),"d")/30) -> #N/A
... P613: =INDEX(A:K,MATCH(A613,A:A,0),MATCH("Coûts",$A$8:$L$8,0))/(DATEDIF(INDEX(A:K,MATCH(A613,A:A,0),MATCH("Date d'acceptation propale",$A$8:$L$8,0)),INDEX(A:K,MATCH(A613,A:A,0),MATCH("Date livraison",$A$8:$L$8,0)),"d")/30) -> #N/A

Sheet KPIs Projet
A1: KPIs
A6: Référence FDO | B6: Date de livraison | F6: Mois | G6: Par période
C8: OnTimeProposal | D8: OnDelayDelivery | E8: NumberOfReworks | G8: OnTimeDelivery | H8: OnQualityDelivery | I8: MonthlyVolume | J8: NonQualityRate (M) | K8: NonQualityRate (A) | L8: LateProposalRate (M) | M8: LateProposalRate (A) | N8: NonProposalRate (M) | O8: NonProposalRate (A) | P8: LateDeliveryRate (M) | Q8: LateDeliveryRate (A)
A9: =IF(Tableau1[[#This Row],[Objet]]=0,"",Tableau1[[#This Row],[Objet]]) -> 366-00001058 | B9: =IF(Tableau1[[#This Row],[Date livraison]]=0,"",Tableau1[[#This Row],[Date livraison]]) -> 42989 | C9: =DATEDIF(INDEX('KPIs Data'!A:K,MATCH(A9,'KPIs Data'!A:A,0),MATCH("Date de propale demandée",'KPIs Data'!$A$8:$L$8,0)),INDEX('KPIs Data'!A:K,MATCH(A9, 'KPIs Data'!A:A,0),MATCH("Date de propale réelle",'KPIs Data'!$A$8:$L$8,0)),"d") -> 0 | D9: =INDEX('KPIs Data'!A:K,MATCH(A9,'KPIs Data'!A:A,0),MATCH("Retard FDO",'KPIs Data'!$A$8:$L$8,0)) -> 0 | E9: =INDEX('KPIs Data'!A:K,MATCH(A9,'KPIs Data'!A:A,0),MATCH("Nombre de non acceptations par Airbus du livrable",'KPIs Data'!$A$8:$L$8,0)) -> #N/A | F9: 42948 | G9: =COUNTIFS($B:$B,">="&DATEVALUE("01/08/2017"),$B:$B,"<="&DATEVALUE("31/08/2017"),C:C,0) -> 0 | H9: =COUNTIFS($B:$B,">="&DATEVALUE("01/08/2017"),$B:$B,"<="&DATEVALUE("31/08/2017"),E:E,0) -> 0
A10: =IF(Tableau1[[#This Row],[Objet]]=0,"",Tableau1[[#This Row],[Objet]]) -> 366-00001818 | B10: =IF(Tableau1[[#This Row],[Date livraison]]=0,"",Tableau1[[#This Row],[Date livraison]]) | C10: =DATEDIF(INDEX('KPIs Data'!A:K,MATCH(A10,'KPIs Data'!A:A,0),MATCH("Date de propale demandée",'KPIs Data'!$A$8:$L$8,0)),INDEX('KPIs Data'!A:K,MATCH(A10, 'KPIs Data'!A:A,0),MATCH("Date de propale réelle",'KPIs Data'!$A$8:$L$8,0)),"d") -> 0 | D10: =INDEX('KPIs Data'!A:K,MATCH(A10,'KPIs Data'!A:A,0),MATCH("Retard FDO",'KPIs Data'!$A$8:$L$8,0)) -> 0 | E10: =INDEX('KPIs Data'!A:K,MATCH(A10,'KPIs Data'!A:A,0),MATCH("Nombre de non acceptations par Airbus du livrable",'KPIs Data'!$A$8:$L$8,0)) -> #N/A | F10: 42989 | G10: =COUNTIFS($B:$B,">="&DATEVALUE("01/09/2017"),$B:$B,"<="&DATEVALUE("30/09/2017"),C:C,0) -> 2 | H10: =COUNTIFS($B:$B,">="&DATEVALUE("01/09/2017"),$B:$B,"<="&DATEVALUE("30/09/2017"),E:E,0) -> 0
A11: =IF(Tableau1[[#This Row],[Objet]]=0,"",Tableau1[[#This Row],[Objet]]) -> 366-00001902 | B11: =IF(Tableau1[[#This Row],[Date livraison]]=0,"",Tableau1[[#This Row],[Date livraison]]) -> 43052 | C11: =DATEDIF(INDEX('KPIs Data'!A:K,MATCH(A11,'KPIs Data'!A:A,0),MATCH("Date de propale demandée",'KPIs Data'!$A$8:$L$8,0)),INDEX('KPIs Data'!A:K,MATCH(A11, 'KPIs Data'!A:A,0),MATCH("Date de propale réelle",'KPIs Data'!$A$8:$L$8,0)),"d") -> 0 | D11: =INDEX('KPIs Data'!A:K,MATCH(A11,'KPIs Data'!A:A,0),MATCH("Retard FDO",'KPIs Data'!$A$8:$L$8,0)) -> 0 | E11: =INDEX('KPIs Data'!A:K,MATCH(A11,'KPIs Data'!A:A,0),MATCH("Nombre de non acceptations par Airbus du livrable",'KPIs Data'!$A$8:$L$8,0)) -> #N/A | F11: 43009 | G11: =COUNTIFS($B:$B,">="&DATEVALUE("01/10/2017"),$B:$B,"<="&DATEVALUE("31/10/2017"),C:C,0) -> 0 | H11: =COUNTIFS($B:$B,">="&DATEVALUE("01/10/2017"),$B:$B,"<="&DATEVALUE("31/10/2017"),E:E,0) -> 0
A12: =IF(Tableau1[[#This Row],[Objet]]=0,"",Tableau1[[#This Row],[Objet]]) -> 366-00001909 | B12: =IF(Tableau1[[#This Row],[Date livraison]]=0,"",Tableau1[[#This Row],[Date livraison]]) -> 43089 | C12: =DATEDIF(INDEX('KPIs Data'!A:K,MATCH(A12,'KPIs Data'!A:A,0),MATCH("Date de propale demandée",'KPIs Data'!$A$8:$L$8,0)),INDEX('KPIs Data'!A:K,MATCH(A12, 'KPIs Data'!A:A,0),MATCH("Date de propale réelle",'KPIs Data'!$A$8:$L$8,0)),"d") -> 4 | D12: =INDEX('KPIs Data'!A:K,MATCH(A12,'KPIs Data'!A:A,0),MATCH("Retard FDO",'KPIs Data'!$A$8:$L$8,0)) -> 3 | E12: =INDEX('KPIs Data'!A:K,MATCH(A12,'KPIs Data'!A:A,0),MATCH("Nombre de non acceptations par Airbus du livrable",'KPIs Data'!$A$8:$L$8,0)) -> #N/A | F12: 43040 | G12: =COUNTIFS($B:$B,">="&DATEVALUE("01/11/2017"),$B:$B,"<="&DATEVALUE("30/11/2017"),C:C,0) -> 1 | H12: =COUNTIFS($B:$B,">="&DATEVALUE("01/11/2017"),$B:$B,"<="&DATEVALUE("30/11/2017"),E:E,0) -> 0
A13: =IF(Tableau1[[#This Row],[Objet]]=0,"",Tableau1[[#This Row],[Objet]]) -> 300-00011838 | B13: =IF(Tableau1[[#This Row],[Date livraison]]=0,"",Tableau1[[#This Row],[Date livraison]]) -> 43001 | C13: =DATEDIF(INDEX('KPIs Data'!A:K,MATCH(A13,'KPIs Data'!A:A,0),MATCH("Date de propale demandée",'KPIs Data'!$A$8:$L$8,0)),INDEX('KPIs Data'!A:K,MATCH(A13, 'KPIs Data'!A:A,0),MATCH("Date de propale réelle",'KPIs Data'!$A$8:$L$8,0)),"d") -> 0 | D13: =INDEX('KPIs Data'!A:K,MATCH(A13,'KPIs Data'!A:A,0),MATCH("Retard FDO",'KPIs Data'!$A$8:$L$8,0)) -> 7 | E13: =INDEX('KPIs Data'!A:K,MATCH(A13,'KPIs Data'!A:A,0),MATCH("Nombre de non acceptations par Airbus du livrable",'KPIs Data'!$A$8:$L$8,0)) -> #N/A | F13: 43070 | G13: =COUNTIFS($B:$B,">="&DATEVALUE("01/12/2017"),$B:$B,"<="&DATEVALUE("31/12/2017"),C:C,0) -> 1 | H13: =COUNTIFS($B:$B,">="&DATEVALUE("01/12/2017"),$B:$B,"<="&DATEVALUE("31/12/2017"),E:E,0) -> 0
A14: =IF(Tableau1[[#This Row],[Objet]]=0,"",Tableau1[[#This Row],[Objet]]) -> 300-00013698 | B14: =IF(Tableau1[[#This Row],[Date livraison]]=0,"",Tableau1[[#This Row],[Date livraison]]) -> 43285 | C14: =DATEDIF(INDEX('KPIs Data'!A:K,MATCH(A14,'KPIs Data'!A:A,0),MATCH("Date de propale demandée",'KPIs Data'!$A$8:$L$8,0)),INDEX('KPIs Data'!A:K,MATCH(A14, 'KPIs Data'!A:A,0),MATCH("Date de propale réelle",'KPIs Data'!$A$8:$L$8,0)),"d") -> 4 | D14: =INDEX('KPIs Data'!A:K,MATCH(A14,'KPIs Data'!A:A,0),MATCH("Retard FDO",'KPIs Data'!$A$8:$L$8,0)) -> 13 | E14: =INDEX('KPIs Data'!A:K,MATCH(A14,'KPIs Data'!A:A,0),MATCH("Nombre de non acceptations par Airbus du livrable",'KPIs Data'!$A$8:$L$8,0)) -> #N/A | F14: 43101 | G14: =COUNTIFS($B:$B,">="&DATEVALUE("01/01/2018"),$B:$B,"<="&DATEVALUE("31/01/2018"),C:C,0) -> 1 | H14: =COUNTIFS($B:$B,">="&DATEVALUE("01/01/2018"),$B:$B,"<="&DATEVALUE("31/01/2018"),E:E,0) -> 0
A15: =IF(Tableau1[[#This Row],[Objet]]=0,"",Tableau1[[#This Row],[Objet]]) -> 300-00014005 | B15: =IF(Tableau1[[#This Row],[Date livraison]]=0,"",Tableau1[[#This Row],[Date livraison]]) -> 43100 | C15: =DATEDIF(INDEX('KPIs Data'!A:K,MATCH(A15,'KPIs Data'!A:A,0),MATCH("Date de propale demandée",'KPIs Data'!$A$8:$L$8,0)),INDEX('KPIs Data'!A:K,MATCH(A15, 'KPIs Data'!A:A,0),MATCH("Date de propale réelle",'KPIs Data'!$A$8:$L$8,0)),"d") -> 0 | D15: =INDEX('KPIs Data'!A:K,MATCH(A15,'KPIs Data'!A:A,0),MATCH("Retard FDO",'KPIs Data'!$A$8:$L$8,0)) -> 0 | E15: =INDEX('KPIs Data'!A:K,MATCH(A15,'KPIs Data'!A:A,0),MATCH("Nombre de non acceptations par Airbus du livrable",'KPIs Data'!$A$8:$L$8,0)) -> #N/A | F15: 43132 | G15: =COUNTIFS($B:$B,">="&DATEVALUE("01/02/2018"),$B:$B,"<="&DATEVALUE("28/02/2018"),C:C,0) -> 0 | H15: =COUNTIFS($B:$B,">="&DATEVALUE("01/02/2018"),$B:$B,"<="&DATEVALUE("28/02/2018"),E:E,0) -> 0
A16: =IF(Tableau1[[#This Row],[Objet]]=0,"",Tableau1[[#This Row],[Objet]]) -> 300-00015637 | B16: =IF(Tableau1[[#This Row],[Date livraison]]=0,"",Tableau1[[#This Row],[Date livraison]]) -> 43114 | C16: =DATEDIF(INDEX('KPIs Data'!A:K,MATCH(A16,'KPIs Data'!A:A,0),MATCH("Date de propale demandée",'KPIs Data'!$A$8:$L$8,0)),INDEX('KPIs Data'!A:K,MATCH(A16, 'KPIs Data'!A:A,0),MATCH("Date de propale réelle",'KPIs Data'!$A$8:$L$8,0)),"d") -> 1 | D16: =INDEX('KPIs Data'!A:K,MATCH(A16,'KPIs Data'!A:A,0),MATCH("Retard FDO",'KPIs Data'!$A$8:$L$8,0)) -> 1 | E16: =INDEX('KPIs Data'!A:K,MATCH(A16,'KPIs Data'!A:A,0),MATCH("Nombre de non acceptations par Airbus du livrable",'KPIs Data'!$A$8:$L$8,0)) -> #N/A | F16: 43160 | G16: =COUNTIFS($B:$B,">="&DATEVALUE("01/03/2018"),$B:$B,"<="&DATEVALUE("31/03/2018"),C:C,0) -> 0 | H16: =COUNTIFS($B:$B,">="&DATEVALUE("01/03/2018"),$B:$B,"<="&DATEVALUE("31/03/2018"),E:E,0) -> 0
A17: =IF(Tableau1[[#This Row],[Objet]]=0,"",Tableau1[[#This Row],[Objet]]) -> 300-00015664 | B17: =IF(Tableau1[[#This Row],[Date livraison]]=0,"",Tableau1[[#This Row],[Date livraison]]) -> 43101 | C17: =DATEDIF(INDEX('KPIs Data'!A:K,MATCH(A17,'KPIs Data'!A:A,0),MATCH("Date de propale demandée",'KPIs Data'!$A$8:$L$8,0)),INDEX('KPIs Data'!A:K,MATCH(A17, 'KPIs Data'!A:A,0),MATCH("Date de propale réelle",'KPIs Data'!$A$8:$L$8,0)),"d") -> 0 | D17: =INDEX('KPIs Data'!A:K,MATCH(A17,'KPIs Data'!A:A,0),MATCH("Retard FDO",'KPIs Data'!$A$8:$L$8,0)) -> 4 | E17: =INDEX('KPIs Data'!A:K,MATCH(A17,'KPIs Data'!A:A,0),MATCH("Nombre de non acceptations par Airbus du livrable",'KPIs Data'!$A$8:$L$8,0)) -> #N/A | F17: 43191 | G17: =COUNTIFS($B:$B,">="&DATEVALUE("01/04/2018"),$B:$B,"<="&DATEVALUE("30/04/2018"),C:C,0) -> 0 | H17: =COUNTIFS($B:$B,">="&DATEVALUE("01/04/2018"),$B:$B,"<="&DATEVALUE("30/04/2018"),E:E,0) -> 0
A18: =IF(Tableau1[[#This Row],[Objet]]=0,"",Tableau1[[#This Row],[Objet]]) | B18: =IF(Tableau1[[#This Row],[Date livraison]]=0,"",Tableau1[[#This Row],[Date livraison]]) | C18: =DATEDIF(INDEX('KPIs Data'!A:K,MATCH(A18,'KPIs Data'!A:A,0),MATCH("Date de propale demandée",'KPIs Data'!$A$8:$L$8,0)),INDEX('KPIs Data'!A:K,MATCH(A18, 'KPIs Data'!A:A,0),MATCH("Date de propale réelle",'KPIs Data'!$A$8:$L$8,0)),"d") -> #N/A | D18: =INDEX('KPIs Data'!A:K,MATCH(A18,'KPIs Data'!A:A,0),MATCH("Retard FDO",'KPIs Data'!$A$8:$L$8,0)) -> #N/A | E18: =INDEX('KPIs Data'!A:K,MATCH(A18,'KPIs Data'!A:A,0),MATCH("Nombre de non acceptations par Airbus du livrable",'KPIs Data'!$A$8:$L$8,0)) -> #N/A | F18: 43221 | G18: =COUNTIFS($B:$B,">="&DATEVALUE("01/05/2018"),$B:$B,"<="&DATEVALUE("31/05/2018"),C:C,0) -> 0 | H18: =COUNTIFS($B:$B,">="&DATEVALUE("01/05/2018"),$B:$B,"<="&DATEVALUE("31/05/2018"),E:E,0) -> 0
A19: =IF(Tableau1[[#This Row],[Objet]]=0,"",Tableau1[[#This Row],[Objet]]) | B19: =IF(Tableau1[[#This Row],[Date livraison]]=0,"",Tableau1[[#This Row],[Date livraison]]) | C19: =DATEDIF(INDEX('KPIs Data'!A:K,MATCH(A19,'KPIs Data'!A:A,0),MATCH("Date de propale demandée",'KPIs Data'!$A$8:$L$8,0)),INDEX('KPIs Data'!A:K,MATCH(A19, 'KPIs Data'!A:A,0),MATCH("Date de propale réelle",'KPIs Data'!$A$8:$L$8,0)),"d") -> #N/A | D19: =INDEX('KPIs Data'!A:K,MATCH(A19,'KPIs Data'!A:A,0),MATCH("Retard FDO",'KPIs Data'!$A$8:$L$8,0)) -> #N/A | E19: =INDEX('KPIs Data'!A:K,MATCH(A19,'KPIs Data'!A:A,0),MATCH("Nombre de non acceptations par Airbus du livrable",'KPIs Data'!$A$8:$L$8,0)) -> #N/A | F19: 43252 | G19: =COUNTIFS($B:$B,">="&DATEVALUE("01/06/2018"),$B:$B,"<="&DATEVALUE("30/06/2018"),C:C,0) -> 0 | H19: =COUNTIFS($B:$B,">="&DATEVALUE("01/06/2018"),$B:$B,"<="&DATEVALUE("30/06/2018"),E:E,0) -> 0
A20: =IF(Tableau1[[#This Row],[Objet]]=0,"",Tableau1[[#This Row],[Objet]]) | B20: =IF(Tableau1[[#This Row],[Date livraison]]=0,"",Tableau1[[#This Row],[Date livraison]]) | C20: =DATEDIF(INDEX('KPIs Data'!A:K,MATCH(A20,'KPIs Data'!A:A,0),MATCH("Date de propale demandée",'KPIs Data'!$A$8:$L$8,0)),INDEX('KPIs Data'!A:K,MATCH(A20, 'KPIs Data'!A:A,0),MATCH("Date de propale réelle",'KPIs Data'!$A$8:$L$8,0)),"d") -> #N/A | D20: =INDEX('KPIs Data'!A:K,MATCH(A20,'KPIs Data'!A:A,0),MATCH("Retard FDO",'KPIs Data'!$A$8:$L$8,0)) -> #N/A | E20: =INDEX('KPIs Data'!A:K,MATCH(A20,'KPIs Data'!A:A,0),MATCH("Nombre de non acceptations par Airbus du livrable",'KPIs Data'!$A$8:$L$8,0)) -> #N/A | F20: 43282 | G20: =COUNTIFS($B:$B,">="&DATEVALUE("01/07/2018"),$B:$B,"<="&DATEVALUE("31/07/2018"),C:C,0) -> 0 | H20: =COUNTIFS($B:$B,">="&DATEVALUE("01/07/2018"),$B:$B,"<="&DATEVALUE("31/07/2018"),E:E,0) -> 0
A21: =IF(Tableau1[[#This Row],[Objet]]=0,"",Tableau1[[#This Row],[Objet]]) | B21: =IF(Tableau1[[#This Row],[Date livraison]]=0,"",Tableau1[[#This Row],[Date livraison]]) | C21: =DATEDIF(INDEX('KPIs Data'!A:K,MATCH(A21,'KPIs Data'!A:A,0),MATCH("Date de propale demandée",'KPIs Data'!$A$8:$L$8,0)),INDEX('KPIs Data'!A:K,MATCH(A21, 'KPIs Data'!A:A,0),MATCH("Date de propale réelle",'KPIs Data'!$A$8:$L$8,0)),"d") -> #N/A | D21: =INDEX('KPIs Data'!A:K,MATCH(A21,'KPIs Data'!A:A,0),MATCH("Retard FDO",'KPIs Data'!$A$8:$L$8,0)) -> #N/A | E21: =INDEX('KPIs Data'!A:K,MATCH(A21,'KPIs Data'!A:A,0),MATCH("Nombre de non acceptations par Airbus du livrable",'KPIs Data'!$A$8:$L$8,0)) -> #N/A | F21: 43313 | G21: =COUNTIFS($B:$B,">="&DATEVALUE("01/08/2018"),$B:$B,"<="&DATEVALUE("31/08/2018"),C:C,0) -> 0 | H21: =COUNTIFS($B:$B,">="&DATEVALUE("01/08/2018"),$B:$B,"<="&DATEVALUE("31/08/2018"),E:E,0) -> 0
A22: =IF(Tableau1[[#This Row],[Objet]]=0,"",Tableau1[[#This Row],[Objet]]) | B22: =IF(Tableau1[[#This Row],[Date livraison]]=0,"",Tableau1[[#This Row],[Date livraison]]) | C22: =DATEDIF(INDEX('KPIs Data'!A:K,MATCH(A22,'KPIs Data'!A:A,0),MATCH("Date de propale demandée",'KPIs Data'!$A$8:$L$8,0)),INDEX('KPIs Data'!A:K,MATCH(A22, 'KPIs Data'!A:A,0),MATCH("Date de propale réelle",'KPIs Data'!$A$8:$L$8,0)),"d") -> #N/A | D22: =INDEX('KPIs Data'!A:K,MATCH(A22,'KPIs Data'!A:A,0),MATCH("Retard FDO",'KPIs Data'!$A$8:$L$8,0)) -> #N/A | E22: =INDEX('KPIs Data'!A:K,MATCH(A22,'KPIs Data'!A:A,0),MATCH("Nombre de non acceptations par Airbus du livrable",'KPIs Data'!$A$8:$L$8,0)) -> #N/A | F22: 43344 | G22: =COUNTIFS($B:$B,">="&DATEVALUE("01/09/2018"),$B:$B,"<="&DATEVALUE("30/09/2018"),C:C,0) -> 0 | H22: =COUNTIFS($B:$B,">="&DATEVALUE("01/09/2018"),$B:$B,"<="&DATEVALUE("30/09/2018"),E:E,0) -> 0
A23: =IF(Tableau1[[#This Row],[Objet]]=0,"",Tableau1[[#This Row],[Objet]]) | B23: =IF(Tableau1[[#This Row],[Date livraison]]=0,"",Tableau1[[#This Row],[Date livraison]]) | C23: =DATEDIF(INDEX('KPIs Data'!A:K,MATCH(A23,'KPIs Data'!A:A,0),MATCH("Date de propale demandée",'KPIs Data'!$A$8:$L$8,0)),INDEX('KPIs Data'!A:K,MATCH(A23, 'KPIs Data'!A:A,0),MATCH("Date de propale réelle",'KPIs Data'!$A$8:$L$8,0)),"d") -> #N/A | D23: =INDEX('KPIs Data'!A:K,MATCH(A23,'KPIs Data'!A:A,0),MATCH("Retard FDO",'KPIs Data'!$A$8:$L$8,0)) -> #N/A | E23: =INDEX('KPIs Data'!A:K,MATCH(A23,'KPIs Data'!A:A,0),MATCH("Nombre de non acceptations par Airbus du livrable",'KPIs Data'!$A$8:$L$8,0)) -> #N/A | F23: 43374 | G23: =COUNTIFS($B:$B,">="&DATEVALUE("01/10/2018"),$B:$B,"<="&DATEVALUE("31/10/2018"),C:C,0) -> 0 | H23: =COUNTIFS($B:$B,">="&DATEVALUE("01/10/2018"),$B:$B,"<="&DATEVALUE("31/10/2018"),E:E,0) -> 0
A24: =IF(Tableau1[[#This Row],[Objet]]=0,"",Tableau1[[#This Row],[Objet]]) | B24: =IF(Tableau1[[#This Row],[Date livraison]]=0,"",Tableau1[[#This Row],[Date livraison]]) | C24: =DATEDIF(INDEX('KPIs Data'!A:K,MATCH(A24,'KPIs Data'!A:A,0),MATCH("Date de propale demandée",'KPIs Data'!$A$8:$L$8,0)),INDEX('KPIs Data'!A:K,MATCH(A24, 'KPIs Data'!A:A,0),MATCH("Date de propale réelle",'KPIs Data'!$A$8:$L$8,0)),"d") -> #N/A | D24: =INDEX('KPIs Data'!A:K,MATCH(A24,'KPIs Data'!A:A,0),MATCH("Retard FDO",'KPIs Data'!$A$8:$L$8,0)) -> #N/A | E24: =INDEX('KPIs Data'!A:K,MATCH(A24,'KPIs Data'!A:A,0),MATCH("Nombre de non acceptations par Airbus du livrable",'KPIs Data'!$A$8:$L$8,0)) -> #N/A | F24: 43405 | G24: =COUNTIFS($B:$B,">="&DATEVALUE("01/11/2018"),$B:$B,"<="&DATEVALUE("30/11/2018"),C:C,0) -> 0 | H24: =COUNTIFS($B:$B,">="&DATEVALUE("01/11/2018"),$B:$B,"<="&DATEVALUE("30/11/2018"),E:E,0) -> 0
A25: =IF(Tableau1[[#This Row],[Objet]]=0,"",Tableau1[[#This Row],[Objet]]) | B25: =IF(Tableau1[[#This Row],[Date livraison]]=0,"",Tableau1[[#This Row],[Date livraison]]) | C25: =DATEDIF(INDEX('KPIs Data'!A:K,MATCH(A25,'KPIs Data'!A:A,0),MATCH("Date de propale demandée",'KPIs Data'!$A$8:$L$8,0)),INDEX('KPIs Data'!A:K,MATCH(A25, 'KPIs Data'!A:A,0),MATCH("Date de propale réelle",'KPIs Data'!$A$8:$L$8,0)),"d") -> #N/A | D25: =INDEX('KPIs Data'!A:K,MATCH(A25,'KPIs Data'!A:A,0),MATCH("Retard FDO",'KPIs Data'!$A$8:$L$8,0)) -> #N/A | E25: =INDEX('KPIs Data'!A:K,MATCH(A25,'KPIs Data'!A:A,0),MATCH("Nombre de non acceptations par Airbus du livrable",'KPIs Data'!$A$8:$L$8,0)) -> #N/A | F25: 43435 | G25: =COUNTIFS($B:$B,">="&DATEVALUE("01/12/2018"),$B:$B,"<="&DATEVALUE("31/12/2018"),C:C,0) -> 0 | H25: =COUNTIFS($B:$B,">="&DATEVALUE("01/12/2018"),$B:$B,"<="&DATEVALUE("31/12/2018"),E:E,0) -> 0
A26: =IF(Tableau1[[#This Row],[Objet]]=0,"",Tableau1[[#This Row],[Objet]]) | B26: =IF(Tableau1[[#This Row],[Date livraison]]=0,"",Tableau1[[#This Row],[Date livraison]]) | C26: =DATEDIF(INDEX('KPIs Data'!A:K,MATCH(A26,'KPIs Data'!A:A,0),MATCH("Date de propale demandée",'KPIs Data'!$A$8:$L$8,0)),INDEX('KPIs Data'!A:K,MATCH(A26, 'KPIs Data'!A:A,0),MATCH("Date de propale réelle",'KPIs Data'!$A$8:$L$8,0)),"d") -> #N/A | D26: =INDEX('KPIs Data'!A:K,MATCH(A26,'KPIs Data'!A:A,0),MATCH("Retard FDO",'KPIs Data'!$A$8:$L$8,0)) -> #N/A | E26: =INDEX('KPIs Data'!A:K,MATCH(A26,'KPIs Data'!A:A,0),MATCH("Nombre de non acceptations par Airbus du livrable",'KPIs Data'!$A$8:$L$8,0)) -> #N/A
A27: =IF(Tableau1[[#This Row],[Objet]]=0,"",Tableau1[[#This Row],[Objet]]) | B27: =IF(Tableau1[[#This Row],[Date livraison]]=0,"",Tableau1[[#This Row],[Date livraison]]) | C27: =DATEDIF(INDEX('KPIs Data'!A:K,MATCH(A27,'KPIs Data'!A:A,0),MATCH("Date de propale demandée",'KPIs Data'!$A$8:$L$8,0)),INDEX('KPIs Data'!A:K,MATCH(A27, 'KPIs Data'!A:A,0),MATCH("Date de propale réelle",'KPIs Data'!$A$8:$L$8,0)),"d") -> #N/A | D27: =INDEX('KPIs Data'!A:K,MATCH(A27,'KPIs Data'!A:A,0),MATCH("Retard FDO",'KPIs Data'!$A$8:$L$8,0)) -> #N/A | E27: =INDEX('KPIs Data'!A:K,MATCH(A27,'KPIs Data'!A:A,0),MATCH("Nombre de non acceptations par Airbus du livrable",'KPIs Data'!$A$8:$L$8,0)) -> #N/A
A28: =IF(Tableau1[[#This Row],[Objet]]=0,"",Tableau1[[#This Row],[Objet]]) | B28: =IF(Tableau1[[#This Row],[Date livraison]]=0,"",Tableau1[[#This Row],[Date livraison]]) | C28: =DATEDIF(INDEX('KPIs Data'!A:K,MATCH(A28,'KPIs Data'!A:A,0),MATCH("Date de propale demandée",'KPIs Data'!$A$8:$L$8,0)),INDEX('KPIs Data'!A:K,MATCH(A28, 'KPIs Data'!A:A,0),MATCH("Date de propale réelle",'KPIs Data'!$A$8:$L$8,0)),"d") -> #N/A | D28: =INDEX('KPIs Data'!A:K,MATCH(A28,'KPIs Data'!A:A,0),MATCH("Retard FDO",'KPIs Data'!$A$8:$L$8,0)) -> #N/A | E28: =INDEX('KPIs Data'!A:K,MATCH(A28,'KPIs Data'!A:A,0),MATCH("Nombre de non acceptations par Airbus du livrable",'KPIs Data'!$A$8:$L$8,0)) -> #N/A
A29: =IF(Tableau1[[#This Row],[Objet]]=0,"",Tableau1[[#This Row],[Objet]]) | B29: =IF(Tableau1[[#This Row],[Date livraison]]=0,"",Tableau1[[#This Row],[Date livraison]]) | C29: =DATEDIF(INDEX('KPIs Data'!A:K,MATCH(A29,'KPIs Data'!A:A,0),MATCH("Date de propale demandée",'KPIs Data'!$A$8:$L$8,0)),INDEX('KPIs Data'!A:K,MATCH(A29, 'KPIs Data'!A:A,0),MATCH("Date de propale réelle",'KPIs Data'!$A$8:$L$8,0)),"d") -> #N/A | D29: =INDEX('KPIs Data'!A:K,MATCH(A29,'KPIs Data'!A:A,0),MATCH("Retard FDO",'KPIs Data'!$A$8:$L$8,0)) -> #N/A | E29: =INDEX('KPIs Data'!A:K,MATCH(A29,'KPIs Data'!A:A,0),MATCH("Nombre de non acceptations par Airbus du livrable",'KPIs Data'!$A$8:$L$8,0)) -> #N/A
A30: =IF(Tableau1[[#This Row],[Objet]]=0,"",Tableau1[[#This Row],[Objet]]) | B30: =IF(Tableau1[[#This Row],[Date livraison]]=0,"",Tableau1[[#This Row],[Date livraison]]) | C30: =DATEDIF(INDEX('KPIs Data'!A:K,MATCH(A30,'KPIs Data'!A:A,0),MATCH("Date de propale demandée",'KPIs Data'!$A$8:$L$8,0)),INDEX('KPIs Data'!A:K,MATCH(A30, 'KPIs Data'!A:A,0),MATCH("Date de propale réelle",'KPIs Data'!$A$8:$L$8,0)),"d") -> #N/A | D30: =INDEX('KPIs Data'!A:K,MATCH(A30,'KPIs Data'!A:A,0),MATCH("Retard FDO",'KPIs Data'!$A$8:$L$8,0)) -> #N/A | E30: =INDEX('KPIs Data'!A:K,MATCH(A30,'KPIs Data'!A:A,0),MATCH("Nombre de non acceptations par Airbus du livrable",'KPIs Data'!$A$8:$L$8,0)) -> #N/A
A31: =IF(Tableau1[[#This Row],[Objet]]=0,"",Tableau1[[#This Row],[Objet]]) | B31: =IF(Tableau1[[#This Row],[Date livraison]]=0,"",Tableau1[[#This Row],[Date livraison]]) | C31: =DATEDIF(INDEX('KPIs Data'!A:K,MATCH(A31,'KPIs Data'!A:A,0),MATCH("Date de propale demandée",'KPIs Data'!$A$8:$L$8,0)),INDEX('KPIs Data'!A:K,MATCH(A31, 'KPIs Data'!A:A,0),MATCH("Date de propale réelle",'KPIs Data'!$A$8:$L$8,0)),"d") -> #N/A | D31: =INDEX('KPIs Data'!A:K,MATCH(A31,'KPIs Data'!A:A,0),MATCH("Retard FDO",'KPIs Data'!$A$8:$L$8,0)) -> #N/A | E31: =INDEX('KPIs Data'!A:K,MATCH(A31,'KPIs Data'!A:A,0),MATCH("Nombre de non acceptations par Airbus du livrable",'KPIs Data'!$A$8:$L$8,0)) -> #N/A
A32: =IF(Tableau1[[#This Row],[Objet]]=0,"",Tableau1[[#This Row],[Objet]]) | B32: =IF(Tableau1[[#This Row],[Date livraison]]=0,"",Tableau1[[#This Row],[Date livraison]]) | C32: =DATEDIF(INDEX('KPIs Data'!A:K,MATCH(A32,'KPIs Data'!A:A,0),MATCH("Date de propale demandée",'KPIs Data'!$A$8:$L$8,0)),INDEX('KPIs Data'!A:K,MATCH(A32, 'KPIs Data'!A:A,0),MATCH("Date de propale réelle",'KPIs Data'!$A$8:$L$8,0)),"d") -> #N/A | D32: =INDEX('KPIs Data'!A:K,MATCH(A32,'KPIs Data'!A:A,0),MATCH("Retard FDO",'KPIs Data'!$A$8:$L$8,0)) -> #N/A | E32: =INDEX('KPIs Data'!A:K,MATCH(A32,'KPIs Data'!A:A,0),MATCH("Nombre de non acceptations par Airbus du livrable",'KPIs Data'!$A$8:$L$8,0)) -> #N/A
A33: =IF(Tableau1[[#This Row],[Objet]]=0,"",Tableau1[[#This Row],[Objet]]) | B33: =IF(Tableau1[[#This Row],[Date livraison]]=0,"",Tableau1[[#This Row],[Date livraison]]) | C33: =DATEDIF(INDEX('KPIs Data'!A:K,MATCH(A33,'KPIs Data'!A:A,0),MATCH("Date de propale demandée",'KPIs Data'!$A$8:$L$8,0)),INDEX('KPIs Data'!A:K,MATCH(A33, 'KPIs Data'!A:A,0),MATCH("Date de propale réelle",'KPIs Data'!$A$8:$L$8,0)),"d") -> #N/A | D33: =INDEX('KPIs Data'!A:K,MATCH(A33,'KPIs Data'!A:A,0),MATCH("Retard FDO",'KPIs Data'!$A$8:$L$8,0)) -> #N/A | E33: =INDEX('KPIs Data'!A:K,MATCH(A33,'KPIs Data'!A:A,0),MATCH("Nombre de non acceptations par Airbus du livrable",'KPIs Data'!$A$8:$L$8,0)) -> #N/A
A34: =IF(Tableau1[[#This Row],[Objet]]=0,"",Tableau1[[#This Row],[Objet]]) | B34: =IF(Tableau1[[#This Row],[Date livraison]]=0,"",Tableau1[[#This Row],[Date livraison]]) | C34: =DATEDIF(INDEX('KPIs Data'!A:K,MATCH(A34,'KPIs Data'!A:A,0),MATCH("Date de propale demandée",'KPIs Data'!$A$8:$L$8,0)),INDEX('KPIs Data'!A:K,MATCH(A34, 'KPIs Data'!A:A,0),MATCH("Date de propale réelle",'KPIs Data'!$A$8:$L$8,0)),"d") -> #N/A | D34: =INDEX('KPIs Data'!A:K,MATCH(A34,'KPIs Data'!A:A,0),MATCH("Retard FDO",'KPIs Data'!$A$8:$L$8,0)) -> #N/A | E34: =INDEX('KPIs Data'!A:K,MATCH(A34,'KPIs Data'!A:A,0),MATCH("Nombre de non acceptations par Airbus du livrable",'KPIs Data'!$A$8:$L$8,0)) -> #N/A
A35: =IF(Tableau1[[#This Row],[Objet]]=0,"",Tableau1[[#This Row],[Objet]]) | B35: =IF(Tableau1[[#This Row],[Date livraison]]=0,"",Tableau1[[#This Row],[Date livraison]]) | C35: =DATEDIF(INDEX('KPIs Data'!A:K,MATCH(A35,'KPIs Data'!A:A,0),MATCH("Date de propale demandée",'KPIs Data'!$A$8:$L$8,0)),INDEX('KPIs Data'!A:K,MATCH(A35, 'KPIs Data'!A:A,0),MATCH("Date de propale réelle",'KPIs Data'!$A$8:$L$8,0)),"d") -> #N/A | D35: =INDEX('KPIs Data'!A:K,MATCH(A35,'KPIs Data'!A:A,0),MATCH("Retard FDO",'KPIs Data'!$A$8:$L$8,0)) -> #N/A | E35: =INDEX('KPIs Data'!A:K,MATCH(A35,'KPIs Data'!A:A,0),MATCH("Nombre de non acceptations par Airbus du livrable",'KPIs Data'!$A$8:$L$8,0)) -> #N/A
A36: =IF(Tableau1[[#This Row],[Objet]]=0,"",Tableau1[[#This Row],[Objet]]) | B36: =IF(Tableau1[[#This Row],[Date livraison]]=0,"",Tableau1[[#This Row],[Date livraison]]) | C36: =DATEDIF(INDEX('KPIs Data'!A:K,MATCH(A36,'KPIs Data'!A:A,0),MATCH("Date de propale demandée",'KPIs Data'!$A$8:$L$8,0)),INDEX('KPIs Data'!A:K,MATCH(A36, 'KPIs Data'!A:A,0),MATCH("Date de propale réelle",'KPIs Data'!$A$8:$L$8,0)),"d") -> #N/A | D36: =INDEX('KPIs Data'!A:K,MATCH(A36,'KPIs Data'!A:A,0),MATCH("Retard FDO",'KPIs Data'!$A$8:$L$8,0)) -> #N/A | E36: =INDEX('KPIs Data'!A:K,MATCH(A36,'KPIs Data'!A:A,0),MATCH("Nombre de non acceptations par Airbus du livrable",'KPIs Data'!$A$8:$L$8,0)) -> #N/A
A37: =IF(Tableau1[[#This Row],[Objet]]=0,"",Tableau1[[#This Row],[Objet]]) | B37: =IF(Tableau1[[#This Row],[Date livraison]]=0,"",Tableau1[[#This Row],[Date livraison]]) | C37: =DATEDIF(INDEX('KPIs Data'!A:K,MATCH(A37,'KPIs Data'!A:A,0),MATCH("Date de propale demandée",'KPIs Data'!$A$8:$L$8,0)),INDEX('KPIs Data'!A:K,MATCH(A37, 'KPIs Data'!A:A,0),MATCH("Date de propale réelle",'KPIs Data'!$A$8:$L$8,0)),"d") -> #N/A | D37: =INDEX('KPIs Data'!A:K,MATCH(A37,'KPIs Data'!A:A,0),MATCH("Retard FDO",'KPIs Data'!$A$8:$L$8,0)) -> #N/A | E37: =INDEX('KPIs Data'!A:K,MATCH(A37,'KPIs Data'!A:A,0),MATCH("Nombre de non acceptations par Airbus du livrable",'KPIs Data'!$A$8:$L$8,0)) -> #N/A
... A613: =IF(Tableau1[[#This Row],[Objet]]=0,"",Tableau1[[#This Row],[Objet]]) | B613: =IF(Tableau1[[#This Row],[Date livraison]]=0,"",Tableau1[[#This Row],[Date livraison]]) | C613: =DATEDIF(INDEX('KPIs Data'!A:K,MATCH(A613,'KPIs Data'!A:A,0),MATCH("Date de propale demandée",'KPIs Data'!$A$8:$L$8,0)),INDEX('KPIs Data'!A:K,MATCH(A613, 'KPIs Data'!A:A,0),MATCH("Date de propale réelle",'KPIs Data'!$A$8:$L$8,0)),"d") -> #N/A | D613: =INDEX('KPIs Data'!A:K,MATCH(A613,'KPIs Data'!A:A,0),MATCH("Retard FDO",'KPIs Data'!$A$8:$L$8,0)) -> #N/A | E613: =INDEX('KPIs Data'!A:K,MATCH(A613,'KPIs Data'!A:A,0),MATCH("Nombre de non acceptations par Airbus du livrable",'KPIs Data'!$A$8:$L$8,0)) -> #N/A

Sheet Feuil3
