Workbook
Name baseDonnees: Sage!$A$2:$C$191
Name dateFC: FC!$B$6:$B$1005
Name moisFC: FC!$J$6:$J$1005
Name nomsBD: Sage!$A$2:$A$191
Name nomsFC: FC!$C$6:$C$1005
Name tonnageFC: FC!$H$6:$H$1005

Sheet FC
B3: FICHE SUIVI COMMERCIAL | J3: mois | K3: période de validité
A4: INDEX | B4: DATE | C4: NOM OU RAISON SOCIALE | D4: LOCALISATION | E4: COMMERCIAL | F4: CIMENCAM (sac) | H4: TOTAL | K4: 43101
F5: CPJ 35 | G5: ROBUST | K5: 43465
A6: 1 | B6: 43102 | C6: BRIQUETTERIE MON SEIGNEUR | D6: =IF(C6<>"",VLOOKUP(C6,baseDonnees,2,FALSE),"") -> YASSA | E6: =IF(C6<>"",VLOOKUP(C6,baseDonnees,3,FALSE),"") -> DEPOT | F6: 0 | G6: 40 | H6: =(F6+G6)/20 -> 2 | J6: =IF(AND(B6>=$K$4,B6<=$K$5),MONTH(B6),0) -> 1
A7: 2 | B7: 43102 | C7: KOUAHOU SUZANNE | D7: =IF(C7<>"",VLOOKUP(C7,baseDonnees,2,FALSE),"") -> 0 | E7: =IF(C7<>"",VLOOKUP(C7,baseDonnees,3,FALSE),"") -> BORIS | G7: 100 | H7: =(F7+G7)/20 -> 5 | J7: =IF(AND(B7>=$K$4,B7<=$K$5),MONTH(B7),0) -> 1
A8: 3 | B8: 43102 | C8: TAPOKAM YATICA | D8: =IF(C8<>"",VLOOKUP(C8,baseDonnees,2,FALSE),"") -> YATICA | E8: =IF(C8<>"",VLOOKUP(C8,baseDonnees,3,FALSE),"") -> PIERRE | G8: 100 | H8: =(F8+G8)/20 -> 5 | J8: =IF(AND(B8>=$K$4,B8<=$K$5),MONTH(B8),0) -> 1
A9: 4 | B9: 43102 | C9: SOP JOSEPH NGODI | D9: =IF(C9<>"",VLOOKUP(C9,baseDonnees,2,FALSE),"") -> 0 | E9: =IF(C9<>"",VLOOKUP(C9,baseDonnees,3,FALSE),"") -> BORIS | G9: 160 | H9: =(F9+G9)/20 -> 8 | J9: =IF(AND(B9>=$K$4,B9<=$K$5),MONTH(B9),0) -> 1
A10: 5 | B10: 43103 | C10: TAMO UTI | D10: =IF(C10<>"",VLOOKUP(C10,baseDonnees,2,FALSE),"") -> 0 | E10: =IF(C10<>"",VLOOKUP(C10,baseDonnees,3,FALSE),"") -> PIERRE | G10: 373 | H10: =(F10+G10)/20 -> 18.65 | J10: =IF(AND(B10>=$K$4,B10<=$K$5),MONTH(B10),0) -> 1
A11: 6 | B11: 43103 | C11: ALADJI NGODI | D11: =IF(C11<>"",VLOOKUP(C11,baseDonnees,2,FALSE),"") -> NGODI BAKOKO | E11: =IF(C11<>"",VLOOKUP(C11,baseDonnees,3,FALSE),"") -> PIERRE | G11: 150 | H11: =(F11+G11)/20 -> 7.5 | J11: =IF(AND(B11>=$K$4,B11<=$K$5),MONTH(B11),0) -> 1
A12: 7 | B12: 43103 | C12: JOSEPH JARDIN NYALLA | D12: =IF(C12<>"",VLOOKUP(C12,baseDonnees,2,FALSE),"") -> LOGBABA JARDIN | E12: =IF(C12<>"",VLOOKUP(C12,baseDonnees,3,FALSE),"") -> PIERRE | G12: 57 | H12: =(F12+G12)/20 -> 2.85 | J12: =IF(AND(B12>=$K$4,B12<=$K$5),MONTH(B12),0) -> 1
A13: 8 | B13: 43103 | C13: Mne KENGNE | D13: =IF(C13<>"",VLOOKUP(C13,baseDonnees,2,FALSE),"") -> 0 | E13: =IF(C13<>"",VLOOKUP(C13,baseDonnees,3,FALSE),"") -> PIERRE | G13: 100 | H13: =(F13+G13)/20 -> 5 | J13: =IF(AND(B13>=$K$4,B13<=$K$5),MONTH(B13),0) -> 1
A14: 9 | B14: 43103 | C14: ETS KOPHA | D14: =IF(C14<>"",VLOOKUP(C14,baseDonnees,2,FALSE),"") -> YASSA | E14: =IF(C14<>"",VLOOKUP(C14,baseDonnees,3,FALSE),"") -> PIERRE | G14: 50 | H14: =(F14+G14)/20 -> 2.5 | J14: =IF(AND(B14>=$K$4,B14<=$K$5),MONTH(B14),0) -> 1
A15: 10 | B15: 43103 | C15: DJOUFFA HERVE | D15: =IF(C15<>"",VLOOKUP(C15,baseDonnees,2,FALSE),"") -> MAETURE | E15: =IF(C15<>"",VLOOKUP(C15,baseDonnees,3,FALSE),"") -> PIERRE | G15: 150 | H15: =(F15+G15)/20 -> 7.5 | J15: =IF(AND(B15>=$K$4,B15<=$K$5),MONTH(B15),0) -> 1
A16: 11 | B16: 43103 | C16: DONGMO DUCLAIR | D16: =IF(C16<>"",VLOOKUP(C16,baseDonnees,2,FALSE),"") -> JAPOMA | E16: =IF(C16<>"",VLOOKUP(C16,baseDonnees,3,FALSE),"") -> PIERRE | G16: 100 | H16: =(F16+G16)/20 -> 5 | J16: =IF(AND(B16>=$K$4,B16<=$K$5),MONTH(B16),0) -> 1
A17: 12 | B17: 43103 | C17: VALY | D17: =IF(C17<>"",VLOOKUP(C17,baseDonnees,2,FALSE),"") -> 0 | E17: =IF(C17<>"",VLOOKUP(C17,baseDonnees,3,FALSE),"") -> PIERRE | G17: 100 | H17: =(F17+G17)/20 -> 5 | J17: =IF(AND(B17>=$K$4,B17<=$K$5),MONTH(B17),0) -> 1
A18: 13 | B18: 43103 | C18: Mne SITCHI | D18: =IF(C18<>"",VLOOKUP(C18,baseDonnees,2,FALSE),"") -> 0 | E18: =IF(C18<>"",VLOOKUP(C18,baseDonnees,3,FALSE),"") -> PIERRE | G18: 100 | H18: =(F18+G18)/20 -> 5 | J18: =IF(AND(B18>=$K$4,B18<=$K$5),MONTH(B18),0) -> 1
... A116: 111 | B116: 43109 | C116: CLIENT DIVERS | D116: =IF(C116<>"",VLOOKUP(C116,baseDonnees,2,FALSE),"") -> 0 | E116: =IF(C116<>"",VLOOKUP(C116,baseDonnees,3,FALSE),"") -> 0 | G116: 50 | H116: =(F116+G116)/20 -> 2.5 | J116: =IF(AND(B116>=$K$4,B116<=$K$5),MONTH(B116),0) -> 1
A117: 112 | B117: 43110 | C117: MEDIA CONSTRUCTION | D117: =IF(C117<>"",VLOOKUP(C117,baseDonnees,2,FALSE),"") -> NKOLBONG | E117: =IF(C117<>"",VLOOKUP(C117,baseDonnees,3,FALSE),"") -> PIERRE | F117: 100 | H117: =(F117+G117)/20 -> 5 | J117: =IF(AND(B117>=$K$4,B117<=$K$5),MONTH(B117),0) -> 1
A118: 113 | B118: 43110 | C118: QUIN WAKAM | D118: =IF(C118<>"",VLOOKUP(C118,baseDonnees,2,FALSE),"") -> 0 | E118: =IF(C118<>"",VLOOKUP(C118,baseDonnees,3,FALSE),"") -> PIERRE | F118: 50 | H118: =(F118+G118)/20 -> 2.5 | J118: =IF(AND(B118>=$K$4,B118<=$K$5),MONTH(B118),0) -> 1
A119: 114 | B119: 43110 | C119: HERVE DAKAR | D119: =IF(C119<>"",VLOOKUP(C119,baseDonnees,2,FALSE),"") -> NGODI BAKOKO | E119: =IF(C119<>"",VLOOKUP(C119,baseDonnees,3,FALSE),"") -> BORIS | F119: 50 | H119: =(F119+G119)/20 -> 2.5 | J119: =IF(AND(B119>=$K$4,B119<=$K$5),MONTH(B119),0) -> 1
A120: 115 | B120: 43110 | C120: ALOGA ZEBAZE | D120: =IF(C120<>"",VLOOKUP(C120,baseDonnees,2,FALSE),"") -> LOGBABA | E120: =IF(C120<>"",VLOOKUP(C120,baseDonnees,3,FALSE),"") -> PIERRE | F120: 100 | H120: =(F120+G120)/20 -> 5 | J120: =IF(AND(B120>=$K$4,B120<=$K$5),MONTH(B120),0) -> 1
A121: 116 | B121: 43110 | C121: MENKAM NORBERT | D121: =IF(C121<>"",VLOOKUP(C121,baseDonnees,2,FALSE),"") -> 0 | E121: =IF(C121<>"",VLOOKUP(C121,baseDonnees,3,FALSE),"") -> PIERRE | F121: 60 | H121: =(F121+G121)/20 -> 3 | J121: =IF(AND(B121>=$K$4,B121<=$K$5),MONTH(B121),0) -> 1
A122: 117 | B122: 43110 | C122: TETCHA MBANGA PONGO | D122: =IF(C122<>"",VLOOKUP(C122,baseDonnees,2,FALSE),"") -> MBANGA PONGO | E122: =IF(C122<>"",VLOOKUP(C122,baseDonnees,3,FALSE),"") -> PIERRE | G122: 100 | H122: =(F122+G122)/20 -> 5 | J122: =IF(AND(B122>=$K$4,B122<=$K$5),MONTH(B122),0) -> 1
A123: 118 | B123: 43110 | C123: NGUETSA BLAISE | D123: =IF(C123<>"",VLOOKUP(C123,baseDonnees,2,FALSE),"") -> 0 | E123: =IF(C123<>"",VLOOKUP(C123,baseDonnees,3,FALSE),"") -> BORIS | G123: 100 | H123: =(F123+G123)/20 -> 5 | J123: =IF(AND(B123>=$K$4,B123<=$K$5),MONTH(B123),0) -> 1
A124: 119 | B124: 43110 | C124: GILBERT | D124: =IF(C124<>"",VLOOKUP(C124,baseDonnees,2,FALSE),"") -> JAPOMA | E124: =IF(C124<>"",VLOOKUP(C124,baseDonnees,3,FALSE),"") -> PIERRE | G124: 100 | H124: =(F124+G124)/20 -> 5 | J124: =IF(AND(B124>=$K$4,B124<=$K$5),MONTH(B124),0) -> 1
A125: 120 | B125: 43110 | C125: BATCHAM DAKAR | D125: =IF(C125<>"",VLOOKUP(C125,baseDonnees,2,FALSE),"") -> ROND POINT CCC | E125: =IF(C125<>"",VLOOKUP(C125,baseDonnees,3,FALSE),"") -> PIERRE | G125: 50 | H125: =(F125+G125)/20 -> 2.5 | J125: =IF(AND(B125>=$K$4,B125<=$K$5),MONTH(B125),0) -> 1
A126: 121 | B126: 43110 | C126: ZONTHATOUO DESIRE | D126: =IF(C126<>"",VLOOKUP(C126,baseDonnees,2,FALSE),"") -> 0 | E126: =IF(C126<>"",VLOOKUP(C126,baseDonnees,3,FALSE),"") -> PIERRE | G126: 250 | H126: =(F126+G126)/20 -> 12.5 | J126: =IF(AND(B126>=$K$4,B126<=$K$5),MONTH(B126),0) -> 1
A127: 122 | B127: 43110 | C127: QUIN WAKAM | D127: =IF(C127<>"",VLOOKUP(C127,baseDonnees,2,FALSE),"") -> 0 | E127: =IF(C127<>"",VLOOKUP(C127,baseDonnees,3,FALSE),"") -> PIERRE | G127: 100 | H127: =(F127+G127)/20 -> 5 | J127: =IF(AND(B127>=$K$4,B127<=$K$5),MONTH(B127),0) -> 1
A128: 123 | B128: 43110 | C128: TAKOU DAKAR | D128: =IF(C128<>"",VLOOKUP(C128,baseDonnees,2,FALSE),"") -> 0 | E128: =IF(C128<>"",VLOOKUP(C128,baseDonnees,3,FALSE),"") -> PIERRE | G128: 200 | H128: =(F128+G128)/20 -> 10 | J128: =IF(AND(B128>=$K$4,B128<=$K$5),MONTH(B128),0) -> 1
A129: 124 | B129: 43110 | C129: FONGANG GUYZO | D129: =IF(C129<>"",VLOOKUP(C129,baseDonnees,2,FALSE),"") -> JAPOMA | E129: =IF(C129<>"",VLOOKUP(C129,baseDonnees,3,FALSE),"") -> PIERRE | G129: 100 | H129: =(F129+G129)/20 -> 5 | J129: =IF(AND(B129>=$K$4,B129<=$K$5),MONTH(B129),0) -> 1
A130: 125 | B130: 43110 | C130: AUGUSTIN NKONGMONDO | D130: =IF(C130<>"",VLOOKUP(C130,baseDonnees,2,FALSE),"") -> CARREFOUR NKONGMONDO | E130: =IF(C130<>"",VLOOKUP(C130,baseDonnees,3,FALSE),"") -> PIERRE | G130: 100 | H130: =(F130+G130)/20 -> 5 | J130: =IF(AND(B130>=$K$4,B130<=$K$5),MONTH(B130),0) -> 1
A131: 126 | B131: 43110 | C131: CLIENT DIVERS | D131: =IF(C131<>"",VLOOKUP(C131,baseDonnees,2,FALSE),"") -> 0 | E131: =IF(C131<>"",VLOOKUP(C131,baseDonnees,3,FALSE),"") -> 0 | G131: 60 | H131: =(F131+G131)/20 -> 3 | J131: =IF(AND(B131>=$K$4,B131<=$K$5),MONTH(B131),0) -> 1
A132: 127 | B132: 43110 | C132: TENE ERNEST | D132: =IF(C132<>"",VLOOKUP(C132,baseDonnees,2,FALSE),"") -> 0 | E132: =IF(C132<>"",VLOOKUP(C132,baseDonnees,3,FALSE),"") -> BORIS | G132: 100 | H132: =(F132+G132)/20 -> 5 | J132: =IF(AND(B132>=$K$4,B132<=$K$5),MONTH(B132),0) -> 1
A133: 128 | B133: 43110 | C133: CHANTAL BACHE BLEU | D133: =IF(C133<>"",VLOOKUP(C133,baseDonnees,2,FALSE),"") -> ZONE DE RECASEMENT | E133: =IF(C133<>"",VLOOKUP(C133,baseDonnees,3,FALSE),"") -> BORIS | G133: 150 | H133: =(F133+G133)/20 -> 7.5 | J133: =IF(AND(B133>=$K$4,B133<=$K$5),MONTH(B133),0) -> 1
... A198: 193 | B198: 43113 | C198: WAMBA BONABERI | D198: =IF(C198<>"",VLOOKUP(C198,baseDonnees,2,FALSE),"") -> 0 | E198: =IF(C198<>"",VLOOKUP(C198,baseDonnees,3,FALSE),"") -> 0 | G198: 700 | H198: =(F198+G198)/20 -> 35 | J198: =IF(AND(B198>=$K$4,B198<=$K$5),MONTH(B198),0) -> 1
A199: 194 | B199: 43113 | C199: MOUTEMA BANGA MPOGO | D199: =IF(C199<>"",VLOOKUP(C199,baseDonnees,2,FALSE),"") -> BANGA MPOGO | E199: =IF(C199<>"",VLOOKUP(C199,baseDonnees,3,FALSE),"") -> PIERRE | F199: 100 | H199: =(F199+G199)/20 -> 5 | J199: =IF(AND(B199>=$K$4,B199<=$K$5),MONTH(B199),0) -> 1
A200: 195 | B200: 43113 | C200: JOSEPH JARDIN NYALLA | D200: =IF(C200<>"",VLOOKUP(C200,baseDonnees,2,FALSE),"") -> LOGBABA JARDIN | E200: =IF(C200<>"",VLOOKUP(C200,baseDonnees,3,FALSE),"") -> PIERRE | F200: 30 | H200: =(F200+G200)/20 -> 1.5 | J200: =IF(AND(B200>=$K$4,B200<=$K$5),MONTH(B200),0) -> 1
A201: 196 | B201: 43113 | C201: CLIENT DIVERS | D201: =IF(C201<>"",VLOOKUP(C201,baseDonnees,2,FALSE),"") -> 0 | E201: =IF(C201<>"",VLOOKUP(C201,baseDonnees,3,FALSE),"") -> 0 | F201: 80 | H201: =(F201+G201)/20 -> 4 | J201: =IF(AND(B201>=$K$4,B201<=$K$5),MONTH(B201),0) -> 1
A202: 197 | B202: 43113 | C202: CLIENT DIVERS | D202: =IF(C202<>"",VLOOKUP(C202,baseDonnees,2,FALSE),"") -> 0 | E202: =IF(C202<>"",VLOOKUP(C202,baseDonnees,3,FALSE),"") -> 0 | F202: 157 | H202: =(F202+G202)/20 -> 7.85 | J202: =IF(AND(B202>=$K$4,B202<=$K$5),MONTH(B202),0) -> 1
A203: 198 | B203: 43115 | C203: CLIENT DIVERS | D203: =IF(C203<>"",VLOOKUP(C203,baseDonnees,2,FALSE),"") -> 0 | E203: =IF(C203<>"",VLOOKUP(C203,baseDonnees,3,FALSE),"") -> 0 | G203: 100 | H203: =(F203+G203)/20 -> 5 | J203: =IF(AND(B203>=$K$4,B203<=$K$5),MONTH(B203),0) -> 1
...

Sheet previsi
B3: PREVISION VENTE 2018
B7: =B9*((Sage!$I$192*12)/previsi!$Z$9) -> 4265.318 | D7: =D9*((Sage!$I$192*12)/previsi!$Z$9) -> 3708.9721 | F7: =F9*((Sage!$I$192*12)/previsi!$Z$9) -> 4079.8694 | H7: =H9*((Sage!$I$192*12)/previsi!$Z$9) -> 3894.4207 | J7: =J9*((Sage!$I$192*12)/previsi!$Z$9) -> 3894.4207 | L7: =L9*((Sage!$I$192*12)/previsi!$Z$9) -> 3894.4207 | N7: =N9*((Sage!$I$192*12)/previsi!$Z$9) -> 4079.8694 | P7: =P9*((Sage!$I$192*12)/previsi!$Z$9) -> 4079.8694 | R7: =R9*((Sage!$I$192*12)/previsi!$Z$9) -> 3708.9721 | T7: =T9*((Sage!$I$192*12)/previsi!$Z$9) -> 4265.318 | V7: =V9*((Sage!$I$192*12)/previsi!$Z$9) -> 4079.8694 | X7: =X9*((Sage!$I$192*12)/previsi!$Z$9) -> 3708.9721 | Z7: =B7+D7+F7+H7+J7+L7+N7+P7+R7+T7+V7+X7 -> 47660.292
A8: Nombre de jours ouvrables | B8: 43101 | D8: 43132 | F8: 43160 | H8: 43191 | J8: 43221 | L8: 43252 | N8: 43282 | P8: 43313 | R8: 43344 | T8: 43374 | V8: 43405 | X8: 43435 | Z8: TOTAL
B9: 23 | D9: 20 | F9: 22 | H9: 21 | J9: 21 | L9: 21 | N9: 22 | P9: 22 | R9: 20 | T9: 23 | V9: 22 | X9: 20 | Z9: =B9+D9+F9+H9+J9+L9+N9+P9+R9+T9+V9+X9 -> 257
A10: RAISON SOCIAL | B10: QTE | C10: % | D10: QTE | E10: % | F10: QTE | G10: % | H10: QTE | I10: % | J10: QTE | K10: % | L10: QTE | M10: % | N10: QTE | O10: % | P10: QTE | Q10: % | R10: QTE | S10: % | T10: QTE | U10: % | V10: QTE | W10: % | X10: QTE | Y10: % | Z10: QTE
A12: =Sage!A2 -> ALOGA ZEBAZE | B12: =$B$7*C12 -> 32.74144 | C12: =Sage!J2 -> 0.0076762014 | D12: =$D$7*E12 -> 28.470817 | E12: =C12 -> 0.0076762014 | F12: =$F$7*G12 -> 31.317899 | G12: =C12 -> 0.0076762014 | H12: =$H$7*I12 -> 29.894358 | I12: =C12 -> 0.0076762014 | J12: =$J$7*K12 -> 29.894358 | K12: =C12 -> 0.0076762014 | L12: =$L$7*M12 -> 29.894358 | M12: =C12 -> 0.0076762014 | N12: =$N$7*O12 -> 31.317899 | O12: =C12 -> 0.0076762014 | P12: =$P$7*Q12 -> 31.317899 | Q12: =C12 -> 0.0076762014 | R12: =$R$7*S12 -> 28.470817 | S12: =C12 -> 0.0076762014 | T12: =$T$7*U12 -> 32.74144 | U12: =C12 -> 0.0076762014 | V12: =$V$7*W12 -> 31.317899 | W12: =C12 -> 0.0076762014 | X12: =$X$7*Y12 -> 28.470817 | Y12: =C12 -> 0.0076762014 | Z12: =B12+D12+F12+H12+J12+L12+N12+P12+R12+T12+V12+X12 -> 365.85
A13: =Sage!A3 -> AHIDJO | B13: =$B$7*C13 -> 14.449728 | C13: =Sage!J3 -> 0.0033877258 | D13: =$D$7*E13 -> 12.564981 | E13: =C13 -> 0.0033877258 | F13: =$F$7*G13 -> 13.821479 | G13: =C13 -> 0.0033877258 | H13: =$H$7*I13 -> 13.19323 | I13: =C13 -> 0.0033877258 | J13: =$J$7*K13 -> 13.19323 | K13: =C13 -> 0.0033877258 | L13: =$L$7*M13 -> 13.19323 | M13: =C13 -> 0.0033877258 | N13: =$N$7*O13 -> 13.821479 | O13: =C13 -> 0.0033877258 | P13: =$P$7*Q13 -> 13.821479 | Q13: =C13 -> 0.0033877258 | R13: =$R$7*S13 -> 12.564981 | S13: =C13 -> 0.0033877258 | T13: =$T$7*U13 -> 14.449728 | U13: =C13 -> 0.0033877258 | V13: =$V$7*W13 -> 13.821479 | W13: =C13 -> 0.0033877258 | X13: =$X$7*Y13 -> 12.564981 | Y13: =C13 -> 0.0033877258 | Z13: =B13+D13+F13+H13+J13+L13+N13+P13+R13+T13+V13+X13 -> 161.46
A14: =Sage!A4 -> ALADJI NGODI | B14: =$B$7*C14 -> 25.61323 | C14: =Sage!J4 -> 0.0060049989 | D14: =$D$7*E14 -> 22.272374 | E14: =C14 -> 0.0060049989 | F14: =$F$7*G14 -> 24.499611 | G14: =C14 -> 0.0060049989 | H14: =$H$7*I14 -> 23.385992 | I14: =C14 -> 0.0060049989 | J14: =$J$7*K14 -> 23.385992 | K14: =C14 -> 0.0060049989 | L14: =$L$7*M14 -> 23.385992 | M14: =C14 -> 0.0060049989 | N14: =$N$7*O14 -> 24.499611 | O14: =C14 -> 0.0060049989 | P14: =$P$7*Q14 -> 24.499611 | Q14: =C14 -> 0.0060049989 | R14: =$R$7*S14 -> 22.272374 | S14: =C14 -> 0.0060049989 | T14: =$T$7*U14 -> 25.61323 | U14: =C14 -> 0.0060049989 | V14: =$V$7*W14 -> 24.499611 | W14: =C14 -> 0.0060049989 | X14: =$X$7*Y14 -> 22.272374 | Y14: =C14 -> 0.0060049989 | Z14: =B14+D14+F14+H14+J14+L14+N14+P14+R14+T14+V14+X14 -> 286.2
A15: =Sage!A5 -> ALAIN COGEFAR | B15: =$B$7*C15 -> 0 | C15: =Sage!J5 -> 0 | D15: =$D$7*E15 -> 0 | E15: =C15 -> 0 | F15: =$F$7*G15 -> 0 | G15: =C15 -> 0 | H15: =$H$7*I15 -> 0 | I15: =C15 -> 0 | J15: =$J$7*K15 -> 0 | K15: =C15 -> 0 | L15: =$L$7*M15 -> 0 | M15: =C15 -> 0 | N15: =$N$7*O15 -> 0 | O15: =C15 -> 0 | P15: =$P$7*Q15 -> 0 | Q15: =C15 -> 0 | R15: =$R$7*S15 -> 0 | S15: =C15 -> 0 | T15: =$T$7*U15 -> 0 | U15: =C15 -> 0 | V15: =$V$7*W15 -> 0 | W15: =C15 -> 0 | X15: =$X$7*Y15 -> 0 | Y15: =C15 -> 0 | Z15: =B15+D15+F15+H15+J15+L15+N15+P15+R15+T15+V15+X15 -> 0
A16: =Sage!A6 -> ALPHONSE YATICA | B16: =$B$7*C16 -> 36.051829 | C16: =Sage!J6 -> 0.0084523192 | D16: =$D$7*E16 -> 31.349416 | E16: =C16 -> 0.0084523192 | F16: =$F$7*G16 -> 34.484358 | G16: =C16 -> 0.0084523192 | H16: =$H$7*I16 -> 32.916887 | I16: =C16 -> 0.0084523192 | J16: =$J$7*K16 -> 32.916887 | K16: =C16 -> 0.0084523192 | L16: =$L$7*M16 -> 32.916887 | M16: =C16 -> 0.0084523192 | N16: =$N$7*O16 -> 34.484358 | O16: =C16 -> 0.0084523192 | P16: =$P$7*Q16 -> 34.484358 | Q16: =C16 -> 0.0084523192 | R16: =$R$7*S16 -> 31.349416 | S16: =C16 -> 0.0084523192 | T16: =$T$7*U16 -> 36.051829 | U16: =C16 -> 0.0084523192 | V16: =$V$7*W16 -> 34.484358 | W16: =C16 -> 0.0084523192 | X16: =$X$7*Y16 -> 31.349416 | Y16: =C16 -> 0.0084523192 | Z16: =B16+D16+F16+H16+J16+L16+N16+P16+R16+T16+V16+X16 -> 402.84
A17: =Sage!A7 -> AMEDE YASSA | B17: =$B$7*C17 -> 1.0631907 | C17: =Sage!J7 -> 0.0002492641 | D17: =$D$7*E17 -> 0.92451362 | E17: =C17 -> 0.0002492641 | F17: =$F$7*G17 -> 1.016965 | G17: =C17 -> 0.0002492641 | H17: =$H$7*I17 -> 0.9707393 | I17: =C17 -> 0.0002492641 | J17: =$J$7*K17 -> 0.9707393 | K17: =C17 -> 0.0002492641 | L17: =$L$7*M17 -> 0.9707393 | M17: =C17 -> 0.0002492641 | N17: =$N$7*O17 -> 1.016965 | O17: =C17 -> 0.0002492641 | P17: =$P$7*Q17 -> 1.016965 | Q17: =C17 -> 0.0002492641 | R17: =$R$7*S17 -> 0.92451362 | S17: =C17 -> 0.0002492641 | T17: =$T$7*U17 -> 1.0631907 | U17: =C17 -> 0.0002492641 | V17: =$V$7*W17 -> 1.016965 | W17: =C17 -> 0.0002492641 | X17: =$X$7*Y17 -> 0.92451362 | Y17: =C17 -> 0.0002492641 | Z17: =B17+D17+F17+H17+J17+L17+N17+P17+R17+T17+V17+X17 -> 11.88
A18: =Sage!A8 -> AMIGO BOKO STADE | B18: =$B$7*C18 -> 8.7471595 | C18: =Sage!J8 -> 0.0020507638 | D18: =$D$7*E18 -> 7.6062257 | E18: =C18 -> 0.0020507638 | F18: =$F$7*G18 -> 8.3668482 | G18: =C18 -> 0.0020507638 | H18: =$H$7*I18 -> 7.986537 | I18: =C18 -> 0.0020507638 | J18: =$J$7*K18 -> 7.986537 | K18: =C18 -> 0.0020507638 | L18: =$L$7*M18 -> 7.986537 | M18: =C18 -> 0.0020507638 | N18: =$N$7*O18 -> 8.3668482 | O18: =C18 -> 0.0020507638 | P18: =$P$7*Q18 -> 8.3668482 | Q18: =C18 -> 0.0020507638 | R18: =$R$7*S18 -> 7.6062257 | S18: =C18 -> 0.0020507638 | T18: =$T$7*U18 -> 8.7471595 | U18: =C18 -> 0.0020507638 | V18: =$V$7*W18 -> 8.3668482 | W18: =C18 -> 0.0020507638 | X18: =$X$7*Y18 -> 7.6062257 | Y18: =C18 -> 0.0020507638 | Z18: =B18+D18+F18+H18+J18+L18+N18+P18+R18+T18+V18+X18 -> 97.74
A19: =Sage!A9 -> ARMEL | B19: =$B$7*C19 -> 4.1077821 | C19: =Sage!J9 -> 0.00096306586 | D19: =$D$7*E19 -> 3.5719844 | E19: =C19 -> 0.00096306586 | F19: =$F$7*G19 -> 3.9291829 | G19: =C19 -> 0.00096306586 | H19: =$H$7*I19 -> 3.7505837 | I19: =C19 -> 0.00096306586 | J19: =$J$7*K19 -> 3.7505837 | K19: =C19 -> 0.00096306586 | L19: =$L$7*M19 -> 3.7505837 | M19: =C19 -> 0.00096306586 | N19: =$N$7*O19 -> 3.9291829 | O19: =C19 -> 0.00096306586 | P19: =$P$7*Q19 -> 3.9291829 | Q19: =C19 -> 0.00096306586 | R19: =$R$7*S19 -> 3.5719844 | S19: =C19 -> 0.00096306586 | T19: =$T$7*U19 -> 4.1077821 | U19: =C19 -> 0.00096306586 | V19: =$V$7*W19 -> 3.9291829 | W19: =C19 -> 0.00096306586 | X19: =$X$7*Y19 -> 3.5719844 | Y19: =C19 -> 0.00096306586 | Z19: =B19+D19+F19+H19+J19+L19+N19+P19+R19+T19+V19+X19 -> 45.9
A20: =Sage!A10 -> AUGUSTIN | B20: =$B$7*C20 -> 7.5873152 | C20: =Sage!J10 -> 0.0017788393 | D20: =$D$7*E20 -> 6.5976654 | E20: =C20 -> 0.0017788393 | F20: =$F$7*G20 -> 7.2574319 | G20: =C20 -> 0.0017788393 | H20: =$H$7*I20 -> 6.9275486 | I20: =C20 -> 0.0017788393 | J20: =$J$7*K20 -> 6.9275486 | K20: =C20 -> 0.0017788393 | L20: =$L$7*M20 -> 6.9275486 | M20: =C20 -> 0.0017788393 | N20: =$N$7*O20 -> 7.2574319 | O20: =C20 -> 0.0017788393 | P20: =$P$7*Q20 -> 7.2574319 | Q20: =C20 -> 0.0017788393 | R20: =$R$7*S20 -> 6.5976654 | S20: =C20 -> 0.0017788393 | T20: =$T$7*U20 -> 7.5873152 | U20: =C20 -> 0.0017788393 | V20: =$V$7*W20 -> 7.2574319 | W20: =C20 -> 0.0017788393 | X20: =$X$7*Y20 -> 6.5976654 | Y20: =C20 -> 0.0017788393 | Z20: =B20+D20+F20+H20+J20+L20+N20+P20+R20+T20+V20+X20 -> 84.78
A21: =Sage!A11 -> AUGUSTIN EP | B21: =$B$7*C21 -> 9.6653696 | C21: =Sage!J11 -> 0.0022660373 | D21: =$D$7*E21 -> 8.4046693 | E21: =C21 -> 0.0022660373 | F21: =$F$7*G21 -> 9.2451362 | G21: =C21 -> 0.0022660373 | H21: =$H$7*I21 -> 8.8249027 | I21: =C21 -> 0.0022660373 | J21: =$J$7*K21 -> 8.8249027 | K21: =C21 -> 0.0022660373 | L21: =$L$7*M21 -> 8.8249027 | M21: =C21 -> 0.0022660373 | N21: =$N$7*O21 -> 9.2451362 | O21: =C21 -> 0.0022660373 | P21: =$P$7*Q21 -> 9.2451362 | Q21: =C21 -> 0.0022660373 | R21: =$R$7*S21 -> 8.4046693 | S21: =C21 -> 0.0022660373 | T21: =$T$7*U21 -> 9.6653696 | U21: =C21 -> 0.0022660373 | V21: =$V$7*W21 -> 9.2451362 | W21: =C21 -> 0.0022660373 | X21: =$X$7*Y21 -> 8.4046693 | Y21: =C21 -> 0.0022660373 | Z21: =B21+D21+F21+H21+J21+L21+N21+P21+R21+T21+V21+X21 -> 108
A22: =Sage!A12 -> AUGUSTIN NKONGMONDO | B22: =$B$7*C22 -> 5.9925292 | C22: =Sage!J12 -> 0.0014049431 | D22: =$D$7*E22 -> 5.2108949 | E22: =C22 -> 0.0014049431 | F22: =$F$7*G22 -> 5.7319844 | G22: =C22 -> 0.0014049431 | H22: =$H$7*I22 -> 5.4714397 | I22: =C22 -> 0.0014049431 | J22: =$J$7*K22 -> 5.4714397 | K22: =C22 -> 0.0014049431 | L22: =$L$7*M22 -> 5.4714397 | M22: =C22 -> 0.0014049431 | N22: =$N$7*O22 -> 5.7319844 | O22: =C22 -> 0.0014049431 | P22: =$P$7*Q22 -> 5.7319844 | Q22: =C22 -> 0.0014049431 | R22: =$R$7*S22 -> 5.2108949 | S22: =C22 -> 0.0014049431 | T22: =$T$7*U22 -> 5.9925292 | U22: =C22 -> 0.0014049431 | V22: =$V$7*W22 -> 5.7319844 | W22: =C22 -> 0.0014049431 | X22: =$X$7*Y22 -> 5.2108949 | Y22: =C22 -> 0.0014049431 | Z22: =B22+D22+F22+H22+J22+L22+N22+P22+R22+T22+V22+X22 -> 66.96
A23: =Sage!A13 -> BATCHAM DAKAR | B23: =$B$7*C23 -> 9.4237354 | C23: =Sage!J13 -> 0.0022093864 | D23: =$D$7*E23 -> 8.1945525 | E23: =C23 -> 0.0022093864 | F23: =$F$7*G23 -> 9.0140078 | G23: =C23 -> 0.0022093864 | H23: =$H$7*I23 -> 8.6042802 | I23: =C23 -> 0.0022093864 | J23: =$J$7*K23 -> 8.6042802 | K23: =C23 -> 0.0022093864 | L23: =$L$7*M23 -> 8.6042802 | M23: =C23 -> 0.0022093864 | N23: =$N$7*O23 -> 9.0140078 | O23: =C23 -> 0.0022093864 | P23: =$P$7*Q23 -> 9.0140078 | Q23: =C23 -> 0.0022093864 | R23: =$R$7*S23 -> 8.1945525 | S23: =C23 -> 0.0022093864 | T23: =$T$7*U23 -> 9.4237354 | U23: =C23 -> 0.0022093864 | V23: =$V$7*W23 -> 9.0140078 | W23: =C23 -> 0.0022093864 | X23: =$X$7*Y23 -> 8.1945525 | Y23: =C23 -> 0.0022093864 | Z23: =B23+D23+F23+H23+J23+L23+N23+P23+R23+T23+V23+X23 -> 105.3
... A199: =Sage!A189 -> MAT CONSTRUCTION | B199: =$B$7*C199 -> 98.253315 | C199: =Sage!J189 -> 0.023035402 | D199: =$D$7*E199 -> 85.437665 | E199: =C199 -> 0.023035402 | F199: =$F$7*G199 -> 93.981432 | G199: =C199 -> 0.023035402 | H199: =$H$7*I199 -> 89.709549 | I199: =C199 -> 0.023035402 | J199: =$J$7*K199 -> 89.709549 | K199: =C199 -> 0.023035402 | L199: =$L$7*M199 -> 89.709549 | M199: =C199 -> 0.023035402 | N199: =$N$7*O199 -> 93.981432 | O199: =C199 -> 0.023035402 | P199: =$P$7*Q199 -> 93.981432 | Q199: =C199 -> 0.023035402 | R199: =$R$7*S199 -> 85.437665 | S199: =C199 -> 0.023035402 | T199: =$T$7*U199 -> 98.253315 | U199: =C199 -> 0.023035402 | V199: =$V$7*W199 -> 93.981432 | W199: =C199 -> 0.023035402 | X199: =$X$7*Y199 -> 85.437665 | Y199: =C199 -> 0.023035402 | Z199: =B199+D199+F199+H199+J199+L199+N199+P199+R199+T199+V199+X199 -> 1097.874
A200: =Sage!A191 -> CLIENT DIVERS | B200: =$B$7*C200 -> 120.81712 | C200: =Sage!J191 -> 0.028325466 | D200: =$D$7*E200 -> 105.05837 | E200: =C200 -> 0.028325466 | F200: =$F$7*G200 -> 115.5642 | G200: =C200 -> 0.028325466 | H200: =$H$7*I200 -> 110.31128 | I200: =C200 -> 0.028325466 | J200: =$J$7*K200 -> 110.31128 | K200: =C200 -> 0.028325466 | L200: =$L$7*M200 -> 110.31128 | M200: =C200 -> 0.028325466 | N200: =$N$7*O200 -> 115.5642 | O200: =C200 -> 0.028325466 | P200: =$P$7*Q200 -> 115.5642 | Q200: =C200 -> 0.028325466 | R200: =$R$7*S200 -> 105.05837 | S200: =C200 -> 0.028325466 | T200: =$T$7*U200 -> 120.81712 | U200: =C200 -> 0.028325466 | V200: =$V$7*W200 -> 115.5642 | W200: =C200 -> 0.028325466 | X200: =$X$7*Y200 -> 105.05837 | Y200: =C200 -> 0.028325466 | Z200: =B200+D200+F200+H200+J200+L200+N200+P200+R200+T200+V200+X200 -> 1350
A201: TOTAL | B201: =SUM(B12:B200) -> 4265.318 | C201: =SUM(C12:C200) -> 1 | D201: =SUM(D12:D200) -> 3708.9721 | E201: =SUM(E12:E200) -> 1 | F201: =SUM(F12:F200) -> 4079.8694 | G201: =SUM(G12:G200) -> 1 | H201: =SUM(H12:H200) -> 3894.4207 | I201: =SUM(I12:I200) -> 1 | ... Z201: =SUM(Z12:Z200) -> 47660.292

Sheet REAL
B4: 1 | F4: 2 | J4: 3 | N4: 4 | R4: 5 | V4: 6 | Z4: 7 | AD4: 8 | AH4: 9 | AL4: 10 | AP4: 11 | AT4: 12
B5: =previsi!B7 -> 4265.318 | F5: =previsi!D7 -> 3708.9721 | J5: =previsi!F7 -> 4079.8694 | N5: =previsi!H7 -> 3894.4207 | R5: =previsi!J7 -> 3894.4207 | V5: =previsi!L7 -> 3894.4207 | Z5: =previsi!N7 -> 4079.8694 | AD5: =previsi!P7 -> 4079.8694 | AH5: =previsi!R7 -> 3708.9721 | AL5: =previsi!T7 -> 4265.318 | AP5: =previsi!V7 -> 4079.8694 | AT5: =previsi!X7 -> 3708.9721 | AX5: =B5+F5+J5+N5+R5+V5+Z5+AD5+AH5+AL5+AP5+AT5 -> 47660.292
A6: Nombre de jours ouvrables | B6: 43101 | F6: 43132 | J6: 43160 | N6: 43191 | R6: 43221 | V6: 43252 | Z6: 43282 | AD6: 43313 | AH6: 43344 | AL6: 43374 | AP6: 43405 | AT6: 43435 | AX6: TOTAL JOURS OUVRES
B7: =previsi!B9 -> 23 | F7: =previsi!D9 -> 20 | J7: =previsi!F9 -> 22 | N7: =previsi!H9 -> 21 | R7: =previsi!J9 -> 21 | V7: =previsi!L9 -> 21 | Z7: =previsi!N9 -> 22 | AD7: =previsi!P9 -> 22 | AH7: =previsi!R9 -> 20 | AL7: =previsi!T9 -> 23 | AP7: =previsi!V9 -> 22 | AT7: =previsi!X9 -> 20 | AX7: =B7+F7+J7+N7+R7+V7+Z7+AD7+AH7+AL7+AP7+AT7 -> 257
A8: RAISON SOCIAL | B8: OBJ | C8: R | D8: E | E8: % | F8: OBJ | G8: R | H8: E | I8: % | J8: OBJ | K8: R | L8: E | M8: % | N8: OBJ | O8: R | P8: E | Q8: % | R8: OBJ | S8: R | T8: E | U8: % | V8: OBJ | W8: R | X8: E | Y8: % | Z8: OBJ | AA8: R | AB8: E | AC8: % | AD8: OBJ | AE8: R | AF8: E | AG8: % | AH8: OBJ | AI8: R | AJ8: E | AK8: % | AL8: OBJ | AM8: R | AN8: E | AO8: % | AP8: OBJ | AQ8: R | AR8: E | AS8: % | AT8: OBJ | AU8: R | AV8: E | AW8: % | AX8: TOTAL ANNUEL
AX9: OBJ | AY9: R | AZ9: E | BA9: %
A10: =previsi!A12 -> ALOGA ZEBAZE | B10: =previsi!B12 -> 32.74144 | C10: =SUMIFS(tonnageFC,nomsFC,$A10,moisFC,B$4) -> 15 | D10: =C10-B10 -> -17.74144 | E10: =previsi!C12 -> 0.0076762014 | F10: =previsi!D12 -> 28.470817 | G10: =SUMIFS(tonnageFC,nomsFC,$A10,moisFC,F$4) -> 25 | H10: =G10-F10 -> -3.4708171 | I10: =$E10 -> 0.0076762014 | J10: =previsi!F12 -> 31.317899 | K10: =SUMIFS(tonnageFC,nomsFC,$A10,moisFC,J$4) -> 5 | L10: =K10-J10 -> -26.317899 | M10: =$E10 -> 0.0076762014 | N10: =previsi!H12 -> 29.894358 | O10: =SUMIFS(tonnageFC,nomsFC,$A10,moisFC,N$4) -> 0 | P10: =O10-N10 -> -29.894358 | Q10: =$E10 -> 0.0076762014 | R10: =previsi!J12 -> 29.894358 | S10: =SUMIFS(tonnageFC,nomsFC,$A10,moisFC,R$4) -> 0 | T10: =S10-R10 -> -29.894358 | U10: =$E10 -> 0.0076762014 | V10: =previsi!L12 -> 29.894358 | W10: =SUMIFS(tonnageFC,nomsFC,$A10,moisFC,V$4) -> 0 | X10: =W10-V10 -> -29.894358 | Y10: =$E10 -> 0.0076762014 | Z10: =previsi!N12 -> 31.317899 | AA10: =SUMIFS(tonnageFC,nomsFC,$A10,moisFC,Z$4) -> 0 | AB10: =AA10-Z10 -> -31.317899 | AC10: =$E10 -> 0.0076762014 | AD10: =previsi!P12 -> 31.317899 | AE10: =SUMIFS(tonnageFC,nomsFC,$A10,moisFC,AD$4) -> 0 | AF10: =AE10-AD10 -> -31.317899 | AG10: =$E10 -> 0.0076762014 | AH10: =previsi!R12 -> 28.470817 | AI10: =SUMIFS(tonnageFC,nomsFC,$A10,moisFC,AH$4) -> 0 | AJ10: =AI10-AH10 -> -28.470817 | AK10: =$E10 -> 0.0076762014 | AL10: =previsi!T12 -> 32.74144 | AM10: =SUMIFS(tonnageFC,nomsFC,$A10,moisFC,AL$4) -> 0 | AN10: =AM10-AL10 -> -32.74144 | AO10: =$E10 -> 0.0076762014 | AP10: =previsi!V12 -> 31.317899 | AQ10: =SUMIFS(tonnageFC,nomsFC,$A10,moisFC,AP$4) -> 0 | AR10: =AQ10-AP10 -> -31.317899 | AS10: =$E10 -> 0.0076762014 | AT10: =previsi!X12 -> 28.470817 | AU10: =SUMIFS(tonnageFC,nomsFC,$A10,moisFC,AT$4) -> 0 | AV10: =AU10-AT10 -> -28.470817 | AW10: =$E10 -> 0.0076762014 | AX10: =B10+F10+J10+N10+R10+V10+Z10+AD10+AH10+AL10+AP10+AT10 -> 365.85 | AY10: =C10+G10+K10+O10+S10+W10+AA10+AE10+AI10+AM10+AQ10+AU10 -> 45 | AZ10: =D10+H10+L10+P10+T10+X10+AB10+AF10+AJ10+AN10+AR10+AV10 -> -320.85 | BA10: =$E10 -> 0.0076762014
A11: =previsi!A13 -> AHIDJO | B11: =previsi!B13 -> 14.449728 | C11: =SUMIFS(tonnageFC,nomsFC,$A11,moisFC,B$4) -> 5 | D11: =C11-B11 -> -9.4497276 | E11: =previsi!C13 -> 0.0033877258 | F11: =previsi!D13 -> 12.564981 | G11: =SUMIFS(tonnageFC,nomsFC,$A11,moisFC,F$4) -> 10 | H11: =G11-F11 -> -2.5649805 | I11: =$E11 -> 0.0033877258 | J11: =previsi!F13 -> 13.821479 | K11: =SUMIFS(tonnageFC,nomsFC,$A11,moisFC,J$4) -> 10 | L11: =K11-J11 -> -3.8214786 | M11: =$E11 -> 0.0033877258 | N11: =previsi!H13 -> 13.19323 | O11: =SUMIFS(tonnageFC,nomsFC,$A11,moisFC,N$4) -> 0 | P11: =O11-N11 -> -13.19323 | Q11: =$E11 -> 0.0033877258 | R11: =previsi!J13 -> 13.19323 | S11: =SUMIFS(tonnageFC,nomsFC,$A11,moisFC,R$4) -> 0 | T11: =S11-R11 -> -13.19323 | U11: =$E11 -> 0.0033877258 | V11: =previsi!L13 -> 13.19323 | W11: =SUMIFS(tonnageFC,nomsFC,$A11,moisFC,V$4) -> 0 | X11: =W11-V11 -> -13.19323 | Y11: =$E11 -> 0.0033877258 | Z11: =previsi!N13 -> 13.821479 | AA11: =SUMIFS(tonnageFC,nomsFC,$A11,moisFC,Z$4) -> 0 | AB11: =AA11-Z11 -> -13.821479 | AC11: =$E11 -> 0.0033877258 | AD11: =previsi!P13 -> 13.821479 | AE11: =SUMIFS(tonnageFC,nomsFC,$A11,moisFC,AD$4) -> 0 | AF11: =AE11-AD11 -> -13.821479 | AG11: =$E11 -> 0.0033877258 | AH11: =previsi!R13 -> 12.564981 | AI11: =SUMIFS(tonnageFC,nomsFC,$A11,moisFC,AH$4) -> 0 | AJ11: =AI11-AH11 -> -12.564981 | AK11: =$E11 -> 0.0033877258 | AL11: =previsi!T13 -> 14.449728 | AM11: =SUMIFS(tonnageFC,nomsFC,$A11,moisFC,AL$4) -> 0 | AN11: =AM11-AL11 -> -14.449728 | AO11: =$E11 -> 0.0033877258 | AP11: =previsi!V13 -> 13.821479 | AQ11: =SUMIFS(tonnageFC,nomsFC,$A11,moisFC,AP$4) -> 0 | AR11: =AQ11-AP11 -> -13.821479 | AS11: =$E11 -> 0.0033877258 | AT11: =previsi!X13 -> 12.564981 | AU11: =SUMIFS(tonnageFC,nomsFC,$A11,moisFC,AT$4) -> 0 | AV11: =AU11-AT11 -> -12.564981 | AW11: =$E11 -> 0.0033877258 | AX11: =B11+F11+J11+N11+R11+V11+Z11+AD11+AH11+AL11+AP11+AT11 -> 161.46 | AY11: =C11+G11+K11+O11+S11+W11+AA11+AE11+AI11+AM11+AQ11+AU11 -> 25 | AZ11: =D11+H11+L11+P11+T11+X11+AB11+AF11+AJ11+AN11+AR11+AV11 -> -136.46 | BA11: =$E11 -> 0.0033877258
A12: =previsi!A14 -> ALADJI NGODI | B12: =previsi!B14 -> 25.61323 | C12: =SUMIFS(tonnageFC,nomsFC,$A12,moisFC,B$4) -> 18 | D12: =C12-B12 -> -7.6132296 | E12: =previsi!C14 -> 0.0060049989 | F12: =previsi!D14 -> 22.272374 | G12: =SUMIFS(tonnageFC,nomsFC,$A12,moisFC,F$4) -> 5 | H12: =G12-F12 -> -17.272374 | I12: =$E12 -> 0.0060049989 | J12: =previsi!F14 -> 24.499611 | K12: =SUMIFS(tonnageFC,nomsFC,$A12,moisFC,J$4) -> 19.5 | L12: =K12-J12 -> -4.9996109 | M12: =$E12 -> 0.0060049989 | N12: =previsi!H14 -> 23.385992 | O12: =SUMIFS(tonnageFC,nomsFC,$A12,moisFC,N$4) -> 0 | P12: =O12-N12 -> -23.385992 | Q12: =$E12 -> 0.0060049989 | R12: =previsi!J14 -> 23.385992 | S12: =SUMIFS(tonnageFC,nomsFC,$A12,moisFC,R$4) -> 0 | T12: =S12-R12 -> -23.385992 | U12: =$E12 -> 0.0060049989 | V12: =previsi!L14 -> 23.385992 | W12: =SUMIFS(tonnageFC,nomsFC,$A12,moisFC,V$4) -> 0 | X12: =W12-V12 -> -23.385992 | Y12: =$E12 -> 0.0060049989 | Z12: =previsi!N14 -> 24.499611 | AA12: =SUMIFS(tonnageFC,nomsFC,$A12,moisFC,Z$4) -> 0 | AB12: =AA12-Z12 -> -24.499611 | AC12: =$E12 -> 0.0060049989 | AD12: =previsi!P14 -> 24.499611 | AE12: =SUMIFS(tonnageFC,nomsFC,$A12,moisFC,AD$4) -> 0 | AF12: =AE12-AD12 -> -24.499611 | AG12: =$E12 -> 0.0060049989 | AH12: =previsi!R14 -> 22.272374 | AI12: =SUMIFS(tonnageFC,nomsFC,$A12,moisFC,AH$4) -> 0 | AJ12: =AI12-AH12 -> -22.272374 | AK12: =$E12 -> 0.0060049989 | AL12: =previsi!T14 -> 25.61323 | AM12: =SUMIFS(tonnageFC,nomsFC,$A12,moisFC,AL$4) -> 0 | AN12: =AM12-AL12 -> -25.61323 | AO12: =$E12 -> 0.0060049989 | AP12: =previsi!V14 -> 24.499611 | AQ12: =SUMIFS(tonnageFC,nomsFC,$A12,moisFC,AP$4) -> 0 | AR12: =AQ12-AP12 -> -24.499611 | AS12: =$E12 -> 0.0060049989 | AT12: =previsi!X14 -> 22.272374 | AU12: =SUMIFS(tonnageFC,nomsFC,$A12,moisFC,AT$4) -> 0 | AV12: =AU12-AT12 -> -22.272374 | AW12: =$E12 -> 0.0060049989 | AX12: =B12+F12+J12+N12+R12+V12+Z12+AD12+AH12+AL12+AP12+AT12 -> 286.2 | AY12: =C12+G12+K12+O12+S12+W12+AA12+AE12+AI12+AM12+AQ12+AU12 -> 42.5 | AZ12: =D12+H12+L12+P12+T12+X12+AB12+AF12+AJ12+AN12+AR12+AV12 -> -243.7 | BA12: =$E12 -> 0.0060049989
A13: =previsi!A15 -> ALAIN COGEFAR | B13: =previsi!B15 -> 0 | C13: =SUMIFS(tonnageFC,nomsFC,$A13,moisFC,B$4) -> 0 | D13: =C13-B13 -> 0 | E13: =previsi!C15 -> 0 | F13: =previsi!D15 -> 0 | G13: =SUMIFS(tonnageFC,nomsFC,$A13,moisFC,F$4) -> 0 | H13: =G13-F13 -> 0 | I13: =$E13 -> 0 | J13: =previsi!F15 -> 0 | K13: =SUMIFS(tonnageFC,nomsFC,$A13,moisFC,J$4) -> 0 | L13: =K13-J13 -> 0 | M13: =$E13 -> 0 | N13: =previsi!H15 -> 0 | O13: =SUMIFS(tonnageFC,nomsFC,$A13,moisFC,N$4) -> 0 | P13: =O13-N13 -> 0 | Q13: =$E13 -> 0 | R13: =previsi!J15 -> 0 | S13: =SUMIFS(tonnageFC,nomsFC,$A13,moisFC,R$4) -> 0 | T13: =S13-R13 -> 0 | U13: =$E13 -> 0 | V13: =previsi!L15 -> 0 | W13: =SUMIFS(tonnageFC,nomsFC,$A13,moisFC,V$4) -> 0 | X13: =W13-V13 -> 0 | Y13: =$E13 -> 0 | Z13: =previsi!N15 -> 0 | AA13: =SUMIFS(tonnageFC,nomsFC,$A13,moisFC,Z$4) -> 0 | AB13: =AA13-Z13 -> 0 | AC13: =$E13 -> 0 | AD13: =previsi!P15 -> 0 | AE13: =SUMIFS(tonnageFC,nomsFC,$A13,moisFC,AD$4) -> 0 | AF13: =AE13-AD13 -> 0 | AG13: =$E13 -> 0 | AH13: =previsi!R15 -> 0 | AI13: =SUMIFS(tonnageFC,nomsFC,$A13,moisFC,AH$4) -> 0 | AJ13: =AI13-AH13 -> 0 | AK13: =$E13 -> 0 | AL13: =previsi!T15 -> 0 | AM13: =SUMIFS(tonnageFC,nomsFC,$A13,moisFC,AL$4) -> 0 | AN13: =AM13-AL13 -> 0 | AO13: =$E13 -> 0 | AP13: =previsi!V15 -> 0 | AQ13: =SUMIFS(tonnageFC,nomsFC,$A13,moisFC,AP$4) -> 0 | AR13: =AQ13-AP13 -> 0 | AS13: =$E13 -> 0 | AT13: =previsi!X15 -> 0 | AU13: =SUMIFS(tonnageFC,nomsFC,$A13,moisFC,AT$4) -> 0 | AV13: =AU13-AT13 -> 0 | AW13: =$E13 -> 0 | AX13: =B13+F13+J13+N13+R13+V13+Z13+AD13+AH13+AL13+AP13+AT13 -> 0 | AY13: =C13+G13+K13+O13+S13+W13+AA13+AE13+AI13+AM13+AQ13+AU13 -> 0 | AZ13: =D13+H13+L13+P13+T13+X13+AB13+AF13+AJ13+AN13+AR13+AV13 -> 0 | BA13: =$E13 -> 0
A14: =previsi!A16 -> ALPHONSE YATICA | B14: =previsi!B16 -> 36.051829 | C14: =SUMIFS(tonnageFC,nomsFC,$A14,moisFC,B$4) -> 20 | D14: =C14-B14 -> -16.051829 | E14: =previsi!C16 -> 0.0084523192 | F14: =previsi!D16 -> 31.349416 | G14: =SUMIFS(tonnageFC,nomsFC,$A14,moisFC,F$4) -> 25 | H14: =G14-F14 -> -6.3494163 | I14: =$E14 -> 0.0084523192 | J14: =previsi!F16 -> 34.484358 | K14: =SUMIFS(tonnageFC,nomsFC,$A14,moisFC,J$4) -> 27.15 | L14: =K14-J14 -> -7.334358 | M14: =$E14 -> 0.0084523192 | N14: =previsi!H16 -> 32.916887 | O14: =SUMIFS(tonnageFC,nomsFC,$A14,moisFC,N$4) -> 0 | P14: =O14-N14 -> -32.916887 | Q14: =$E14 -> 0.0084523192 | R14: =previsi!J16 -> 32.916887 | S14: =SUMIFS(tonnageFC,nomsFC,$A14,moisFC,R$4) -> 0 | T14: =S14-R14 -> -32.916887 | U14: =$E14 -> 0.0084523192 | V14: =previsi!L16 -> 32.916887 | W14: =SUMIFS(tonnageFC,nomsFC,$A14,moisFC,V$4) -> 0 | X14: =W14-V14 -> -32.916887 | Y14: =$E14 -> 0.0084523192 | Z14: =previsi!N16 -> 34.484358 | AA14: =SUMIFS(tonnageFC,nomsFC,$A14,moisFC,Z$4) -> 0 | AB14: =AA14-Z14 -> -34.484358 | AC14: =$E14 -> 0.0084523192 | AD14: =previsi!P16 -> 34.484358 | AE14: =SUMIFS(tonnageFC,nomsFC,$A14,moisFC,AD$4) -> 0 | AF14: =AE14-AD14 -> -34.484358 | AG14: =$E14 -> 0.0084523192 | AH14: =previsi!R16 -> 31.349416 | AI14: =SUMIFS(tonnageFC,nomsFC,$A14,moisFC,AH$4) -> 0 | AJ14: =AI14-AH14 -> -31.349416 | AK14: =$E14 -> 0.0084523192 | AL14: =previsi!T16 -> 36.051829 | AM14: =SUMIFS(tonnageFC,nomsFC,$A14,moisFC,AL$4) -> 0 | AN14: =AM14-AL14 -> -36.051829 | AO14: =$E14 -> 0.0084523192 | AP14: =previsi!V16 -> 34.484358 | AQ14: =SUMIFS(tonnageFC,nomsFC,$A14,moisFC,AP$4) -> 0 | AR14: =AQ14-AP14 -> -34.484358 | AS14: =$E14 -> 0.0084523192 | AT14: =previsi!X16 -> 31.349416 | AU14: =SUMIFS(tonnageFC,nomsFC,$A14,moisFC,AT$4) -> 0 | AV14: =AU14-AT14 -> -31.349416 | AW14: =$E14 -> 0.0084523192 | AX14: =B14+F14+J14+N14+R14+V14+Z14+AD14+AH14+AL14+AP14+AT14 -> 402.84 | AY14: =C14+G14+K14+O14+S14+W14+AA14+AE14+AI14+AM14+AQ14+AU14 -> 72.15 | AZ14: =D14+H14+L14+P14+T14+X14+AB14+AF14+AJ14+AN14+AR14+AV14 -> -330.69 | BA14: =$E14 -> 0.0084523192
A15: =previsi!A17 -> AMEDE YASSA | B15: =previsi!B17 -> 1.0631907 | C15: =SUMIFS(tonnageFC,nomsFC,$A15,moisFC,B$4) -> 0 | D15: =C15-B15 -> -1.0631907 | E15: =previsi!C17 -> 0.0002492641 | F15: =previsi!D17 -> 0.92451362 | G15: =SUMIFS(tonnageFC,nomsFC,$A15,moisFC,F$4) -> 0 | H15: =G15-F15 -> -0.92451362 | I15: =$E15 -> 0.0002492641 | J15: =previsi!F17 -> 1.016965 | K15: =SUMIFS(tonnageFC,nomsFC,$A15,moisFC,J$4) -> 0 | L15: =K15-J15 -> -1.016965 | M15: =$E15 -> 0.0002492641 | N15: =previsi!H17 -> 0.9707393 | O15: =SUMIFS(tonnageFC,nomsFC,$A15,moisFC,N$4) -> 0 | P15: =O15-N15 -> -0.9707393 | Q15: =$E15 -> 0.0002492641 | R15: =previsi!J17 -> 0.9707393 | S15: =SUMIFS(tonnageFC,nomsFC,$A15,moisFC,R$4) -> 0 | T15: =S15-R15 -> -0.9707393 | U15: =$E15 -> 0.0002492641 | V15: =previsi!L17 -> 0.9707393 | W15: =SUMIFS(tonnageFC,nomsFC,$A15,moisFC,V$4) -> 0 | X15: =W15-V15 -> -0.9707393 | Y15: =$E15 -> 0.0002492641 | Z15: =previsi!N17 -> 1.016965 | AA15: =SUMIFS(tonnageFC,nomsFC,$A15,moisFC,Z$4) -> 0 | AB15: =AA15-Z15 -> -1.016965 | AC15: =$E15 -> 0.0002492641 | AD15: =previsi!P17 -> 1.016965 | AE15: =SUMIFS(tonnageFC,nomsFC,$A15,moisFC,AD$4) -> 0 | AF15: =AE15-AD15 -> -1.016965 | AG15: =$E15 -> 0.0002492641 | AH15: =previsi!R17 -> 0.92451362 | AI15: =SUMIFS(tonnageFC,nomsFC,$A15,moisFC,AH$4) -> 0 | AJ15: =AI15-AH15 -> -0.92451362 | AK15: =$E15 -> 0.0002492641 | AL15: =previsi!T17 -> 1.0631907 | AM15: =SUMIFS(tonnageFC,nomsFC,$A15,moisFC,AL$4) -> 0 | AN15: =AM15-AL15 -> -1.0631907 | AO15: =$E15 -> 0.0002492641 | AP15: =previsi!V17 -> 1.016965 | AQ15: =SUMIFS(tonnageFC,nomsFC,$A15,moisFC,AP$4) -> 0 | AR15: =AQ15-AP15 -> -1.016965 | AS15: =$E15 -> 0.0002492641 | AT15: =previsi!X17 -> 0.92451362 | AU15: =SUMIFS(tonnageFC,nomsFC,$A15,moisFC,AT$4) -> 0 | AV15: =AU15-AT15 -> -0.92451362 | AW15: =$E15 -> 0.0002492641 | AX15: =B15+F15+J15+N15+R15+V15+Z15+AD15+AH15+AL15+AP15+AT15 -> 11.88 | AY15: =C15+G15+K15+O15+S15+W15+AA15+AE15+AI15+AM15+AQ15+AU15 -> 0 | AZ15: =D15+H15+L15+P15+T15+X15+AB15+AF15+AJ15+AN15+AR15+AV15 -> -11.88 | BA15: =$E15 -> 0.0002492641
A16: =previsi!A18 -> AMIGO BOKO STADE | B16: =previsi!B18 -> 8.7471595 | C16: =SUMIFS(tonnageFC,nomsFC,$A16,moisFC,B$4) -> 6.5 | D16: =C16-B16 -> -2.2471595 | E16: =previsi!C18 -> 0.0020507638 | F16: =previsi!D18 -> 7.6062257 | G16: =SUMIFS(tonnageFC,nomsFC,$A16,moisFC,F$4) -> 14 | H16: =G16-F16 -> 6.3937743 | I16: =$E16 -> 0.0020507638 | J16: =previsi!F18 -> 8.3668482 | K16: =SUMIFS(tonnageFC,nomsFC,$A16,moisFC,J$4) -> 4 | L16: =K16-J16 -> -4.3668482 | M16: =$E16 -> 0.0020507638 | N16: =previsi!H18 -> 7.986537 | O16: =SUMIFS(tonnageFC,nomsFC,$A16,moisFC,N$4) -> 0 | P16: =O16-N16 -> -7.986537 | Q16: =$E16 -> 0.0020507638 | R16: =previsi!J18 -> 7.986537 | S16: =SUMIFS(tonnageFC,nomsFC,$A16,moisFC,R$4) -> 0 | T16: =S16-R16 -> -7.986537 | U16: =$E16 -> 0.0020507638 | V16: =previsi!L18 -> 7.986537 | W16: =SUMIFS(tonnageFC,nomsFC,$A16,moisFC,V$4) -> 0 | X16: =W16-V16 -> -7.986537 | Y16: =$E16 -> 0.0020507638 | Z16: =previsi!N18 -> 8.3668482 | AA16: =SUMIFS(tonnageFC,nomsFC,$A16,moisFC,Z$4) -> 0 | AB16: =AA16-Z16 -> -8.3668482 | AC16: =$E16 -> 0.0020507638 | AD16: =previsi!P18 -> 8.3668482 | AE16: =SUMIFS(tonnageFC,nomsFC,$A16,moisFC,AD$4) -> 0 | AF16: =AE16-AD16 -> -8.3668482 | AG16: =$E16 -> 0.0020507638 | AH16: =previsi!R18 -> 7.6062257 | AI16: =SUMIFS(tonnageFC,nomsFC,$A16,moisFC,AH$4) -> 0 | AJ16: =AI16-AH16 -> -7.6062257 | AK16: =$E16 -> 0.0020507638 | AL16: =previsi!T18 -> 8.7471595 | AM16: =SUMIFS(tonnageFC,nomsFC,$A16,moisFC,AL$4) -> 0 | AN16: =AM16-AL16 -> -8.7471595 | AO16: =$E16 -> 0.0020507638 | AP16: =previsi!V18 -> 8.3668482 | AQ16: =SUMIFS(tonnageFC,nomsFC,$A16,moisFC,AP$4) -> 0 | AR16: =AQ16-AP16 -> -8.3668482 | AS16: =$E16 -> 0.0020507638 | AT16: =previsi!X18 -> 7.6062257 | AU16: =SUMIFS(tonnageFC,nomsFC,$A16,moisFC,AT$4) -> 0 | AV16: =AU16-AT16 -> -7.6062257 | AW16: =$E16 -> 0.0020507638 | AX16: =B16+F16+J16+N16+R16+V16+Z16+AD16+AH16+AL16+AP16+AT16 -> 97.74 | AY16: =C16+G16+K16+O16+S16+W16+AA16+AE16+AI16+AM16+AQ16+AU16 -> 24.5 | AZ16: =D16+H16+L16+P16+T16+X16+AB16+AF16+AJ16+AN16+AR16+AV16 -> -73.24 | BA16: =$E16 -> 0.0020507638
A17: =previsi!A19 -> ARMEL | B17: =previsi!B19 -> 4.1077821 | C17: =SUMIFS(tonnageFC,nomsFC,$A17,moisFC,B$4) -> 10 | D17: =C17-B17 -> 5.8922179 | E17: =previsi!C19 -> 0.00096306586 | F17: =previsi!D19 -> 3.5719844 | G17: =SUMIFS(tonnageFC,nomsFC,$A17,moisFC,F$4) -> 10 | H17: =G17-F17 -> 6.4280156 | I17: =$E17 -> 0.00096306586 | J17: =previsi!F19 -> 3.9291829 | K17: =SUMIFS(tonnageFC,nomsFC,$A17,moisFC,J$4) -> 7.5 | L17: =K17-J17 -> 3.5708171 | M17: =$E17 -> 0.00096306586 | N17: =previsi!H19 -> 3.7505837 | O17: =SUMIFS(tonnageFC,nomsFC,$A17,moisFC,N$4) -> 0 | P17: =O17-N17 -> -3.7505837 | Q17: =$E17 -> 0.00096306586 | R17: =previsi!J19 -> 3.7505837 | S17: =SUMIFS(tonnageFC,nomsFC,$A17,moisFC,R$4) -> 0 | T17: =S17-R17 -> -3.7505837 | U17: =$E17 -> 0.00096306586 | V17: =previsi!L19 -> 3.7505837 | W17: =SUMIFS(tonnageFC,nomsFC,$A17,moisFC,V$4) -> 0 | X17: =W17-V17 -> -3.7505837 | Y17: =$E17 -> 0.00096306586 | Z17: =previsi!N19 -> 3.9291829 | AA17: =SUMIFS(tonnageFC,nomsFC,$A17,moisFC,Z$4) -> 0 | AB17: =AA17-Z17 -> -3.9291829 | AC17: =$E17 -> 0.00096306586 | AD17: =previsi!P19 -> 3.9291829 | AE17: =SUMIFS(tonnageFC,nomsFC,$A17,moisFC,AD$4) -> 0 | AF17: =AE17-AD17 -> -3.9291829 | AG17: =$E17 -> 0.00096306586 | AH17: =previsi!R19 -> 3.5719844 | AI17: =SUMIFS(tonnageFC,nomsFC,$A17,moisFC,AH$4) -> 0 | AJ17: =AI17-AH17 -> -3.5719844 | AK17: =$E17 -> 0.00096306586 | AL17: =previsi!T19 -> 4.1077821 | AM17: =SUMIFS(tonnageFC,nomsFC,$A17,moisFC,AL$4) -> 0 | AN17: =AM17-AL17 -> -4.1077821 | AO17: =$E17 -> 0.00096306586 | AP17: =previsi!V19 -> 3.9291829 | AQ17: =SUMIFS(tonnageFC,nomsFC,$A17,moisFC,AP$4) -> 0 | AR17: =AQ17-AP17 -> -3.9291829 | AS17: =$E17 -> 0.00096306586 | AT17: =previsi!X19 -> 3.5719844 | AU17: =SUMIFS(tonnageFC,nomsFC,$A17,moisFC,AT$4) -> 0 | AV17: =AU17-AT17 -> -3.5719844 | AW17: =$E17 -> 0.00096306586 | AX17: =B17+F17+J17+N17+R17+V17+Z17+AD17+AH17+AL17+AP17+AT17 -> 45.9 | AY17: =C17+G17+K17+O17+S17+W17+AA17+AE17+AI17+AM17+AQ17+AU17 -> 27.5 | AZ17: =D17+H17+L17+P17+T17+X17+AB17+AF17+AJ17+AN17+AR17+AV17 -> -18.4 | BA17: =$E17 -> 0.00096306586
A18: =previsi!A20 -> AUGUSTIN | B18: =previsi!B20 -> 7.5873152 | C18: =SUMIFS(tonnageFC,nomsFC,$A18,moisFC,B$4) -> 5 | D18: =C18-B18 -> -2.5873152 | E18: =previsi!C20 -> 0.0017788393 | F18: =previsi!D20 -> 6.5976654 | G18: =SUMIFS(tonnageFC,nomsFC,$A18,moisFC,F$4) -> 22.5 | H18: =G18-F18 -> 15.902335 | I18: =$E18 -> 0.0017788393 | J18: =previsi!F20 -> 7.2574319 | K18: =SUMIFS(tonnageFC,nomsFC,$A18,moisFC,J$4) -> 7.5 | L18: =K18-J18 -> 0.24256809 | M18: =$E18 -> 0.0017788393 | N18: =previsi!H20 -> 6.9275486 | O18: =SUMIFS(tonnageFC,nomsFC,$A18,moisFC,N$4) -> 0 | P18: =O18-N18 -> -6.9275486 | Q18: =$E18 -> 0.0017788393 | R18: =previsi!J20 -> 6.9275486 | S18: =SUMIFS(tonnageFC,nomsFC,$A18,moisFC,R$4) -> 0 | T18: =S18-R18 -> -6.9275486 | U18: =$E18 -> 0.0017788393 | V18: =previsi!L20 -> 6.9275486 | W18: =SUMIFS(tonnageFC,nomsFC,$A18,moisFC,V$4) -> 0 | X18: =W18-V18 -> -6.9275486 | Y18: =$E18 -> 0.0017788393 | Z18: =previsi!N20 -> 7.2574319 | AA18: =SUMIFS(tonnageFC,nomsFC,$A18,moisFC,Z$4) -> 0 | AB18: =AA18-Z18 -> -7.2574319 | AC18: =$E18 -> 0.0017788393 | AD18: =previsi!P20 -> 7.2574319 | AE18: =SUMIFS(tonnageFC,nomsFC,$A18,moisFC,AD$4) -> 0 | AF18: =AE18-AD18 -> -7.2574319 | AG18: =$E18 -> 0.0017788393 | AH18: =previsi!R20 -> 6.5976654 | AI18: =SUMIFS(tonnageFC,nomsFC,$A18,moisFC,AH$4) -> 0 | AJ18: =AI18-AH18 -> -6.5976654 | AK18: =$E18 -> 0.0017788393 | AL18: =previsi!T20 -> 7.5873152 | AM18: =SUMIFS(tonnageFC,nomsFC,$A18,moisFC,AL$4) -> 0 | AN18: =AM18-AL18 -> -7.5873152 | AO18: =$E18 -> 0.0017788393 | AP18: =previsi!V20 -> 7.2574319 | AQ18: =SUMIFS(tonnageFC,nomsFC,$A18,moisFC,AP$4) -> 0 | AR18: =AQ18-AP18 -> -7.2574319 | AS18: =$E18 -> 0.0017788393 | AT18: =previsi!X20 -> 6.5976654 | AU18: =SUMIFS(tonnageFC,nomsFC,$A18,moisFC,AT$4) -> 0 | AV18: =AU18-AT18 -> -6.5976654 | AW18: =$E18 -> 0.0017788393 | AX18: =B18+F18+J18+N18+R18+V18+Z18+AD18+AH18+AL18+AP18+AT18 -> 84.78 | AY18: =C18+G18+K18+O18+S18+W18+AA18+AE18+AI18+AM18+AQ18+AU18 -> 35 | AZ18: =D18+H18+L18+P18+T18+X18+AB18+AF18+AJ18+AN18+AR18+AV18 -> -49.78 | BA18: =$E18 -> 0.0017788393
A19: =previsi!A21 -> AUGUSTIN EP | B19: =previsi!B21 -> 9.6653696 | C19: =SUMIFS(tonnageFC,nomsFC,$A19,moisFC,B$4) -> 0 | D19: =C19-B19 -> -9.6653696 | E19: =previsi!C21 -> 0.0022660373 | F19: =previsi!D21 -> 8.4046693 | G19: =SUMIFS(tonnageFC,nomsFC,$A19,moisFC,F$4) -> 0 | H19: =G19-F19 -> -8.4046693 | I19: =$E19 -> 0.0022660373 | J19: =previsi!F21 -> 9.2451362 | K19: =SUMIFS(tonnageFC,nomsFC,$A19,moisFC,J$4) -> 0 | L19: =K19-J19 -> -9.2451362 | M19: =$E19 -> 0.0022660373 | N19: =previsi!H21 -> 8.8249027 | O19: =SUMIFS(tonnageFC,nomsFC,$A19,moisFC,N$4) -> 0 | P19: =O19-N19 -> -8.8249027 | Q19: =$E19 -> 0.0022660373 | R19: =previsi!J21 -> 8.8249027 | S19: =SUMIFS(tonnageFC,nomsFC,$A19,moisFC,R$4) -> 0 | T19: =S19-R19 -> -8.8249027 | U19: =$E19 -> 0.0022660373 | V19: =previsi!L21 -> 8.8249027 | W19: =SUMIFS(tonnageFC,nomsFC,$A19,moisFC,V$4) -> 0 | X19: =W19-V19 -> -8.8249027 | Y19: =$E19 -> 0.0022660373 | Z19: =previsi!N21 -> 9.2451362 | AA19: =SUMIFS(tonnageFC,nomsFC,$A19,moisFC,Z$4) -> 0 | AB19: =AA19-Z19 -> -9.2451362 | AC19: =$E19 -> 0.0022660373 | AD19: =previsi!P21 -> 9.2451362 | AE19: =SUMIFS(tonnageFC,nomsFC,$A19,moisFC,AD$4) -> 0 | AF19: =AE19-AD19 -> -9.2451362 | AG19: =$E19 -> 0.0022660373 | AH19: =previsi!R21 -> 8.4046693 | AI19: =SUMIFS(tonnageFC,nomsFC,$A19,moisFC,AH$4) -> 0 | AJ19: =AI19-AH19 -> -8.4046693 | AK19: =$E19 -> 0.0022660373 | AL19: =previsi!T21 -> 9.6653696 | AM19: =SUMIFS(tonnageFC,nomsFC,$A19,moisFC,AL$4) -> 0 | AN19: =AM19-AL19 -> -9.6653696 | AO19: =$E19 -> 0.0022660373 | AP19: =previsi!V21 -> 9.2451362 | AQ19: =SUMIFS(tonnageFC,nomsFC,$A19,moisFC,AP$4) -> 0 | AR19: =AQ19-AP19 -> -9.2451362 | AS19: =$E19 -> 0.0022660373 | AT19: =previsi!X21 -> 8.4046693 | AU19: =SUMIFS(tonnageFC,nomsFC,$A19,moisFC,AT$4) -> 0 | AV19: =AU19-AT19 -> -8.4046693 | AW19: =$E19 -> 0.0022660373 | AX19: =B19+F19+J19+N19+R19+V19+Z19+AD19+AH19+AL19+AP19+AT19 -> 108 | AY19: =C19+G19+K19+O19+S19+W19+AA19+AE19+AI19+AM19+AQ19+AU19 -> 0 | AZ19: =D19+H19+L19+P19+T19+X19+AB19+AF19+AJ19+AN19+AR19+AV19 -> -108 | BA19: =$E19 -> 0.0022660373
A20: =previsi!A22 -> AUGUSTIN NKONGMONDO | B20: =previsi!B22 -> 5.9925292 | C20: =SUMIFS(tonnageFC,nomsFC,$A20,moisFC,B$4) -> 17.5 | D20: =C20-B20 -> 11.507471 | E20: =previsi!C22 -> 0.0014049431 | F20: =previsi!D22 -> 5.2108949 | G20: =SUMIFS(tonnageFC,nomsFC,$A20,moisFC,F$4) -> 0 | H20: =G20-F20 -> -5.2108949 | I20: =$E20 -> 0.0014049431 | J20: =previsi!F22 -> 5.7319844 | K20: =SUMIFS(tonnageFC,nomsFC,$A20,moisFC,J$4) -> 9 | L20: =K20-J20 -> 3.2680156 | M20: =$E20 -> 0.0014049431 | N20: =previsi!H22 -> 5.4714397 | O20: =SUMIFS(tonnageFC,nomsFC,$A20,moisFC,N$4) -> 0 | P20: =O20-N20 -> -5.4714397 | Q20: =$E20 -> 0.0014049431 | R20: =previsi!J22 -> 5.4714397 | S20: =SUMIFS(tonnageFC,nomsFC,$A20,moisFC,R$4) -> 0 | T20: =S20-R20 -> -5.4714397 | U20: =$E20 -> 0.0014049431 | V20: =previsi!L22 -> 5.4714397 | W20: =SUMIFS(tonnageFC,nomsFC,$A20,moisFC,V$4) -> 0 | X20: =W20-V20 -> -5.4714397 | Y20: =$E20 -> 0.0014049431 | Z20: =previsi!N22 -> 5.7319844 | AA20: =SUMIFS(tonnageFC,nomsFC,$A20,moisFC,Z$4) -> 0 | AB20: =AA20-Z20 -> -5.7319844 | AC20: =$E20 -> 0.0014049431 | AD20: =previsi!P22 -> 5.7319844 | AE20: =SUMIFS(tonnageFC,nomsFC,$A20,moisFC,AD$4) -> 0 | AF20: =AE20-AD20 -> -5.7319844 | AG20: =$E20 -> 0.0014049431 | AH20: =previsi!R22 -> 5.2108949 | AI20: =SUMIFS(tonnageFC,nomsFC,$A20,moisFC,AH$4) -> 0 | AJ20: =AI20-AH20 -> -5.2108949 | AK20: =$E20 -> 0.0014049431 | AL20: =previsi!T22 -> 5.9925292 | AM20: =SUMIFS(tonnageFC,nomsFC,$A20,moisFC,AL$4) -> 0 | AN20: =AM20-AL20 -> -5.9925292 | AO20: =$E20 -> 0.0014049431 | AP20: =previsi!V22 -> 5.7319844 | AQ20: =SUMIFS(tonnageFC,nomsFC,$A20,moisFC,AP$4) -> 0 | AR20: =AQ20-AP20 -> -5.7319844 | AS20: =$E20 -> 0.0014049431 | AT20: =previsi!X22 -> 5.2108949 | AU20: =SUMIFS(tonnageFC,nomsFC,$A20,moisFC,AT$4) -> 0 | AV20: =AU20-AT20 -> -5.2108949 | AW20: =$E20 -> 0.0014049431 | AX20: =B20+F20+J20+N20+R20+V20+Z20+AD20+AH20+AL20+AP20+AT20 -> 66.96 | AY20: =C20+G20+K20+O20+S20+W20+AA20+AE20+AI20+AM20+AQ20+AU20 -> 26.5 | AZ20: =D20+H20+L20+P20+T20+X20+AB20+AF20+AJ20+AN20+AR20+AV20 -> -40.46 | BA20: =$E20 -> 0.0014049431
A21: =previsi!A23 -> BATCHAM DAKAR | B21: =previsi!B23 -> 9.4237354 | C21: =SUMIFS(tonnageFC,nomsFC,$A21,moisFC,B$4) -> 12.5 | D21: =C21-B21 -> 3.0762646 | E21: =previsi!C23 -> 0.0022093864 | F21: =previsi!D23 -> 8.1945525 | G21: =SUMIFS(tonnageFC,nomsFC,$A21,moisFC,F$4) -> 12 | H21: =G21-F21 -> 3.8054475 | I21: =$E21 -> 0.0022093864 | J21: =previsi!F23 -> 9.0140078 | K21: =SUMIFS(tonnageFC,nomsFC,$A21,moisFC,J$4) -> 0 | L21: =K21-J21 -> -9.0140078 | M21: =$E21 -> 0.0022093864 | N21: =previsi!H23 -> 8.6042802 | O21: =SUMIFS(tonnageFC,nomsFC,$A21,moisFC,N$4) -> 0 | P21: =O21-N21 -> -8.6042802 | Q21: =$E21 -> 0.0022093864 | R21: =previsi!J23 -> 8.6042802 | S21: =SUMIFS(tonnageFC,nomsFC,$A21,moisFC,R$4) -> 0 | T21: =S21-R21 -> -8.6042802 | U21: =$E21 -> 0.0022093864 | V21: =previsi!L23 -> 8.6042802 | W21: =SUMIFS(tonnageFC,nomsFC,$A21,moisFC,V$4) -> 0 | X21: =W21-V21 -> -8.6042802 | Y21: =$E21 -> 0.0022093864 | Z21: =previsi!N23 -> 9.0140078 | AA21: =SUMIFS(tonnageFC,nomsFC,$A21,moisFC,Z$4) -> 0 | AB21: =AA21-Z21 -> -9.0140078 | AC21: =$E21 -> 0.0022093864 | AD21: =previsi!P23 -> 9.0140078 | AE21: =SUMIFS(tonnageFC,nomsFC,$A21,moisFC,AD$4) -> 0 | AF21: =AE21-AD21 -> -9.0140078 | AG21: =$E21 -> 0.0022093864 | AH21: =previsi!R23 -> 8.1945525 | AI21: =SUMIFS(tonnageFC,nomsFC,$A21,moisFC,AH$4) -> 0 | AJ21: =AI21-AH21 -> -8.1945525 | AK21: =$E21 -> 0.0022093864 | AL21: =previsi!T23 -> 9.4237354 | AM21: =SUMIFS(tonnageFC,nomsFC,$A21,moisFC,AL$4) -> 0 | AN21: =AM21-AL21 -> -9.4237354 | AO21: =$E21 -> 0.0022093864 | AP21: =previsi!V23 -> 9.0140078 | AQ21: =SUMIFS(tonnageFC,nomsFC,$A21,moisFC,AP$4) -> 0 | AR21: =AQ21-AP21 -> -9.0140078 | AS21: =$E21 -> 0.0022093864 | AT21: =previsi!X23 -> 8.1945525 | AU21: =SUMIFS(tonnageFC,nomsFC,$A21,moisFC,AT$4) -> 0 | AV21: =AU21-AT21 -> -8.1945525 | AW21: =$E21 -> 0.0022093864 | AX21: =B21+F21+J21+N21+R21+V21+Z21+AD21+AH21+AL21+AP21+AT21 -> 105.3 | AY21: =C21+G21+K21+O21+S21+W21+AA21+AE21+AI21+AM21+AQ21+AU21 -> 24.5 | AZ21: =D21+H21+L21+P21+T21+X21+AB21+AF21+AJ21+AN21+AR21+AV21 -> -80.8 | BA21: =$E21 -> 0.0022093864
... A198: =previsi!A200 -> CLIENT DIVERS | B198: =previsi!B200 -> 120.81712 | C198: =SUMIFS(tonnageFC,nomsFC,$A198,moisFC,B$4) -> 398.55 | D198: =C198-B198 -> 277.73288 | E198: =previsi!C200 -> 0.028325466 | F198: =previsi!D200 -> 105.05837 | G198: =SUMIFS(tonnageFC,nomsFC,$A198,moisFC,F$4) -> 0 | H198: =G198-F198 -> -105.05837 | I198: =$E198 -> 0.028325466 | J198: =previsi!F200 -> 115.5642 | K198: =SUMIFS(tonnageFC,nomsFC,$A198,moisFC,J$4) -> 0 | L198: =K198-J198 -> -115.5642 | M198: =$E198 -> 0.028325466 | N198: =previsi!H200 -> 110.31128 | O198: =SUMIFS(tonnageFC,nomsFC,$A198,moisFC,N$4) -> 0 | P198: =O198-N198 -> -110.31128 | Q198: =$E198 -> 0.028325466 | R198: =previsi!J200 -> 110.31128 | S198: =SUMIFS(tonnageFC,nomsFC,$A198,moisFC,R$4) -> 0 | T198: =S198-R198 -> -110.31128 | U198: =$E198 -> 0.028325466 | V198: =previsi!L200 -> 110.31128 | W198: =SUMIFS(tonnageFC,nomsFC,$A198,moisFC,V$4) -> 0 | X198: =W198-V198 -> -110.31128 | Y198: =$E198 -> 0.028325466 | Z198: =previsi!N200 -> 115.5642 | AA198: =SUMIFS(tonnageFC,nomsFC,$A198,moisFC,Z$4) -> 0 | AB198: =AA198-Z198 -> -115.5642 | AC198: =$E198 -> 0.028325466 | AD198: =previsi!P200 -> 115.5642 | AE198: =SUMIFS(tonnageFC,nomsFC,$A198,moisFC,AD$4) -> 0 | AF198: =AE198-AD198 -> -115.5642 | AG198: =$E198 -> 0.028325466 | AH198: =previsi!R200 -> 105.05837 | AI198: =SUMIFS(tonnageFC,nomsFC,$A198,moisFC,AH$4) -> 0 | AJ198: =AI198-AH198 -> -105.05837 | AK198: =$E198 -> 0.028325466 | AL198: =previsi!T200 -> 120.81712 | AM198: =SUMIFS(tonnageFC,nomsFC,$A198,moisFC,AL$4) -> 0 | AN198: =AM198-AL198 -> -120.81712 | AO198: =$E198 -> 0.028325466 | AP198: =previsi!V200 -> 115.5642 | AQ198: =SUMIFS(tonnageFC,nomsFC,$A198,moisFC,AP$4) -> 0 | AR198: =AQ198-AP198 -> -115.5642 | AS198: =$E198 -> 0.028325466 | AT198: =previsi!X200 -> 105.05837 | AU198: =SUMIFS(tonnageFC,nomsFC,$A198,moisFC,AT$4) -> 0 | AV198: =AU198-AT198 -> -105.05837 | AW198: =$E198 -> 0.028325466 | AX198: =B198+F198+J198+N198+R198+V198+Z198+AD198+AH198+AL198+AP198+AT198 -> 1350 | AY198: =C198+G198+K198+O198+S198+W198+AA198+AE198+AI198+AM198+AQ198+AU198 -> 398.55 | AZ198: =D198+H198+L198+P198+T198+X198+AB198+AF198+AJ198+AN198+AR198+AV198 -> -951.45 | BA198: =$E198 -> 0.028325466
A199: TOTAL | B199: =SUM(B10:B198) -> 4265.318 | C199: =SUM(C10:C198) -> 3808.45 | D199: =SUM(D10:D198) -> -456.86796 | E199: =SUM(E10:E198) -> 1 | F199: =SUM(F10:F198) -> 3708.9721 | G199: =SUM(G10:G198) -> 3747.25 | H199: =SUM(H10:H198) -> 38.27786 | I199: =SUM(I10:I198) -> 1 | ... BA199: =SUM(BA10:BA198) -> 1
A200: TCHINDA
B971: 43172 | G971: 700
B972: 43173 | G972: 100
B973: 43173 | G973: 100
B974: 43173 | G974: 350
B975: 43173 | G975: 130
B976: 43173 | G976: 700
B977: 43173 | G977: 100
B978: 43173 | G978: 50
B979: 43173 | G979: 100
B980: 43173 | G980: 700
B981: 43173 | G981: 250
B982: 43173 | G982: 100
... B988: 43173 | G988: 150

Sheet Sage
A1: NOM DES CLIENTS | B1: LOCALISATION | C1: COMMERCIAL | D1: POTENTIEL | E1: VENTE 2017 | F1: Annuel T | G1: V M-1 | H1: 0 | I1: O M | J1: %M
A2: ALOGA ZEBAZE | B2: LOGBABA | C2: PIERRE | E2: 6775 | F2: =E2/20 -> 338.75 | G2: =F2/12 -> 28.229167 | H2: =G2*8% -> 2.2583333 | I2: =G2+H2 -> 30.4875 | J2: =I2/I192 -> 0.0076762014
A3: AHIDJO | B3: NGODI BAKOKO | C3: PIERRE | E3: 2990 | F3: =E3/20 -> 149.5 | G3: =F3/12 -> 12.458333 | H3: =G3*8% -> 0.99666667 | I3: =G3+H3 -> 13.455 | J3: =I3/I192 -> 0.0033877258
A4: ALADJI NGODI | B4: NGODI BAKOKO | C4: PIERRE | E4: 5300 | F4: =E4/20 -> 265 | G4: =F4/12 -> 22.083333 | H4: =G4*8% -> 1.7666667 | I4: =G4+H4 -> 23.85 | J4: =I4/I192 -> 0.0060049989
A5: ALAIN COGEFAR | B5: COGEFAR ENTRE TRADEX | E5: 0 | F5: =E5/20 -> 0 | G5: =F5/12 -> 0 | H5: =G5*8% -> 0 | I5: =G5+H5 -> 0 | J5: =I5/I192 -> 0
A6: ALPHONSE YATICA | B6: YATIKA | C6: PIERRE | E6: 7460 | F6: =E6/20 -> 373 | G6: =F6/12 -> 31.083333 | H6: =G6*8% -> 2.4866667 | I6: =G6+H6 -> 33.57 | J6: =I6/I192 -> 0.0084523192
A7: AMEDE YASSA | B7: YASSA | C7: BORIS | E7: 220 | F7: =E7/20 -> 11 | G7: =F7/12 -> 0.91666667 | H7: =G7*8% -> 0.073333333 | I7: =G7+H7 -> 0.99 | J7: =I7/I192 -> 0.0002492641
A8: AMIGO BOKO STADE | B8: BOKO | C8: BORIS | E8: 1810 | F8: =E8/20 -> 90.5 | G8: =F8/12 -> 7.5416667 | H8: =G8*8% -> 0.60333333 | I8: =G8+H8 -> 8.145 | J8: =I8/I192 -> 0.0020507638
A9: ARMEL | B9: YASSA | C9: BORIS | E9: 850 | F9: =E9/20 -> 42.5 | G9: =F9/12 -> 3.5416667 | H9: =G9*8% -> 0.28333333 | I9: =G9+H9 -> 3.825 | J9: =I9/I192 -> 0.00096306586
A10: AUGUSTIN | B10: DEIDO | C10: BORIS | E10: 1570 | F10: =E10/20 -> 78.5 | G10: =F10/12 -> 6.5416667 | H10: =G10*8% -> 0.52333333 | I10: =G10+H10 -> 7.065 | J10: =I10/I192 -> 0.0017788393
A11: AUGUSTIN EP | B11: ECOLE PUBLIQUE NDOGPASSI | C11: PIERRE | E11: 2000 | F11: =E11/20 -> 100 | G11: =F11/12 -> 8.3333333 | H11: =G11*8% -> 0.66666667 | I11: =G11+H11 -> 9 | J11: =I11/I192 -> 0.0022660373
A12: AUGUSTIN NKONGMONDO | B12: CARREFOUR NKONGMONDO | C12: PIERRE | E12: 1240 | F12: =E12/20 -> 62 | G12: =F12/12 -> 5.1666667 | H12: =G12*8% -> 0.41333333 | I12: =G12+H12 -> 5.58 | J12: =I12/I192 -> 0.0014049431
A13: BATCHAM DAKAR | B13: ROND POINT CCC | C13: PIERRE | E13: 1950 | F13: =E13/20 -> 97.5 | G13: =F13/12 -> 8.125 | H13: =G13*8% -> 0.65 | I13: =G13+H13 -> 8.775 | J13: =I13/I192 -> 0.0022093864
A14: BAZOR | B14: BWANG | C14: BORIS | E14: 8950 | F14: =E14/20 -> 447.5 | G14: =F14/12 -> 37.291667 | H14: =G14*8% -> 2.9833333 | I14: =G14+H14 -> 40.275 | J14: =I14/I192 -> 0.010140517
A15: BERTRAND BACHE BLEU | B15: ZONE DE RECASEMENT | C15: BORIS | E15: 480 | F15: =E15/20 -> 24 | G15: =F15/12 -> 2 | H15: =G15*8% -> 0.16 | I15: =G15+H15 -> 2.16 | J15: =I15/I192 -> 0.00054384896
A16: BLAISE DJOKO | E16: 0 | F16: =E16/20 -> 0 | G16: =F16/12 -> 0 | H16: =G16*8% -> 0 | I16: =G16+H16 -> 0 | J16: =I16/I192 -> 0
A17: BON PRIX ST TROPEZ | B17: CARREFOUR ST TROPEZ | C17: PIERRE | E17: 400 | F17: =E17/20 -> 20 | G17: =F17/12 -> 1.6666667 | H17: =G17*8% -> 0.13333333 | I17: =G17+H17 -> 1.8 | J17: =I17/I192 -> 0.00045320746
A18: BORISCAM | B18: PK12 | C18: PIERRE | E18: 7660 | F18: =E18/20 -> 383 | G18: =F18/12 -> 31.916667 | H18: =G18*8% -> 2.5533333 | I18: =G18+H18 -> 34.47 | J18: =I18/I192 -> 0.0086789229 | K18: Partenaire
A19: BRICE | C19: PIERRE | E19: 1170 | F19: =E19/20 -> 58.5 | G19: =F19/12 -> 4.875 | H19: =G19*8% -> 0.39 | I19: =G19+H19 -> 5.265 | J19: =I19/I192 -> 0.0013256318
A20: BRIQUETTERIE MON SEIGNEUR | B20: YASSA | C20: DEPOT | E20: 540 | F20: =E20/20 -> 27 | G20: =F20/12 -> 2.25 | H20: =G20*8% -> 0.18 | I20: =G20+H20 -> 2.43 | J20: =I20/I192 -> 0.00061183007
A21: CALVIN | C21: PIERRE | E21: 1860 | F21: =E21/20 -> 93 | G21: =F21/12 -> 7.75 | H21: =G21*8% -> 0.62 | I21: =G21+H21 -> 8.37 | J21: =I21/I192 -> 0.0021074147
A22: CHANTAL BACHE BLEU | B22: ZONE DE RECASEMENT | C22: BORIS | E22: 2150 | F22: =E22/20 -> 107.5 | G22: =F22/12 -> 8.9583333 | H22: =G22*8% -> 0.71666667 | I22: =G22+H22 -> 9.675 | J22: =I22/I192 -> 0.0024359901
A23: CHARITE NGODI | B23: NGODI BAKOKO | C23: BORIS | E23: 2425 | F23: =E23/20 -> 121.25 | G23: =F23/12 -> 10.104167 | H23: =G23*8% -> 0.80833333 | I23: =G23+H23 -> 10.9125 | J23: =I23/I192 -> 0.0027475702 | K23: Dang
A24: D T E YASSA | B24: YASSA | C24: BORIS | E24: 2800 | F24: =E24/20 -> 140 | G24: =F24/12 -> 11.666667 | H24: =G24*8% -> 0.93333333 | I24: =G24+H24 -> 12.6 | J24: =I24/I192 -> 0.0031724522
A25: D Z CONSTRUCTION | E25: 0 | F25: =E25/20 -> 0 | G25: =F25/12 -> 0 | H25: =G25*8% -> 0 | I25: =G25+H25 -> 0 | J25: =I25/I192 -> 0
A26: DASSIE COLLINCE | B26: MAITRE FOTSO | C26: PIERRE | E26: 6900 | F26: =E26/20 -> 345 | G26: =F26/12 -> 28.75 | H26: =G26*8% -> 2.3 | I26: =G26+H26 -> 31.05 | J26: =I26/I192 -> 0.0078178287
A27: DESIRE PARIZO | B27: PARIZO | C27: PIERRE | E27: 30646 | F27: =E27/20 -> 1532.3 | G27: =F27/12 -> 127.69167 | H27: =G27*8% -> 10.215333 | I27: =G27+H27 -> 137.907 | J27: =I27/I192 -> 0.03472249 | K27: 2
A28: DIEUNEDORT COMBI | B28: DAKAR | C28: PIERRE | E28: 1200 | F28: =E28/20 -> 60 | G28: =F28/12 -> 5 | H28: =G28*8% -> 0.4 | I28: =G28+H28 -> 5.4 | J28: =I28/I192 -> 0.0013596224
A29: DJOBISSO | E29: 0 | F29: =E29/20 -> 0 | G29: =F29/12 -> 0 | H29: =G29*8% -> 0 | I29: =G29+H29 -> 0 | J29: =I29/I192 -> 0
A30: DJOMO EFON | B30: JAPOMA | C30: PIERRE | E30: 14900 | F30: =E30/20 -> 745 | G30: =F30/12 -> 62.083333 | H30: =G30*8% -> 4.9666667 | I30: =G30+H30 -> 67.05 | J30: =I30/I192 -> 0.016881978
A31: DJOSS NKONGMONDO | B31: NEW BELL | C31: PIERRE | E31: 560 | F31: =E31/20 -> 28 | G31: =F31/12 -> 2.3333333 | H31: =G31*8% -> 0.18666667 | I31: =G31+H31 -> 2.52 | J31: =I31/I192 -> 0.00063449045
A32: DJOUFFA HERVE | B32: MAETURE | C32: PIERRE | E32: 5050 | F32: =E32/20 -> 252.5 | G32: =F32/12 -> 21.041667 | H32: =G32*8% -> 1.6833333 | I32: =G32+H32 -> 22.725 | J32: =I32/I192 -> 0.0057217442
A33: DJOUME CONSTRUCTION | B33: AZUR | C33: PIERRE | E33: 2470 | F33: =E33/20 -> 123.5 | G33: =F33/12 -> 10.291667 | H33: =G33*8% -> 0.82333333 | I33: =G33+H33 -> 11.115 | J33: =I33/I192 -> 0.0027985561
A34: DONAL CONTRUCTION | B34: BRAZZAVILLE | C34: BORIS | E34: 500 | F34: =E34/20 -> 25 | G34: =F34/12 -> 2.0833333 | H34: =G34*8% -> 0.16666667 | I34: =G34+H34 -> 2.25 | J34: =I34/I192 -> 0.00056650933
A35: DONGMO | B35: YATIKA | C35: PIERRE | E35: 705 | F35: =E35/20 -> 35.25 | G35: =F35/12 -> 2.9375 | H35: =G35*8% -> 0.235 | I35: =G35+H35 -> 3.1725 | J35: =I35/I192 -> 0.00079877815
A36: DONGMO DUCLAIR | B36: JAPOMA | C36: PIERRE | E36: 14200 | F36: =E36/20 -> 710 | G36: =F36/12 -> 59.166667 | H36: =G36*8% -> 4.7333333 | I36: =G36+H36 -> 63.9 | J36: =I36/I192 -> 0.016088865
A37: DORCAS | B37: NYALLA CAMPO | C37: BORIS | E37: 350 | F37: =E37/20 -> 17.5 | G37: =F37/12 -> 1.4583333 | H37: =G37*8% -> 0.11666667 | I37: =G37+H37 -> 1.575 | J37: =I37/I192 -> 0.00039655653
A38: ETS ANAN ET NANOU | B38: YATIKA | C38: BORIS | E38: 1120 | F38: =E38/20 -> 56 | G38: =F38/12 -> 4.6666667 | H38: =G38*8% -> 0.37333333 | I38: =G38+H38 -> 5.04 | J38: =I38/I192 -> 0.0012689809
A39: ETS FOKA | B39: YATIKA | C39: PIERRE | E39: 490 | F39: =E39/20 -> 24.5 | G39: =F39/12 -> 2.0416667 | H39: =G39*8% -> 0.16333333 | I39: =G39+H39 -> 2.205 | J39: =I39/I192 -> 0.00055517914
A40: ETS KOPHA | B40: YASSA | C40: PIERRE | E40: 5800 | F40: =E40/20 -> 290 | G40: =F40/12 -> 24.166667 | H40: =G40*8% -> 1.9333333 | I40: =G40+H40 -> 26.1 | J40: =I40/I192 -> 0.0065715082
...
