Workbook
Name radius: (BDD!XFD1048575:XFD65531>=42736)*(BDD!XFD1048575:XFD65531<=43100)
Name test: (BDD!XFD1048575:XFD65531>=42736)*(BDD!XFD1048575:XFD65531<=43100)
Name testvar: "(BDD!A2:A65534>=42736)*(BDD!A2:A65534<=43100)"
Name Vartest: #REF!

Sheet BDD
A1: Date | B1: Années | C1: Mois | D1: Semaine | E1: Jours | F1: HT 5.5 | G1: TVA 5.5 | H1: TTC 5.5 | I1: HT 10 | J1: TVA 10 | K1: TTC 10 | L1: HT 20 | M1: TVA 20 | N1: TTC 20 | O1: Journaux | P1: TT HT | Q1: TT TVA | R1: Fichier | S1: Calculé | T1: Arrondis | U1: 4 | V1: Dont Membres | W1: tep1 | X1: tep2 | Y1: tep3 | Z1: tep4 | AA1: Nb | AB1: Panier | AC1: 1 | AD1: 2 | AE1: 3
A2: 42467 | B2: =YEAR(A2) -> 2016 | C2: =CHOOSE(MONTH(A2),"janvier","février","mars","avril","mai","juin","juillet","aout","septembre","octobre","novembre","décembre") -> avril | D2: =INT((A2-SUM(MOD(DATE(YEAR(A2-MOD(A2-2,7)+3),1,2),{1E+99;7})*{1;-1})+5)/7) -> 14 | E2: =CHOOSE(WEEKDAY(A2,2),"lundi","mardi","mercredi","jeudi","vendredi","samedi","dimanche") -> jeudi | F2: 1 | G2: 1 | H2: =R2-K2-N2-O2 -> -4 | I2: 1 | J2: 1 | K2: =I2+J2 -> 2 | L2: 1 | M2: 1 | N2: =L2+M2 -> 2 | O2: 1 | P2: =L2+I2+F2+O2 -> 4 | Q2: =M2+J2+G2 -> 3 | R2: 1 | S2: =F2+G2+I2+J2+L2+M2+O2 -> 7 | T2: =R2-S2 -> -6 | U2: =H2+K2+N2 -> 0 | V2: 1 | W2: 1 | X2: 1 | Y2: =R2-W2-X2-Z2 -> -2 | Z2: 1 | AA2: 260 | AB2: =R2/AA2 -> 0.0038461538 | AC2: 269 | AD2: 0 | AE2: =AC2-AD2 -> 269
A3: 42468 | B3: =YEAR(A3) -> 2016 | C3: =CHOOSE(MONTH(A3),"janvier","février","mars","avril","mai","juin","juillet","aout","septembre","octobre","novembre","décembre") -> avril | D3: =INT((A3-SUM(MOD(DATE(YEAR(A3-MOD(A3-2,7)+3),1,2),{1E+99;7})*{1;-1})+5)/7) -> 14 | E3: =CHOOSE(WEEKDAY(A3,2),"lundi","mardi","mercredi","jeudi","vendredi","samedi","dimanche") -> vendredi | F3: 2 | G3: 2 | H3: =R3-K3-N3-O3 -> -3 | I3: 1 | J3: 1 | K3: =I3+J3 -> 2 | L3: 1 | M3: 1 | N3: =L3+M3 -> 2 | O3: 1 | P3: =L3+I3+F3+O3 -> 5 | Q3: =M3+J3+G3 -> 4 | R3: 2 | S3: =F3+G3+I3+J3+L3+M3+O3 -> 9 | T3: =R3-S3 -> -7 | U3: =H3+K3+N3 -> 1 | V3: 2 | W3: 2 | X3: 2 | Y3: =R3-W3-X3-Z3 -> -4 | Z3: 2 | AA3: 255 | AB3: =R3/AA3 -> 0.0078431373 | AC3: 225 | AD3: 0 | AE3: =AC3-AD3 -> 225
A4: 42469 | B4: =YEAR(A4) -> 2016 | C4: =CHOOSE(MONTH(A4),"janvier","février","mars","avril","mai","juin","juillet","aout","septembre","octobre","novembre","décembre") -> avril | D4: =INT((A4-SUM(MOD(DATE(YEAR(A4-MOD(A4-2,7)+3),1,2),{1E+99;7})*{1;-1})+5)/7) -> 14 | E4: =CHOOSE(WEEKDAY(A4,2),"lundi","mardi","mercredi","jeudi","vendredi","samedi","dimanche") -> samedi | F4: 3 | G4: 3 | H4: =R4-K4-N4-O4 -> -2 | I4: 1 | J4: 1 | K4: =I4+J4 -> 2 | L4: 1 | M4: 1 | N4: =L4+M4 -> 2 | O4: 1 | P4: =L4+I4+F4+O4 -> 6 | Q4: =M4+J4+G4 -> 5 | R4: 3 | S4: =F4+G4+I4+J4+L4+M4+O4 -> 11 | T4: =R4-S4 -> -8 | U4: =H4+K4+N4 -> 2 | V4: 3 | W4: 3 | X4: 3 | Y4: =R4-W4-X4-Z4 -> -6 | Z4: 3 | AA4: 239 | AB4: =R4/AA4 -> 0.012552301 | AC4: 268 | AD4: 0 | AE4: =AC4-AD4 -> 268
A5: 42470 | B5: =YEAR(A5) -> 2016 | C5: =CHOOSE(MONTH(A5),"janvier","février","mars","avril","mai","juin","juillet","aout","septembre","octobre","novembre","décembre") -> avril | D5: =INT((A5-SUM(MOD(DATE(YEAR(A5-MOD(A5-2,7)+3),1,2),{1E+99;7})*{1;-1})+5)/7) -> 14 | E5: =CHOOSE(WEEKDAY(A5,2),"lundi","mardi","mercredi","jeudi","vendredi","samedi","dimanche") -> dimanche | F5: 4 | G5: 4 | H5: =R5-K5-N5-O5 -> -1 | I5: 1 | J5: 1 | K5: =I5+J5 -> 2 | L5: 1 | M5: 1 | N5: =L5+M5 -> 2 | O5: 1 | P5: =L5+I5+F5+O5 -> 7 | Q5: =M5+J5+G5 -> 6 | R5: 4 | S5: =F5+G5+I5+J5+L5+M5+O5 -> 13 | T5: =R5-S5 -> -9 | U5: =H5+K5+N5 -> 3 | V5: 4 | W5: 4 | X5: 4 | Y5: =R5-W5-X5-Z5 -> -8 | Z5: 4 | AA5: 220 | AB5: =R5/AA5 -> 0.018181818 | AC5: 233 | AD5: 0 | AE5: =AC5-AD5 -> 233
A6: 42471 | B6: =YEAR(A6) -> 2016 | C6: =CHOOSE(MONTH(A6),"janvier","février","mars","avril","mai","juin","juillet","aout","septembre","octobre","novembre","décembre") -> avril | D6: =INT((A6-SUM(MOD(DATE(YEAR(A6-MOD(A6-2,7)+3),1,2),{1E+99;7})*{1;-1})+5)/7) -> 15 | E6: =CHOOSE(WEEKDAY(A6,2),"lundi","mardi","mercredi","jeudi","vendredi","samedi","dimanche") -> lundi | F6: 5 | G6: 5 | H6: =R6-K6-N6-O6 -> 0 | I6: 1 | J6: 1 | K6: =I6+J6 -> 2 | L6: 1 | M6: 1 | N6: =L6+M6 -> 2 | O6: 1 | P6: =L6+I6+F6+O6 -> 8 | Q6: =M6+J6+G6 -> 7 | R6: 5 | S6: =F6+G6+I6+J6+L6+M6+O6 -> 15 | T6: =R6-S6 -> -10 | U6: =H6+K6+N6 -> 4 | V6: 5 | W6: 5 | X6: 5 | Y6: =R6-W6-X6-Z6 -> -10 | Z6: 5 | AA6: 233 | AB6: =R6/AA6 -> 0.021459227 | AC6: 326 | AD6: 0 | AE6: =AC6-AD6 -> 326
A7: 42472 | B7: =YEAR(A7) -> 2016 | C7: =CHOOSE(MONTH(A7),"janvier","février","mars","avril","mai","juin","juillet","aout","septembre","octobre","novembre","décembre") -> avril | D7: =INT((A7-SUM(MOD(DATE(YEAR(A7-MOD(A7-2,7)+3),1,2),{1E+99;7})*{1;-1})+5)/7) -> 15 | E7: =CHOOSE(WEEKDAY(A7,2),"lundi","mardi","mercredi","jeudi","vendredi","samedi","dimanche") -> mardi | F7: 6 | G7: 6 | H7: =R7-K7-N7-O7 -> 1 | I7: 1 | J7: 1 | K7: =I7+J7 -> 2 | L7: 1 | M7: 1 | N7: =L7+M7 -> 2 | O7: 1 | P7: =L7+I7+F7+O7 -> 9 | Q7: =M7+J7+G7 -> 8 | R7: 6 | S7: =F7+G7+I7+J7+L7+M7+O7 -> 17 | T7: =R7-S7 -> -11 | U7: =H7+K7+N7 -> 5 | V7: 6 | W7: 6 | X7: 6 | Y7: =R7-W7-X7-Z7 -> -12 | Z7: 6 | AA7: 284 | AB7: =R7/AA7 -> 0.021126761 | AC7: 447 | AD7: 0 | AE7: =AC7-AD7 -> 447
A8: 42473 | B8: =YEAR(A8) -> 2016 | C8: =CHOOSE(MONTH(A8),"janvier","février","mars","avril","mai","juin","juillet","aout","septembre","octobre","novembre","décembre") -> avril | D8: =INT((A8-SUM(MOD(DATE(YEAR(A8-MOD(A8-2,7)+3),1,2),{1E+99;7})*{1;-1})+5)/7) -> 15 | E8: =CHOOSE(WEEKDAY(A8,2),"lundi","mardi","mercredi","jeudi","vendredi","samedi","dimanche") -> mercredi | F8: 7 | G8: 7 | H8: =R8-K8-N8-O8 -> 2 | I8: 1 | J8: 1 | K8: =I8+J8 -> 2 | L8: 1 | M8: 1 | N8: =L8+M8 -> 2 | O8: 1 | P8: =L8+I8+F8+O8 -> 10 | Q8: =M8+J8+G8 -> 9 | R8: 7 | S8: =F8+G8+I8+J8+L8+M8+O8 -> 19 | T8: =R8-S8 -> -12 | U8: =H8+K8+N8 -> 6 | V8: 7 | W8: 7 | X8: 7 | Y8: =R8-W8-X8-Z8 -> -14 | Z8: 7 | AA8: 231 | AB8: =R8/AA8 -> 0.03030303 | AC8: 253 | AD8: 0 | AE8: =AC8-AD8 -> 253
A9: 42474 | B9: =YEAR(A9) -> 2016 | C9: =CHOOSE(MONTH(A9),"janvier","février","mars","avril","mai","juin","juillet","aout","septembre","octobre","novembre","décembre") -> avril | D9: =INT((A9-SUM(MOD(DATE(YEAR(A9-MOD(A9-2,7)+3),1,2),{1E+99;7})*{1;-1})+5)/7) -> 15 | E9: =CHOOSE(WEEKDAY(A9,2),"lundi","mardi","mercredi","jeudi","vendredi","samedi","dimanche") -> jeudi | F9: 8 | G9: 8 | H9: =R9-K9-N9-O9 -> 3 | I9: 1 | J9: 1 | K9: =I9+J9 -> 2 | L9: 1 | M9: 1 | N9: =L9+M9 -> 2 | O9: 1 | P9: =L9+I9+F9+O9 -> 11 | Q9: =M9+J9+G9 -> 10 | R9: 8 | S9: =F9+G9+I9+J9+L9+M9+O9 -> 21 | T9: =R9-S9 -> -13 | U9: =H9+K9+N9 -> 7 | V9: 8 | W9: 8 | X9: 8 | Y9: =R9-W9-X9-Z9 -> -16 | Z9: 8 | AA9: 213 | AB9: =R9/AA9 -> 0.037558685 | AC9: 313 | AD9: 0 | AE9: =AC9-AD9 -> 313
A10: 42475 | B10: =YEAR(A10) -> 2016 | C10: =CHOOSE(MONTH(A10),"janvier","février","mars","avril","mai","juin","juillet","aout","septembre","octobre","novembre","décembre") -> avril | D10: =INT((A10-SUM(MOD(DATE(YEAR(A10-MOD(A10-2,7)+3),1,2),{1E+99;7})*{1;-1})+5)/7) -> 15 | E10: =CHOOSE(WEEKDAY(A10,2),"lundi","mardi","mercredi","jeudi","vendredi","samedi","dimanche") -> vendredi | F10: 9 | G10: 9 | H10: =R10-K10-N10-O10 -> 4 | I10: 1 | J10: 1 | K10: =I10+J10 -> 2 | L10: 1 | M10: 1 | N10: =L10+M10 -> 2 | O10: 1 | P10: =L10+I10+F10+O10 -> 12 | Q10: =M10+J10+G10 -> 11 | R10: 9 | S10: =F10+G10+I10+J10+L10+M10+O10 -> 23 | T10: =R10-S10 -> -14 | U10: =H10+K10+N10 -> 8 | V10: 9 | W10: 9 | X10: 9 | Y10: =R10-W10-X10-Z10 -> -18 | Z10: 9 | AA10: 212 | AB10: =R10/AA10 -> 0.04245283 | AC10: 245 | AD10: 0 | AE10: =AC10-AD10 -> 245
A11: 42476 | B11: =YEAR(A11) -> 2016 | C11: =CHOOSE(MONTH(A11),"janvier","février","mars","avril","mai","juin","juillet","aout","septembre","octobre","novembre","décembre") -> avril | D11: =INT((A11-SUM(MOD(DATE(YEAR(A11-MOD(A11-2,7)+3),1,2),{1E+99;7})*{1;-1})+5)/7) -> 15 | E11: =CHOOSE(WEEKDAY(A11,2),"lundi","mardi","mercredi","jeudi","vendredi","samedi","dimanche") -> samedi | F11: 10 | G11: 10 | H11: =R11-K11-N11-O11 -> 5 | I11: 1 | J11: 1 | K11: =I11+J11 -> 2 | L11: 1 | M11: 1 | N11: =L11+M11 -> 2 | O11: 1 | P11: =L11+I11+F11+O11 -> 13 | Q11: =M11+J11+G11 -> 12 | R11: 10 | S11: =F11+G11+I11+J11+L11+M11+O11 -> 25 | T11: =R11-S11 -> -15 | U11: =H11+K11+N11 -> 9 | V11: 10 | W11: 10 | X11: 10 | Y11: =R11-W11-X11-Z11 -> -20 | Z11: 10 | AA11: 207 | AB11: =R11/AA11 -> 0.048309179 | AC11: 198 | AD11: 0 | AE11: =AC11-AD11 -> 198
A12: 42477 | B12: =YEAR(A12) -> 2016 | C12: =CHOOSE(MONTH(A12),"janvier","février","mars","avril","mai","juin","juillet","aout","septembre","octobre","novembre","décembre") -> avril | D12: =INT((A12-SUM(MOD(DATE(YEAR(A12-MOD(A12-2,7)+3),1,2),{1E+99;7})*{1;-1})+5)/7) -> 15 | E12: =CHOOSE(WEEKDAY(A12,2),"lundi","mardi","mercredi","jeudi","vendredi","samedi","dimanche") -> dimanche | F12: 11 | G12: 11 | H12: =R12-K12-N12-O12 -> 6 | I12: 1 | J12: 1 | K12: =I12+J12 -> 2 | L12: 1 | M12: 1 | N12: =L12+M12 -> 2 | O12: 1 | P12: =L12+I12+F12+O12 -> 14 | Q12: =M12+J12+G12 -> 13 | R12: 11 | S12: =F12+G12+I12+J12+L12+M12+O12 -> 27 | T12: =R12-S12 -> -16 | U12: =H12+K12+N12 -> 10 | V12: 11 | W12: 11 | X12: 11 | Y12: =R12-W12-X12-Z12 -> -22 | Z12: 11 | AA12: 237 | AB12: =R12/AA12 -> 0.046413502 | AC12: 284 | AD12: 0 | AE12: =AC12-AD12 -> 284
A13: 42478 | B13: =YEAR(A13) -> 2016 | C13: =CHOOSE(MONTH(A13),"janvier","février","mars","avril","mai","juin","juillet","aout","septembre","octobre","novembre","décembre") -> avril | D13: =INT((A13-SUM(MOD(DATE(YEAR(A13-MOD(A13-2,7)+3),1,2),{1E+99;7})*{1;-1})+5)/7) -> 16 | E13: =CHOOSE(WEEKDAY(A13,2),"lundi","mardi","mercredi","jeudi","vendredi","samedi","dimanche") -> lundi | F13: 12 | G13: 12 | H13: =R13-K13-N13-O13 -> 7 | I13: 1 | J13: 1 | K13: =I13+J13 -> 2 | L13: 1 | M13: 1 | N13: =L13+M13 -> 2 | O13: 1 | P13: =L13+I13+F13+O13 -> 15 | Q13: =M13+J13+G13 -> 14 | R13: 12 | S13: =F13+G13+I13+J13+L13+M13+O13 -> 29 | T13: =R13-S13 -> -17 | U13: =H13+K13+N13 -> 11 | V13: 12 | W13: 12 | X13: 12 | Y13: =R13-W13-X13-Z13 -> -24 | Z13: 12 | AA13: 270 | AB13: =R13/AA13 -> 0.044444444 | AC13: 472 | AD13: 0 | AE13: =AC13-AD13 -> 472
... A27: 42492 | B27: =YEAR(A27) -> 2016 | C27: =CHOOSE(MONTH(A27),"janvier","février","mars","avril","mai","juin","juillet","aout","septembre","octobre","novembre","décembre") -> mai | D27: =INT((A27-SUM(MOD(DATE(YEAR(A27-MOD(A27-2,7)+3),1,2),{1E+99;7})*{1;-1})+5)/7) -> 18 | E27: =CHOOSE(WEEKDAY(A27,2),"lundi","mardi","mercredi","jeudi","vendredi","samedi","dimanche") -> lundi | F27: 26 | G27: 26 | H27: =R27-K27-N27-O27 -> 21 | I27: 1 | J27: 1 | K27: =I27+J27 -> 2 | L27: 1 | M27: 1 | N27: =L27+M27 -> 2 | O27: 1 | P27: =L27+I27+F27+O27 -> 29 | Q27: =M27+J27+G27 -> 28 | R27: 26 | S27: =F27+G27+I27+J27+L27+M27+O27 -> 57 | T27: =R27-S27 -> -31 | U27: =H27+K27+N27 -> 25 | V27: 26 | W27: 26 | X27: 26 | Y27: =R27-W27-X27-Z27 -> -52 | Z27: 26 | AA27: 220 | AB27: =R27/AA27 -> 0.11818182 | AC27: 264 | AD27: 0 | AE27: =AC27-AD27 -> 264

Sheet Statistiques
B2: Total | H2: 2016 | M2: 2017 | R2: 2018
B3: Ca Total | C3: CA Moyen (jour) | D3: tt | E3: Panier Moyen (jour) | F3: tt (jour) | H3: Ca Total | I3: CA Moyen (jour) | J3: tt | K3: Panier Moyen (jour) | L3: tt (jour) | M3: Ca Total | N3: CA Moyen (jour) | O3: tt | P3: Panier Moyen (jour) | Q3: tt (jour) | R3: Ca Total | S3: CA Moyen (jour) | T3: tt | U3: Panier Moyen (jour) | V3: tt (jour)
A4: Janvier | B4: =SUMPRODUCT((BDD!$C$2:$C$65385=A4)*(BDD!$A$2:$A$65385>0)*(BDD!$P$2:$P$65385)) -> 0 | C4: =SUMPRODUCT((BDD!$C$2:$C$65385=A4)*(BDD!$A$2:$A$65385>0)*(BDD!$P$2:$P$65385))/SUMPRODUCT((BDD!$C$2:$C$65385=A4)*(BDD!$A$2:$A$65385>0)) -> #DIV/0! | D4: =SUMPRODUCT((BDD!$C$2:$C$65385=A4)*(BDD!$A$2:$A$65385>0)*(BDD!$AA$2:$AA$65385))/SUMPRODUCT((BDD!$C$2:$C$65385=A4)*(BDD!$A$2:$A$65385>0)) -> #DIV/0! | E4: =SUMPRODUCT((BDD!$C$2:$C$65385=A4)*(BDD!$A$2:$A$65385>0)*(BDD!$AB$2:$AB$65385))/SUMPRODUCT((BDD!$C$2:$C$65385=A4)*(BDD!$A$2:$A$65385>0)) -> #DIV/0! | F4: =SUMPRODUCT((BDD!$C$2:$C$65385=A4)*(BDD!$A$2:$A$65385>0)*(BDD!$AE$2:$AE$65385))/SUMPRODUCT((BDD!$C$2:$C$65385=A4)*(BDD!$A$2:$A$65385>0)) -> #DIV/0! | H4: =SUMPRODUCT((BDD!$C$2:$C$65385=A4)*(BDD!$B$2:$B$65385=$H$2)*(BDD!$P$2:$P$65385)) -> 0 | I4: =SUMPRODUCT((BDD!$C$2:$C$65385=A4)*(BDD!$B$2:$B$65385=$H$2)*(BDD!$P$2:$P$65385))/SUMPRODUCT((BDD!$C$2:$C$65385=A4)*(BDD!$B$2:$B$65385=$H$2)) -> #DIV/0! | J4: =SUMPRODUCT((BDD!$C$2:$C$65385=$A4)*(BDD!$B$2:$B$65385=$H$2)*(BDD!$AA$2:$AA$65385))/SUMPRODUCT((BDD!$C$2:$C$65385=$A4)*(BDD!$B$2:$B$65385=$H$2)) -> #DIV/0! | K4: =SUMPRODUCT((BDD!$C$2:$C$65385=$A4)*(BDD!$B$2:$B$65385=$H$2)*(BDD!$AB$2:$AB$65385))/SUMPRODUCT((BDD!$C$2:$C$65385=$A4)*(BDD!$B$2:$B$65385=$H$2)) -> #DIV/0! | L4: =SUMPRODUCT((BDD!$C$2:$C$65385=$A4)*(BDD!$B$2:$B$65385=$H$2)*(BDD!$AE$2:$AE$65385))/SUMPRODUCT((BDD!$C$2:$C$65385=$A4)*(BDD!$B$2:$B$65385=$H$2)) -> #DIV/0! | M4: =SUMPRODUCT((BDD!$C$2:$C$65385=A4)*(BDD!$B$2:$B$65385=$M$2)*(BDD!$P$2:$P$65385)) -> 0 | N4: =SUMPRODUCT((BDD!$C$2:$C$65385=$A4)*(BDD!$B$2:$B$65385=$M$2)*(BDD!$P$2:$P$65385))/SUMPRODUCT((BDD!$C$2:$C$65385=$A4)*(BDD!$B$2:$B$65385=$M$2)) -> #DIV/0! | O4: =SUMPRODUCT((BDD!$C$2:$C$65385=$A4)*(BDD!$B$2:$B$65385=$M$2)*(BDD!$AA$2:$AA$65385))/SUMPRODUCT((BDD!$C$2:$C$65385=$A4)*(BDD!$B$2:$B$65385=$M$2)) -> #DIV/0! | P4: =SUMPRODUCT((BDD!$C$2:$C$65385=$A4)*(BDD!$B$2:$B$65385=$M$2)*(BDD!$AB$2:$AB$65385))/SUMPRODUCT((BDD!$C$2:$C$65385=$A4)*(BDD!$B$2:$B$65385=$M$2)) -> #DIV/0! | Q4: =SUMPRODUCT((BDD!$C$2:$C$65385=$A4)*(BDD!$B$2:$B$65385=$M$2)*(BDD!$AE$2:$AE$65385))/SUMPRODUCT((BDD!$C$2:$C$65385=$A4)*(BDD!$B$2:$B$65385=$M$2)) -> #DIV/0!
A5: Février | B5: =SUMPRODUCT((BDD!$C$2:$C$65385=A5)*(BDD!$A$2:$A$65385>0)*(BDD!$P$2:$P$65385)) -> 0 | C5: =SUMPRODUCT((BDD!$C$2:$C$65385=A5)*(BDD!$A$2:$A$65385>0)*(BDD!$P$2:$P$65385))/SUMPRODUCT((BDD!$C$2:$C$65385=A5)*(BDD!$A$2:$A$65385>0)) -> #DIV/0! | D5: =SUMPRODUCT((BDD!$C$2:$C$65385=A5)*(BDD!$A$2:$A$65385>0)*(BDD!$AA$2:$AA$65385))/SUMPRODUCT((BDD!$C$2:$C$65385=A5)*(BDD!$A$2:$A$65385>0)) -> #DIV/0! | E5: =SUMPRODUCT((BDD!$C$2:$C$65385=A5)*(BDD!$A$2:$A$65385>0)*(BDD!$AB$2:$AB$65385))/SUMPRODUCT((BDD!$C$2:$C$65385=A5)*(BDD!$A$2:$A$65385>0)) -> #DIV/0! | F5: =SUMPRODUCT((BDD!$C$2:$C$65385=A5)*(BDD!$A$2:$A$65385>0)*(BDD!$AE$2:$AE$65385))/SUMPRODUCT((BDD!$C$2:$C$65385=A5)*(BDD!$A$2:$A$65385>0)) -> #DIV/0! | H5: =SUMPRODUCT((BDD!$C$2:$C$65385=A5)*(BDD!$B$2:$B$65385=$H$2)*(BDD!$P$2:$P$65385)) -> 0 | I5: =SUMPRODUCT((BDD!$C$2:$C$65385=A5)*(BDD!$B$2:$B$65385=$H$2)*(BDD!$P$2:$P$65385))/SUMPRODUCT((BDD!$C$2:$C$65385=A5)*(BDD!$B$2:$B$65385=$H$2)) -> #DIV/0! | J5: =SUMPRODUCT((BDD!$C$2:$C$65385=$A5)*(BDD!$B$2:$B$65385=$H$2)*(BDD!$AA$2:$AA$65385))/SUMPRODUCT((BDD!$C$2:$C$65385=$A5)*(BDD!$B$2:$B$65385=$H$2)) -> #DIV/0! | K5: =SUMPRODUCT((BDD!$C$2:$C$65385=$A5)*(BDD!$B$2:$B$65385=$H$2)*(BDD!$AB$2:$AB$65385))/SUMPRODUCT((BDD!$C$2:$C$65385=$A5)*(BDD!$B$2:$B$65385=$H$2)) -> #DIV/0! | L5: =SUMPRODUCT((BDD!$C$2:$C$65385=$A5)*(BDD!$B$2:$B$65385=$H$2)*(BDD!$AE$2:$AE$65385))/SUMPRODUCT((BDD!$C$2:$C$65385=$A5)*(BDD!$B$2:$B$65385=$H$2)) -> #DIV/0! | M5: =SUMPRODUCT((BDD!$C$2:$C$65385=A5)*(BDD!$B$2:$B$65385=$M$2)*(BDD!$P$2:$P$65385)) -> 0 | N5: =SUMPRODUCT((BDD!$C$2:$C$65385=A5)*(BDD!$B$2:$B$65385=$M$2)*(BDD!$P$2:$P$65385))/SUMPRODUCT((BDD!$C$2:$C$65385=A5)*(BDD!$B$2:$B$65385=$M$2)) -> #DIV/0! | O5: =SUMPRODUCT((BDD!$C$2:$C$65385=$A5)*(BDD!$B$2:$B$65385=$M$2)*(BDD!$AA$2:$AA$65385))/SUMPRODUCT((BDD!$C$2:$C$65385=$A5)*(BDD!$B$2:$B$65385=$M$2)) -> #DIV/0! | P5: =SUMPRODUCT((BDD!$C$2:$C$65385=$A5)*(BDD!$B$2:$B$65385=$M$2)*(BDD!$AB$2:$AB$65385))/SUMPRODUCT((BDD!$C$2:$C$65385=$A5)*(BDD!$B$2:$B$65385=$M$2)) -> #DIV/0! | Q5: =SUMPRODUCT((BDD!$C$2:$C$65385=$A5)*(BDD!$B$2:$B$65385=$M$2)*(BDD!$AE$2:$AE$65385))/SUMPRODUCT((BDD!$C$2:$C$65385=$A5)*(BDD!$B$2:$B$65385=$M$2)) -> #DIV/0!
A6: Mars | B6: =SUMPRODUCT((BDD!$C$2:$C$65385=A6)*(BDD!$A$2:$A$65385>0)*(BDD!$P$2:$P$65385)) -> 0 | C6: =SUMPRODUCT((BDD!$C$2:$C$65385=A6)*(BDD!$A$2:$A$65385>0)*(BDD!$P$2:$P$65385))/SUMPRODUCT((BDD!$C$2:$C$65385=A6)*(BDD!$A$2:$A$65385>0)) -> #DIV/0! | D6: =SUMPRODUCT((BDD!$C$2:$C$65385=A6)*(BDD!$A$2:$A$65385>0)*(BDD!$AA$2:$AA$65385))/SUMPRODUCT((BDD!$C$2:$C$65385=A6)*(BDD!$A$2:$A$65385>0)) -> #DIV/0! | E6: =SUMPRODUCT((BDD!$C$2:$C$65385=A6)*(BDD!$A$2:$A$65385>0)*(BDD!$AB$2:$AB$65385))/SUMPRODUCT((BDD!$C$2:$C$65385=A6)*(BDD!$A$2:$A$65385>0)) -> #DIV/0! | F6: =SUMPRODUCT((BDD!$C$2:$C$65385=A6)*(BDD!$A$2:$A$65385>0)*(BDD!$AE$2:$AE$65385))/SUMPRODUCT((BDD!$C$2:$C$65385=A6)*(BDD!$A$2:$A$65385>0)) -> #DIV/0! | H6: =SUMPRODUCT((BDD!$C$2:$C$65385=A6)*(BDD!$B$2:$B$65385=$H$2)*(BDD!$P$2:$P$65385)) -> 0 | I6: =SUMPRODUCT((BDD!$C$2:$C$65385=A6)*(BDD!$B$2:$B$65385=$H$2)*(BDD!$P$2:$P$65385))/SUMPRODUCT((BDD!$C$2:$C$65385=A6)*(BDD!$B$2:$B$65385=$H$2)) -> #DIV/0! | J6: =SUMPRODUCT((BDD!$C$2:$C$65385=$A6)*(BDD!$B$2:$B$65385=$H$2)*(BDD!$AA$2:$AA$65385))/SUMPRODUCT((BDD!$C$2:$C$65385=$A6)*(BDD!$B$2:$B$65385=$H$2)) -> #DIV/0! | K6: =SUMPRODUCT((BDD!$C$2:$C$65385=$A6)*(BDD!$B$2:$B$65385=$H$2)*(BDD!$AB$2:$AB$65385))/SUMPRODUCT((BDD!$C$2:$C$65385=$A6)*(BDD!$B$2:$B$65385=$H$2)) -> #DIV/0! | L6: =SUMPRODUCT((BDD!$C$2:$C$65385=$A6)*(BDD!$B$2:$B$65385=$H$2)*(BDD!$AE$2:$AE$65385))/SUMPRODUCT((BDD!$C$2:$C$65385=$A6)*(BDD!$B$2:$B$65385=$H$2)) -> #DIV/0! | M6: =SUMPRODUCT((BDD!$C$2:$C$65385=A6)*(BDD!$B$2:$B$65385=$M$2)*(BDD!$P$2:$P$65385)) -> 0 | N6: =SUMPRODUCT((BDD!$C$2:$C$65385=A6)*(BDD!$B$2:$B$65385=$M$2)*(BDD!$P$2:$P$65385))/SUMPRODUCT((BDD!$C$2:$C$65385=A6)*(BDD!$B$2:$B$65385=$M$2)) -> #DIV/0! | O6: =SUMPRODUCT((BDD!$C$2:$C$65385=$A6)*(BDD!$B$2:$B$65385=$M$2)*(BDD!$AA$2:$AA$65385))/SUMPRODUCT((BDD!$C$2:$C$65385=$A6)*(BDD!$B$2:$B$65385=$M$2)) -> #DIV/0! | P6: =SUMPRODUCT((BDD!$C$2:$C$65385=$A6)*(BDD!$B$2:$B$65385=$M$2)*(BDD!$AB$2:$AB$65385))/SUMPRODUCT((BDD!$C$2:$C$65385=$A6)*(BDD!$B$2:$B$65385=$M$2)) -> #DIV/0! | Q6: =SUMPRODUCT((BDD!$C$2:$C$65385=$A6)*(BDD!$B$2:$B$65385=$M$2)*(BDD!$AE$2:$AE$65385))/SUMPRODUCT((BDD!$C$2:$C$65385=$A6)*(BDD!$B$2:$B$65385=$M$2)) -> #DIV/0!
A7: Avril | B7: =SUMPRODUCT((BDD!$C$2:$C$65385=A7)*(BDD!$A$2:$A$65385>0)*(BDD!$P$2:$P$65385)) -> 372 | C7: =SUMPRODUCT((BDD!$C$2:$C$65385=A7)*(BDD!$A$2:$A$65385>0)*(BDD!$P$2:$P$65385))/SUMPRODUCT((BDD!$C$2:$C$65385=A7)*(BDD!$A$2:$A$65385>0)) -> 15.5 | D7: =SUMPRODUCT((BDD!$C$2:$C$65385=A7)*(BDD!$A$2:$A$65385>0)*(BDD!$AA$2:$AA$65385))/SUMPRODUCT((BDD!$C$2:$C$65385=A7)*(BDD!$A$2:$A$65385>0)) -> 242.08333 | E7: =SUMPRODUCT((BDD!$C$2:$C$65385=A7)*(BDD!$A$2:$A$65385>0)*(BDD!$AB$2:$AB$65385))/SUMPRODUCT((BDD!$C$2:$C$65385=A7)*(BDD!$A$2:$A$65385>0)) -> 0.051917571 | F7: =SUMPRODUCT((BDD!$C$2:$C$65385=A7)*(BDD!$A$2:$A$65385>0)*(BDD!$AE$2:$AE$65385))/SUMPRODUCT((BDD!$C$2:$C$65385=A7)*(BDD!$A$2:$A$65385>0)) -> 290.16667 | H7: =SUMPRODUCT((BDD!$C$2:$C$65385=A7)*(BDD!$B$2:$B$65385=$H$2)*(BDD!$P$2:$P$65385)) -> 372 | I7: =SUMPRODUCT((BDD!$C$2:$C$65385=A7)*(BDD!$B$2:$B$65385=$H$2)*(BDD!$P$2:$P$65385))/SUMPRODUCT((BDD!$C$2:$C$65385=A7)*(BDD!$B$2:$B$65385=$H$2)) -> 15.5 | J7: =SUMPRODUCT((BDD!$C$2:$C$65385=$A7)*(BDD!$B$2:$B$65385=$H$2)*(BDD!$AA$2:$AA$65385))/SUMPRODUCT((BDD!$C$2:$C$65385=$A7)*(BDD!$B$2:$B$65385=$H$2)) -> 242.08333 | K7: =SUMPRODUCT((BDD!$C$2:$C$65385=$A7)*(BDD!$B$2:$B$65385=$H$2)*(BDD!$AB$2:$AB$65385))/SUMPRODUCT((BDD!$C$2:$C$65385=$A7)*(BDD!$B$2:$B$65385=$H$2)) -> 0.051917571 | L7: =SUMPRODUCT((BDD!$C$2:$C$65385=$A7)*(BDD!$B$2:$B$65385=$H$2)*(BDD!$AE$2:$AE$65385))/SUMPRODUCT((BDD!$C$2:$C$65385=$A7)*(BDD!$B$2:$B$65385=$H$2)) -> 290.16667 | M7: =SUMPRODUCT((BDD!$C$2:$C$65385=A7)*(BDD!$B$2:$B$65385=$M$2)*(BDD!$P$2:$P$65385)) -> 0 | N7: =SUMPRODUCT((BDD!$C$2:$C$65385=A7)*(BDD!$B$2:$B$65385=$M$2)*(BDD!$P$2:$P$65385))/SUMPRODUCT((BDD!$C$2:$C$65385=A7)*(BDD!$B$2:$B$65385=$M$2)) -> #DIV/0! | O7: =SUMPRODUCT((BDD!$C$2:$C$65385=$A7)*(BDD!$B$2:$B$65385=$M$2)*(BDD!$AA$2:$AA$65385))/SUMPRODUCT((BDD!$C$2:$C$65385=$A7)*(BDD!$B$2:$B$65385=$M$2)) -> #DIV/0! | P7: =SUMPRODUCT((BDD!$C$2:$C$65385=$A7)*(BDD!$B$2:$B$65385=$M$2)*(BDD!$AB$2:$AB$65385))/SUMPRODUCT((BDD!$C$2:$C$65385=$A7)*(BDD!$B$2:$B$65385=$M$2)) -> #DIV/0! | Q7: =SUMPRODUCT((BDD!$C$2:$C$65385=$A7)*(BDD!$B$2:$B$65385=$M$2)*(BDD!$AE$2:$AE$65385))/SUMPRODUCT((BDD!$C$2:$C$65385=$A7)*(BDD!$B$2:$B$65385=$M$2)) -> #DIV/0!
A8: Mai | B8: =SUMPRODUCT((BDD!$C$2:$C$65385=A8)*(BDD!$A$2:$A$65385>0)*(BDD!$P$2:$P$65385)) -> 57 | C8: =SUMPRODUCT((BDD!$C$2:$C$65385=A8)*(BDD!$A$2:$A$65385>0)*(BDD!$P$2:$P$65385))/SUMPRODUCT((BDD!$C$2:$C$65385=A8)*(BDD!$A$2:$A$65385>0)) -> 28.5 | D8: =SUMPRODUCT((BDD!$C$2:$C$65385=A8)*(BDD!$A$2:$A$65385>0)*(BDD!$AA$2:$AA$65385))/SUMPRODUCT((BDD!$C$2:$C$65385=A8)*(BDD!$A$2:$A$65385>0)) -> 227.5 | E8: =SUMPRODUCT((BDD!$C$2:$C$65385=A8)*(BDD!$A$2:$A$65385>0)*(BDD!$AB$2:$AB$65385))/SUMPRODUCT((BDD!$C$2:$C$65385=A8)*(BDD!$A$2:$A$65385>0)) -> 0.1122824 | F8: =SUMPRODUCT((BDD!$C$2:$C$65385=A8)*(BDD!$A$2:$A$65385>0)*(BDD!$AE$2:$AE$65385))/SUMPRODUCT((BDD!$C$2:$C$65385=A8)*(BDD!$A$2:$A$65385>0)) -> 270 | H8: =SUMPRODUCT((BDD!$C$2:$C$65385=A8)*(BDD!$B$2:$B$65385=$H$2)*(BDD!$P$2:$P$65385)) -> 57 | I8: =SUMPRODUCT((BDD!$C$2:$C$65385=A8)*(BDD!$B$2:$B$65385=$H$2)*(BDD!$P$2:$P$65385))/SUMPRODUCT((BDD!$C$2:$C$65385=A8)*(BDD!$B$2:$B$65385=$H$2)) -> 28.5 | J8: =SUMPRODUCT((BDD!$C$2:$C$65385=$A8)*(BDD!$B$2:$B$65385=$H$2)*(BDD!$AA$2:$AA$65385))/SUMPRODUCT((BDD!$C$2:$C$65385=$A8)*(BDD!$B$2:$B$65385=$H$2)) -> 227.5 | K8: =SUMPRODUCT((BDD!$C$2:$C$65385=$A8)*(BDD!$B$2:$B$65385=$H$2)*(BDD!$AB$2:$AB$65385))/SUMPRODUCT((BDD!$C$2:$C$65385=$A8)*(BDD!$B$2:$B$65385=$H$2)) -> 0.1122824 | L8: =SUMPRODUCT((BDD!$C$2:$C$65385=$A8)*(BDD!$B$2:$B$65385=$H$2)*(BDD!$AE$2:$AE$65385))/SUMPRODUCT((BDD!$C$2:$C$65385=$A8)*(BDD!$B$2:$B$65385=$H$2)) -> 270 | M8: =SUMPRODUCT((BDD!$C$2:$C$65385=A8)*(BDD!$B$2:$B$65385=$M$2)*(BDD!$P$2:$P$65385)) -> 0 | N8: =SUMPRODUCT((BDD!$C$2:$C$65385=A8)*(BDD!$B$2:$B$65385=$M$2)*(BDD!$P$2:$P$65385))/SUMPRODUCT((BDD!$C$2:$C$65385=A8)*(BDD!$B$2:$B$65385=$M$2)) -> #DIV/0! | O8: =SUMPRODUCT((BDD!$C$2:$C$65385=$A8)*(BDD!$B$2:$B$65385=$M$2)*(BDD!$AA$2:$AA$65385))/SUMPRODUCT((BDD!$C$2:$C$65385=$A8)*(BDD!$B$2:$B$65385=$M$2)) -> #DIV/0! | P8: =SUMPRODUCT((BDD!$C$2:$C$65385=$A8)*(BDD!$B$2:$B$65385=$M$2)*(BDD!$AB$2:$AB$65385))/SUMPRODUCT((BDD!$C$2:$C$65385=$A8)*(BDD!$B$2:$B$65385=$M$2)) -> #DIV/0! | Q8: =SUMPRODUCT((BDD!$C$2:$C$65385=$A8)*(BDD!$B$2:$B$65385=$M$2)*(BDD!$AE$2:$AE$65385))/SUMPRODUCT((BDD!$C$2:$C$65385=$A8)*(BDD!$B$2:$B$65385=$M$2)) -> #DIV/0!
A9: Juin | B9: =SUMPRODUCT((BDD!$C$2:$C$65385=A9)*(BDD!$A$2:$A$65385>0)*(BDD!$P$2:$P$65385)) -> 0 | C9: =SUMPRODUCT((BDD!$C$2:$C$65385=A9)*(BDD!$A$2:$A$65385>0)*(BDD!$P$2:$P$65385))/SUMPRODUCT((BDD!$C$2:$C$65385=A9)*(BDD!$A$2:$A$65385>0)) -> #DIV/0! | D9: =SUMPRODUCT((BDD!$C$2:$C$65385=A9)*(BDD!$A$2:$A$65385>0)*(BDD!$AA$2:$AA$65385))/SUMPRODUCT((BDD!$C$2:$C$65385=A9)*(BDD!$A$2:$A$65385>0)) -> #DIV/0! | E9: =SUMPRODUCT((BDD!$C$2:$C$65385=A9)*(BDD!$A$2:$A$65385>0)*(BDD!$AB$2:$AB$65385))/SUMPRODUCT((BDD!$C$2:$C$65385=A9)*(BDD!$A$2:$A$65385>0)) -> #DIV/0! | F9: =SUMPRODUCT((BDD!$C$2:$C$65385=A9)*(BDD!$A$2:$A$65385>0)*(BDD!$AE$2:$AE$65385))/SUMPRODUCT((BDD!$C$2:$C$65385=A9)*(BDD!$A$2:$A$65385>0)) -> #DIV/0! | H9: =SUMPRODUCT((BDD!$C$2:$C$65385=A9)*(BDD!$B$2:$B$65385=$H$2)*(BDD!$P$2:$P$65385)) -> 0 | I9: =SUMPRODUCT((BDD!$C$2:$C$65385=A9)*(BDD!$B$2:$B$65385=$H$2)*(BDD!$P$2:$P$65385))/SUMPRODUCT((BDD!$C$2:$C$65385=A9)*(BDD!$B$2:$B$65385=$H$2)) -> #DIV/0! | J9: =SUMPRODUCT((BDD!$C$2:$C$65385=$A9)*(BDD!$B$2:$B$65385=$H$2)*(BDD!$AA$2:$AA$65385))/SUMPRODUCT((BDD!$C$2:$C$65385=$A9)*(BDD!$B$2:$B$65385=$H$2)) -> #DIV/0! | K9: =SUMPRODUCT((BDD!$C$2:$C$65385=$A9)*(BDD!$B$2:$B$65385=$H$2)*(BDD!$AB$2:$AB$65385))/SUMPRODUCT((BDD!$C$2:$C$65385=$A9)*(BDD!$B$2:$B$65385=$H$2)) -> #DIV/0! | L9: =SUMPRODUCT((BDD!$C$2:$C$65385=$A9)*(BDD!$B$2:$B$65385=$H$2)*(BDD!$AE$2:$AE$65385))/SUMPRODUCT((BDD!$C$2:$C$65385=$A9)*(BDD!$B$2:$B$65385=$H$2)) -> #DIV/0! | M9: =SUMPRODUCT((BDD!$C$2:$C$65385=A9)*(BDD!$B$2:$B$65385=$M$2)*(BDD!$P$2:$P$65385)) -> 0 | N9: =SUMPRODUCT((BDD!$C$2:$C$65385=A9)*(BDD!$B$2:$B$65385=$M$2)*(BDD!$P$2:$P$65385))/SUMPRODUCT((BDD!$C$2:$C$65385=A9)*(BDD!$B$2:$B$65385=$M$2)) -> #DIV/0! | O9: =SUMPRODUCT((BDD!$C$2:$C$65385=$A9)*(BDD!$B$2:$B$65385=$M$2)*(BDD!$AA$2:$AA$65385))/SUMPRODUCT((BDD!$C$2:$C$65385=$A9)*(BDD!$B$2:$B$65385=$M$2)) -> #DIV/0! | P9: =SUMPRODUCT((BDD!$C$2:$C$65385=$A9)*(BDD!$B$2:$B$65385=$M$2)*(BDD!$AB$2:$AB$65385))/SUMPRODUCT((BDD!$C$2:$C$65385=$A9)*(BDD!$B$2:$B$65385=$M$2)) -> #DIV/0! | Q9: =SUMPRODUCT((BDD!$C$2:$C$65385=$A9)*(BDD!$B$2:$B$65385=$M$2)*(BDD!$AE$2:$AE$65385))/SUMPRODUCT((BDD!$C$2:$C$65385=$A9)*(BDD!$B$2:$B$65385=$M$2)) -> #DIV/0!
A10: Juillet | B10: =SUMPRODUCT((BDD!$C$2:$C$65385=A10)*(BDD!$A$2:$A$65385>0)*(BDD!$P$2:$P$65385)) -> 0 | C10: =SUMPRODUCT((BDD!$C$2:$C$65385=A10)*(BDD!$A$2:$A$65385>0)*(BDD!$P$2:$P$65385))/SUMPRODUCT((BDD!$C$2:$C$65385=A10)*(BDD!$A$2:$A$65385>0)) -> #DIV/0! | D10: =SUMPRODUCT((BDD!$C$2:$C$65385=A10)*(BDD!$A$2:$A$65385>0)*(BDD!$AA$2:$AA$65385))/SUMPRODUCT((BDD!$C$2:$C$65385=A10)*(BDD!$A$2:$A$65385>0)) -> #DIV/0! | E10: =SUMPRODUCT((BDD!$C$2:$C$65385=A10)*(BDD!$A$2:$A$65385>0)*(BDD!$AB$2:$AB$65385))/SUMPRODUCT((BDD!$C$2:$C$65385=A10)*(BDD!$A$2:$A$65385>0)) -> #DIV/0! | F10: =SUMPRODUCT((BDD!$C$2:$C$65385=A10)*(BDD!$A$2:$A$65385>0)*(BDD!$AE$2:$AE$65385))/SUMPRODUCT((BDD!$C$2:$C$65385=A10)*(BDD!$A$2:$A$65385>0)) -> #DIV/0! | H10: =SUMPRODUCT((BDD!$C$2:$C$65385=A10)*(BDD!$B$2:$B$65385=$H$2)*(BDD!$P$2:$P$65385)) -> 0 | I10: =SUMPRODUCT((BDD!$C$2:$C$65385=A10)*(BDD!$B$2:$B$65385=$H$2)*(BDD!$P$2:$P$65385))/SUMPRODUCT((BDD!$C$2:$C$65385=A10)*(BDD!$B$2:$B$65385=$H$2)) -> #DIV/0! | J10: =SUMPRODUCT((BDD!$C$2:$C$65385=$A10)*(BDD!$B$2:$B$65385=$H$2)*(BDD!$AA$2:$AA$65385))/SUMPRODUCT((BDD!$C$2:$C$65385=$A10)*(BDD!$B$2:$B$65385=$H$2)) -> #DIV/0! | K10: =SUMPRODUCT((BDD!$C$2:$C$65385=$A10)*(BDD!$B$2:$B$65385=$H$2)*(BDD!$AB$2:$AB$65385))/SUMPRODUCT((BDD!$C$2:$C$65385=$A10)*(BDD!$B$2:$B$65385=$H$2)) -> #DIV/0! | L10: =SUMPRODUCT((BDD!$C$2:$C$65385=$A10)*(BDD!$B$2:$B$65385=$H$2)*(BDD!$AE$2:$AE$65385))/SUMPRODUCT((BDD!$C$2:$C$65385=$A10)*(BDD!$B$2:$B$65385=$H$2)) -> #DIV/0! | M10: =SUMPRODUCT((BDD!$C$2:$C$65385=A10)*(BDD!$B$2:$B$65385=$M$2)*(BDD!$P$2:$P$65385)) -> 0 | N10: =SUMPRODUCT((BDD!$C$2:$C$65385=A10)*(BDD!$B$2:$B$65385=$M$2)*(BDD!$P$2:$P$65385))/SUMPRODUCT((BDD!$C$2:$C$65385=A10)*(BDD!$B$2:$B$65385=$M$2)) -> #DIV/0! | O10: =SUMPRODUCT((BDD!$C$2:$C$65385=$A10)*(BDD!$B$2:$B$65385=$M$2)*(BDD!$AA$2:$AA$65385))/SUMPRODUCT((BDD!$C$2:$C$65385=$A10)*(BDD!$B$2:$B$65385=$M$2)) -> #DIV/0! | P10: =SUMPRODUCT((BDD!$C$2:$C$65385=$A10)*(BDD!$B$2:$B$65385=$M$2)*(BDD!$AB$2:$AB$65385))/SUMPRODUCT((BDD!$C$2:$C$65385=$A10)*(BDD!$B$2:$B$65385=$M$2)) -> #DIV/0! | Q10: =SUMPRODUCT((BDD!$C$2:$C$65385=$A10)*(BDD!$B$2:$B$65385=$M$2)*(BDD!$AE$2:$AE$65385))/SUMPRODUCT((BDD!$C$2:$C$65385=$A10)*(BDD!$B$2:$B$65385=$M$2)) -> #DIV/0!
A11: Août | B11: =SUMPRODUCT((BDD!$C$2:$C$65385=A11)*(BDD!$A$2:$A$65385>0)*(BDD!$P$2:$P$65385)) -> 0 | C11: =SUMPRODUCT((BDD!$C$2:$C$65385=A11)*(BDD!$A$2:$A$65385>0)*(BDD!$P$2:$P$65385))/SUMPRODUCT((BDD!$C$2:$C$65385=A11)*(BDD!$A$2:$A$65385>0)) -> #DIV/0! | D11: =SUMPRODUCT((BDD!$C$2:$C$65385=A11)*(BDD!$A$2:$A$65385>0)*(BDD!$AA$2:$AA$65385))/SUMPRODUCT((BDD!$C$2:$C$65385=A11)*(BDD!$A$2:$A$65385>0)) -> #DIV/0! | E11: =SUMPRODUCT((BDD!$C$2:$C$65385=A11)*(BDD!$A$2:$A$65385>0)*(BDD!$AB$2:$AB$65385))/SUMPRODUCT((BDD!$C$2:$C$65385=A11)*(BDD!$A$2:$A$65385>0)) -> #DIV/0! | F11: =SUMPRODUCT((BDD!$C$2:$C$65385=A11)*(BDD!$A$2:$A$65385>0)*(BDD!$AE$2:$AE$65385))/SUMPRODUCT((BDD!$C$2:$C$65385=A11)*(BDD!$A$2:$A$65385>0)) -> #DIV/0! | H11: =SUMPRODUCT((BDD!$C$2:$C$65385=A11)*(BDD!$B$2:$B$65385=$H$2)*(BDD!$P$2:$P$65385)) -> 0 | I11: =SUMPRODUCT((BDD!$C$2:$C$65385=A11)*(BDD!$B$2:$B$65385=$H$2)*(BDD!$P$2:$P$65385))/SUMPRODUCT((BDD!$C$2:$C$65385=A11)*(BDD!$B$2:$B$65385=$H$2)) -> #DIV/0! | J11: =SUMPRODUCT((BDD!$C$2:$C$65385=$A11)*(BDD!$B$2:$B$65385=$H$2)*(BDD!$AA$2:$AA$65385))/SUMPRODUCT((BDD!$C$2:$C$65385=$A11)*(BDD!$B$2:$B$65385=$H$2)) -> #DIV/0! | K11: =SUMPRODUCT((BDD!$C$2:$C$65385=$A11)*(BDD!$B$2:$B$65385=$H$2)*(BDD!$AB$2:$AB$65385))/SUMPRODUCT((BDD!$C$2:$C$65385=$A11)*(BDD!$B$2:$B$65385=$H$2)) -> #DIV/0! | L11: =SUMPRODUCT((BDD!$C$2:$C$65385=$A11)*(BDD!$B$2:$B$65385=$H$2)*(BDD!$AE$2:$AE$65385))/SUMPRODUCT((BDD!$C$2:$C$65385=$A11)*(BDD!$B$2:$B$65385=$H$2)) -> #DIV/0! | M11: =SUMPRODUCT((BDD!$C$2:$C$65385=A11)*(BDD!$B$2:$B$65385=$M$2)*(BDD!$P$2:$P$65385)) -> 0 | N11: =SUMPRODUCT((BDD!$C$2:$C$65385=A11)*(BDD!$B$2:$B$65385=$M$2)*(BDD!$P$2:$P$65385))/SUMPRODUCT((BDD!$C$2:$C$65385=A11)*(BDD!$B$2:$B$65385=$M$2)) -> #DIV/0! | O11: =SUMPRODUCT((BDD!$C$2:$C$65385=$A11)*(BDD!$B$2:$B$65385=$M$2)*(BDD!$AA$2:$AA$65385))/SUMPRODUCT((BDD!$C$2:$C$65385=$A11)*(BDD!$B$2:$B$65385=$M$2)) -> #DIV/0! | P11: =SUMPRODUCT((BDD!$C$2:$C$65385=$A11)*(BDD!$B$2:$B$65385=$M$2)*(BDD!$AB$2:$AB$65385))/SUMPRODUCT((BDD!$C$2:$C$65385=$A11)*(BDD!$B$2:$B$65385=$M$2)) -> #DIV/0! | Q11: =SUMPRODUCT((BDD!$C$2:$C$65385=$A11)*(BDD!$B$2:$B$65385=$M$2)*(BDD!$AE$2:$AE$65385))/SUMPRODUCT((BDD!$C$2:$C$65385=$A11)*(BDD!$B$2:$B$65385=$M$2)) -> #DIV/0!
A12: Septembre | B12: =SUMPRODUCT((BDD!$C$2:$C$65385=A12)*(BDD!$A$2:$A$65385>0)*(BDD!$P$2:$P$65385)) -> 0 | C12: =SUMPRODUCT((BDD!$C$2:$C$65385=A12)*(BDD!$A$2:$A$65385>0)*(BDD!$P$2:$P$65385))/SUMPRODUCT((BDD!$C$2:$C$65385=A12)*(BDD!$A$2:$A$65385>0)) -> #DIV/0! | D12: =SUMPRODUCT((BDD!$C$2:$C$65385=A12)*(BDD!$A$2:$A$65385>0)*(BDD!$AA$2:$AA$65385))/SUMPRODUCT((BDD!$C$2:$C$65385=A12)*(BDD!$A$2:$A$65385>0)) -> #DIV/0! | E12: =SUMPRODUCT((BDD!$C$2:$C$65385=A12)*(BDD!$A$2:$A$65385>0)*(BDD!$AB$2:$AB$65385))/SUMPRODUCT((BDD!$C$2:$C$65385=A12)*(BDD!$A$2:$A$65385>0)) -> #DIV/0! | F12: =SUMPRODUCT((BDD!$C$2:$C$65385=A12)*(BDD!$A$2:$A$65385>0)*(BDD!$AE$2:$AE$65385))/SUMPRODUCT((BDD!$C$2:$C$65385=A12)*(BDD!$A$2:$A$65385>0)) -> #DIV/0! | H12: =SUMPRODUCT((BDD!$C$2:$C$65385=A12)*(BDD!$B$2:$B$65385=$H$2)*(BDD!$P$2:$P$65385)) -> 0 | I12: =SUMPRODUCT((BDD!$C$2:$C$65385=A12)*(BDD!$B$2:$B$65385=$H$2)*(BDD!$P$2:$P$65385))/SUMPRODUCT((BDD!$C$2:$C$65385=A12)*(BDD!$B$2:$B$65385=$H$2)) -> #DIV/0! | J12: =SUMPRODUCT((BDD!$C$2:$C$65385=$A12)*(BDD!$B$2:$B$65385=$H$2)*(BDD!$AA$2:$AA$65385))/SUMPRODUCT((BDD!$C$2:$C$65385=$A12)*(BDD!$B$2:$B$65385=$H$2)) -> #DIV/0! | K12: =SUMPRODUCT((BDD!$C$2:$C$65385=$A12)*(BDD!$B$2:$B$65385=$H$2)*(BDD!$AB$2:$AB$65385))/SUMPRODUCT((BDD!$C$2:$C$65385=$A12)*(BDD!$B$2:$B$65385=$H$2)) -> #DIV/0! | L12: =SUMPRODUCT((BDD!$C$2:$C$65385=$A12)*(BDD!$B$2:$B$65385=$H$2)*(BDD!$AE$2:$AE$65385))/SUMPRODUCT((BDD!$C$2:$C$65385=$A12)*(BDD!$B$2:$B$65385=$H$2)) -> #DIV/0! | M12: =SUMPRODUCT((BDD!$C$2:$C$65385=A12)*(BDD!$B$2:$B$65385=$M$2)*(BDD!$P$2:$P$65385)) -> 0 | N12: =SUMPRODUCT((BDD!$C$2:$C$65385=A12)*(BDD!$B$2:$B$65385=$M$2)*(BDD!$P$2:$P$65385))/SUMPRODUCT((BDD!$C$2:$C$65385=A12)*(BDD!$B$2:$B$65385=$M$2)) -> #DIV/0! | O12: =SUMPRODUCT((BDD!$C$2:$C$65385=$A12)*(BDD!$B$2:$B$65385=$M$2)*(BDD!$AA$2:$AA$65385))/SUMPRODUCT((BDD!$C$2:$C$65385=$A12)*(BDD!$B$2:$B$65385=$M$2)) -> #DIV/0! | P12: =SUMPRODUCT((BDD!$C$2:$C$65385=$A12)*(BDD!$B$2:$B$65385=$M$2)*(BDD!$AB$2:$AB$65385))/SUMPRODUCT((BDD!$C$2:$C$65385=$A12)*(BDD!$B$2:$B$65385=$M$2)) -> #DIV/0! | Q12: =SUMPRODUCT((BDD!$C$2:$C$65385=$A12)*(BDD!$B$2:$B$65385=$M$2)*(BDD!$AE$2:$AE$65385))/SUMPRODUCT((BDD!$C$2:$C$65385=$A12)*(BDD!$B$2:$B$65385=$M$2)) -> #DIV/0!
A13: Octobre | B13: =SUMPRODUCT((BDD!$C$2:$C$65385=A13)*(BDD!$A$2:$A$65385>0)*(BDD!$P$2:$P$65385)) -> 0 | C13: =SUMPRODUCT((BDD!$C$2:$C$65385=A13)*(BDD!$A$2:$A$65385>0)*(BDD!$P$2:$P$65385))/SUMPRODUCT((BDD!$C$2:$C$65385=A13)*(BDD!$A$2:$A$65385>0)) -> #DIV/0! | D13: =SUMPRODUCT((BDD!$C$2:$C$65385=A13)*(BDD!$A$2:$A$65385>0)*(BDD!$AA$2:$AA$65385))/SUMPRODUCT((BDD!$C$2:$C$65385=A13)*(BDD!$A$2:$A$65385>0)) -> #DIV/0! | E13: =SUMPRODUCT((BDD!$C$2:$C$65385=A13)*(BDD!$A$2:$A$65385>0)*(BDD!$AB$2:$AB$65385))/SUMPRODUCT((BDD!$C$2:$C$65385=A13)*(BDD!$A$2:$A$65385>0)) -> #DIV/0! | F13: =SUMPRODUCT((BDD!$C$2:$C$65385=A13)*(BDD!$A$2:$A$65385>0)*(BDD!$AE$2:$AE$65385))/SUMPRODUCT((BDD!$C$2:$C$65385=A13)*(BDD!$A$2:$A$65385>0)) -> #DIV/0! | H13: =SUMPRODUCT((BDD!$C$2:$C$65385=A13)*(BDD!$B$2:$B$65385=$H$2)*(BDD!$P$2:$P$65385)) -> 0 | I13: =SUMPRODUCT((BDD!$C$2:$C$65385=A13)*(BDD!$B$2:$B$65385=$H$2)*(BDD!$P$2:$P$65385))/SUMPRODUCT((BDD!$C$2:$C$65385=A13)*(BDD!$B$2:$B$65385=$H$2)) -> #DIV/0! | J13: =SUMPRODUCT((BDD!$C$2:$C$65385=$A13)*(BDD!$B$2:$B$65385=$H$2)*(BDD!$AA$2:$AA$65385))/SUMPRODUCT((BDD!$C$2:$C$65385=$A13)*(BDD!$B$2:$B$65385=$H$2)) -> #DIV/0! | K13: =SUMPRODUCT((BDD!$C$2:$C$65385=$A13)*(BDD!$B$2:$B$65385=$H$2)*(BDD!$AB$2:$AB$65385))/SUMPRODUCT((BDD!$C$2:$C$65385=$A13)*(BDD!$B$2:$B$65385=$H$2)) -> #DIV/0! | L13: =SUMPRODUCT((BDD!$C$2:$C$65385=$A13)*(BDD!$B$2:$B$65385=$H$2)*(BDD!$AE$2:$AE$65385))/SUMPRODUCT((BDD!$C$2:$C$65385=$A13)*(BDD!$B$2:$B$65385=$H$2)) -> #DIV/0! | M13: =SUMPRODUCT((BDD!$C$2:$C$65385=A13)*(BDD!$B$2:$B$65385=$M$2)*(BDD!$P$2:$P$65385)) -> 0 | N13: =SUMPRODUCT((BDD!$C$2:$C$65385=A13)*(BDD!$B$2:$B$65385=$M$2)*(BDD!$P$2:$P$65385))/SUMPRODUCT((BDD!$C$2:$C$65385=A13)*(BDD!$B$2:$B$65385=$M$2)) -> #DIV/0! | O13: =SUMPRODUCT((BDD!$C$2:$C$65385=$A13)*(BDD!$B$2:$B$65385=$M$2)*(BDD!$AA$2:$AA$65385))/SUMPRODUCT((BDD!$C$2:$C$65385=$A13)*(BDD!$B$2:$B$65385=$M$2)) -> #DIV/0! | P13: =SUMPRODUCT((BDD!$C$2:$C$65385=$A13)*(BDD!$B$2:$B$65385=$M$2)*(BDD!$AB$2:$AB$65385))/SUMPRODUCT((BDD!$C$2:$C$65385=$A13)*(BDD!$B$2:$B$65385=$M$2)) -> #DIV/0! | Q13: =SUMPRODUCT((BDD!$C$2:$C$65385=$A13)*(BDD!$B$2:$B$65385=$M$2)*(BDD!$AE$2:$AE$65385))/SUMPRODUCT((BDD!$C$2:$C$65385=$A13)*(BDD!$B$2:$B$65385=$M$2)) -> #DIV/0!
A14: Novembre | B14: =SUMPRODUCT((BDD!$C$2:$C$65385=A14)*(BDD!$A$2:$A$65385>0)*(BDD!$P$2:$P$65385)) -> 0 | C14: =SUMPRODUCT((BDD!$C$2:$C$65385=A14)*(BDD!$A$2:$A$65385>0)*(BDD!$P$2:$P$65385))/SUMPRODUCT((BDD!$C$2:$C$65385=A14)*(BDD!$A$2:$A$65385>0)) -> #DIV/0! | D14: =SUMPRODUCT((BDD!$C$2:$C$65385=A14)*(BDD!$A$2:$A$65385>0)*(BDD!$AA$2:$AA$65385))/SUMPRODUCT((BDD!$C$2:$C$65385=A14)*(BDD!$A$2:$A$65385>0)) -> #DIV/0! | E14: =SUMPRODUCT((BDD!$C$2:$C$65385=A14)*(BDD!$A$2:$A$65385>0)*(BDD!$AB$2:$AB$65385))/SUMPRODUCT((BDD!$C$2:$C$65385=A14)*(BDD!$A$2:$A$65385>0)) -> #DIV/0! | F14: =SUMPRODUCT((BDD!$C$2:$C$65385=A14)*(BDD!$A$2:$A$65385>0)*(BDD!$AE$2:$AE$65385))/SUMPRODUCT((BDD!$C$2:$C$65385=A14)*(BDD!$A$2:$A$65385>0)) -> #DIV/0! | H14: =SUMPRODUCT((BDD!$C$2:$C$65385=A14)*(BDD!$B$2:$B$65385=$H$2)*(BDD!$P$2:$P$65385)) -> 0 | I14: =SUMPRODUCT((BDD!$C$2:$C$65385=A14)*(BDD!$B$2:$B$65385=$H$2)*(BDD!$P$2:$P$65385))/SUMPRODUCT((BDD!$C$2:$C$65385=A14)*(BDD!$B$2:$B$65385=$H$2)) -> #DIV/0! | J14: =SUMPRODUCT((BDD!$C$2:$C$65385=$A14)*(BDD!$B$2:$B$65385=$H$2)*(BDD!$AA$2:$AA$65385))/SUMPRODUCT((BDD!$C$2:$C$65385=$A14)*(BDD!$B$2:$B$65385=$H$2)) -> #DIV/0! | K14: =SUMPRODUCT((BDD!$C$2:$C$65385=$A14)*(BDD!$B$2:$B$65385=$H$2)*(BDD!$AB$2:$AB$65385))/SUMPRODUCT((BDD!$C$2:$C$65385=$A14)*(BDD!$B$2:$B$65385=$H$2)) -> #DIV/0! | L14: =SUMPRODUCT((BDD!$C$2:$C$65385=$A14)*(BDD!$B$2:$B$65385=$H$2)*(BDD!$AE$2:$AE$65385))/SUMPRODUCT((BDD!$C$2:$C$65385=$A14)*(BDD!$B$2:$B$65385=$H$2)) -> #DIV/0! | M14: =SUMPRODUCT((BDD!$C$2:$C$65385=A14)*(BDD!$B$2:$B$65385=$M$2)*(BDD!$P$2:$P$65385)) -> 0 | N14: =SUMPRODUCT((BDD!$C$2:$C$65385=A14)*(BDD!$B$2:$B$65385=$M$2)*(BDD!$P$2:$P$65385))/SUMPRODUCT((BDD!$C$2:$C$65385=A14)*(BDD!$B$2:$B$65385=$M$2)) -> #DIV/0! | O14: =SUMPRODUCT((BDD!$C$2:$C$65385=$A14)*(BDD!$B$2:$B$65385=$M$2)*(BDD!$AA$2:$AA$65385))/SUMPRODUCT((BDD!$C$2:$C$65385=$A14)*(BDD!$B$2:$B$65385=$M$2)) -> #DIV/0! | P14: =SUMPRODUCT((BDD!$C$2:$C$65385=$A14)*(BDD!$B$2:$B$65385=$M$2)*(BDD!$AB$2:$AB$65385))/SUMPRODUCT((BDD!$C$2:$C$65385=$A14)*(BDD!$B$2:$B$65385=$M$2)) -> #DIV/0! | Q14: =SUMPRODUCT((BDD!$C$2:$C$65385=$A14)*(BDD!$B$2:$B$65385=$M$2)*(BDD!$AE$2:$AE$65385))/SUMPRODUCT((BDD!$C$2:$C$65385=$A14)*(BDD!$B$2:$B$65385=$M$2)) -> #DIV/0!
A15: Décembre | B15: =SUMPRODUCT((BDD!$C$2:$C$65385=A15)*(BDD!$A$2:$A$65385>0)*(BDD!$P$2:$P$65385)) -> 0 | C15: =SUMPRODUCT((BDD!$C$2:$C$65385=A15)*(BDD!$A$2:$A$65385>0)*(BDD!$P$2:$P$65385))/SUMPRODUCT((BDD!$C$2:$C$65385=A15)*(BDD!$A$2:$A$65385>0)) -> #DIV/0! | D15: =SUMPRODUCT((BDD!$C$2:$C$65385=A15)*(BDD!$A$2:$A$65385>0)*(BDD!$AA$2:$AA$65385))/SUMPRODUCT((BDD!$C$2:$C$65385=A15)*(BDD!$A$2:$A$65385>0)) -> #DIV/0! | E15: =SUMPRODUCT((BDD!$C$2:$C$65385=A15)*(BDD!$A$2:$A$65385>0)*(BDD!$AB$2:$AB$65385))/SUMPRODUCT((BDD!$C$2:$C$65385=A15)*(BDD!$A$2:$A$65385>0)) -> #DIV/0! | F15: =SUMPRODUCT((BDD!$C$2:$C$65385=A15)*(BDD!$A$2:$A$65385>0)*(BDD!$AE$2:$AE$65385))/SUMPRODUCT((BDD!$C$2:$C$65385=A15)*(BDD!$A$2:$A$65385>0)) -> #DIV/0! | H15: =SUMPRODUCT((BDD!$C$2:$C$65385=A15)*(BDD!$B$2:$B$65385=$H$2)*(BDD!$P$2:$P$65385)) -> 0 | I15: =SUMPRODUCT((BDD!$C$2:$C$65385=A15)*(BDD!$B$2:$B$65385=$H$2)*(BDD!$P$2:$P$65385))/SUMPRODUCT((BDD!$C$2:$C$65385=A15)*(BDD!$B$2:$B$65385=$H$2)) -> #DIV/0! | J15: =SUMPRODUCT((BDD!$C$2:$C$65385=$A15)*(BDD!$B$2:$B$65385=$H$2)*(BDD!$AA$2:$AA$65385))/SUMPRODUCT((BDD!$C$2:$C$65385=$A15)*(BDD!$B$2:$B$65385=$H$2)) -> #DIV/0! | K15: =SUMPRODUCT((BDD!$C$2:$C$65385=$A15)*(BDD!$B$2:$B$65385=$H$2)*(BDD!$AB$2:$AB$65385))/SUMPRODUCT((BDD!$C$2:$C$65385=$A15)*(BDD!$B$2:$B$65385=$H$2)) -> #DIV/0! | L15: =SUMPRODUCT((BDD!$C$2:$C$65385=$A15)*(BDD!$B$2:$B$65385=$H$2)*(BDD!$AE$2:$AE$65385))/SUMPRODUCT((BDD!$C$2:$C$65385=$A15)*(BDD!$B$2:$B$65385=$H$2)) -> #DIV/0! | M15: =SUMPRODUCT((BDD!$C$2:$C$65385=A15)*(BDD!$B$2:$B$65385=$M$2)*(BDD!$P$2:$P$65385)) -> 0 | N15: =SUMPRODUCT((BDD!$C$2:$C$65385=A15)*(BDD!$B$2:$B$65385=$M$2)*(BDD!$P$2:$P$65385))/SUMPRODUCT((BDD!$C$2:$C$65385=A15)*(BDD!$B$2:$B$65385=$M$2)) -> #DIV/0! | O15: =SUMPRODUCT((BDD!$C$2:$C$65385=$A15)*(BDD!$B$2:$B$65385=$M$2)*(BDD!$AA$2:$AA$65385))/SUMPRODUCT((BDD!$C$2:$C$65385=$A15)*(BDD!$B$2:$B$65385=$M$2)) -> #DIV/0! | P15: =SUMPRODUCT((BDD!$C$2:$C$65385=$A15)*(BDD!$B$2:$B$65385=$M$2)*(BDD!$AB$2:$AB$65385))/SUMPRODUCT((BDD!$C$2:$C$65385=$A15)*(BDD!$B$2:$B$65385=$M$2)) -> #DIV/0! | Q15: =SUMPRODUCT((BDD!$C$2:$C$65385=$A15)*(BDD!$B$2:$B$65385=$M$2)*(BDD!$AE$2:$AE$65385))/SUMPRODUCT((BDD!$C$2:$C$65385=$A15)*(BDD!$B$2:$B$65385=$M$2)) -> #DIV/0!
B16: Ca Total (en%) | C16: CA Moyen (jour) | D16: tt | E16: Panier Moyen (jour) | F16: tt (jour) | H16: Ca Total (en%) | I16: CA Moyen (jour) | J16: tt | K16: Panier Moyen (jour) | L16: tt (jour) | M16: Ca Total (en%) | N16: CA Moyen (jour) | O16: tt | P16: Panier Moyen (jour) | Q16: tt (jour) | R16: Ca Total (en%) | S16: CA Moyen (jour) | T16: tt | U16: Panier Moyen (jour) | V16: tt (jour)
A17: Mardi | B17: =SUMPRODUCT((BDD!$E$2:$E$65385=A17)*(BDD!$A$2:$A$65385>0)*(BDD!$P$2:$P$65385))/SUMPRODUCT((BDD!$A$2:$A$65385>0)*(BDD!$P$2:$P$65385)) -> 0.11188811 | C17: =SUMPRODUCT((BDD!$E$2:$E$65385=$A17)*(BDD!$A$2:$A$65385>0)*(BDD!$P$2:$P$65385))/SUMPRODUCT((BDD!$E$2:$E$65385=$A17)*(BDD!$A$2:$A$65385>0)) -> 16 | D17: =SUMPRODUCT((BDD!$E$2:$E$65385=$A17)*(BDD!$A$2:$A$65385>0)*(BDD!$AA$2:$AA$65385))/SUMPRODUCT((BDD!$E$2:$E$65385=$A17)*(BDD!$A$2:$A$65385>0)) -> 250.66667 | E17: =SUMPRODUCT((BDD!$E$2:$E$65385=$A17)*(BDD!$A$2:$A$65385>0)*(BDD!$AB$2:$AB$65385))/SUMPRODUCT((BDD!$E$2:$E$65385=$A17)*(BDD!$A$2:$A$65385>0)) -> 0.053969002 | F17: =SUMPRODUCT((BDD!$E$2:$E$65385=$A17)*(BDD!$A$2:$A$65385>0)*(BDD!$AE$2:$AE$65385))/SUMPRODUCT((BDD!$E$2:$E$65385=$A17)*(BDD!$A$2:$A$65385>0)) -> 310.33333 | H17: =SUMPRODUCT((BDD!$E$2:$E$65385=$A17)*(BDD!$B$2:$B$65385=$H$2)*(BDD!$P$2:$P$65385))/SUMPRODUCT((BDD!$B$2:$B$65385=$H$2)*(BDD!$P$2:$P$65385)) -> 0.11188811 | I17: =SUMPRODUCT((BDD!$E$2:$E$65385=$A17)*(BDD!$B$2:$B$65385=$H$2)*(BDD!$P$2:$P$65385))/SUMPRODUCT((BDD!$E$2:$E$65385=$A17)*(BDD!$B$2:$B$65385=$H$2)) -> 16 | J17: =SUMPRODUCT((BDD!$E$2:$E$65385=$A17)*(BDD!$B$2:$B$65385=$H$2)*(BDD!$AA$2:$AA$65385))/SUMPRODUCT((BDD!$E$2:$E$65385=$A17)*(BDD!$B$2:$B$65385=$H$2)) -> 250.66667 | K17: =SUMPRODUCT((BDD!$E$2:$E$65385=$A17)*(BDD!$B$2:$B$65385=$H$2)*(BDD!$AB$2:$AB$65385))/SUMPRODUCT((BDD!$E$2:$E$65385=$A17)*(BDD!$B$2:$B$65385=$H$2)) -> 0.053969002 | L17: =SUMPRODUCT((BDD!$E$2:$E$65385=$A17)*(BDD!$B$2:$B$65385=$H$2)*(BDD!$AE$2:$AE$65385))/SUMPRODUCT((BDD!$E$2:$E$65385=$A17)*(BDD!$B$2:$B$65385=$H$2)) -> 310.33333 | M17: =SUMPRODUCT((BDD!$E$2:$E$65385=$A17)*(BDD!$B$2:$B$65385=$M$2)*(BDD!$P$2:$P$65385))/SUMPRODUCT((BDD!$B$2:$B$65385=$M$2)*(BDD!$P$2:$P$65385)) -> #DIV/0! | N17: =SUMPRODUCT((BDD!$E$2:$E$65385=$A17)*(BDD!$B$2:$B$65385=$M$2)*(BDD!$P$2:$P$65385))/SUMPRODUCT((BDD!$E$2:$E$65385=$A17)*(BDD!$B$2:$B$65385=$M$2)) -> #DIV/0! | O17: =SUMPRODUCT((BDD!$E$2:$E$65385=$A17)*(BDD!$B$2:$B$65385=$M$2)*(BDD!$AA$2:$AA$65385))/SUMPRODUCT((BDD!$E$2:$E$65385=$A17)*(BDD!$B$2:$B$65385=$M$2)) -> #DIV/0! | P17: =SUMPRODUCT((BDD!$E$2:$E$65385=$A17)*(BDD!$B$2:$B$65385=$M$2)*(BDD!$AB$2:$AB$65385))/SUMPRODUCT((BDD!$E$2:$E$65385=$A17)*(BDD!$B$2:$B$65385=$M$2)) -> #DIV/0! | Q17: =SUMPRODUCT((BDD!$E$2:$E$65385=$A17)*(BDD!$B$2:$B$65385=$M$2)*(BDD!$AE$2:$AE$65385))/SUMPRODUCT((BDD!$E$2:$E$65385=$A17)*(BDD!$B$2:$B$65385=$M$2)) -> #DIV/0!
A18: Mercredi | B18: =SUMPRODUCT((BDD!$E$2:$E$65385=A18)*(BDD!$A$2:$A$65385>0)*(BDD!$P$2:$P$65385))/SUMPRODUCT((BDD!$A$2:$A$65385>0)*(BDD!$P$2:$P$65385)) -> 0.11888112 | C18: =SUMPRODUCT((BDD!$E$2:$E$65385=$A18)*(BDD!$A$2:$A$65385>0)*(BDD!$P$2:$P$65385))/SUMPRODUCT((BDD!$E$2:$E$65385=$A18)*(BDD!$A$2:$A$65385>0)) -> 17 | D18: =SUMPRODUCT((BDD!$E$2:$E$65385=$A18)*(BDD!$A$2:$A$65385>0)*(BDD!$AA$2:$AA$65385))/SUMPRODUCT((BDD!$E$2:$E$65385=$A18)*(BDD!$A$2:$A$65385>0)) -> 226 | E18: =SUMPRODUCT((BDD!$E$2:$E$65385=$A18)*(BDD!$A$2:$A$65385>0)*(BDD!$AB$2:$AB$65385))/SUMPRODUCT((BDD!$E$2:$E$65385=$A18)*(BDD!$A$2:$A$65385>0)) -> 0.06336188 | F18: =SUMPRODUCT((BDD!$E$2:$E$65385=$A18)*(BDD!$A$2:$A$65385>0)*(BDD!$AE$2:$AE$65385))/SUMPRODUCT((BDD!$E$2:$E$65385=$A18)*(BDD!$A$2:$A$65385>0)) -> 253 | H18: =SUMPRODUCT((BDD!$E$2:$E$65385=$A18)*(BDD!$B$2:$B$65385=$H$2)*(BDD!$P$2:$P$65385))/SUMPRODUCT((BDD!$B$2:$B$65385=$H$2)*(BDD!$P$2:$P$65385)) -> 0.11888112 | I18: =SUMPRODUCT((BDD!$E$2:$E$65385=$A18)*(BDD!$B$2:$B$65385=$H$2)*(BDD!$P$2:$P$65385))/SUMPRODUCT((BDD!$E$2:$E$65385=$A18)*(BDD!$B$2:$B$65385=$H$2)) -> 17 | J18: =SUMPRODUCT((BDD!$E$2:$E$65385=$A18)*(BDD!$B$2:$B$65385=$H$2)*(BDD!$AA$2:$AA$65385))/SUMPRODUCT((BDD!$E$2:$E$65385=$A18)*(BDD!$B$2:$B$65385=$H$2)) -> 226 | K18: =SUMPRODUCT((BDD!$E$2:$E$65385=$A18)*(BDD!$B$2:$B$65385=$H$2)*(BDD!$AB$2:$AB$65385))/SUMPRODUCT((BDD!$E$2:$E$65385=$A18)*(BDD!$B$2:$B$65385=$H$2)) -> 0.06336188 | L18: =SUMPRODUCT((BDD!$E$2:$E$65385=$A18)*(BDD!$B$2:$B$65385=$H$2)*(BDD!$AE$2:$AE$65385))/SUMPRODUCT((BDD!$E$2:$E$65385=$A18)*(BDD!$B$2:$B$65385=$H$2)) -> 253 | M18: =SUMPRODUCT((BDD!$E$2:$E$65385=$A18)*(BDD!$B$2:$B$65385=$M$2)*(BDD!$P$2:$P$65385))/SUMPRODUCT((BDD!$B$2:$B$65385=$M$2)*(BDD!$P$2:$P$65385)) -> #DIV/0! | N18: =SUMPRODUCT((BDD!$E$2:$E$65385=$A18)*(BDD!$B$2:$B$65385=$M$2)*(BDD!$P$2:$P$65385))/SUMPRODUCT((BDD!$E$2:$E$65385=$A18)*(BDD!$B$2:$B$65385=$M$2)) -> #DIV/0! | O18: =SUMPRODUCT((BDD!$E$2:$E$65385=$A18)*(BDD!$B$2:$B$65385=$M$2)*(BDD!$AA$2:$AA$65385))/SUMPRODUCT((BDD!$E$2:$E$65385=$A18)*(BDD!$B$2:$B$65385=$M$2)) -> #DIV/0! | P18: =SUMPRODUCT((BDD!$E$2:$E$65385=$A18)*(BDD!$B$2:$B$65385=$M$2)*(BDD!$AB$2:$AB$65385))/SUMPRODUCT((BDD!$E$2:$E$65385=$A18)*(BDD!$B$2:$B$65385=$M$2)) -> #DIV/0! | Q18: =SUMPRODUCT((BDD!$E$2:$E$65385=$A18)*(BDD!$B$2:$B$65385=$M$2)*(BDD!$AE$2:$AE$65385))/SUMPRODUCT((BDD!$E$2:$E$65385=$A18)*(BDD!$B$2:$B$65385=$M$2)) -> #DIV/0!
A19: Jeudi | B19: =SUMPRODUCT((BDD!$E$2:$E$65385=A19)*(BDD!$A$2:$A$65385>0)*(BDD!$P$2:$P$65385))/SUMPRODUCT((BDD!$A$2:$A$65385>0)*(BDD!$P$2:$P$65385)) -> 0.13519814 | C19: =SUMPRODUCT((BDD!$E$2:$E$65385=$A19)*(BDD!$A$2:$A$65385>0)*(BDD!$P$2:$P$65385))/SUMPRODUCT((BDD!$E$2:$E$65385=$A19)*(BDD!$A$2:$A$65385>0)) -> 14.5 | D19: =SUMPRODUCT((BDD!$E$2:$E$65385=$A19)*(BDD!$A$2:$A$65385>0)*(BDD!$AA$2:$AA$65385))/SUMPRODUCT((BDD!$E$2:$E$65385=$A19)*(BDD!$A$2:$A$65385>0)) -> 230.75 | E19: =SUMPRODUCT((BDD!$E$2:$E$65385=$A19)*(BDD!$A$2:$A$65385>0)*(BDD!$AB$2:$AB$65385))/SUMPRODUCT((BDD!$E$2:$E$65385=$A19)*(BDD!$A$2:$A$65385>0)) -> 0.051534711 | F19: =SUMPRODUCT((BDD!$E$2:$E$65385=$A19)*(BDD!$A$2:$A$65385>0)*(BDD!$AE$2:$AE$65385))/SUMPRODUCT((BDD!$E$2:$E$65385=$A19)*(BDD!$A$2:$A$65385>0)) -> 268.5 | H19: =SUMPRODUCT((BDD!$E$2:$E$65385=$A19)*(BDD!$B$2:$B$65385=$H$2)*(BDD!$P$2:$P$65385))/SUMPRODUCT((BDD!$B$2:$B$65385=$H$2)*(BDD!$P$2:$P$65385)) -> 0.13519814 | I19: =SUMPRODUCT((BDD!$E$2:$E$65385=$A19)*(BDD!$B$2:$B$65385=$H$2)*(BDD!$P$2:$P$65385))/SUMPRODUCT((BDD!$E$2:$E$65385=$A19)*(BDD!$B$2:$B$65385=$H$2)) -> 14.5 | J19: =SUMPRODUCT((BDD!$E$2:$E$65385=$A19)*(BDD!$B$2:$B$65385=$H$2)*(BDD!$AA$2:$AA$65385))/SUMPRODUCT((BDD!$E$2:$E$65385=$A19)*(BDD!$B$2:$B$65385=$H$2)) -> 230.75 | K19: =SUMPRODUCT((BDD!$E$2:$E$65385=$A19)*(BDD!$B$2:$B$65385=$H$2)*(BDD!$AB$2:$AB$65385))/SUMPRODUCT((BDD!$E$2:$E$65385=$A19)*(BDD!$B$2:$B$65385=$H$2)) -> 0.051534711 | L19: =SUMPRODUCT((BDD!$E$2:$E$65385=$A19)*(BDD!$B$2:$B$65385=$H$2)*(BDD!$AE$2:$AE$65385))/SUMPRODUCT((BDD!$E$2:$E$65385=$A19)*(BDD!$B$2:$B$65385=$H$2)) -> 268.5 | M19: =SUMPRODUCT((BDD!$E$2:$E$65385=$A19)*(BDD!$B$2:$B$65385=$M$2)*(BDD!$P$2:$P$65385))/SUMPRODUCT((BDD!$B$2:$B$65385=$M$2)*(BDD!$P$2:$P$65385)) -> #DIV/0! | N19: =SUMPRODUCT((BDD!$E$2:$E$65385=$A19)*(BDD!$B$2:$B$65385=$M$2)*(BDD!$P$2:$P$65385))/SUMPRODUCT((BDD!$E$2:$E$65385=$A19)*(BDD!$B$2:$B$65385=$M$2)) -> #DIV/0! | O19: =SUMPRODUCT((BDD!$E$2:$E$65385=$A19)*(BDD!$B$2:$B$65385=$M$2)*(BDD!$AA$2:$AA$65385))/SUMPRODUCT((BDD!$E$2:$E$65385=$A19)*(BDD!$B$2:$B$65385=$M$2)) -> #DIV/0! | P19: =SUMPRODUCT((BDD!$E$2:$E$65385=$A19)*(BDD!$B$2:$B$65385=$M$2)*(BDD!$AB$2:$AB$65385))/SUMPRODUCT((BDD!$E$2:$E$65385=$A19)*(BDD!$B$2:$B$65385=$M$2)) -> #DIV/0! | Q19: =SUMPRODUCT((BDD!$E$2:$E$65385=$A19)*(BDD!$B$2:$B$65385=$M$2)*(BDD!$AE$2:$AE$65385))/SUMPRODUCT((BDD!$E$2:$E$65385=$A19)*(BDD!$B$2:$B$65385=$M$2)) -> #DIV/0!
A20: Vendredi | B20: =SUMPRODUCT((BDD!$E$2:$E$65385=A20)*(BDD!$A$2:$A$65385>0)*(BDD!$P$2:$P$65385))/SUMPRODUCT((BDD!$A$2:$A$65385>0)*(BDD!$P$2:$P$65385)) -> 0.14452214 | C20: =SUMPRODUCT((BDD!$E$2:$E$65385=$A20)*(BDD!$A$2:$A$65385>0)*(BDD!$P$2:$P$65385))/SUMPRODUCT((BDD!$E$2:$E$65385=$A20)*(BDD!$A$2:$A$65385>0)) -> 15.5 | D20: =SUMPRODUCT((BDD!$E$2:$E$65385=$A20)*(BDD!$A$2:$A$65385>0)*(BDD!$AA$2:$AA$65385))/SUMPRODUCT((BDD!$E$2:$E$65385=$A20)*(BDD!$A$2:$A$65385>0)) -> 234.5 | E20: =SUMPRODUCT((BDD!$E$2:$E$65385=$A20)*(BDD!$A$2:$A$65385>0)*(BDD!$AB$2:$AB$65385))/SUMPRODUCT((BDD!$E$2:$E$65385=$A20)*(BDD!$A$2:$A$65385>0)) -> 0.053717416 | F20: =SUMPRODUCT((BDD!$E$2:$E$65385=$A20)*(BDD!$A$2:$A$65385>0)*(BDD!$AE$2:$AE$65385))/SUMPRODUCT((BDD!$E$2:$E$65385=$A20)*(BDD!$A$2:$A$65385>0)) -> 251.25 | H20: =SUMPRODUCT((BDD!$E$2:$E$65385=$A20)*(BDD!$B$2:$B$65385=$H$2)*(BDD!$P$2:$P$65385))/SUMPRODUCT((BDD!$B$2:$B$65385=$H$2)*(BDD!$P$2:$P$65385)) -> 0.14452214 | I20: =SUMPRODUCT((BDD!$E$2:$E$65385=$A20)*(BDD!$B$2:$B$65385=$H$2)*(BDD!$P$2:$P$65385))/SUMPRODUCT((BDD!$E$2:$E$65385=$A20)*(BDD!$B$2:$B$65385=$H$2)) -> 15.5 | J20: =SUMPRODUCT((BDD!$E$2:$E$65385=$A20)*(BDD!$B$2:$B$65385=$H$2)*(BDD!$AA$2:$AA$65385))/SUMPRODUCT((BDD!$E$2:$E$65385=$A20)*(BDD!$B$2:$B$65385=$H$2)) -> 234.5 | K20: =SUMPRODUCT((BDD!$E$2:$E$65385=$A20)*(BDD!$B$2:$B$65385=$H$2)*(BDD!$AB$2:$AB$65385))/SUMPRODUCT((BDD!$E$2:$E$65385=$A20)*(BDD!$B$2:$B$65385=$H$2)) -> 0.053717416 | L20: =SUMPRODUCT((BDD!$E$2:$E$65385=$A20)*(BDD!$B$2:$B$65385=$H$2)*(BDD!$AE$2:$AE$65385))/SUMPRODUCT((BDD!$E$2:$E$65385=$A20)*(BDD!$B$2:$B$65385=$H$2)) -> 251.25 | M20: =SUMPRODUCT((BDD!$E$2:$E$65385=$A20)*(BDD!$B$2:$B$65385=$M$2)*(BDD!$P$2:$P$65385))/SUMPRODUCT((BDD!$B$2:$B$65385=$M$2)*(BDD!$P$2:$P$65385)) -> #DIV/0! | N20: =SUMPRODUCT((BDD!$E$2:$E$65385=$A20)*(BDD!$B$2:$B$65385=$M$2)*(BDD!$P$2:$P$65385))/SUMPRODUCT((BDD!$E$2:$E$65385=$A20)*(BDD!$B$2:$B$65385=$M$2)) -> #DIV/0! | O20: =SUMPRODUCT((BDD!$E$2:$E$65385=$A20)*(BDD!$B$2:$B$65385=$M$2)*(BDD!$AA$2:$AA$65385))/SUMPRODUCT((BDD!$E$2:$E$65385=$A20)*(BDD!$B$2:$B$65385=$M$2)) -> #DIV/0! | P20: =SUMPRODUCT((BDD!$E$2:$E$65385=$A20)*(BDD!$B$2:$B$65385=$M$2)*(BDD!$AB$2:$AB$65385))/SUMPRODUCT((BDD!$E$2:$E$65385=$A20)*(BDD!$B$2:$B$65385=$M$2)) -> #DIV/0! | Q20: =SUMPRODUCT((BDD!$E$2:$E$65385=$A20)*(BDD!$B$2:$B$65385=$M$2)*(BDD!$AE$2:$AE$65385))/SUMPRODUCT((BDD!$E$2:$E$65385=$A20)*(BDD!$B$2:$B$65385=$M$2)) -> #DIV/0!
A21: Samedi | B21: =SUMPRODUCT((BDD!$E$2:$E$65385=A21)*(BDD!$A$2:$A$65385>0)*(BDD!$P$2:$P$65385))/SUMPRODUCT((BDD!$A$2:$A$65385>0)*(BDD!$P$2:$P$65385)) -> 0.15384615 | C21: =SUMPRODUCT((BDD!$E$2:$E$65385=$A21)*(BDD!$A$2:$A$65385>0)*(BDD!$P$2:$P$65385))/SUMPRODUCT((BDD!$E$2:$E$65385=$A21)*(BDD!$A$2:$A$65385>0)) -> 16.5 | D21: =SUMPRODUCT((BDD!$E$2:$E$65385=$A21)*(BDD!$A$2:$A$65385>0)*(BDD!$AA$2:$AA$65385))/SUMPRODUCT((BDD!$E$2:$E$65385=$A21)*(BDD!$A$2:$A$65385>0)) -> 251.5 | E21: =SUMPRODUCT((BDD!$E$2:$E$65385=$A21)*(BDD!$A$2:$A$65385>0)*(BDD!$AB$2:$AB$65385))/SUMPRODUCT((BDD!$E$2:$E$65385=$A21)*(BDD!$A$2:$A$65385>0)) -> 0.051600073 | F21: =SUMPRODUCT((BDD!$E$2:$E$65385=$A21)*(BDD!$A$2:$A$65385>0)*(BDD!$AE$2:$AE$65385))/SUMPRODUCT((BDD!$E$2:$E$65385=$A21)*(BDD!$A$2:$A$65385>0)) -> 301.25 | H21: =SUMPRODUCT((BDD!$E$2:$E$65385=$A21)*(BDD!$B$2:$B$65385=$H$2)*(BDD!$P$2:$P$65385))/SUMPRODUCT((BDD!$B$2:$B$65385=$H$2)*(BDD!$P$2:$P$65385)) -> 0.15384615 | I21: =SUMPRODUCT((BDD!$E$2:$E$65385=$A21)*(BDD!$B$2:$B$65385=$H$2)*(BDD!$P$2:$P$65385))/SUMPRODUCT((BDD!$E$2:$E$65385=$A21)*(BDD!$B$2:$B$65385=$H$2)) -> 16.5 | J21: =SUMPRODUCT((BDD!$E$2:$E$65385=$A21)*(BDD!$B$2:$B$65385=$H$2)*(BDD!$AA$2:$AA$65385))/SUMPRODUCT((BDD!$E$2:$E$65385=$A21)*(BDD!$B$2:$B$65385=$H$2)) -> 251.5 | K21: =SUMPRODUCT((BDD!$E$2:$E$65385=$A21)*(BDD!$B$2:$B$65385=$H$2)*(BDD!$AB$2:$AB$65385))/SUMPRODUCT((BDD!$E$2:$E$65385=$A21)*(BDD!$B$2:$B$65385=$H$2)) -> 0.051600073 | L21: =SUMPRODUCT((BDD!$E$2:$E$65385=$A21)*(BDD!$B$2:$B$65385=$H$2)*(BDD!$AE$2:$AE$65385))/SUMPRODUCT((BDD!$E$2:$E$65385=$A21)*(BDD!$B$2:$B$65385=$H$2)) -> 301.25 | M21: =SUMPRODUCT((BDD!$E$2:$E$65385=$A21)*(BDD!$B$2:$B$65385=$M$2)*(BDD!$P$2:$P$65385))/SUMPRODUCT((BDD!$B$2:$B$65385=$M$2)*(BDD!$P$2:$P$65385)) -> #DIV/0! | N21: =SUMPRODUCT((BDD!$E$2:$E$65385=$A21)*(BDD!$B$2:$B$65385=$M$2)*(BDD!$P$2:$P$65385))/SUMPRODUCT((BDD!$E$2:$E$65385=$A21)*(BDD!$B$2:$B$65385=$M$2)) -> #DIV/0! | O21: =SUMPRODUCT((BDD!$E$2:$E$65385=$A21)*(BDD!$B$2:$B$65385=$M$2)*(BDD!$AA$2:$AA$65385))/SUMPRODUCT((BDD!$E$2:$E$65385=$A21)*(BDD!$B$2:$B$65385=$M$2)) -> #DIV/0! | P21: =SUMPRODUCT((BDD!$E$2:$E$65385=$A21)*(BDD!$B$2:$B$65385=$M$2)*(BDD!$AB$2:$AB$65385))/SUMPRODUCT((BDD!$E$2:$E$65385=$A21)*(BDD!$B$2:$B$65385=$M$2)) -> #DIV/0! | Q21: =SUMPRODUCT((BDD!$E$2:$E$65385=$A21)*(BDD!$B$2:$B$65385=$M$2)*(BDD!$AE$2:$AE$65385))/SUMPRODUCT((BDD!$E$2:$E$65385=$A21)*(BDD!$B$2:$B$65385=$M$2)) -> #DIV/0!
A22: Dimanche | B22: =SUMPRODUCT((BDD!$E$2:$E$65385=A22)*(BDD!$A$2:$A$65385>0)*(BDD!$P$2:$P$65385))/SUMPRODUCT((BDD!$A$2:$A$65385>0)*(BDD!$P$2:$P$65385)) -> 0.16317016 | C22: =SUMPRODUCT((BDD!$E$2:$E$65385=$A22)*(BDD!$A$2:$A$65385>0)*(BDD!$P$2:$P$65385))/SUMPRODUCT((BDD!$E$2:$E$65385=$A22)*(BDD!$A$2:$A$65385>0)) -> 17.5 | D22: =SUMPRODUCT((BDD!$E$2:$E$65385=$A22)*(BDD!$A$2:$A$65385>0)*(BDD!$AA$2:$AA$65385))/SUMPRODUCT((BDD!$E$2:$E$65385=$A22)*(BDD!$A$2:$A$65385>0)) -> 250.25 | E22: =SUMPRODUCT((BDD!$E$2:$E$65385=$A22)*(BDD!$A$2:$A$65385>0)*(BDD!$AB$2:$AB$65385))/SUMPRODUCT((BDD!$E$2:$E$65385=$A22)*(BDD!$A$2:$A$65385>0)) -> 0.057307682 | F22: =SUMPRODUCT((BDD!$E$2:$E$65385=$A22)*(BDD!$A$2:$A$65385>0)*(BDD!$AE$2:$AE$65385))/SUMPRODUCT((BDD!$E$2:$E$65385=$A22)*(BDD!$A$2:$A$65385>0)) -> 309.75 | H22: =SUMPRODUCT((BDD!$E$2:$E$65385=$A22)*(BDD!$B$2:$B$65385=$H$2)*(BDD!$P$2:$P$65385))/SUMPRODUCT((BDD!$B$2:$B$65385=$H$2)*(BDD!$P$2:$P$65385)) -> 0.16317016 | I22: =SUMPRODUCT((BDD!$E$2:$E$65385=$A22)*(BDD!$B$2:$B$65385=$H$2)*(BDD!$P$2:$P$65385))/SUMPRODUCT((BDD!$E$2:$E$65385=$A22)*(BDD!$B$2:$B$65385=$H$2)) -> 17.5 | J22: =SUMPRODUCT((BDD!$E$2:$E$65385=$A22)*(BDD!$B$2:$B$65385=$H$2)*(BDD!$AA$2:$AA$65385))/SUMPRODUCT((BDD!$E$2:$E$65385=$A22)*(BDD!$B$2:$B$65385=$H$2)) -> 250.25 | K22: =SUMPRODUCT((BDD!$E$2:$E$65385=$A22)*(BDD!$B$2:$B$65385=$H$2)*(BDD!$AB$2:$AB$65385))/SUMPRODUCT((BDD!$E$2:$E$65385=$A22)*(BDD!$B$2:$B$65385=$H$2)) -> 0.057307682 | L22: =SUMPRODUCT((BDD!$E$2:$E$65385=$A22)*(BDD!$B$2:$B$65385=$H$2)*(BDD!$AE$2:$AE$65385))/SUMPRODUCT((BDD!$E$2:$E$65385=$A22)*(BDD!$B$2:$B$65385=$H$2)) -> 309.75 | M22: =SUMPRODUCT((BDD!$E$2:$E$65385=$A22)*(BDD!$B$2:$B$65385=$M$2)*(BDD!$P$2:$P$65385))/SUMPRODUCT((BDD!$B$2:$B$65385=$M$2)*(BDD!$P$2:$P$65385)) -> #DIV/0! | N22: =SUMPRODUCT((BDD!$E$2:$E$65385=$A22)*(BDD!$B$2:$B$65385=$M$2)*(BDD!$P$2:$P$65385))/SUMPRODUCT((BDD!$E$2:$E$65385=$A22)*(BDD!$B$2:$B$65385=$M$2)) -> #DIV/0! | O22: =SUMPRODUCT((BDD!$E$2:$E$65385=$A22)*(BDD!$B$2:$B$65385=$M$2)*(BDD!$AA$2:$AA$65385))/SUMPRODUCT((BDD!$E$2:$E$65385=$A22)*(BDD!$B$2:$B$65385=$M$2)) -> #DIV/0! | P22: =SUMPRODUCT((BDD!$E$2:$E$65385=$A22)*(BDD!$B$2:$B$65385=$M$2)*(BDD!$AB$2:$AB$65385))/SUMPRODUCT((BDD!$E$2:$E$65385=$A22)*(BDD!$B$2:$B$65385=$M$2)) -> #DIV/0! | Q22: =SUMPRODUCT((BDD!$E$2:$E$65385=$A22)*(BDD!$B$2:$B$65385=$M$2)*(BDD!$AE$2:$AE$65385))/SUMPRODUCT((BDD!$E$2:$E$65385=$A22)*(BDD!$B$2:$B$65385=$M$2)) -> #DIV/0!
B23: =SUM(B17:B22) -> 0.82750583 | C23: =SUMPRODUCT((BDD!$A$2:$A$65385>0)*(BDD!$P$2:$P$65385))/SUMPRODUCT((BDD!$A$2:$A$65385>0)*(BDD!$B$2:$B$65385>0)) -> 16.5 | D23: =SUMPRODUCT((BDD!$A$2:$A$65385>0)*(BDD!$AA$2:$AA$65385))/SUMPRODUCT((BDD!$A$2:$A$65385>0)*(BDD!$B$2:$B$65385>0)) -> 240.96154 | E23: =SUMPRODUCT((BDD!$E$2:$E$65385>0)*(BDD!$A$2:$A$65385>0)*(BDD!$AB$2:$AB$65385))/SUMPRODUCT((BDD!$E$2:$E$65385>0)*(BDD!$A$2:$A$65385>0)) -> 0.05656102 | F23: =SUMPRODUCT((BDD!$E$2:$E$65385>0)*(BDD!$A$2:$A$65385>0)*(BDD!$AE$2:$AE$65385))/SUMPRODUCT((BDD!$E$2:$E$65385>0)*(BDD!$A$2:$A$65385>0)) -> 288.61538 | H23: =SUM(H17:H22) -> 0.82750583 | I23: =SUMPRODUCT((BDD!$B$2:$B$65385=$H$2)*(BDD!$P$2:$P$65385))/SUMPRODUCT((BDD!$A$2:$A$65385>0)*(BDD!$B$2:$B$65385=$H$2)) -> 16.5 | J23: =SUMPRODUCT((BDD!$E$2:$E$65385>0)*(BDD!$B$2:$B$65385=$H$2)*(BDD!$AA$2:$AA$65385))/SUMPRODUCT((BDD!$E$2:$E$65385>0)*(BDD!$B$2:$B$65385=$H$2)) -> 240.96154 | K23: =SUMPRODUCT((BDD!$E$2:$E$65385>0)*(BDD!$B$2:$B$65385=$H$2)*(BDD!$AB$2:$AB$65385))/SUMPRODUCT((BDD!$E$2:$E$65385>0)*(BDD!$B$2:$B$65385=$H$2)) -> 0.05656102 | L23: =SUMPRODUCT((BDD!$E$2:$E$65385>0)*(BDD!$B$2:$B$65385=$H$2)*(BDD!$AE$2:$AE$65385))/SUMPRODUCT((BDD!$E$2:$E$65385>0)*(BDD!$B$2:$B$65385=$H$2)) -> 288.61538 | M23: =SUM(M17:M22) -> #DIV/0! | N23: =SUMPRODUCT((BDD!$E$2:$E$65385>0)*(BDD!$B$2:$B$65385=$M$2)*(BDD!$P$2:$P$65385))/SUMPRODUCT((BDD!$E$2:$E$65385>0)*(BDD!$B$2:$B$65385=$M$2)) -> #DIV/0! | O23: =SUMPRODUCT((BDD!$E$2:$E$65385>0)*(BDD!$B$2:$B$65385=$M$2)*(BDD!$AA$2:$AA$65385))/SUMPRODUCT((BDD!$E$2:$E$65385>0)*(BDD!$B$2:$B$65385=$M$2)) -> #DIV/0! | P23: =SUMPRODUCT((BDD!$E$2:$E$65385>0)*(BDD!$B$2:$B$65385=$M$2)*(BDD!$AB$2:$AB$65385))/SUMPRODUCT((BDD!$E$2:$E$65385>0)*(BDD!$B$2:$B$65385=$M$2)) -> #DIV/0! | Q23: =SUMPRODUCT((BDD!$E$2:$E$65385>0)*(BDD!$B$2:$B$65385=$M$2)*(BDD!$AE$2:$AE$65385))/SUMPRODUCT((BDD!$E$2:$E$65385>0)*(BDD!$B$2:$B$65385=$M$2)) -> #DIV/0!
B26: CB | C26: Espèces | D26: Chèques | H26: CA Hors Salé | I26: CA Salé | J26: CA Journaux
B27: =SUM(BDD!X:X) -> 351 | C27: =SUM(BDD!W:W) -> 351 | D27: =SUM(BDD!Z:Z) -> 351 | H27: =SUM(BDD!F:F)+SUM(BDD!L:L) -> 377 | I27: =SUM(BDD!I:I) -> 26 | J27: =SUM(BDD!O:O) -> 26
B28: =B27/SUM($B$27:$D$27) -> 0.33333333 | C28: =C27/SUM($B$27:$D$27) -> 0.33333333 | D28: =D27/SUM($B$27:$D$27) -> 0.33333333 | H28: =H27/SUM($B$27:$D$27) -> 0.35802469 | I28: =I27/SUM($B$27:$D$27) -> 0.024691358 | J28: =J27/SUM($B$27:$D$27) -> 0.024691358

Sheet Statistiques Semaines
A1: 2016 | G1: 2017
A2: Semaine | B2: CA (HT) | C2: Nb Clients | D2: Panier Moyen | E2: 42370 | G2: Semaine | H2: CA (HT) | I2: Nb Clients | J2: Panier Moyen | K2: 42737
E3: 42736 | K3: 43100
A4: 1 | B4: =SUMPRODUCT((BDD!$D$2:$D$65385=$A4)*(BDD!$A$2:$A$65385>=$E$2)*(BDD!$A$2:$A$65385<=$E$3)*(BDD!$P$2:$P$65385)) -> 0 | C4: =SUMPRODUCT((BDD!$D$2:$D$65385=$A4)*(BDD!$A$2:$A$65385>=$E$2)*(BDD!$A$2:$A$65385<=$E$3)*(BDD!$AA$2:$AA$65385)) -> 0 | D4: =SUMPRODUCT((BDD!$D$2:$D$65385=$A4)*(BDD!$A$2:$A$65385>=$E$2)*(BDD!$A$2:$A$65385<=$E$3)*(BDD!$AB$2:$AB$65385))/SUMPRODUCT((BDD!$D$2:$D$65385=$A4)*(BDD!$A$2:$A$65385>=$E$2)*(BDD!$A$2:$A$65385<=$E$3)) -> #DIV/0! | G4: 1 | H4: =SUMPRODUCT((BDD!$D$2:$D$65385=$G4)*(BDD!$A$2:$A$65385>=$K$2)*(BDD!$A$2:$A$65385<=$K$3)*(BDD!$P$2:$P$65385)) -> 0 | I4: =SUMPRODUCT((BDD!$D$2:$D$65385=$G4)*(BDD!$A$2:$A$65385>=$K$2)*(BDD!$A$2:$A$65385<=$K$3)*(BDD!$AA$2:$AA$65385)) -> 0 | J4: =SUMPRODUCT((BDD!$D$2:$D$65385=$G4)*(BDD!$A$2:$A$65385>=$K$2)*(BDD!$A$2:$A$65385<=$K$3)*(BDD!$AB$2:$AB$65385))/SUMPRODUCT((BDD!$D$2:$D$65385=$G4)*(BDD!$A$2:$A$65385>=$K$2)*(BDD!$A$2:$A$65385<=$K$3)) -> #DIV/0!
A5: 2 | B5: =SUMPRODUCT((BDD!$D$2:$D$65385=$A5)*(BDD!$A$2:$A$65385>=$E$2)*(BDD!$A$2:$A$65385<=$E$3)*(BDD!$P$2:$P$65385)) -> 0 | C5: =SUMPRODUCT((BDD!$D$2:$D$65385=$A5)*(BDD!$A$2:$A$65385>=$E$2)*(BDD!$A$2:$A$65385<=$E$3)*(BDD!$AA$2:$AA$65385)) -> 0 | D5: =SUMPRODUCT((BDD!$D$2:$D$65385=$A5)*(BDD!$A$2:$A$65385>=$E$2)*(BDD!$A$2:$A$65385<=$E$3)*(BDD!$AB$2:$AB$65385))/SUMPRODUCT((BDD!$D$2:$D$65385=$A5)*(BDD!$A$2:$A$65385>=$E$2)*(BDD!$A$2:$A$65385<=$E$3)) -> #DIV/0! | G5: 2 | H5: =SUMPRODUCT((BDD!$D$2:$D$65385=$G5)*(BDD!$A$2:$A$65385>=$K$2)*(BDD!$A$2:$A$65385<=$K$3)*(BDD!$P$2:$P$65385)) -> 0 | I5: =SUMPRODUCT((BDD!$D$2:$D$65385=$G5)*(BDD!$A$2:$A$65385>=$K$2)*(BDD!$A$2:$A$65385<=$K$3)*(BDD!$AA$2:$AA$65385)) -> 0 | J5: =SUMPRODUCT((BDD!$D$2:$D$65385=$G5)*(BDD!$A$2:$A$65385>=$K$2)*(BDD!$A$2:$A$65385<=$K$3)*(BDD!$AB$2:$AB$65385))/SUMPRODUCT((BDD!$D$2:$D$65385=$G5)*(BDD!$A$2:$A$65385>=$K$2)*(BDD!$A$2:$A$65385<=$K$3)) -> #DIV/0!
A6: 3 | B6: =SUMPRODUCT((BDD!$D$2:$D$65385=$A6)*(BDD!$A$2:$A$65385>=$E$2)*(BDD!$A$2:$A$65385<=$E$3)*(BDD!$P$2:$P$65385)) -> 0 | C6: =SUMPRODUCT((BDD!$D$2:$D$65385=$A6)*(BDD!$A$2:$A$65385>=$E$2)*(BDD!$A$2:$A$65385<=$E$3)*(BDD!$AA$2:$AA$65385)) -> 0 | D6: =SUMPRODUCT((BDD!$D$2:$D$65385=$A6)*(BDD!$A$2:$A$65385>=$E$2)*(BDD!$A$2:$A$65385<=$E$3)*(BDD!$AB$2:$AB$65385))/SUMPRODUCT((BDD!$D$2:$D$65385=$A6)*(BDD!$A$2:$A$65385>=$E$2)*(BDD!$A$2:$A$65385<=$E$3)) -> #DIV/0! | G6: 3 | H6: =SUMPRODUCT((BDD!$D$2:$D$65385=$G6)*(BDD!$A$2:$A$65385>=$K$2)*(BDD!$A$2:$A$65385<=$K$3)*(BDD!$P$2:$P$65385)) -> 0 | I6: =SUMPRODUCT((BDD!$D$2:$D$65385=$G6)*(BDD!$A$2:$A$65385>=$K$2)*(BDD!$A$2:$A$65385<=$K$3)*(BDD!$AA$2:$AA$65385)) -> 0 | J6: =SUMPRODUCT((BDD!$D$2:$D$65385=$G6)*(BDD!$A$2:$A$65385>=$K$2)*(BDD!$A$2:$A$65385<=$K$3)*(BDD!$AB$2:$AB$65385))/SUMPRODUCT((BDD!$D$2:$D$65385=$G6)*(BDD!$A$2:$A$65385>=$K$2)*(BDD!$A$2:$A$65385<=$K$3)) -> #DIV/0!
A7: 4 | B7: =SUMPRODUCT((BDD!$D$2:$D$65385=$A7)*(BDD!$A$2:$A$65385>=$E$2)*(BDD!$A$2:$A$65385<=$E$3)*(BDD!$P$2:$P$65385)) -> 0 | C7: =SUMPRODUCT((BDD!$D$2:$D$65385=$A7)*(BDD!$A$2:$A$65385>=$E$2)*(BDD!$A$2:$A$65385<=$E$3)*(BDD!$AA$2:$AA$65385)) -> 0 | D7: =SUMPRODUCT((BDD!$D$2:$D$65385=$A7)*(BDD!$A$2:$A$65385>=$E$2)*(BDD!$A$2:$A$65385<=$E$3)*(BDD!$AB$2:$AB$65385))/SUMPRODUCT((BDD!$D$2:$D$65385=$A7)*(BDD!$A$2:$A$65385>=$E$2)*(BDD!$A$2:$A$65385<=$E$3)) -> #DIV/0! | G7: 4 | H7: =SUMPRODUCT((BDD!$D$2:$D$65385=$G7)*(BDD!$A$2:$A$65385>=$K$2)*(BDD!$A$2:$A$65385<=$K$3)*(BDD!$P$2:$P$65385)) -> 0 | I7: =SUMPRODUCT((BDD!$D$2:$D$65385=$G7)*(BDD!$A$2:$A$65385>=$K$2)*(BDD!$A$2:$A$65385<=$K$3)*(BDD!$AA$2:$AA$65385)) -> 0 | J7: =SUMPRODUCT((BDD!$D$2:$D$65385=$G7)*(BDD!$A$2:$A$65385>=$K$2)*(BDD!$A$2:$A$65385<=$K$3)*(BDD!$AB$2:$AB$65385))/SUMPRODUCT((BDD!$D$2:$D$65385=$G7)*(BDD!$A$2:$A$65385>=$K$2)*(BDD!$A$2:$A$65385<=$K$3)) -> #DIV/0!
