Workbook

Sheet RT
B1: {=IF(A1="","",ROUNDUP((COUNTIF(A1:$A$4,"1000*")/150),0))} | K1: {=IF(AL1>=1,"OUI",IF(AND(AI1="OUI",AL1=""),"NON",""))} | T1: {=IF(OR(N1="X",O1="X",P1="X",Q1="X",R1="X",S1="X"),"OUI","")} | AA1: {=IF(OR(U1="X",V1="X",W1="X",X1="X",Y1="X",Z1="X"),"OUI","")} | AB1: =IF(COUNTBLANK($AF1:$AG1)=0,"X","") | AI1: {=IF(OR(AD1="X",AE1="X"),"OUI",IF(OR(AB1="X",AC1="X"),"NON",""))} | AJ1: {=IF(AB1="X","CICM inaccessible",IF(AC1="X","Refus syndic",IF(AD1="X","Branchement Individuel",IF(AE1="X","Bâtiment détruit",""))))} | AK1: {=IF(AND(AH1="",AB1=""),"",IF(AB1="",TEXT(AH1,"jj/mm/aaaa"),"1er passage"&" "&TEXT(RT!AF1,"jj/mm/aaaa")&" - "&"2eme passage"&" "&RT!AG1&" _ "&RT!AH1))}
A2: Ordre | B2: Lot | C2: Type INS / REV | D2: Adresse | E2: Ville | F2: Secteur | G2: Modifié par | H2: Technicien | I2: Date réalisation | J2: Semaine réalisation | K2: Réalisation de l'acte | L2: Etiquette BRC | M2: Appel CAD | Q2: Sécurité | W2: Correctif | AF2: Courses Vaines | AL2: Nombre de Niveaux à facturer | AM2: Nombre de photos | AN2: En appartement | AO2: Date de resaisie
N3: Nettoyage leger du coffret 13°1 | O3: Pose de boitier clé C | P3: Pose de plaque de consigne | Q3: MAJ plaque de consigne | R3: MAJ clé C | S3: Repérage GAZ/MAN | T3: Récap | U3: Nettoyage important du coffret 13°1 | V3: PLAQUE complémentaire Repère 13,1 | W3: Repérage 13.1 | X3: PENETRATION OBTURE | Y3: Pose de clé F | Z3: BOUCHONNAGES | AA3: Récap | AB3: CICM Inaccessible | AC3: Refus Syndic | AD3: Branchement Individuel | AE3: Batiment Détruit | AF3: Date 1er passage | AG3: Date 2ème passage | AH3: Commentaires | AI3: Récap | AJ3: Raison | AK3: Complément d'information
AO4: 43010
AO5: 43010
AO6: 43010
AO7: 43010
AO8: 43010
AO9: 43010
AO10: 43013
AO11: 43013
AO12: 43013
AO13: 43013
AO14: 43013
AO15: 43013
... AO62: 43081

Sheet CV
B1: {=IF(A1="","",ROUNDUP((COUNTIF(A1:$A$4,"1000*")/150),0))} | K1: {=IF(AL1>=1,"OUI",IF(AND(AI1="OUI",AL1=""),"NON",""))} | T1: {=IF(OR(N1="X",O1="X",P1="X",Q1="X",R1="X",S1="X"),"OUI","")} | AA1: {=IF(OR(U1="X",V1="X",W1="X",X1="X",Y1="X",Z1="X"),"OUI","")} | AB1: =IF(COUNTBLANK($AF1:$AG1)=0,"X","") | AI1: {=IF(OR(AD1="X",AE1="X"),"OUI",IF(OR(AB1="X",AC1="X"),"NON",""))} | AJ1: {=IF(AB1="X","CICM inaccessible",IF(AC1="X","Refus syndic",IF(AD1="X","Branchement Individuel",IF(AE1="X","Bâtiment détruit",""))))} | AK1: {=IF(AND(AH1="",AB1=""),"",IF(AB1="",TEXT(AH1,"jj/mm/aaaa"),"1er passage"&" "&TEXT(CV!AF1,"jj/mm/aaaa")&" - "&"2eme passage"&" "&CV!AG1&" _ "&CV!AH1))}
A2: Ordre | B2: Lot | C2: Type INS / REV | D2: Adresse | E2: Ville | F2: Secteur | G2: Modifié par | H2: Technicien | I2: Date réalisation | J2: Semaine réalisation | K2: Réalisation de l'acte | L2: Etiquette BRC | M2: Appel CAD | Q2: Sécurité | W2: Correctif | AF2: Courses Vaines | AL2: Nombre de Niveaux à facturer | AM2: Nombre de photos | AN2: En appartement | AO2: Date de resaisie
N3: Nettoyage leger du coffret 13°1 | O3: Pose de boitier clé C | P3: Pose de plaque de consigne | Q3: MAJ plaque de consigne | R3: MAJ clé C | S3: Repérage GAZ/MAN | T3: Récap | U3: Nettoyage important du coffret 13°1 | V3: PLAQUE complémentaire Repère 13,1 | W3: Repérage 13.1 | X3: PENETRATION OBTURE | Y3: Pose de clé F | Z3: BOUCHONNAGES | AA3: Récap | AB3: CICM Inaccessible | AC3: Refus Syndic | AD3: Branchement Individuel | AE3: Batiment Détruit | AF3: Date 1er passage | AG3: Date 2ème passage | AH3: Commentaires | AI3: Récap | AJ3: Raison | AK3: Complément d'information

Sheet Fichier Grdf
A1: Ne pas toucher | E1: A remplir par GrDF : Informations générales | K1: A remplir par l'Entreprise : réalisation de l'acte | R1: Facturation | U1: Correctif | V1: Contrôle
A2: a ces colonnes | C2: n° du lot | D2: n° de la semaine de passage | E2: Ordre | F2: Poste Technique | G2: Type de travail (INS ou REV) | H2: Rue | I2: Localité | J2: Secteur | K2: Réalisation de l'acte (OUI / NON) | L2: Raison de non-réalisation | M2: Nombre de niveaux | N2: Complément d'information | O2: Date de réalisation (jj/mm/aaaa) | P2: Agent | Q2: Correctif immédiat ? (OUI / NON) | R2: 40010661 : Visite de maintenance CICM BRC (par niveaux) INSPECTION | S2: 40010661 : Visite de maintenance CICM BRC (par niveaux) REVISION | T2: 40011270 : Course Vaine (sur justificatif uniquement !) | U2: 40011401 : Correctifs immédiats réalisés lors de la visite de maintenance ne nécessitant pas d’accord (UO = par adresse) | V2: Adresse controlée à posteriori | W2: Technicien entreprise audité pendant le passage | X2: Nombre d'anomalies constatées | Y2: Description anomalie(s) | Z2: Payé | AA2: Description anomalie(s) | AB2: Payé
A3: {=IF(D3="",RIGHT(E3,7),"")} -> 5421216 | B3: {=E3} -> 10005421216 | C3: {=IFERROR(VLOOKUP(B3,RT!A:B,2,FALSE),"")} | D3: {=IFERROR(VLOOKUP(B3,RT!A:J,10,FALSE),"")} | E3: 10005421216 | F3: D90010-BRC71030 | G3: INS | I3: BELFORT | J3: BELFORT | K3: {=IFERROR(VLOOKUP(B3,RT!A:K,11,FALSE),"")} | L3: {=IFERROR(VLOOKUP(B3,RT!A:AJ,36,FALSE),"")} | M3: {=IFERROR(VLOOKUP(B3,RT!A:AL,38,FALSE),"")} | N3: {=IFERROR(VLOOKUP(B3,RT!A:AK,37,FALSE),"")} | O3: {=IFERROR(VLOOKUP(B3,RT!A:I,9,FALSE),"")} | P3: {=IFERROR(VLOOKUP(B3,RT!A:H,8,FALSE),"")} | Q3: {=IFERROR(VLOOKUP(B3,RT!A:AA,27,FALSE),"")} | R3: {=IF(AND(E3<>"",G3="INS",K3="OUI",M3>0),M3*IF($O3>41790,5.94,5.65),"")} | S3: {=IF(AND(E3<>"",G3="REV",K3="OUI",M3>0),M3*IF($O3>41790,6.2,5.9),"")} | T3: {=IF(AND(E3<>"",K3="NON",OR(L3="Branchement individuel",L3="Batiment détruit")),3,"")} | V3: {=IF(AND(E3<>"",K3="OUI",Q3="OUI"),18,"")} | W3: {=IF(AND(E3<>"",K3="OUI",Q3="OUI"),60,"")}
A4: {=IF(D4="",RIGHT(E4,7),"")} -> 5463776 | B4: {=E4} -> 10005463776 | C4: {=IFERROR(VLOOKUP(B4,RT!A:B,2,FALSE),"")} | D4: {=IFERROR(VLOOKUP(B4,RT!A:J,10,FALSE),"")} | E4: 10005463776 | F4: D90010-BRC71768 | G4: INS | I4: BELFORT | J4: BELFORT | K4: {=IFERROR(VLOOKUP(B4,RT!A:K,11,FALSE),"")} | L4: {=IFERROR(VLOOKUP(B4,RT!A:AJ,36,FALSE),"")} | M4: {=IFERROR(VLOOKUP(B4,RT!A:AL,38,FALSE),"")} | N4: {=IFERROR(VLOOKUP(B4,RT!A:AK,37,FALSE),"")} | O4: {=IFERROR(VLOOKUP(B4,RT!A:I,9,FALSE),"")} | P4: {=IFERROR(VLOOKUP(B4,RT!A:H,8,FALSE),"")} | Q4: {=IFERROR(VLOOKUP(B4,RT!A:AA,27,FALSE),"")} | R4: {=IF(AND(E4<>"",G4="INS",K4="OUI",M4>0),M4*IF($O4>41790,5.94,5.65),"")} | S4: {=IF(AND(E4<>"",G4="REV",K4="OUI",M4>0),M4*IF($O4>41790,6.2,5.9),"")} | T4: {=IF(AND(E4<>"",K4="NON",OR(L4="Branchement individuel",L4="Batiment détruit")),3,"")} | V4: {=IF(AND(E4<>"",K4="OUI",Q4="OUI"),18,"")} | W4: {=IF(AND(E4<>"",K4="OUI",Q4="OUI"),60,"")}
A5: {=IF(D5="",RIGHT(E5,7),"")} -> 5462225 | B5: {=E5} -> 10005462225 | C5: {=IFERROR(VLOOKUP(B5,RT!A:B,2,FALSE),"")} | D5: {=IFERROR(VLOOKUP(B5,RT!A:J,10,FALSE),"")} | E5: 10005462225 | F5: D90010-BRC71236 | G5: INS | I5: BELFORT | J5: BELFORT | K5: {=IFERROR(VLOOKUP(B5,RT!A:K,11,FALSE),"")} | L5: {=IFERROR(VLOOKUP(B5,RT!A:AJ,36,FALSE),"")} | M5: {=IFERROR(VLOOKUP(B5,RT!A:AL,38,FALSE),"")} | N5: {=IFERROR(VLOOKUP(B5,RT!A:AK,37,FALSE),"")} | O5: {=IFERROR(VLOOKUP(B5,RT!A:I,9,FALSE),"")} | P5: {=IFERROR(VLOOKUP(B5,RT!A:H,8,FALSE),"")} | Q5: {=IFERROR(VLOOKUP(B5,RT!A:AA,27,FALSE),"")} | R5: {=IF(AND(E5<>"",G5="INS",K5="OUI",M5>0),M5*IF($O5>41790,5.94,5.65),"")} | S5: {=IF(AND(E5<>"",G5="REV",K5="OUI",M5>0),M5*IF($O5>41790,6.2,5.9),"")} | T5: {=IF(AND(E5<>"",K5="NON",OR(L5="Branchement individuel",L5="Batiment détruit")),3,"")} | V5: {=IF(AND(E5<>"",K5="OUI",Q5="OUI"),18,"")} | W5: {=IF(AND(E5<>"",K5="OUI",Q5="OUI"),60,"")}
A6: {=IF(D6="",RIGHT(E6,7),"")} -> 5497531 | B6: {=E6} -> 10005497531 | C6: {=IFERROR(VLOOKUP(B6,RT!A:B,2,FALSE),"")} | D6: {=IFERROR(VLOOKUP(B6,RT!A:J,10,FALSE),"")} | E6: 10005497531 | F6: D90010-BRC71280 | G6: INS | I6: BELFORT | J6: BELFORT | K6: {=IFERROR(VLOOKUP(B6,RT!A:K,11,FALSE),"")} | L6: {=IFERROR(VLOOKUP(B6,RT!A:AJ,36,FALSE),"")} | M6: {=IFERROR(VLOOKUP(B6,RT!A:AL,38,FALSE),"")} | N6: {=IFERROR(VLOOKUP(B6,RT!A:AK,37,FALSE),"")} | O6: {=IFERROR(VLOOKUP(B6,RT!A:I,9,FALSE),"")} | P6: {=IFERROR(VLOOKUP(B6,RT!A:H,8,FALSE),"")} | Q6: {=IFERROR(VLOOKUP(B6,RT!A:AA,27,FALSE),"")} | R6: {=IF(AND(E6<>"",G6="INS",K6="OUI",M6>0),M6*IF($O6>41790,5.94,5.65),"")} | S6: {=IF(AND(E6<>"",G6="REV",K6="OUI",M6>0),M6*IF($O6>41790,6.2,5.9),"")} | T6: {=IF(AND(E6<>"",K6="NON",OR(L6="Branchement individuel",L6="Batiment détruit")),3,"")} | V6: {=IF(AND(E6<>"",K6="OUI",Q6="OUI"),18,"")} | W6: {=IF(AND(E6<>"",K6="OUI",Q6="OUI"),60,"")}
A7: {=IF(D7="",RIGHT(E7,7),"")} -> 5422291 | B7: {=E7} -> 10005422291 | C7: {=IFERROR(VLOOKUP(B7,RT!A:B,2,FALSE),"")} | D7: {=IFERROR(VLOOKUP(B7,RT!A:J,10,FALSE),"")} | E7: 10005422291 | F7: D90010-BRC71132 | G7: INS | I7: BELFORT | J7: BELFORT | K7: {=IFERROR(VLOOKUP(B7,RT!A:K,11,FALSE),"")} | L7: {=IFERROR(VLOOKUP(B7,RT!A:AJ,36,FALSE),"")} | M7: {=IFERROR(VLOOKUP(B7,RT!A:AL,38,FALSE),"")} | N7: {=IFERROR(VLOOKUP(B7,RT!A:AK,37,FALSE),"")} | O7: {=IFERROR(VLOOKUP(B7,RT!A:I,9,FALSE),"")} | P7: {=IFERROR(VLOOKUP(B7,RT!A:H,8,FALSE),"")} | Q7: {=IFERROR(VLOOKUP(B7,RT!A:AA,27,FALSE),"")} | R7: {=IF(AND(E7<>"",G7="INS",K7="OUI",M7>0),M7*IF($O7>41790,5.94,5.65),"")} | S7: {=IF(AND(E7<>"",G7="REV",K7="OUI",M7>0),M7*IF($O7>41790,6.2,5.9),"")} | T7: {=IF(AND(E7<>"",K7="NON",OR(L7="Branchement individuel",L7="Batiment détruit")),3,"")} | V7: {=IF(AND(E7<>"",K7="OUI",Q7="OUI"),18,"")} | W7: {=IF(AND(E7<>"",K7="OUI",Q7="OUI"),60,"")}
A8: {=IF(D8="",RIGHT(E8,7),"")} -> 5423375 | B8: {=E8} -> 10005423375 | C8: {=IFERROR(VLOOKUP(B8,RT!A:B,2,FALSE),"")} | D8: {=IFERROR(VLOOKUP(B8,RT!A:J,10,FALSE),"")} | E8: 10005423375 | F8: D90010-BRC70024 | G8: INS | I8: BELFORT | J8: BELFORT | K8: {=IFERROR(VLOOKUP(B8,RT!A:K,11,FALSE),"")} | L8: {=IFERROR(VLOOKUP(B8,RT!A:AJ,36,FALSE),"")} | M8: {=IFERROR(VLOOKUP(B8,RT!A:AL,38,FALSE),"")} | N8: {=IFERROR(VLOOKUP(B8,RT!A:AK,37,FALSE),"")} | O8: {=IFERROR(VLOOKUP(B8,RT!A:I,9,FALSE),"")} | P8: {=IFERROR(VLOOKUP(B8,RT!A:H,8,FALSE),"")} | Q8: {=IFERROR(VLOOKUP(B8,RT!A:AA,27,FALSE),"")} | R8: {=IF(AND(E8<>"",G8="INS",K8="OUI",M8>0),M8*IF($O8>41790,5.94,5.65),"")} | S8: {=IF(AND(E8<>"",G8="REV",K8="OUI",M8>0),M8*IF($O8>41790,6.2,5.9),"")} | T8: {=IF(AND(E8<>"",K8="NON",OR(L8="Branchement individuel",L8="Batiment détruit")),3,"")} | V8: {=IF(AND(E8<>"",K8="OUI",Q8="OUI"),18,"")} | W8: {=IF(AND(E8<>"",K8="OUI",Q8="OUI"),60,"")}
A9: {=IF(D9="",RIGHT(E9,7),"")} -> 5422286 | B9: {=E9} -> 10005422286 | C9: {=IFERROR(VLOOKUP(B9,RT!A:B,2,FALSE),"")} | D9: {=IFERROR(VLOOKUP(B9,RT!A:J,10,FALSE),"")} | E9: 10005422286 | F9: D90010-BRC71362 | G9: INS | I9: BELFORT | J9: BELFORT | K9: {=IFERROR(VLOOKUP(B9,RT!A:K,11,FALSE),"")} | L9: {=IFERROR(VLOOKUP(B9,RT!A:AJ,36,FALSE),"")} | M9: {=IFERROR(VLOOKUP(B9,RT!A:AL,38,FALSE),"")} | N9: {=IFERROR(VLOOKUP(B9,RT!A:AK,37,FALSE),"")} | O9: {=IFERROR(VLOOKUP(B9,RT!A:I,9,FALSE),"")} | P9: {=IFERROR(VLOOKUP(B9,RT!A:H,8,FALSE),"")} | Q9: {=IFERROR(VLOOKUP(B9,RT!A:AA,27,FALSE),"")} | R9: {=IF(AND(E9<>"",G9="INS",K9="OUI",M9>0),M9*IF($O9>41790,5.94,5.65),"")} | S9: {=IF(AND(E9<>"",G9="REV",K9="OUI",M9>0),M9*IF($O9>41790,6.2,5.9),"")} | T9: {=IF(AND(E9<>"",K9="NON",OR(L9="Branchement individuel",L9="Batiment détruit")),3,"")} | V9: {=IF(AND(E9<>"",K9="OUI",Q9="OUI"),18,"")} | W9: {=IF(AND(E9<>"",K9="OUI",Q9="OUI"),60,"")}
A10: {=IF(D10="",RIGHT(E10,7),"")} -> 5460093 | B10: {=E10} -> 10005460093 | C10: {=IFERROR(VLOOKUP(B10,RT!A:B,2,FALSE),"")} | D10: {=IFERROR(VLOOKUP(B10,RT!A:J,10,FALSE),"")} | E10: 10005460093 | F10: D90010-BRC71613 | G10: INS | I10: BELFORT | J10: BELFORT | K10: {=IFERROR(VLOOKUP(B10,RT!A:K,11,FALSE),"")} | L10: {=IFERROR(VLOOKUP(B10,RT!A:AJ,36,FALSE),"")} | M10: {=IFERROR(VLOOKUP(B10,RT!A:AL,38,FALSE),"")} | N10: {=IFERROR(VLOOKUP(B10,RT!A:AK,37,FALSE),"")} | O10: {=IFERROR(VLOOKUP(B10,RT!A:I,9,FALSE),"")} | P10: {=IFERROR(VLOOKUP(B10,RT!A:H,8,FALSE),"")} | Q10: {=IFERROR(VLOOKUP(B10,RT!A:AA,27,FALSE),"")} | R10: {=IF(AND(E10<>"",G10="INS",K10="OUI",M10>0),M10*IF($O10>41790,5.94,5.65),"")} | S10: {=IF(AND(E10<>"",G10="REV",K10="OUI",M10>0),M10*IF($O10>41790,6.2,5.9),"")} | T10: {=IF(AND(E10<>"",K10="NON",OR(L10="Branchement individuel",L10="Batiment détruit")),3,"")} | V10: {=IF(AND(E10<>"",K10="OUI",Q10="OUI"),18,"")} | W10: {=IF(AND(E10<>"",K10="OUI",Q10="OUI"),60,"")}
A11: {=IF(D11="",RIGHT(E11,7),"")} -> 5240494 | B11: {=E11} -> 10005240494 | C11: {=IFERROR(VLOOKUP(B11,RT!A:B,2,FALSE),"")} | D11: {=IFERROR(VLOOKUP(B11,RT!A:J,10,FALSE),"")} | E11: 10005240494 | F11: D90010-BRC71160 | G11: INS | I11: BELFORT | J11: BELFORT | K11: {=IFERROR(VLOOKUP(B11,RT!A:K,11,FALSE),"")} | L11: {=IFERROR(VLOOKUP(B11,RT!A:AJ,36,FALSE),"")} | M11: {=IFERROR(VLOOKUP(B11,RT!A:AL,38,FALSE),"")} | N11: {=IFERROR(VLOOKUP(B11,RT!A:AK,37,FALSE),"")} | O11: {=IFERROR(VLOOKUP(B11,RT!A:I,9,FALSE),"")} | P11: {=IFERROR(VLOOKUP(B11,RT!A:H,8,FALSE),"")} | Q11: {=IFERROR(VLOOKUP(B11,RT!A:AA,27,FALSE),"")} | R11: {=IF(AND(E11<>"",G11="INS",K11="OUI",M11>0),M11*IF($O11>41790,5.94,5.65),"")} | S11: {=IF(AND(E11<>"",G11="REV",K11="OUI",M11>0),M11*IF($O11>41790,6.2,5.9),"")} | T11: {=IF(AND(E11<>"",K11="NON",OR(L11="Branchement individuel",L11="Batiment détruit")),3,"")} | V11: {=IF(AND(E11<>"",K11="OUI",Q11="OUI"),18,"")} | W11: {=IF(AND(E11<>"",K11="OUI",Q11="OUI"),60,"")}
A12: {=IF(D12="",RIGHT(E12,7),"")} -> 5241081 | B12: {=E12} -> 10005241081 | C12: {=IFERROR(VLOOKUP(B12,RT!A:B,2,FALSE),"")} | D12: {=IFERROR(VLOOKUP(B12,RT!A:J,10,FALSE),"")} | E12: 10005241081 | F12: D90010-BRC71011 | G12: INS | I12: BELFORT | J12: BELFORT | K12: {=IFERROR(VLOOKUP(B12,RT!A:K,11,FALSE),"")} | L12: {=IFERROR(VLOOKUP(B12,RT!A:AJ,36,FALSE),"")} | M12: {=IFERROR(VLOOKUP(B12,RT!A:AL,38,FALSE),"")} | N12: {=IFERROR(VLOOKUP(B12,RT!A:AK,37,FALSE),"")} | O12: {=IFERROR(VLOOKUP(B12,RT!A:I,9,FALSE),"")} | P12: {=IFERROR(VLOOKUP(B12,RT!A:H,8,FALSE),"")} | Q12: {=IFERROR(VLOOKUP(B12,RT!A:AA,27,FALSE),"")} | R12: {=IF(AND(E12<>"",G12="INS",K12="OUI",M12>0),M12*IF($O12>41790,5.94,5.65),"")} | S12: {=IF(AND(E12<>"",G12="REV",K12="OUI",M12>0),M12*IF($O12>41790,6.2,5.9),"")} | T12: {=IF(AND(E12<>"",K12="NON",OR(L12="Branchement individuel",L12="Batiment détruit")),3,"")} | V12: {=IF(AND(E12<>"",K12="OUI",Q12="OUI"),18,"")} | W12: {=IF(AND(E12<>"",K12="OUI",Q12="OUI"),60,"")}
A13: {=IF(D13="",RIGHT(E13,7),"")} -> 5197376 | B13: {=E13} -> 10005197376 | C13: {=IFERROR(VLOOKUP(B13,RT!A:B,2,FALSE),"")} | D13: {=IFERROR(VLOOKUP(B13,RT!A:J,10,FALSE),"")} | E13: 10005197376 | F13: D90010-BRC72285 | G13: INS | I13: BELFORT | J13: BELFORT | K13: {=IFERROR(VLOOKUP(B13,RT!A:K,11,FALSE),"")} | L13: {=IFERROR(VLOOKUP(B13,RT!A:AJ,36,FALSE),"")} | M13: {=IFERROR(VLOOKUP(B13,RT!A:AL,38,FALSE),"")} | N13: {=IFERROR(VLOOKUP(B13,RT!A:AK,37,FALSE),"")} | O13: {=IFERROR(VLOOKUP(B13,RT!A:I,9,FALSE),"")} | P13: {=IFERROR(VLOOKUP(B13,RT!A:H,8,FALSE),"")} | Q13: {=IFERROR(VLOOKUP(B13,RT!A:AA,27,FALSE),"")} | R13: {=IF(AND(E13<>"",G13="INS",K13="OUI",M13>0),M13*IF($O13>41790,5.94,5.65),"")} | S13: {=IF(AND(E13<>"",G13="REV",K13="OUI",M13>0),M13*IF($O13>41790,6.2,5.9),"")} | T13: {=IF(AND(E13<>"",K13="NON",OR(L13="Branchement individuel",L13="Batiment détruit")),3,"")} | V13: {=IF(AND(E13<>"",K13="OUI",Q13="OUI"),18,"")} | W13: {=IF(AND(E13<>"",K13="OUI",Q13="OUI"),60,"")}
A14: {=IF(D14="",RIGHT(E14,7),"")} -> 5286703 | B14: {=E14} -> 10005286703 | C14: {=IFERROR(VLOOKUP(B14,RT!A:B,2,FALSE),"")} | D14: {=IFERROR(VLOOKUP(B14,RT!A:J,10,FALSE),"")} | E14: 10005286703 | F14: D90010-BRC71134 | G14: INS | I14: BELFORT | J14: BELFORT | K14: {=IFERROR(VLOOKUP(B14,RT!A:K,11,FALSE),"")} | L14: {=IFERROR(VLOOKUP(B14,RT!A:AJ,36,FALSE),"")} | M14: {=IFERROR(VLOOKUP(B14,RT!A:AL,38,FALSE),"")} | N14: {=IFERROR(VLOOKUP(B14,RT!A:AK,37,FALSE),"")} | O14: {=IFERROR(VLOOKUP(B14,RT!A:I,9,FALSE),"")} | P14: {=IFERROR(VLOOKUP(B14,RT!A:H,8,FALSE),"")} | Q14: {=IFERROR(VLOOKUP(B14,RT!A:AA,27,FALSE),"")} | R14: {=IF(AND(E14<>"",G14="INS",K14="OUI",M14>0),M14*IF($O14>41790,5.94,5.65),"")} | S14: {=IF(AND(E14<>"",G14="REV",K14="OUI",M14>0),M14*IF($O14>41790,6.2,5.9),"")} | T14: {=IF(AND(E14<>"",K14="NON",OR(L14="Branchement individuel",L14="Batiment détruit")),3,"")} | V14: {=IF(AND(E14<>"",K14="OUI",Q14="OUI"),18,"")} | W14: {=IF(AND(E14<>"",K14="OUI",Q14="OUI"),60,"")}
... A2142: {=IF(D2142="",RIGHT(E2142,7),"")} -> 5336604 | B2142: {=E2142} -> 10005336604 | C2142: {=IFERROR(VLOOKUP(B2142,RT!A:B,2,FALSE),"")} | D2142: {=IFERROR(VLOOKUP(B2142,RT!A:J,10,FALSE),"")} | E2142: 10005336604 | F2142: D57647-BRC70031 | G2142: INS | I2142: SEREMANGE ERZANGE | J2142: THIONVILLE | K2142: {=IFERROR(VLOOKUP(B2142,RT!A:K,11,FALSE),"")} | L2142: {=IFERROR(VLOOKUP(B2142,RT!A:AJ,36,FALSE),"")} | M2142: {=IFERROR(VLOOKUP(B2142,RT!A:AL,38,FALSE),"")} | N2142: {=IFERROR(VLOOKUP(B2142,RT!A:AK,37,FALSE),"")} | O2142: {=IFERROR(VLOOKUP(B2142,RT!A:I,9,FALSE),"")} | P2142: {=IFERROR(VLOOKUP(B2142,RT!A:H,8,FALSE),"")} | Q2142: {=IFERROR(VLOOKUP(B2142,RT!A:AA,27,FALSE),"")} | R2142: {=IF(AND(E2142<>"",G2142="INS",K2142="OUI",M2142>0),M2142*IF($O2142>41790,5.94,5.65),"")} | S2142: {=IF(AND(E2142<>"",G2142="REV",K2142="OUI",M2142>0),M2142*IF($O2142>41790,6.2,5.9),"")} | T2142: {=IF(AND(E2142<>"",K2142="NON",OR(L2142="Branchement individuel",L2142="Batiment détruit")),3,"")} | V2142: {=IF(AND(E2142<>"",K2142="OUI",Q2142="OUI"),18,"")} | W2142: {=IF(AND(E2142<>"",K2142="OUI",Q2142="OUI"),60,"")}

Sheet Secteur
B2: Ville | C2: Secteur
B3: BELFORT | C3: BELFORT
B4: BREVILLIERS | C4: BELFORT
B5: ELOIE | C5: BELFORT
B6: GIROMAGNY | C6: BELFORT
B7: LEPUIX | C7: BELFORT
B8: SERMAMAGNY | C8: BELFORT
B9: VALDOIE | C9: BELFORT
B10: BESANCON | C10: BESANCON
B11: BEHREN LES FORBACH | C11: FORBACH
B12: CREUTZWALD | C12: FORBACH
B13: FAULQUEMONT | C13: FORBACH
... B101: SEREMANGE ERZANGE | C101: THIONVILLE
