Workbook

Sheet les combinaisons
A1: Référence | B1: Durée total | C1: Occurrence | D1: Range
A2: VPGR1F-14B115-BC==>VPFR1F-14B115-WA | B2: =SUMIF(Data!G:G,'les combinaisons'!A10,Data!F:F) -> 0.017939815 | C2: =SUMIF(Data!G:G,'les combinaisons'!A10,Data!E:E) -> 1 | D2: =RANK(B2,$B$2:$B$21,0) -> 9
A3: 3195161==>2520513 | B3: =SUMIF(Data!G:G,'les combinaisons'!A4,Data!F:F) -> 0.060023148 | C3: =SUMIF(Data!G:G,'les combinaisons'!A4,Data!E:E) -> 3 | D3: =RANK(B3,$B$2:$B$21,0) -> 3
A4: 2642239==>VPGR1F-14B115-BC | B4: =SUMIF(Data!G:G,'les combinaisons'!A14,Data!F:F) -> 0.0043402778 | C4: =SUMIF(Data!G:G,'les combinaisons'!A14,Data!E:E) -> 1 | D4: =RANK(B4,$B$2:$B$21,0) -> 13
A5: VPGR1F-14B115-BC==>1883996 | B5: =SUMIF(Data!G:G,'les combinaisons'!A9,Data!F:F) -> 0.028993056 | C5: =SUMIF(Data!G:G,'les combinaisons'!A9,Data!E:E) -> 1 | D5: =RANK(B5,$B$2:$B$21,0) -> 8
A6: VPFR1F-14B115-WA==>2642227 | B6: =SUMIF(Data!G:G,'les combinaisons'!A6,Data!F:F) -> 0.05744213 | C6: =SUMIF(Data!G:G,'les combinaisons'!A6,Data!E:E) -> 1 | D6: =RANK(B6,$B$2:$B$21,0) -> 5
A7: 1883996==>3043335 | B7: =SUMIF(Data!G:G,'les combinaisons'!A3,Data!F:F) -> 0.074444444 | C7: =SUMIF(Data!G:G,'les combinaisons'!A3,Data!E:E) -> 1 | D7: =RANK(B7,$B$2:$B$21,0) -> 2
A8: VPGR1F-14B115-BC==>2642239 | B8: =SUMIF(Data!G:G,'les combinaisons'!A12,Data!F:F) -> 0.0085763889 | C8: =SUMIF(Data!G:G,'les combinaisons'!A12,Data!E:E) -> 1 | D8: =RANK(B8,$B$2:$B$21,0) -> 11
A9: 3043335==>VPFR1F-14B115-WA | B9: =SUMIF(Data!G:G,'les combinaisons'!A7,Data!F:F) -> 0.049837963 | C9: =SUMIF(Data!G:G,'les combinaisons'!A7,Data!E:E) -> 1 | D9: =RANK(B9,$B$2:$B$21,0) -> 6
A10: 2520513==>VPGR1F-14B115-BC | B10: =SUMIF(Data!G:G,'les combinaisons'!A21,Data!F:F) -> 0 | C10: =SUMIF(Data!G:G,'les combinaisons'!A21,Data!E:E) -> 0 | D10: =RANK(B10,$B$2:$B$21,0) -> 15
A11: VPFR1F-14B115-WA==>3195161 | B11: =SUMIF(Data!G:G,'les combinaisons'!A5,Data!F:F) -> 0.059826389 | C11: =SUMIF(Data!G:G,'les combinaisons'!A5,Data!E:E) -> 1 | D11: =RANK(B11,$B$2:$B$21,0) -> 4
A12: 2642227==>2642239 | B12: =SUMIF(Data!G:G,'les combinaisons'!A13,Data!F:F) -> 0.0078009259 | C12: =SUMIF(Data!G:G,'les combinaisons'!A13,Data!E:E) -> 1 | D12: =RANK(B12,$B$2:$B$21,0) -> 12
A13: VPGR1F-14B115-BC==>3043335 | B13: =SUMIF(Data!G:G,'les combinaisons'!A11,Data!F:F) -> 0.017673611 | C13: =SUMIF(Data!G:G,'les combinaisons'!A11,Data!E:E) -> 1 | D13: =RANK(B13,$B$2:$B$21,0) -> 10
A14: 216758344==>1883996 | B14: =SUMIF(Data!G:G,'les combinaisons'!A2,Data!F:F) -> 0.10737269 | C14: =SUMIF(Data!G:G,'les combinaisons'!A2,Data!E:E) -> 1 | D14: =RANK(B14,$B$2:$B$21,0) -> 1
A15: 3043335==>VPGR1F-14B115-BC | B15: =SUMIF(Data!G:G,'les combinaisons'!A8,Data!F:F) -> 0.039201389 | C15: =SUMIF(Data!G:G,'les combinaisons'!A8,Data!E:E) -> 2 | D15: =RANK(B15,$B$2:$B$21,0) -> 7
A16: 2520513==>3043335 | B16: =SUMIF(Data!G:G,'les combinaisons'!A15,Data!F:F) -> 0.0043287037 | C16: =SUMIF(Data!G:G,'les combinaisons'!A15,Data!E:E) -> 1 | D16: =RANK(B16,$B$2:$B$21,0) -> 14
A17: 2520513==>2642239 | B17: =SUMIF(Data!G:G,'les combinaisons'!A16,Data!F:F) -> 0 | C17: =SUMIF(Data!G:G,'les combinaisons'!A16,Data!E:E) -> 0 | D17: =RANK(B17,$B$2:$B$21,0) -> 15
A18: 2520513==>2642227 | B18: =SUMIF(Data!G:G,'les combinaisons'!A17,Data!F:F) -> 0 | C18: =SUMIF(Data!G:G,'les combinaisons'!A17,Data!E:E) -> 0 | D18: =RANK(B18,$B$2:$B$21,0) -> 15
A19: 2520513==>2008057 | B19: =SUMIF(Data!G:G,'les combinaisons'!A18,Data!F:F) -> 0 | C19: =SUMIF(Data!G:G,'les combinaisons'!A18,Data!E:E) -> 0 | D19: =RANK(B19,$B$2:$B$21,0) -> 15
A20: 2520513==>1915788 | B20: =SUMIF(Data!G:G,'les combinaisons'!A19,Data!F:F) -> 0 | C20: =SUMIF(Data!G:G,'les combinaisons'!A19,Data!E:E) -> 0 | D20: =RANK(B20,$B$2:$B$21,0) -> 15
A21: 2520513==>2172121 | B21: =SUMIF(Data!G:G,'les combinaisons'!A20,Data!F:F) -> 0 | C21: =SUMIF(Data!G:G,'les combinaisons'!A20,Data!E:E) -> 0 | D21: =RANK(B21,$B$2:$B$21,0) -> 15

Sheet Data
A1: Produit A | B1: Date A | C1: Produit B | D1: Date B | E1: Occurrence | F1: Durée | G1: ="==>" -> ==>
A2: VPGR1F-14B115-BB | B2: 42744.727 | C2: VPGR1F-14B115-BC | D2: 42744.752 | E2: 1 | F2: =D2-B2 -> 0.025023148 | G2: =A2&$G$1&C2 -> VPGR1F-14B115-BB==>VPGR1F-14B115-BC
A3: VPGR1F-14B115-BC | B3: 42745.001 | C3: 1883996 | D3: 42745.061 | E3: 1 | F3: =D3-B3 -> 0.059826389 | G3: =A3&$G$1&C3 -> VPGR1F-14B115-BC==>1883996
A4: 1883996 | B4: 42745.289 | C4: 216758344 | D4: 42745.538 | E4: 1 | F4: 0 | G4: =A4&$G$1&C4 -> 1883996==>216758344
A5: 216758344 | B5: 42745.665 | C5: 1883996 | D5: 42745.67 | E5: 1 | F5: =D5-B5 -> 0.0043402778 | G5: =A5&$G$1&C5 -> 216758344==>1883996
A6: 1883996 | B6: 42746.001 | C6: 3043335 | D6: 42746.051 | E6: 1 | F6: =D6-B6 -> 0.049837963 | G6: =A6&$G$1&C6 -> 1883996==>3043335
A7: 3043335 | B7: 42746.395 | C7: VPFR1F-14B115-WA | D7: 42746.424 | E7: 1 | F7: =D7-B7 -> 0.028993056 | G7: =A7&$G$1&C7 -> 3043335==>VPFR1F-14B115-WA
A8: VPFR1F-14B115-WA | B8: 42747.056 | C8: 2642227 | D8: 42747.114 | E8: 1 | F8: =D8-B8 -> 0.05744213 | G8: =A8&$G$1&C8 -> VPFR1F-14B115-WA==>2642227
A9: 2642227 | B9: 42747.252 | C9: 2642239 | D9: 42747.26 | E9: 1 | F9: =D9-B9 -> 0.0085763889 | G9: =A9&$G$1&C9 -> 2642227==>2642239
A10: 2642239 | B10: 42747.704 | C10: VPGR1F-14B115-BC | D10: 42747.722 | E10: 1 | F10: =D10-B10 -> 0.018946759 | G10: =A10&$G$1&C10 -> 2642239==>VPGR1F-14B115-BC
A11: VPGR1F-14B115-BC | B11: 42748.093 | C11: 2642239 | D11: 42748.246 | E11: 1 | F11: 0 | G11: =A11&$G$1&C11 -> VPGR1F-14B115-BC==>2642239
A12: 2642239 | B12: 42748.706 | C12: VPGR1F-14B115-BC | D12: 42748.72 | E12: 1 | F12: =D12-B12 -> 0.013773148 | G12: =A12&$G$1&C12 -> 2642239==>VPGR1F-14B115-BC
A13: VPGR1F-14B115-BC | B13: 42751.394 | C13: 2642239 | D13: 42751.433 | E13: 1 | F13: =D13-B13 -> 0.039201389 | G13: =A13&$G$1&C13 -> VPGR1F-14B115-BC==>2642239
A14: 2642239 | B14: 42751.919 | C14: VPGR1F-14B115-BC | D14: 42751.946 | E14: 1 | F14: =D14-B14 -> 0.027303241 | G14: =A14&$G$1&C14 -> 2642239==>VPGR1F-14B115-BC
A15: VPGR1F-14B115-BC | B15: 42752.174 | C15: VPFR1F-14B115-WA | D15: 42752.282 | E15: 1 | F15: =D15-B15 -> 0.10737269 | G15: =A15&$G$1&C15 -> VPGR1F-14B115-BC==>VPFR1F-14B115-WA
A16: VPFR1F-14B115-WA | B16: 42752.429 | C16: 3195161 | D16: 42752.447 | E16: 1 | F16: =D16-B16 -> 0.017673611 | G16: =A16&$G$1&C16 -> VPFR1F-14B115-WA==>3195161
A17: 3195161 | B17: 42752.457 | C17: 2520513 | D17: 42752.532 | E17: 1 | F17: =D17-B17 -> 0.074444444 | G17: =A17&$G$1&C17 -> 3195161==>2520513
A18: 2520513 | B18: 42752.778 | C18: VPGR1F-14B115-BC | D18: 42752.796 | E18: 1 | F18: =D18-B18 -> 0.017939815 | G18: =A18&$G$1&C18 -> 2520513==>VPGR1F-14B115-BC
A19: VPGR1F-14B115-BC | B19: 42752.816 | C19: 3043335 | D19: 42752.824 | E19: 1 | F19: =D19-B19 -> 0.0078009259 | G19: =A19&$G$1&C19 -> VPGR1F-14B115-BC==>3043335
A20: 3043335 | B20: 42753.09 | C20: VPGR1F-14B115-BC | D20: 42753.094 | E20: 1 | F20: =D20-B20 -> 0.0043287037 | G20: =A20&$G$1&C20 -> 3043335==>VPGR1F-14B115-BC
