Workbook

Sheet FCQ
D1: Fiche Contrôle Qualité n°
D2: X
B7: Client | D7: Marché / Chantier
A9: Déchèterie d'origine : | B9: Andernos-les-bains
A11: N° bon sortie déchèterie : | B11: 48694919 | D11: N° de benne ou caisson : | E11: 591843
A13: Transporteur : | B13: Blablabla | D13: Plaque d'immatriculation : | E13: 59-HJ-856
B15: Code déchet | C15: Désignation | D15: Description
A16: Classification des entrants : | B16: 20 03 07 | C16: ENCOM | D16: Déchets encombrants / Tout venant déchèterie
A18: Présence de : | B18: Béton cellulaire / plâtre | D18: Déclassement : | E18: Partiel
D20: Masse (tonnes) : | E20: 2.8
A22: Conformité : | B22: Accepté necessitant un tri manuel
C24: Noms et signatures
A26: Contrôleur qualité : | D26: Rédacteur :
A29: Observations :
A63: X | H63: X

Sheet Liste
A1: Déchetterie
A3: Andernos-les-Bains | B3: OUI
A4: Arès | B4: NON
A5: Audenge
A6: Biganos
A7: Lanton
A8: Lège-Cap-Ferret
A9: Marcheprime
A10: Mios

Sheet Suivi Déclassement
C1: Suivi du déclassement communautaire
A2: Ref Fiche | B2: Date | C2: Déchetterie | D2: Masse totale | E2: Masse indésirable | F2: Masse béton cellulaire | G2: Présence Fibrociment | H2: Déclassement | I2: Pourcentage déclassement
A3: 34 | B3: 43609 | C3: Arès | D3: 8.1 | E3: 0.2 | G3: NON | H3: =IF(G3="","",IF(G3="OUI","Total",IF(E3<>0,"Partiel","Pas de déclassement"))) -> Partiel | I3: =IF(H3="","",IF(H3="Total",100%,E3/D3)) -> 0.024691358
A4: 35 | B4: 43610 | C4: Marcheprime | D4: 27.2 | E4: 10.38 | G4: OUI | H4: =IF(G4="","",IF(G4="OUI","Total",IF(E4<>0,"Partiel","Pas de déclassement"))) -> Total | I4: =IF(H4="","",IF(H4="Total",100%,E4/D4)) -> 1
A5: 36 | B5: 43612 | C5: Arès | D5: 8.66 | E5: 0.19 | G5: NON | H5: =IF(G5="","",IF(G5="OUI","Total",IF(E5<>0,"Partiel","Pas de déclassement"))) -> Partiel | I5: =IF(H5="","",IF(H5="Total",100%,E5/D5)) -> 0.021939954
A6: 37 | B6: 43612 | C6: Audenge | D6: 8.92 | E6: 8.92 | G6: OUI | H6: =IF(G6="","",IF(G6="OUI","Total",IF(E6<>0,"Partiel","Pas de déclassement"))) -> Total | I6: =IF(H6="","",IF(H6="Total",100%,E6/D6)) -> 1
A7: 38 | B7: 43614 | C7: Lège-Cap-Ferret | D7: 5.12 | E7: 2.13 | G7: NON | H7: =IF(G7="","",IF(G7="OUI","Total",IF(E7<>0,"Partiel","Pas de déclassement"))) -> Partiel | I7: =IF(H7="","",IF(H7="Total",100%,E7/D7)) -> 0.41601562
A8: 39 | B8: 43616 | C8: Biganos | D8: 8.36 | E8: 0.74 | G8: NON | H8: =IF(G8="","",IF(G8="OUI","Total",IF(E8<>0,"Partiel","Pas de déclassement"))) -> Partiel | I8: =IF(H8="","",IF(H8="Total",100%,E8/D8)) -> 0.088516746
A9: 40 | B9: 43616 | C9: Lège-Cap-Ferret | D9: 4.16 | E9: 4.16 | G9: OUI | H9: =IF(G9="","",IF(G9="OUI","Total",IF(E9<>0,"Partiel","Pas de déclassement"))) -> Total | I9: =IF(H9="","",IF(H9="Total",100%,E9/D9)) -> 1
A10: 41 | B10: 43616 | C10: Arès | D10: 8.2 | E10: 0.71 | G10: NON | H10: =IF(G10="","",IF(G10="OUI","Total",IF(E10<>0,"Partiel","Pas de déclassement"))) -> Partiel | I10: =IF(H10="","",IF(H10="Total",100%,E10/D10)) -> 0.086585366
A11: 42 | B11: 43616 | C11: Mios | D11: 6.84 | E11: 0.41 | F11: 0.15 | G11: NON | H11: =IF(G11="","",IF(G11="OUI","Total",IF(E11<>0,"Partiel","Pas de déclassement"))) -> Partiel | I11: =IF(H11="","",IF(H11="Total",100%,E11/D11)) -> 0.05994152
A12: 43 | B12: 43616 | C12: Lanton | D12: 8.94 | E12: 0.81 | G12: NON | H12: =IF(G12="","",IF(G12="OUI","Total",IF(E12<>0,"Partiel","Pas de déclassement"))) -> Partiel | I12: =IF(H12="","",IF(H12="Total",100%,E12/D12)) -> 0.090604027
A13: 44 | B13: 43616 | C13: Andernos-les-Bains | D13: 7.56 | E13: 0.24 | G13: NON | H13: =IF(G13="","",IF(G13="OUI","Total",IF(E13<>0,"Partiel","Pas de déclassement"))) -> Partiel | I13: =IF(H13="","",IF(H13="Total",100%,E13/D13)) -> 0.031746032
A14: 45 | B14: 43617 | C14: Marcheprime | D14: 7.7 | E14: 1.3 | G14: NON | H14: =IF(G14="","",IF(G14="OUI","Total",IF(E14<>0,"Partiel","Pas de déclassement"))) -> Partiel | I14: =IF(H14="","",IF(H14="Total",100%,E14/D14)) -> 0.16883117
A15: 46 | B15: 43617 | C15: Biganos | D15: 6.04 | E15: 0.98 | G15: NON | H15: =IF(G15="","",IF(G15="OUI","Total",IF(E15<>0,"Partiel","Pas de déclassement"))) -> Partiel | I15: =IF(H15="","",IF(H15="Total",100%,E15/D15)) -> 0.16225166
A16: 47 | B16: 43617 | C16: Mios | D16: 8.42 | E16: 8.42 | G16: OUI | H16: =IF(G16="","",IF(G16="OUI","Total",IF(E16<>0,"Partiel","Pas de déclassement"))) -> Total | I16: =IF(H16="","",IF(H16="Total",100%,E16/D16)) -> 1
A17: 48 | B17: 43619 | C17: Audenge | D17: 6.98 | E17: 6.98 | G17: OUI | H17: =IF(G17="","",IF(G17="OUI","Total",IF(E17<>0,"Partiel","Pas de déclassement"))) -> Total | I17: =IF(H17="","",IF(H17="Total",100%,E17/D17)) -> 1
A18: 49 | B18: 43620 | C18: Biganos | D18: 6.28 | E18: 6.28 | G18: OUI | H18: =IF(G18="","",IF(G18="OUI","Total",IF(E18<>0,"Partiel","Pas de déclassement"))) -> Total | I18: =IF(H18="","",IF(H18="Total",100%,E18/D18)) -> 1
A19: 50 | B19: 43620 | C19: Lège-Cap-Ferret | D19: 7.02 | E19: 1.36 | G19: NON | H19: =IF(G19="","",IF(G19="OUI","Total",IF(E19<>0,"Partiel","Pas de déclassement"))) -> Partiel | I19: =IF(H19="","",IF(H19="Total",100%,E19/D19)) -> 0.19373219
A20: 51 | B20: 43620 | C20: Andernos-les-Bains | D20: 7.74 | E20: 0.68 | F20: 0.68 | G20: NON | H20: =IF(G20="","",IF(G20="OUI","Total",IF(E20<>0,"Partiel","Pas de déclassement"))) -> Partiel | I20: =IF(H20="","",IF(H20="Total",100%,E20/D20)) -> 0.087855297
A21: 52 | B21: 43620 | C21: Arès | D21: 8.3 | E21: 0.46 | G21: NON | H21: =IF(G21="","",IF(G21="OUI","Total",IF(E21<>0,"Partiel","Pas de déclassement"))) -> Partiel | I21: =IF(H21="","",IF(H21="Total",100%,E21/D21)) -> 0.055421687
A22: 53 | B22: 43621 | C22: Andernos-les-Bains | D22: 6.4 | E22: 1.98 | G22: NON | H22: =IF(G22="","",IF(G22="OUI","Total",IF(E22<>0,"Partiel","Pas de déclassement"))) -> Partiel | I22: =IF(H22="","",IF(H22="Total",100%,E22/D22)) -> 0.309375
A23: 54 | B23: 43622 | C23: Arès | D23: 8.26 | E23: 0.94 | F23: 0.54 | G23: NON | H23: =IF(G23="","",IF(G23="OUI","Total",IF(E23<>0,"Partiel","Pas de déclassement"))) -> Partiel | I23: =IF(H23="","",IF(H23="Total",100%,E23/D23)) -> 0.11380145
A24: 55 | B24: 43623 | C24: Lège-Cap-Ferret | D24: 5.6 | E24: 1.45 | G24: NON | H24: =IF(G24="","",IF(G24="OUI","Total",IF(E24<>0,"Partiel","Pas de déclassement"))) -> Partiel | I24: =IF(H24="","",IF(H24="Total",100%,E24/D24)) -> 0.25892857
A25: 56 | B25: 43623 | C25: Andernos-les-Bains | D25: 6.44 | E25: 0.52 | F25: 0.1 | G25: NON | H25: =IF(G25="","",IF(G25="OUI","Total",IF(E25<>0,"Partiel","Pas de déclassement"))) -> Partiel | I25: =IF(H25="","",IF(H25="Total",100%,E25/D25)) -> 0.080745342
A26: 57 | B26: 43624 | C26: Marcheprime | D26: 7.72 | E26: 1.32 | G26: NON | H26: =IF(G26="","",IF(G26="OUI","Total",IF(E26<>0,"Partiel","Pas de déclassement"))) -> Partiel | I26: =IF(H26="","",IF(H26="Total",100%,E26/D26)) -> 0.17098446
A27: 58 | B27: 43624 | C27: Lanton | D27: 8.84 | E27: 0.28 | G27: NON | H27: =IF(G27="","",IF(G27="OUI","Total",IF(E27<>0,"Partiel","Pas de déclassement"))) -> Partiel | I27: =IF(H27="","",IF(H27="Total",100%,E27/D27)) -> 0.031674208
A28: 59 | B28: 43627 | C28: Audenge | D28: 6.62 | E28: 0.39 | G28: NON | H28: =IF(G28="","",IF(G28="OUI","Total",IF(E28<>0,"Partiel","Pas de déclassement"))) -> Partiel | I28: =IF(H28="","",IF(H28="Total",100%,E28/D28)) -> 0.058912387
A29: 60 | B29: 43624 | C29: Biganos | D29: 5.06 | E29: 5.06 | G29: OUI | H29: =IF(G29="","",IF(G29="OUI","Total",IF(E29<>0,"Partiel","Pas de déclassement"))) -> Total | I29: =IF(H29="","",IF(H29="Total",100%,E29/D29)) -> 1
A30: 61 | B30: 43627 | C30: Audenge | D30: 6.62 | E30: 0.39 | G30: NON | H30: =IF(G30="","",IF(G30="OUI","Total",IF(E30<>0,"Partiel","Pas de déclassement"))) -> Partiel | I30: =IF(H30="","",IF(H30="Total",100%,E30/D30)) -> 0.058912387
A31: 62 | B31: 43627 | C31: Mios | D31: 9.44 | E31: 0.78 | G31: NON | H31: =IF(G31="","",IF(G31="OUI","Total",IF(E31<>0,"Partiel","Pas de déclassement"))) -> Partiel | I31: =IF(H31="","",IF(H31="Total",100%,E31/D31)) -> 0.082627119
A32: 63 | B32: 43627 | C32: Andernos-les-Bains | D32: 10.24 | E32: 0.96 | G32: NON | H32: =IF(G32="","",IF(G32="OUI","Total",IF(E32<>0,"Partiel","Pas de déclassement"))) -> Partiel | I32: =IF(H32="","",IF(H32="Total",100%,E32/D32)) -> 0.09375
A33: 64 | B33: 43627 | C33: Lège-Cap-Ferret | D33: 6.32 | E33: 6.32 | G33: OUI | H33: =IF(G33="","",IF(G33="OUI","Total",IF(E33<>0,"Partiel","Pas de déclassement"))) -> Total | I33: =IF(H33="","",IF(H33="Total",100%,E33/D33)) -> 1
A34: 66 | B34: 43631 | C34: Andernos-les-Bains | D34: 8.22 | E34: 8.22 | G34: OUI | H34: =IF(G34="","",IF(G34="OUI","Total",IF(E34<>0,"Partiel","Pas de déclassement"))) -> Total | I34: =IF(H34="","",IF(H34="Total",100%,E34/D34)) -> 1
A35: 67 | B35: 43631 | C35: Marcheprime | D35: 5.92 | E35: 0.42 | G35: NON | H35: =IF(G35="","",IF(G35="OUI","Total",IF(E35<>0,"Partiel","Pas de déclassement"))) -> Partiel | I35: =IF(H35="","",IF(H35="Total",100%,E35/D35)) -> 0.070945946
A36: 68 | B36: 43631 | C36: Biganos | D36: 7.28 | E36: 0.38 | G36: NON | H36: =IF(G36="","",IF(G36="OUI","Total",IF(E36<>0,"Partiel","Pas de déclassement"))) -> Partiel | I36: =IF(H36="","",IF(H36="Total",100%,E36/D36)) -> 0.052197802
A37: 69 | B37: 43633 | C37: Andernos-les-Bains | D37: 7.2 | E37: 0.08 | G37: NON | H37: =IF(G37="","",IF(G37="OUI","Total",IF(E37<>0,"Partiel","Pas de déclassement"))) -> Partiel | I37: =IF(H37="","",IF(H37="Total",100%,E37/D37)) -> 0.011111111
A38: 70 | B38: 43633 | C38: Arès | D38: 8.66 | E38: 1.66 | G38: NON | H38: =IF(G38="","",IF(G38="OUI","Total",IF(E38<>0,"Partiel","Pas de déclassement"))) -> Partiel | I38: =IF(H38="","",IF(H38="Total",100%,E38/D38)) -> 0.19168591
A39: 71 | B39: 43633 | C39: Arès | D39: 8.66 | E39: 0.5 | F39: 0.5 | G39: NON | H39: =IF(G39="","",IF(G39="OUI","Total",IF(E39<>0,"Partiel","Pas de déclassement"))) -> Partiel | I39: =IF(H39="","",IF(H39="Total",100%,E39/D39)) -> 0.057736721
A40: 72 | B40: 43633 | C40: Audenge | D40: 7.4 | E40: 7.4 | G40: OUI | H40: =IF(G40="","",IF(G40="OUI","Total",IF(E40<>0,"Partiel","Pas de déclassement"))) -> Total | I40: =IF(H40="","",IF(H40="Total",100%,E40/D40)) -> 1
A41: 73 | B41: 43635 | C41: Biganos | D41: 5.54 | E41: 1.19 | G41: NON | H41: =IF(G41="","",IF(G41="OUI","Total",IF(E41<>0,"Partiel","Pas de déclassement"))) -> Partiel | I41: =IF(H41="","",IF(H41="Total",100%,E41/D41)) -> 0.21480144
A42: 74 | B42: 43635 | C42: Arès | D42: 6.38 | E42: 0.82 | G42: NON | H42: =IF(G42="","",IF(G42="OUI","Total",IF(E42<>0,"Partiel","Pas de déclassement"))) -> Partiel | I42: =IF(H42="","",IF(H42="Total",100%,E42/D42)) -> 0.12852665
A43: 75 | B43: 43635 | C43: Arès | D43: 6.38 | E43: 0.2 | F43: 0.2 | G43: NON | H43: =IF(G43="","",IF(G43="OUI","Total",IF(E43<>0,"Partiel","Pas de déclassement"))) -> Partiel | I43: =IF(H43="","",IF(H43="Total",100%,E43/D43)) -> 0.031347962
A44: 76 | B44: 43636 | C44: Audenge | D44: 10.84 | E44: 10.84 | G44: OUI | H44: =IF(G44="","",IF(G44="OUI","Total",IF(E44<>0,"Partiel","Pas de déclassement"))) -> Total | I44: =IF(H44="","",IF(H44="Total",100%,E44/D44)) -> 1
A45: 77 | B45: 43636 | C45: Lège-Cap-Ferret | D45: 5.54 | E45: 0.23 | G45: NON | H45: =IF(G45="","",IF(G45="OUI","Total",IF(E45<>0,"Partiel","Pas de déclassement"))) -> Partiel | I45: =IF(H45="","",IF(H45="Total",100%,E45/D45)) -> 0.041516245
H46: =IF(G46="","",IF(G46="OUI","Total",IF(E46<>0,"Partiel","Pas de déclassement"))) | I46: =IF(H46="","",IF(H46="Total",100%,E46/D46))
H47: =IF(G47="","",IF(G47="OUI","Total",IF(E47<>0,"Partiel","Pas de déclassement"))) | I47: =IF(H47="","",IF(H47="Total",100%,E47/D47))
H48: =IF(G48="","",IF(G48="OUI","Total",IF(E48<>0,"Partiel","Pas de déclassement"))) | I48: =IF(H48="","",IF(H48="Total",100%,E48/D48))
H49: =IF(G49="","",IF(G49="OUI","Total",IF(E49<>0,"Partiel","Pas de déclassement"))) | I49: =IF(H49="","",IF(H49="Total",100%,E49/D49))
H50: =IF(G50="","",IF(G50="OUI","Total",IF(E50<>0,"Partiel","Pas de déclassement"))) | I50: =IF(H50="","",IF(H50="Total",100%,E50/D50))
H51: =IF(G51="","",IF(G51="OUI","Total",IF(E51<>0,"Partiel","Pas de déclassement"))) | I51: =IF(H51="","",IF(H51="Total",100%,E51/D51))
H52: =IF(G52="","",IF(G52="OUI","Total",IF(E52<>0,"Partiel","Pas de déclassement"))) | I52: =IF(H52="","",IF(H52="Total",100%,E52/D52))
H53: =IF(G53="","",IF(G53="OUI","Total",IF(E53<>0,"Partiel","Pas de déclassement"))) | I53: =IF(H53="","",IF(H53="Total",100%,E53/D53))
H54: =IF(G54="","",IF(G54="OUI","Total",IF(E54<>0,"Partiel","Pas de déclassement"))) | I54: =IF(H54="","",IF(H54="Total",100%,E54/D54))
H55: =IF(G55="","",IF(G55="OUI","Total",IF(E55<>0,"Partiel","Pas de déclassement"))) | I55: =IF(H55="","",IF(H55="Total",100%,E55/D55))

Sheet STATS
A1: Du | B1: =SUBTOTAL(5,'Suivi Déclassement'!B:B) -> 43609 | C1: au | D1: =SUBTOTAL(4,'Suivi Déclassement'!B:B) -> 43636 | H1: Colonnes pour graphique
A2: \ | B2: Nb déclasemment | C2: Masse totale | D2: Masse indésirables | E2: Dont béton cellulaire | F2: % Moyen indésirables | G2: Nb présence fibrociment | H2: Pas de fibrociment | I2: Masse sans indé
A3: Andernos-les-Bains | B3: =COUNTIFS('Suivi Déclassement'!$C$3:$C$10002,$A3,'Suivi Déclassement'!$B$3:$B$10002,">="&$B$1,'Suivi Déclassement'!$B$3:$B$10002,"<="&$D$1) -> 7 | C3: =SUMIFS('Suivi Déclassement'!$D$3:$D$10002,'Suivi Déclassement'!$C$3:$C$10002,$A3,'Suivi Déclassement'!$B$3:$B$10002,">="&$B$1,'Suivi Déclassement'!$B$3:$B$10002,"<="&$D$1) -> 53.8 | D3: =SUMIFS('Suivi Déclassement'!$E$3:$E$10002,'Suivi Déclassement'!$C$3:$C$10002,$A3,'Suivi Déclassement'!$B$3:$B$10002,">="&$B$1,'Suivi Déclassement'!$B$3:$B$10002,"<="&$D$1) -> 12.68 | E3: =SUMIFS('Suivi Déclassement'!$F$3:$F$10002,'Suivi Déclassement'!$C$3:$C$10002,$A3,'Suivi Déclassement'!$B$3:$B$10002,">="&$B$1,'Suivi Déclassement'!$B$3:$B$10002,"<="&$D$1) -> 0.78 | F3: =IF(OR(C3=0,D3=0),0,D3/C3) -> 0.23568773 | G3: =COUNTIFS('Suivi Déclassement'!$C$3:$C$10002,$A3,'Suivi Déclassement'!$G$3:$G$10002,"OUI",'Suivi Déclassement'!$B$3:$B$10002,">="&$B$1,'Suivi Déclassement'!$B$3:$B$10002,"<="&$D$1) -> 1 | H3: =B3-G3 -> 6 | I3: =C3-D3 -> 41.12
A4: Arès | B4: =COUNTIFS('Suivi Déclassement'!$C$3:$C$10002,$A4,'Suivi Déclassement'!$B$3:$B$10002,">="&$B$1,'Suivi Déclassement'!$B$3:$B$10002,"<="&$D$1) -> 9 | C4: =SUMIFS('Suivi Déclassement'!$D$3:$D$10002,'Suivi Déclassement'!$C$3:$C$10002,$A4,'Suivi Déclassement'!$B$3:$B$10002,">="&$B$1,'Suivi Déclassement'!$B$3:$B$10002,"<="&$D$1) -> 71.6 | D4: =SUMIFS('Suivi Déclassement'!$E$3:$E$10002,'Suivi Déclassement'!$C$3:$C$10002,$A4,'Suivi Déclassement'!$B$3:$B$10002,">="&$B$1,'Suivi Déclassement'!$B$3:$B$10002,"<="&$D$1) -> 5.68 | E4: =SUMIFS('Suivi Déclassement'!$F$3:$F$10002,'Suivi Déclassement'!$C$3:$C$10002,$A4,'Suivi Déclassement'!$B$3:$B$10002,">="&$B$1,'Suivi Déclassement'!$B$3:$B$10002,"<="&$D$1) -> 1.24 | F4: =IF(OR(C4=0,D4=0),0,D4/C4) -> 0.079329609 | G4: =COUNTIFS('Suivi Déclassement'!$C$3:$C$10002,$A4,'Suivi Déclassement'!$G$3:$G$10002,"OUI",'Suivi Déclassement'!$B$3:$B$10002,">="&$B$1,'Suivi Déclassement'!$B$3:$B$10002,"<="&$D$1) -> 0 | H4: =B4-G4 -> 9 | I4: =C4-D4 -> 65.92
A5: Audenge | B5: =COUNTIFS('Suivi Déclassement'!$C$3:$C$10002,$A5,'Suivi Déclassement'!$B$3:$B$10002,">="&$B$1,'Suivi Déclassement'!$B$3:$B$10002,"<="&$D$1) -> 6 | C5: =SUMIFS('Suivi Déclassement'!$D$3:$D$10002,'Suivi Déclassement'!$C$3:$C$10002,$A5,'Suivi Déclassement'!$B$3:$B$10002,">="&$B$1,'Suivi Déclassement'!$B$3:$B$10002,"<="&$D$1) -> 47.38 | D5: =SUMIFS('Suivi Déclassement'!$E$3:$E$10002,'Suivi Déclassement'!$C$3:$C$10002,$A5,'Suivi Déclassement'!$B$3:$B$10002,">="&$B$1,'Suivi Déclassement'!$B$3:$B$10002,"<="&$D$1) -> 34.92 | E5: =SUMIFS('Suivi Déclassement'!$F$3:$F$10002,'Suivi Déclassement'!$C$3:$C$10002,$A5,'Suivi Déclassement'!$B$3:$B$10002,">="&$B$1,'Suivi Déclassement'!$B$3:$B$10002,"<="&$D$1) -> 0 | F5: =IF(OR(C5=0,D5=0),0,D5/C5) -> 0.73701984 | G5: =COUNTIFS('Suivi Déclassement'!$C$3:$C$10002,$A5,'Suivi Déclassement'!$G$3:$G$10002,"OUI",'Suivi Déclassement'!$B$3:$B$10002,">="&$B$1,'Suivi Déclassement'!$B$3:$B$10002,"<="&$D$1) -> 4 | H5: =B5-G5 -> 2 | I5: =C5-D5 -> 12.46
A6: Biganos | B6: =COUNTIFS('Suivi Déclassement'!$C$3:$C$10002,$A6,'Suivi Déclassement'!$B$3:$B$10002,">="&$B$1,'Suivi Déclassement'!$B$3:$B$10002,"<="&$D$1) -> 6 | C6: =SUMIFS('Suivi Déclassement'!$D$3:$D$10002,'Suivi Déclassement'!$C$3:$C$10002,$A6,'Suivi Déclassement'!$B$3:$B$10002,">="&$B$1,'Suivi Déclassement'!$B$3:$B$10002,"<="&$D$1) -> 38.56 | D6: =SUMIFS('Suivi Déclassement'!$E$3:$E$10002,'Suivi Déclassement'!$C$3:$C$10002,$A6,'Suivi Déclassement'!$B$3:$B$10002,">="&$B$1,'Suivi Déclassement'!$B$3:$B$10002,"<="&$D$1) -> 14.63 | E6: =SUMIFS('Suivi Déclassement'!$F$3:$F$10002,'Suivi Déclassement'!$C$3:$C$10002,$A6,'Suivi Déclassement'!$B$3:$B$10002,">="&$B$1,'Suivi Déclassement'!$B$3:$B$10002,"<="&$D$1) -> 0 | F6: =IF(OR(C6=0,D6=0),0,D6/C6) -> 0.37940871 | G6: =COUNTIFS('Suivi Déclassement'!$C$3:$C$10002,$A6,'Suivi Déclassement'!$G$3:$G$10002,"OUI",'Suivi Déclassement'!$B$3:$B$10002,">="&$B$1,'Suivi Déclassement'!$B$3:$B$10002,"<="&$D$1) -> 2 | H6: =B6-G6 -> 4 | I6: =C6-D6 -> 23.93
A7: Lanton | B7: =COUNTIFS('Suivi Déclassement'!$C$3:$C$10002,$A7,'Suivi Déclassement'!$B$3:$B$10002,">="&$B$1,'Suivi Déclassement'!$B$3:$B$10002,"<="&$D$1) -> 2 | C7: =SUMIFS('Suivi Déclassement'!$D$3:$D$10002,'Suivi Déclassement'!$C$3:$C$10002,$A7,'Suivi Déclassement'!$B$3:$B$10002,">="&$B$1,'Suivi Déclassement'!$B$3:$B$10002,"<="&$D$1) -> 17.78 | D7: =SUMIFS('Suivi Déclassement'!$E$3:$E$10002,'Suivi Déclassement'!$C$3:$C$10002,$A7,'Suivi Déclassement'!$B$3:$B$10002,">="&$B$1,'Suivi Déclassement'!$B$3:$B$10002,"<="&$D$1) -> 1.09 | E7: =SUMIFS('Suivi Déclassement'!$F$3:$F$10002,'Suivi Déclassement'!$C$3:$C$10002,$A7,'Suivi Déclassement'!$B$3:$B$10002,">="&$B$1,'Suivi Déclassement'!$B$3:$B$10002,"<="&$D$1) -> 0 | F7: =IF(OR(C7=0,D7=0),0,D7/C7) -> 0.061304837 | G7: =COUNTIFS('Suivi Déclassement'!$C$3:$C$10002,$A7,'Suivi Déclassement'!$G$3:$G$10002,"OUI",'Suivi Déclassement'!$B$3:$B$10002,">="&$B$1,'Suivi Déclassement'!$B$3:$B$10002,"<="&$D$1) -> 0 | H7: =B7-G7 -> 2 | I7: =C7-D7 -> 16.69
A8: Lège-Cap-Ferret | B8: =COUNTIFS('Suivi Déclassement'!$C$3:$C$10002,$A8,'Suivi Déclassement'!$B$3:$B$10002,">="&$B$1,'Suivi Déclassement'!$B$3:$B$10002,"<="&$D$1) -> 6 | C8: =SUMIFS('Suivi Déclassement'!$D$3:$D$10002,'Suivi Déclassement'!$C$3:$C$10002,$A8,'Suivi Déclassement'!$B$3:$B$10002,">="&$B$1,'Suivi Déclassement'!$B$3:$B$10002,"<="&$D$1) -> 33.76 | D8: =SUMIFS('Suivi Déclassement'!$E$3:$E$10002,'Suivi Déclassement'!$C$3:$C$10002,$A8,'Suivi Déclassement'!$B$3:$B$10002,">="&$B$1,'Suivi Déclassement'!$B$3:$B$10002,"<="&$D$1) -> 15.65 | E8: =SUMIFS('Suivi Déclassement'!$F$3:$F$10002,'Suivi Déclassement'!$C$3:$C$10002,$A8,'Suivi Déclassement'!$B$3:$B$10002,">="&$B$1,'Suivi Déclassement'!$B$3:$B$10002,"<="&$D$1) -> 0 | F8: =IF(OR(C8=0,D8=0),0,D8/C8) -> 0.46356635 | G8: =COUNTIFS('Suivi Déclassement'!$C$3:$C$10002,$A8,'Suivi Déclassement'!$G$3:$G$10002,"OUI",'Suivi Déclassement'!$B$3:$B$10002,">="&$B$1,'Suivi Déclassement'!$B$3:$B$10002,"<="&$D$1) -> 2 | H8: =B8-G8 -> 4 | I8: =C8-D8 -> 18.11
A9: Marcheprime | B9: =COUNTIFS('Suivi Déclassement'!$C$3:$C$10002,$A9,'Suivi Déclassement'!$B$3:$B$10002,">="&$B$1,'Suivi Déclassement'!$B$3:$B$10002,"<="&$D$1) -> 4 | C9: =SUMIFS('Suivi Déclassement'!$D$3:$D$10002,'Suivi Déclassement'!$C$3:$C$10002,$A9,'Suivi Déclassement'!$B$3:$B$10002,">="&$B$1,'Suivi Déclassement'!$B$3:$B$10002,"<="&$D$1) -> 48.54 | D9: =SUMIFS('Suivi Déclassement'!$E$3:$E$10002,'Suivi Déclassement'!$C$3:$C$10002,$A9,'Suivi Déclassement'!$B$3:$B$10002,">="&$B$1,'Suivi Déclassement'!$B$3:$B$10002,"<="&$D$1) -> 13.42 | E9: =SUMIFS('Suivi Déclassement'!$F$3:$F$10002,'Suivi Déclassement'!$C$3:$C$10002,$A9,'Suivi Déclassement'!$B$3:$B$10002,">="&$B$1,'Suivi Déclassement'!$B$3:$B$10002,"<="&$D$1) -> 0 | F9: =IF(OR(C9=0,D9=0),0,D9/C9) -> 0.27647301 | G9: =COUNTIFS('Suivi Déclassement'!$C$3:$C$10002,$A9,'Suivi Déclassement'!$G$3:$G$10002,"OUI",'Suivi Déclassement'!$B$3:$B$10002,">="&$B$1,'Suivi Déclassement'!$B$3:$B$10002,"<="&$D$1) -> 1 | H9: =B9-G9 -> 3 | I9: =C9-D9 -> 35.12
A10: Mios | B10: =COUNTIFS('Suivi Déclassement'!$C$3:$C$10002,$A10,'Suivi Déclassement'!$B$3:$B$10002,">="&$B$1,'Suivi Déclassement'!$B$3:$B$10002,"<="&$D$1) -> 3 | C10: =SUMIFS('Suivi Déclassement'!$D$3:$D$10002,'Suivi Déclassement'!$C$3:$C$10002,$A10,'Suivi Déclassement'!$B$3:$B$10002,">="&$B$1,'Suivi Déclassement'!$B$3:$B$10002,"<="&$D$1) -> 24.7 | D10: =SUMIFS('Suivi Déclassement'!$E$3:$E$10002,'Suivi Déclassement'!$C$3:$C$10002,$A10,'Suivi Déclassement'!$B$3:$B$10002,">="&$B$1,'Suivi Déclassement'!$B$3:$B$10002,"<="&$D$1) -> 9.61 | E10: =SUMIFS('Suivi Déclassement'!$F$3:$F$10002,'Suivi Déclassement'!$C$3:$C$10002,$A10,'Suivi Déclassement'!$B$3:$B$10002,">="&$B$1,'Suivi Déclassement'!$B$3:$B$10002,"<="&$D$1) -> 0.15 | F10: =IF(OR(C10=0,D10=0),0,D10/C10) -> 0.38906883 | G10: =COUNTIFS('Suivi Déclassement'!$C$3:$C$10002,$A10,'Suivi Déclassement'!$G$3:$G$10002,"OUI",'Suivi Déclassement'!$B$3:$B$10002,">="&$B$1,'Suivi Déclassement'!$B$3:$B$10002,"<="&$D$1) -> 1 | H10: =B10-G10 -> 2 | I10: =C10-D10 -> 15.09
A12: Ensemble déchetterie | B12: =SUM(B3:B10) -> 43 | C12: =SUM('Suivi Déclassement'!$D$3:$D$10002) -> 336.12 | D12: =SUM('Suivi Déclassement'!$E$3:$E$10002) -> 107.68 | E12: =SUM('Suivi Déclassement'!$F$3:$F$10002) -> 2.17 | F12: =D12/C12 -> 0.32036178 | G12: =SUM(G3:G10) -> 11
