Workbook

Sheet feuil12
A1: Property ID | B1: Property Title | C1: Checkin | D1: Checkout | E1: Portal Name | F1: Acc. Cost | G1: Created at
A2: 50284 | B2: Masna #01 | C2: 43160 | D2: 43163 | E2: AirBnb | F2: 194.97 | G2: 43157.568
A3: 50284 | B3: Masna #01 | C3: 43168 | D3: 43172 | E3: Direct Booking | F3: 220 | G3: 43157.236
A4: 50284 | B4: Masna #01 | C4: 43179 | D4: 43182 | E4: AirBnb | F4: 121.25 | G4: 43171.411
A5: 50284 | B5: Masna #01 | C5: 43182 | D5: 43184 | E5: AirBnb | F5: 143.56 | G5: 43181.739
A6: 50284 | B6: Masna #01 | C6: 43184 | D6: 43187 | E6: AirBnb | F6: 182.36 | G6: 43160.657
A7: 50284 | B7: Masna #01 | C7: 43188 | D7: 43190 | E7: Booking.com | F7: 234.2 | G7: 43163.552
A8: 50284 | B8: Masna #01 | C8: 43190 | D8: 43193 | E8: AirBnb | F8: 256.08 | G8: 43152.033
A9: 50284 | B9: Masna #01 | C9: 43193 | D9: 43197 | E9: Booking.com | F9: 348.5 | G9: 43142.691
A10: 50284 | B10: Masna #01 | C10: 43199 | D10: 43202 | E10: AirBnb | F10: 145.5 | G10: 43156.084
A11: 50348 | B11: Masna #02 | C11: 43158 | D11: 43161 | E11: Booking.com | F11: 137.6 | G11: 43148.55
A12: 50348 | B12: Masna #02 | C12: 43163 | D12: 43168 | E12: Booking.com | F12: 247 | G12: 43141.616
A13: 50348 | B13: Masna #02 | C13: 43174 | D13: 43179 | E13: Booking.com | F13: 209 | G13: 43174.365
... A41: 50356 | B41: Masna #24 | C41: 43205 | D41: 43210 | E41: AirBnb | F41: 316.22 | G41: 43181.822

Sheet J+16
A3: =TODAY()+16 -> 43204 | B3: ID | C3: APT | D3: Airbnb | E3: Booking.com | F3: Only Apt | G3: Direct | H3: Expedia | I3: Homeway | J3: Rentivo
B4: 50348 | C4: Masna #02 | D4: =SUMPRODUCT((feuil12!$E$2:$E$5454="Airbnb")*(INT(feuil12!$C$2:$C$5454)=TODAY()+16)*(feuil12!$F$2:$F$5454)*(feuil12!$A$2:$A$5454=B4)) -> 0 | E4: =SUMPRODUCT((feuil12!$E$2:$E$5454="Booking.com")*(INT(feuil12!$C$2:$C$5454)=TODAY()+16)*(feuil12!$F$2:$F$5454)*(feuil12!$A$2:$A$5454=B4)) -> 0 | F4: =SUMPRODUCT((feuil12!$E$2:$E$5454="Only Apartments")*(INT(feuil12!$C$2:$C$5454)=TODAY()+16)*(feuil12!$F$2:$F$5454)*(feuil12!$A$2:$A$5454=B4)) -> 0 | G4: =SUMPRODUCT((feuil12!$E$2:$E$5454="Direct Booking")*(INT(feuil12!$C$2:$C$5454)=TODAY()+16)*(feuil12!$F$2:$F$5454)*(feuil12!$A$2:$A$5454=B4)) -> 220 | H4: =SUMPRODUCT((feuil12!$E$2:$E$5454="Expedia")*(INT(feuil12!$C$2:$C$5454)=TODAY()+16)*(feuil12!$F$2:$F$5454)*(feuil12!$A$2:$A$5454=B4)) -> 0 | I4: =SUMPRODUCT((feuil12!$E$2:$E$5454="Home Away")*(INT(feuil12!$C$2:$C$5454)=TODAY()+16)*(feuil12!$F$2:$F$5454)*(feuil12!$A$2:$A$5454=B4)) -> 0 | J4: =SUMPRODUCT((feuil12!$E$2:$E$5454="Rentivo")*(INT(feuil12!$C$2:$C$5454)=TODAY()+16)*(feuil12!$F$2:$F$5454)*(feuil12!$A$2:$A$5454=B4)) -> 0 | K4: =SUMPRODUCT((feuil12!$E$2:$E$5454="Booking.com")*((feuil12!$G$2:$G$5454)>=DATEVALUE("08/03/2018"))*(INT(feuil12!$D$2:$D$5454)<TODAY()+16)*(feuil12!$F$2:$F$5454)*(feuil12!$A$2:$A$5454=B4)) -> 398.9
B5: 50298 | C5: Masna #03 | D5: =SUMPRODUCT((feuil12!$E$2:$E$5454="Airbnb")*(INT(feuil12!$C$2:$C$5454)=TODAY()+16)*(feuil12!$F$2:$F$5454)*(feuil12!$A$2:$A$5454=B5)) -> 0 | E5: =SUMPRODUCT((feuil12!$E$2:$E$5454="Booking.com")*(INT(feuil12!$C$2:$C$5454)=TODAY()+16)*(feuil12!$F$2:$F$5454)*(feuil12!$A$2:$A$5454=B5)) -> 0 | F5: =SUMPRODUCT((feuil12!$E$2:$E$5454="Only Apartments")*(INT(feuil12!$C$2:$C$5454)=TODAY()+16)*(feuil12!$F$2:$F$5454)*(feuil12!$A$2:$A$5454=B5)) -> 0 | G5: =SUMPRODUCT((feuil12!$E$2:$E$5454="Direct Booking")*(INT(feuil12!$C$2:$C$5454)=TODAY()+16)*(feuil12!$F$2:$F$5454)*(feuil12!$A$2:$A$5454=B5)) -> 0 | H5: =SUMPRODUCT((feuil12!$E$2:$E$5454="Expedia")*(INT(feuil12!$C$2:$C$5454)=TODAY()+16)*(feuil12!$F$2:$F$5454)*(feuil12!$A$2:$A$5454=B5)) -> 0 | I5: =SUMPRODUCT((feuil12!$E$2:$E$5454="Home Away")*(INT(feuil12!$C$2:$C$5454)=TODAY()+16)*(feuil12!$F$2:$F$5454)*(feuil12!$A$2:$A$5454=B5)) -> 0 | J5: =SUMPRODUCT((feuil12!$E$2:$E$5454="Rentivo")*(INT(feuil12!$C$2:$C$5454)=TODAY()+16)*(feuil12!$F$2:$F$5454)*(feuil12!$A$2:$A$5454=B5)) -> 0 | K5: =SUMPRODUCT((feuil12!$E$2:$E$5454="Booking.com")*((feuil12!$G$2:$G$5454)>=DATEVALUE("18/03/2018"))*(INT(feuil12!$D$2:$D$5454)<TODAY()+16)*(feuil12!$F$2:$F$5454)*(feuil12!$A$2:$A$5454=B5)) -> 0
B6: 50288 | C6: Masna #04 | D6: =SUMPRODUCT((feuil12!$E$2:$E$5454="Airbnb")*(INT(feuil12!$C$2:$C$5454)=TODAY()+16)*(feuil12!$F$2:$F$5454)*(feuil12!$A$2:$A$5454=B6)) -> 0 | E6: =SUMPRODUCT((feuil12!$E$2:$E$5454="Booking.com")*(INT(feuil12!$C$2:$C$5454)=TODAY()+16)*(feuil12!$F$2:$F$5454)*(feuil12!$A$2:$A$5454=B6)) -> 0 | F6: =SUMPRODUCT((feuil12!$E$2:$E$5454="Only Apartments")*(INT(feuil12!$C$2:$C$5454)=TODAY()+16)*(feuil12!$F$2:$F$5454)*(feuil12!$A$2:$A$5454=B6)) -> 0 | G6: =SUMPRODUCT((feuil12!$E$2:$E$5454="Direct Booking")*(INT(feuil12!$C$2:$C$5454)=TODAY()+16)*(feuil12!$F$2:$F$5454)*(feuil12!$A$2:$A$5454=B6)) -> 0 | H6: =SUMPRODUCT((feuil12!$E$2:$E$5454="Expedia")*(INT(feuil12!$C$2:$C$5454)=TODAY()+16)*(feuil12!$F$2:$F$5454)*(feuil12!$A$2:$A$5454=B6)) -> 0 | I6: =SUMPRODUCT((feuil12!$E$2:$E$5454="Home Away")*(INT(feuil12!$C$2:$C$5454)=TODAY()+16)*(feuil12!$F$2:$F$5454)*(feuil12!$A$2:$A$5454=B6)) -> 0 | J6: =SUMPRODUCT((feuil12!$E$2:$E$5454="Rentivo")*(INT(feuil12!$C$2:$C$5454)=TODAY()+16)*(feuil12!$F$2:$F$5454)*(feuil12!$A$2:$A$5454=B6)) -> 0 | K6: =SUMPRODUCT((feuil12!$E$2:$E$5454="Booking.com")*((feuil12!$G$2:$G$5454)>=DATEVALUE("18/03/2018"))*(INT(feuil12!$D$2:$D$5454)<TODAY()+16)*(feuil12!$F$2:$F$5454)*(feuil12!$A$2:$A$5454=B6)) -> 0
B7: 50290 | C7: Masna #22 | D7: =SUMPRODUCT((feuil12!$E$2:$E$5454="Airbnb")*(INT(feuil12!$C$2:$C$5454)=TODAY()+16)*(feuil12!$F$2:$F$5454)*(feuil12!$A$2:$A$5454=B7)) -> 0 | E7: =SUMPRODUCT((feuil12!$E$2:$E$5454="Booking.com")*(INT(feuil12!$C$2:$C$5454)=TODAY()+16)*(feuil12!$F$2:$F$5454)*(feuil12!$A$2:$A$5454=B7)) -> 0 | F7: =SUMPRODUCT((feuil12!$E$2:$E$5454="Only Apartments")*(INT(feuil12!$C$2:$C$5454)=TODAY()+16)*(feuil12!$F$2:$F$5454)*(feuil12!$A$2:$A$5454=B7)) -> 0 | G7: =SUMPRODUCT((feuil12!$E$2:$E$5454="Direct Booking")*(INT(feuil12!$C$2:$C$5454)=TODAY()+16)*(feuil12!$F$2:$F$5454)*(feuil12!$A$2:$A$5454=B7)) -> 0 | H7: =SUMPRODUCT((feuil12!$E$2:$E$5454="Expedia")*(INT(feuil12!$C$2:$C$5454)=TODAY()+16)*(feuil12!$F$2:$F$5454)*(feuil12!$A$2:$A$5454=B7)) -> 0 | I7: =SUMPRODUCT((feuil12!$E$2:$E$5454="Home Away")*(INT(feuil12!$C$2:$C$5454)=TODAY()+16)*(feuil12!$F$2:$F$5454)*(feuil12!$A$2:$A$5454=B7)) -> 0 | J7: =SUMPRODUCT((feuil12!$E$2:$E$5454="Rentivo")*(INT(feuil12!$C$2:$C$5454)=TODAY()+16)*(feuil12!$F$2:$F$5454)*(feuil12!$A$2:$A$5454=B7)) -> 0 | K7: =SUMPRODUCT((feuil12!$E$2:$E$5454="Booking.com")*((feuil12!$G$2:$G$5454)>=DATEVALUE("18/03/2018"))*(INT(feuil12!$D$2:$D$5454)<TODAY()+16)*(feuil12!$F$2:$F$5454)*(feuil12!$A$2:$A$5454=B7)) -> 0
B8: 50356 | C8: Masna #24 | D8: =SUMPRODUCT((feuil12!$E$2:$E$5454="Airbnb")*(INT(feuil12!$C$2:$C$5454)=TODAY()+16)*(feuil12!$F$2:$F$5454)*(feuil12!$A$2:$A$5454=B8)) -> 0 | E8: =SUMPRODUCT((feuil12!$E$2:$E$5454="Booking.com")*(INT(feuil12!$C$2:$C$5454)=TODAY()+16)*(feuil12!$F$2:$F$5454)*(feuil12!$A$2:$A$5454=B8)) -> 0 | F8: =SUMPRODUCT((feuil12!$E$2:$E$5454="Only Apartments")*(INT(feuil12!$C$2:$C$5454)=TODAY()+16)*(feuil12!$F$2:$F$5454)*(feuil12!$A$2:$A$5454=B8)) -> 0 | G8: =SUMPRODUCT((feuil12!$E$2:$E$5454="Direct Booking")*(INT(feuil12!$C$2:$C$5454)=TODAY()+16)*(feuil12!$F$2:$F$5454)*(feuil12!$A$2:$A$5454=B8)) -> 0 | H8: =SUMPRODUCT((feuil12!$E$2:$E$5454="Expedia")*(INT(feuil12!$C$2:$C$5454)=TODAY()+16)*(feuil12!$F$2:$F$5454)*(feuil12!$A$2:$A$5454=B8)) -> 0 | I8: =SUMPRODUCT((feuil12!$E$2:$E$5454="Home Away")*(INT(feuil12!$C$2:$C$5454)=TODAY()+16)*(feuil12!$F$2:$F$5454)*(feuil12!$A$2:$A$5454=B8)) -> 0 | J8: =SUMPRODUCT((feuil12!$E$2:$E$5454="Rentivo")*(INT(feuil12!$C$2:$C$5454)=TODAY()+16)*(feuil12!$F$2:$F$5454)*(feuil12!$A$2:$A$5454=B8)) -> 0 | K8: =SUMPRODUCT((feuil12!$E$2:$E$5454="Booking.com")*((feuil12!$G$2:$G$5454)>=DATEVALUE("18/03/2018"))*(INT(feuil12!$D$2:$D$5454)<TODAY()+16)*(feuil12!$F$2:$F$5454)*(feuil12!$A$2:$A$5454=B8)) -> 0
D9: =SUM(D4:D8) -> 0 | E9: =SUM(E4:E8) -> 0 | F9: =SUM(F4:F8) -> 0 | G9: =SUM(G4:G8) -> 220 | H9: =SUM(H4:H8) -> 0 | I9: =SUM(I4:I8) -> 0 | J9: =SUM(J4:J8) -> 0 | K9: =SUM(K4:K8) -> 398.9

Sheet J+17
A3: =TODAY()+17 -> 43205 | B3: ID | C3: APT | D3: Airbnb | E3: Booking.com | F3: Only Apt | G3: Direct | H3: Expedia | I3: Homeway | J3: Rentivo
B4: 50348 | C4: Masna #02 | D4: =SUMPRODUCT((feuil12!$E$2:$E$5454="Airbnb")*(INT(feuil12!$C$2:$C$5454)=TODAY()+17)*(feuil12!$F$2:$F$5454)*(feuil12!$A$2:$A$5454=B4)) -> 0 | E4: =SUMPRODUCT((feuil12!$E$2:$E$5454="Booking.com")*(INT(feuil12!$C$2:$C$5454)=TODAY()+17)*(feuil12!$F$2:$F$5454)*(feuil12!$A$2:$A$5454=B4)) -> 0 | F4: =SUMPRODUCT((feuil12!$E$2:$E$5454="Only Apartments")*(INT(feuil12!$C$2:$C$5454)=TODAY()+17)*(feuil12!$F$2:$F$5454)*(feuil12!$A$2:$A$5454=B4)) -> 0 | G4: =SUMPRODUCT((feuil12!$E$2:$E$5454="Direct Booking")*(INT(feuil12!$C$2:$C$5454)=TODAY()+17)*(feuil12!$F$2:$F$5454)*(feuil12!$A$2:$A$5454=B4)) -> 0 | H4: =SUMPRODUCT((feuil12!$E$2:$E$5454="Expedia")*(INT(feuil12!$C$2:$C$5454)=TODAY()+17)*(feuil12!$F$2:$F$5454)*(feuil12!$A$2:$A$5454=B4)) -> 0 | I4: =SUMPRODUCT((feuil12!$E$2:$E$5454="Home Away")*(INT(feuil12!$C$2:$C$5454)=TODAY()+17)*(feuil12!$F$2:$F$5454)*(feuil12!$A$2:$A$5454=B4)) -> 0 | J4: =SUMPRODUCT((feuil12!$E$2:$E$5454="Rentivo")*(INT(feuil12!$C$2:$C$5454)=TODAY()+17)*(feuil12!$F$2:$F$5454)*(feuil12!$A$2:$A$5454=B4)) -> 0 | K4: =SUMPRODUCT((feuil12!$E$2:$E$5454="Booking.com")*((feuil12!$G$2:$G$5454)>=DATEVALUE("08/03/2018"))*(INT(feuil12!$D$2:$D$5454)<TODAY()+17)*(feuil12!$F$2:$F$5454)*(feuil12!$A$2:$A$5454=B4)) -> 398.9
B5: 50298 | C5: Masna #03 | D5: =SUMPRODUCT((feuil12!$E$2:$E$5454="Airbnb")*(INT(feuil12!$C$2:$C$5454)=TODAY()+17)*(feuil12!$F$2:$F$5454)*(feuil12!$A$2:$A$5454=B5)) -> 0 | E5: =SUMPRODUCT((feuil12!$E$2:$E$5454="Booking.com")*(INT(feuil12!$C$2:$C$5454)=TODAY()+17)*(feuil12!$F$2:$F$5454)*(feuil12!$A$2:$A$5454=B5)) -> 0 | F5: =SUMPRODUCT((feuil12!$E$2:$E$5454="Only Apartments")*(INT(feuil12!$C$2:$C$5454)=TODAY()+17)*(feuil12!$F$2:$F$5454)*(feuil12!$A$2:$A$5454=B5)) -> 0 | G5: =SUMPRODUCT((feuil12!$E$2:$E$5454="Direct Booking")*(INT(feuil12!$C$2:$C$5454)=TODAY()+17)*(feuil12!$F$2:$F$5454)*(feuil12!$A$2:$A$5454=B5)) -> 0 | H5: =SUMPRODUCT((feuil12!$E$2:$E$5454="Expedia")*(INT(feuil12!$C$2:$C$5454)=TODAY()+17)*(feuil12!$F$2:$F$5454)*(feuil12!$A$2:$A$5454=B5)) -> 0 | I5: =SUMPRODUCT((feuil12!$E$2:$E$5454="Home Away")*(INT(feuil12!$C$2:$C$5454)=TODAY()+17)*(feuil12!$F$2:$F$5454)*(feuil12!$A$2:$A$5454=B5)) -> 0 | J5: =SUMPRODUCT((feuil12!$E$2:$E$5454="Rentivo")*(INT(feuil12!$C$2:$C$5454)=TODAY()+17)*(feuil12!$F$2:$F$5454)*(feuil12!$A$2:$A$5454=B5)) -> 0 | K5: =SUMPRODUCT((feuil12!$E$2:$E$5454="Booking.com")*((feuil12!$G$2:$G$5454)>=DATEVALUE("18/03/2018"))*(INT(feuil12!$D$2:$D$5454)<TODAY()+17)*(feuil12!$F$2:$F$5454)*(feuil12!$A$2:$A$5454=B5)) -> 0
B6: 50288 | C6: Masna #04 | D6: =SUMPRODUCT((feuil12!$E$2:$E$5454="Airbnb")*(INT(feuil12!$C$2:$C$5454)=TODAY()+17)*(feuil12!$F$2:$F$5454)*(feuil12!$A$2:$A$5454=B6)) -> 0 | E6: =SUMPRODUCT((feuil12!$E$2:$E$5454="Booking.com")*(INT(feuil12!$C$2:$C$5454)=TODAY()+17)*(feuil12!$F$2:$F$5454)*(feuil12!$A$2:$A$5454=B6)) -> 0 | F6: =SUMPRODUCT((feuil12!$E$2:$E$5454="Only Apartments")*(INT(feuil12!$C$2:$C$5454)=TODAY()+17)*(feuil12!$F$2:$F$5454)*(feuil12!$A$2:$A$5454=B6)) -> 0 | G6: =SUMPRODUCT((feuil12!$E$2:$E$5454="Direct Booking")*(INT(feuil12!$C$2:$C$5454)=TODAY()+17)*(feuil12!$F$2:$F$5454)*(feuil12!$A$2:$A$5454=B6)) -> 0 | H6: =SUMPRODUCT((feuil12!$E$2:$E$5454="Expedia")*(INT(feuil12!$C$2:$C$5454)=TODAY()+17)*(feuil12!$F$2:$F$5454)*(feuil12!$A$2:$A$5454=B6)) -> 0 | I6: =SUMPRODUCT((feuil12!$E$2:$E$5454="Home Away")*(INT(feuil12!$C$2:$C$5454)=TODAY()+17)*(feuil12!$F$2:$F$5454)*(feuil12!$A$2:$A$5454=B6)) -> 0 | J6: =SUMPRODUCT((feuil12!$E$2:$E$5454="Rentivo")*(INT(feuil12!$C$2:$C$5454)=TODAY()+17)*(feuil12!$F$2:$F$5454)*(feuil12!$A$2:$A$5454=B6)) -> 0 | K6: =SUMPRODUCT((feuil12!$E$2:$E$5454="Booking.com")*((feuil12!$G$2:$G$5454)>=DATEVALUE("18/03/2018"))*(INT(feuil12!$D$2:$D$5454)<TODAY()+17)*(feuil12!$F$2:$F$5454)*(feuil12!$A$2:$A$5454=B6)) -> 0
B7: 50290 | C7: Masna #22 | D7: =SUMPRODUCT((feuil12!$E$2:$E$5454="Airbnb")*(INT(feuil12!$C$2:$C$5454)=TODAY()+17)*(feuil12!$F$2:$F$5454)*(feuil12!$A$2:$A$5454=B7)) -> 0 | E7: =SUMPRODUCT((feuil12!$E$2:$E$5454="Booking.com")*(INT(feuil12!$C$2:$C$5454)=TODAY()+17)*(feuil12!$F$2:$F$5454)*(feuil12!$A$2:$A$5454=B7)) -> 0 | F7: =SUMPRODUCT((feuil12!$E$2:$E$5454="Only Apartments")*(INT(feuil12!$C$2:$C$5454)=TODAY()+17)*(feuil12!$F$2:$F$5454)*(feuil12!$A$2:$A$5454=B7)) -> 0 | G7: =SUMPRODUCT((feuil12!$E$2:$E$5454="Direct Booking")*(INT(feuil12!$C$2:$C$5454)=TODAY()+17)*(feuil12!$F$2:$F$5454)*(feuil12!$A$2:$A$5454=B7)) -> 0 | H7: =SUMPRODUCT((feuil12!$E$2:$E$5454="Expedia")*(INT(feuil12!$C$2:$C$5454)=TODAY()+17)*(feuil12!$F$2:$F$5454)*(feuil12!$A$2:$A$5454=B7)) -> 0 | I7: =SUMPRODUCT((feuil12!$E$2:$E$5454="Home Away")*(INT(feuil12!$C$2:$C$5454)=TODAY()+17)*(feuil12!$F$2:$F$5454)*(feuil12!$A$2:$A$5454=B7)) -> 0 | J7: =SUMPRODUCT((feuil12!$E$2:$E$5454="Rentivo")*(INT(feuil12!$C$2:$C$5454)=TODAY()+17)*(feuil12!$F$2:$F$5454)*(feuil12!$A$2:$A$5454=B7)) -> 0 | K7: =SUMPRODUCT((feuil12!$E$2:$E$5454="Booking.com")*((feuil12!$G$2:$G$5454)>=DATEVALUE("18/03/2018"))*(INT(feuil12!$D$2:$D$5454)<TODAY()+17)*(feuil12!$F$2:$F$5454)*(feuil12!$A$2:$A$5454=B7)) -> 0
B8: 50356 | C8: Masna #24 | D8: =SUMPRODUCT((feuil12!$E$2:$E$5454="Airbnb")*(INT(feuil12!$C$2:$C$5454)=TODAY()+17)*(feuil12!$F$2:$F$5454)*(feuil12!$A$2:$A$5454=B8)) -> 316.22 | E8: =SUMPRODUCT((feuil12!$E$2:$E$5454="Booking.com")*(INT(feuil12!$C$2:$C$5454)=TODAY()+17)*(feuil12!$F$2:$F$5454)*(feuil12!$A$2:$A$5454=B8)) -> 0 | F8: =SUMPRODUCT((feuil12!$E$2:$E$5454="Only Apartments")*(INT(feuil12!$C$2:$C$5454)=TODAY()+17)*(feuil12!$F$2:$F$5454)*(feuil12!$A$2:$A$5454=B8)) -> 0 | G8: =SUMPRODUCT((feuil12!$E$2:$E$5454="Direct Booking")*(INT(feuil12!$C$2:$C$5454)=TODAY()+17)*(feuil12!$F$2:$F$5454)*(feuil12!$A$2:$A$5454=B8)) -> 0 | H8: =SUMPRODUCT((feuil12!$E$2:$E$5454="Expedia")*(INT(feuil12!$C$2:$C$5454)=TODAY()+17)*(feuil12!$F$2:$F$5454)*(feuil12!$A$2:$A$5454=B8)) -> 0 | I8: =SUMPRODUCT((feuil12!$E$2:$E$5454="Home Away")*(INT(feuil12!$C$2:$C$5454)=TODAY()+17)*(feuil12!$F$2:$F$5454)*(feuil12!$A$2:$A$5454=B8)) -> 0 | J8: =SUMPRODUCT((feuil12!$E$2:$E$5454="Rentivo")*(INT(feuil12!$C$2:$C$5454)=TODAY()+17)*(feuil12!$F$2:$F$5454)*(feuil12!$A$2:$A$5454=B8)) -> 0 | K8: =SUMPRODUCT((feuil12!$E$2:$E$5454="Booking.com")*((feuil12!$G$2:$G$5454)>=DATEVALUE("18/03/2018"))*(INT(feuil12!$D$2:$D$5454)<TODAY()+17)*(feuil12!$F$2:$F$5454)*(feuil12!$A$2:$A$5454=B8)) -> 0

Sheet J+18
A3: =TODAY()+18 -> 43206 | B3: ID | C3: APT | D3: Airbnb | E3: Booking.com | F3: Only Apt | G3: Direct | H3: Expedia | I3: Homeway | J3: Rentivo
B4: 50348 | C4: Masna #02 | D4: =SUMPRODUCT((feuil12!$E$2:$E$5454="Airbnb")*(INT(feuil12!$C$2:$C$5454)=TODAY()+18)*(feuil12!$F$2:$F$5454)*(feuil12!$A$2:$A$5454=B4)) -> 0 | E4: =SUMPRODUCT((feuil12!$E$2:$E$5454="Booking.com")*(INT(feuil12!$C$2:$C$5454)=TODAY()+18)*(feuil12!$F$2:$F$5454)*(feuil12!$A$2:$A$5454=B4)) -> 0 | F4: =SUMPRODUCT((feuil12!$E$2:$E$5454="Only Apartments")*(INT(feuil12!$C$2:$C$5454)=TODAY()+18)*(feuil12!$F$2:$F$5454)*(feuil12!$A$2:$A$5454=B4)) -> 0 | G4: =SUMPRODUCT((feuil12!$E$2:$E$5454="Direct Booking")*(INT(feuil12!$C$2:$C$5454)=TODAY()+18)*(feuil12!$F$2:$F$5454)*(feuil12!$A$2:$A$5454=B4)) -> 0 | H4: =SUMPRODUCT((feuil12!$E$2:$E$5454="Expedia")*(INT(feuil12!$C$2:$C$5454)=TODAY()+18)*(feuil12!$F$2:$F$5454)*(feuil12!$A$2:$A$5454=B4)) -> 0 | I4: =SUMPRODUCT((feuil12!$E$2:$E$5454="Home Away")*(INT(feuil12!$C$2:$C$5454)=TODAY()+18)*(feuil12!$F$2:$F$5454)*(feuil12!$A$2:$A$5454=B4)) -> 0 | J4: =SUMPRODUCT((feuil12!$E$2:$E$5454="Rentivo")*(INT(feuil12!$C$2:$C$5454)=TODAY()+18)*(feuil12!$F$2:$F$5454)*(feuil12!$A$2:$A$5454=B4)) -> 0 | K4: =SUMPRODUCT((feuil12!$E$2:$E$5454="Booking.com")*((feuil12!$G$2:$G$5454)>=DATEVALUE("08/03/2018"))*(INT(feuil12!$D$2:$D$5454)<TODAY()+18)*(feuil12!$F$2:$F$5454)*(feuil12!$A$2:$A$5454=B4)) -> 398.9
B5: 50298 | C5: Masna #03 | D5: =SUMPRODUCT((feuil12!$E$2:$E$5454="Airbnb")*(INT(feuil12!$C$2:$C$5454)=TODAY()+18)*(feuil12!$F$2:$F$5454)*(feuil12!$A$2:$A$5454=B5)) -> 0 | E5: =SUMPRODUCT((feuil12!$E$2:$E$5454="Booking.com")*(INT(feuil12!$C$2:$C$5454)=TODAY()+18)*(feuil12!$F$2:$F$5454)*(feuil12!$A$2:$A$5454=B5)) -> 0 | F5: =SUMPRODUCT((feuil12!$E$2:$E$5454="Only Apartments")*(INT(feuil12!$C$2:$C$5454)=TODAY()+18)*(feuil12!$F$2:$F$5454)*(feuil12!$A$2:$A$5454=B5)) -> 0 | G5: =SUMPRODUCT((feuil12!$E$2:$E$5454="Direct Booking")*(INT(feuil12!$C$2:$C$5454)=TODAY()+18)*(feuil12!$F$2:$F$5454)*(feuil12!$A$2:$A$5454=B5)) -> 0 | H5: =SUMPRODUCT((feuil12!$E$2:$E$5454="Expedia")*(INT(feuil12!$C$2:$C$5454)=TODAY()+18)*(feuil12!$F$2:$F$5454)*(feuil12!$A$2:$A$5454=B5)) -> 0 | I5: =SUMPRODUCT((feuil12!$E$2:$E$5454="Home Away")*(INT(feuil12!$C$2:$C$5454)=TODAY()+18)*(feuil12!$F$2:$F$5454)*(feuil12!$A$2:$A$5454=B5)) -> 0 | J5: =SUMPRODUCT((feuil12!$E$2:$E$5454="Rentivo")*(INT(feuil12!$C$2:$C$5454)=TODAY()+18)*(feuil12!$F$2:$F$5454)*(feuil12!$A$2:$A$5454=B5)) -> 0 | K5: =SUMPRODUCT((feuil12!$E$2:$E$5454="Booking.com")*((feuil12!$G$2:$G$5454)>=DATEVALUE("18/03/2018"))*(INT(feuil12!$D$2:$D$5454)<TODAY()+18)*(feuil12!$F$2:$F$5454)*(feuil12!$A$2:$A$5454=B5)) -> 0
B6: 50288 | C6: Masna #04 | D6: =SUMPRODUCT((feuil12!$E$2:$E$5454="Airbnb")*(INT(feuil12!$C$2:$C$5454)=TODAY()+18)*(feuil12!$F$2:$F$5454)*(feuil12!$A$2:$A$5454=B6)) -> 0 | E6: =SUMPRODUCT((feuil12!$E$2:$E$5454="Booking.com")*(INT(feuil12!$C$2:$C$5454)=TODAY()+18)*(feuil12!$F$2:$F$5454)*(feuil12!$A$2:$A$5454=B6)) -> 0 | F6: =SUMPRODUCT((feuil12!$E$2:$E$5454="Only Apartments")*(INT(feuil12!$C$2:$C$5454)=TODAY()+18)*(feuil12!$F$2:$F$5454)*(feuil12!$A$2:$A$5454=B6)) -> 0 | G6: =SUMPRODUCT((feuil12!$E$2:$E$5454="Direct Booking")*(INT(feuil12!$C$2:$C$5454)=TODAY()+18)*(feuil12!$F$2:$F$5454)*(feuil12!$A$2:$A$5454=B6)) -> 0 | H6: =SUMPRODUCT((feuil12!$E$2:$E$5454="Expedia")*(INT(feuil12!$C$2:$C$5454)=TODAY()+18)*(feuil12!$F$2:$F$5454)*(feuil12!$A$2:$A$5454=B6)) -> 0 | I6: =SUMPRODUCT((feuil12!$E$2:$E$5454="Home Away")*(INT(feuil12!$C$2:$C$5454)=TODAY()+18)*(feuil12!$F$2:$F$5454)*(feuil12!$A$2:$A$5454=B6)) -> 0 | J6: =SUMPRODUCT((feuil12!$E$2:$E$5454="Rentivo")*(INT(feuil12!$C$2:$C$5454)=TODAY()+18)*(feuil12!$F$2:$F$5454)*(feuil12!$A$2:$A$5454=B6)) -> 0 | K6: =SUMPRODUCT((feuil12!$E$2:$E$5454="Booking.com")*((feuil12!$G$2:$G$5454)>=DATEVALUE("18/03/2018"))*(INT(feuil12!$D$2:$D$5454)<TODAY()+18)*(feuil12!$F$2:$F$5454)*(feuil12!$A$2:$A$5454=B6)) -> 0
B7: 50290 | C7: Masna #22 | D7: =SUMPRODUCT((feuil12!$E$2:$E$5454="Airbnb")*(INT(feuil12!$C$2:$C$5454)=TODAY()+18)*(feuil12!$F$2:$F$5454)*(feuil12!$A$2:$A$5454=B7)) -> 0 | E7: =SUMPRODUCT((feuil12!$E$2:$E$5454="Booking.com")*(INT(feuil12!$C$2:$C$5454)=TODAY()+18)*(feuil12!$F$2:$F$5454)*(feuil12!$A$2:$A$5454=B7)) -> 0 | F7: =SUMPRODUCT((feuil12!$E$2:$E$5454="Only Apartments")*(INT(feuil12!$C$2:$C$5454)=TODAY()+18)*(feuil12!$F$2:$F$5454)*(feuil12!$A$2:$A$5454=B7)) -> 0 | G7: =SUMPRODUCT((feuil12!$E$2:$E$5454="Direct Booking")*(INT(feuil12!$C$2:$C$5454)=TODAY()+18)*(feuil12!$F$2:$F$5454)*(feuil12!$A$2:$A$5454=B7)) -> 0 | H7: =SUMPRODUCT((feuil12!$E$2:$E$5454="Expedia")*(INT(feuil12!$C$2:$C$5454)=TODAY()+18)*(feuil12!$F$2:$F$5454)*(feuil12!$A$2:$A$5454=B7)) -> 0 | I7: =SUMPRODUCT((feuil12!$E$2:$E$5454="Home Away")*(INT(feuil12!$C$2:$C$5454)=TODAY()+18)*(feuil12!$F$2:$F$5454)*(feuil12!$A$2:$A$5454=B7)) -> 0 | J7: =SUMPRODUCT((feuil12!$E$2:$E$5454="Rentivo")*(INT(feuil12!$C$2:$C$5454)=TODAY()+18)*(feuil12!$F$2:$F$5454)*(feuil12!$A$2:$A$5454=B7)) -> 0 | K7: =SUMPRODUCT((feuil12!$E$2:$E$5454="Booking.com")*((feuil12!$G$2:$G$5454)>=DATEVALUE("18/03/2018"))*(INT(feuil12!$D$2:$D$5454)<TODAY()+18)*(feuil12!$F$2:$F$5454)*(feuil12!$A$2:$A$5454=B7)) -> 0
B8: 50356 | C8: Masna #24 | D8: =SUMPRODUCT((feuil12!$E$2:$E$5454="Airbnb")*(INT(feuil12!$C$2:$C$5454)=TODAY()+18)*(feuil12!$F$2:$F$5454)*(feuil12!$A$2:$A$5454=B8)) -> 0 | E8: =SUMPRODUCT((feuil12!$E$2:$E$5454="Booking.com")*(INT(feuil12!$C$2:$C$5454)=TODAY()+18)*(feuil12!$F$2:$F$5454)*(feuil12!$A$2:$A$5454=B8)) -> 0 | F8: =SUMPRODUCT((feuil12!$E$2:$E$5454="Only Apartments")*(INT(feuil12!$C$2:$C$5454)=TODAY()+18)*(feuil12!$F$2:$F$5454)*(feuil12!$A$2:$A$5454=B8)) -> 0 | G8: =SUMPRODUCT((feuil12!$E$2:$E$5454="Direct Booking")*(INT(feuil12!$C$2:$C$5454)=TODAY()+18)*(feuil12!$F$2:$F$5454)*(feuil12!$A$2:$A$5454=B8)) -> 0 | H8: =SUMPRODUCT((feuil12!$E$2:$E$5454="Expedia")*(INT(feuil12!$C$2:$C$5454)=TODAY()+18)*(feuil12!$F$2:$F$5454)*(feuil12!$A$2:$A$5454=B8)) -> 0 | I8: =SUMPRODUCT((feuil12!$E$2:$E$5454="Home Away")*(INT(feuil12!$C$2:$C$5454)=TODAY()+18)*(feuil12!$F$2:$F$5454)*(feuil12!$A$2:$A$5454=B8)) -> 0 | J8: =SUMPRODUCT((feuil12!$E$2:$E$5454="Rentivo")*(INT(feuil12!$C$2:$C$5454)=TODAY()+18)*(feuil12!$F$2:$F$5454)*(feuil12!$A$2:$A$5454=B8)) -> 0 | K8: =SUMPRODUCT((feuil12!$E$2:$E$5454="Booking.com")*((feuil12!$G$2:$G$5454)>=DATEVALUE("18/03/2018"))*(INT(feuil12!$D$2:$D$5454)<TODAY()+18)*(feuil12!$F$2:$F$5454)*(feuil12!$A$2:$A$5454=B8)) -> 0
