Workbook

Sheet test1
A1: Check Out | B1: Unit | C1: Custom Question 8
A2: 43647 | B2: apt1 | C2: Elena
A3: 43647 | B3: apt2 | C3: Elena
A4: 43647 | B4: apt3 | C4: Elena
A5: 43647 | B5: apt4 | C5: Elena
A6: 43647 | B6: apt5 | C6: Maria
A7: 43647 | B7: apt6 | C7: Maria
A8: 43647 | B8: apt7 | C8: Maria
A9: 43647 | B9: apt8 | C9: Maria
A10: 43647 | B10: apt9 | C10: Oksana
A11: 43647 | B11: apt10 | C11: Oksana
A12: 43647 | B12: apt11 | C12: Oksana
A13: 43647 | B13: apt12 | C13: Oksana
... A89: 43653 | B89: apt13 | C89: Petra

Sheet apt_value
A1: Apartment | B1: value
A2: Apt1 | B2: 4
A3: Apt2 | B3: 2
A4: Apt3 | B4: 5
A5: Apt4 | B5: 2
A6: Apt5 | B6: 1
A7: Apt6 | B7: 3
A8: Apt7 | B8: 6
A9: Apt8 | B9: 4
A10: Apt9 | B10: 2
A11: Apt10 | B11: 1
A12: Apt11 | B12: 3
A13: Apt12 | B13: 5
... A16: Apt15 | B16: 2

Sheet jul19
C2: NB controle | D2: olga | E2: Petra | F2: Elena | G2: Oksana | H2: Anna | I2: Larisa | J2: Maria | K2: Jarka | M2: Nb Clontroler | N2: Nb Control/controler | Q2: NB points | R2: olga | S2: Petra | T2: Elena | U2: Oksana | V2: Anna | W2: Larisa | X2: Maria | Y2: Jarka
B3: 43647 | C3: =SUM(D3:K3) -> 15 | D3: =COUNTIFS(test1!$C$2:$C$90, D$2,test1!$A$2:$A$90,"="&$B3) -> 3 | E3: =COUNTIFS(test1!$C$2:$C$90, E$2,test1!$A$2:$A$90,"="&$B3) -> 0 | F3: =COUNTIFS(test1!$C$2:$C$90, F$2,test1!$A$2:$A$90,"="&$B3) -> 4 | G3: =COUNTIFS(test1!$C$2:$C$90, G$2,test1!$A$2:$A$90,"="&$B3) -> 4 | H3: =COUNTIFS(test1!$C$2:$C$90, H$2,test1!$A$2:$A$90,"="&$B3) -> 0 | I3: =COUNTIFS(test1!$C$2:$C$90, I$2,test1!$A$2:$A$90,"="&$B3) -> 0 | J3: =COUNTIFS(test1!$C$2:$C$90, J$2,test1!$A$2:$A$90,"="&$B3) -> 4 | K3: =COUNTIFS(test1!$C$2:$C$90, K$2,test1!$A$2:$A$90,"="&$B3) -> 0 | M3: =COUNTIF(D3:K3,">0") -> 4 | N3: =C3/M3 -> 3.75 | P3: 43647 | Q3: =SUM(R3:Y3) -> 45 | R3: 7 | S3: 0 | T3: 13 | U3: 11 | V3: 0 | W3: 0 | X3: 14 | Y3: 0
B4: 43648 | C4: =SUM(D4:K4) -> 4 | D4: =COUNTIFS(test1!$C$2:$C$90, D$2,test1!$A$2:$A$90,"="&$B4) -> 1 | E4: =COUNTIFS(test1!$C$2:$C$90, E$2,test1!$A$2:$A$90,"="&$B4) -> 0 | F4: =COUNTIFS(test1!$C$2:$C$90, F$2,test1!$A$2:$A$90,"="&$B4) -> 2 | G4: =COUNTIFS(test1!$C$2:$C$90, G$2,test1!$A$2:$A$90,"="&$B4) -> 1 | H4: =COUNTIFS(test1!$C$2:$C$90, H$2,test1!$A$2:$A$90,"="&$B4) -> 0 | I4: =COUNTIFS(test1!$C$2:$C$90, I$2,test1!$A$2:$A$90,"="&$B4) -> 0 | J4: =COUNTIFS(test1!$C$2:$C$90, J$2,test1!$A$2:$A$90,"="&$B4) -> 0 | K4: =COUNTIFS(test1!$C$2:$C$90, K$2,test1!$A$2:$A$90,"="&$B4) -> 0 | M4: =COUNTIF(D4:K4,">0") -> 3 | N4: =C4/M4 -> 1.3333333 | P4: 43648 | Q4: =SUM(R4:Y4) -> 0
B5: 43649 | C5: =SUM(D5:K5) -> 8 | D5: =COUNTIFS(test1!$C$2:$C$90, D$2,test1!$A$2:$A$90,"="&$B5) -> 0 | E5: =COUNTIFS(test1!$C$2:$C$90, E$2,test1!$A$2:$A$90,"="&$B5) -> 3 | F5: =COUNTIFS(test1!$C$2:$C$90, F$2,test1!$A$2:$A$90,"="&$B5) -> 0 | G5: =COUNTIFS(test1!$C$2:$C$90, G$2,test1!$A$2:$A$90,"="&$B5) -> 2 | H5: =COUNTIFS(test1!$C$2:$C$90, H$2,test1!$A$2:$A$90,"="&$B5) -> 3 | I5: =COUNTIFS(test1!$C$2:$C$90, I$2,test1!$A$2:$A$90,"="&$B5) -> 0 | J5: =COUNTIFS(test1!$C$2:$C$90, J$2,test1!$A$2:$A$90,"="&$B5) -> 0 | K5: =COUNTIFS(test1!$C$2:$C$90, K$2,test1!$A$2:$A$90,"="&$B5) -> 0 | M5: =COUNTIF(D5:K5,">0") -> 3 | N5: =C5/M5 -> 2.6666667 | P5: 43649 | Q5: =SUM(R5:Y5) -> 0
B6: 43650 | C6: =SUM(D6:K6) -> 3 | D6: =COUNTIFS(test1!$C$2:$C$90, D$2,test1!$A$2:$A$90,"="&$B6) -> 0 | E6: =COUNTIFS(test1!$C$2:$C$90, E$2,test1!$A$2:$A$90,"="&$B6) -> 0 | F6: =COUNTIFS(test1!$C$2:$C$90, F$2,test1!$A$2:$A$90,"="&$B6) -> 3 | G6: =COUNTIFS(test1!$C$2:$C$90, G$2,test1!$A$2:$A$90,"="&$B6) -> 0 | H6: =COUNTIFS(test1!$C$2:$C$90, H$2,test1!$A$2:$A$90,"="&$B6) -> 0 | I6: =COUNTIFS(test1!$C$2:$C$90, I$2,test1!$A$2:$A$90,"="&$B6) -> 0 | J6: =COUNTIFS(test1!$C$2:$C$90, J$2,test1!$A$2:$A$90,"="&$B6) -> 0 | K6: =COUNTIFS(test1!$C$2:$C$90, K$2,test1!$A$2:$A$90,"="&$B6) -> 0 | M6: =COUNTIF(D6:K6,">0") -> 1 | N6: =C6/M6 -> 3 | P6: 43650 | Q6: =SUM(R6:Y6) -> 0
B7: 43651 | C7: =SUM(D7:K7) -> 15 | D7: =COUNTIFS(test1!$C$2:$C$90, D$2,test1!$A$2:$A$90,"="&$B7) -> 4 | E7: =COUNTIFS(test1!$C$2:$C$90, E$2,test1!$A$2:$A$90,"="&$B7) -> 1 | F7: =COUNTIFS(test1!$C$2:$C$90, F$2,test1!$A$2:$A$90,"="&$B7) -> 3 | G7: =COUNTIFS(test1!$C$2:$C$90, G$2,test1!$A$2:$A$90,"="&$B7) -> 0 | H7: =COUNTIFS(test1!$C$2:$C$90, H$2,test1!$A$2:$A$90,"="&$B7) -> 0 | I7: =COUNTIFS(test1!$C$2:$C$90, I$2,test1!$A$2:$A$90,"="&$B7) -> 3 | J7: =COUNTIFS(test1!$C$2:$C$90, J$2,test1!$A$2:$A$90,"="&$B7) -> 4 | K7: =COUNTIFS(test1!$C$2:$C$90, K$2,test1!$A$2:$A$90,"="&$B7) -> 0 | M7: =COUNTIF(D7:K7,">0") -> 5 | N7: =C7/M7 -> 3 | P7: 43651 | Q7: =SUM(R7:Y7) -> 0
B8: 43652 | C8: =SUM(D8:K8) -> 7 | D8: =COUNTIFS(test1!$C$2:$C$90, D$2,test1!$A$2:$A$90,"="&$B8) -> 0 | E8: =COUNTIFS(test1!$C$2:$C$90, E$2,test1!$A$2:$A$90,"="&$B8) -> 1 | F8: =COUNTIFS(test1!$C$2:$C$90, F$2,test1!$A$2:$A$90,"="&$B8) -> 0 | G8: =COUNTIFS(test1!$C$2:$C$90, G$2,test1!$A$2:$A$90,"="&$B8) -> 0 | H8: =COUNTIFS(test1!$C$2:$C$90, H$2,test1!$A$2:$A$90,"="&$B8) -> 1 | I8: =COUNTIFS(test1!$C$2:$C$90, I$2,test1!$A$2:$A$90,"="&$B8) -> 2 | J8: =COUNTIFS(test1!$C$2:$C$90, J$2,test1!$A$2:$A$90,"="&$B8) -> 3 | K8: =COUNTIFS(test1!$C$2:$C$90, K$2,test1!$A$2:$A$90,"="&$B8) -> 0 | M8: =COUNTIF(D8:K8,">0") -> 4 | N8: =C8/M8 -> 1.75 | P8: 43652 | Q8: =SUM(R8:Y8) -> 0
B9: 43653 | C9: =SUM(D9:K9) -> 36 | D9: =COUNTIFS(test1!$C$2:$C$90, D$2,test1!$A$2:$A$90,"="&$B9) -> 5 | E9: =COUNTIFS(test1!$C$2:$C$90, E$2,test1!$A$2:$A$90,"="&$B9) -> 6 | F9: =COUNTIFS(test1!$C$2:$C$90, F$2,test1!$A$2:$A$90,"="&$B9) -> 5 | G9: =COUNTIFS(test1!$C$2:$C$90, G$2,test1!$A$2:$A$90,"="&$B9) -> 6 | H9: =COUNTIFS(test1!$C$2:$C$90, H$2,test1!$A$2:$A$90,"="&$B9) -> 5 | I9: =COUNTIFS(test1!$C$2:$C$90, I$2,test1!$A$2:$A$90,"="&$B9) -> 5 | J9: =COUNTIFS(test1!$C$2:$C$90, J$2,test1!$A$2:$A$90,"="&$B9) -> 4 | K9: =COUNTIFS(test1!$C$2:$C$90, K$2,test1!$A$2:$A$90,"="&$B9) -> 0 | M9: =COUNTIF(D9:K9,">0") -> 7 | N9: =C9/M9 -> 5.1428571 | P9: 43653 | Q9: =SUM(R9:Y9) -> 0
B10: Total | C10: =SUM(C3:C9) -> 88 | D10: =SUM(D3:D9) -> 13 | E10: =SUM(E3:E9) -> 11 | F10: =SUM(F3:F9) -> 17 | G10: =SUM(G3:G9) -> 13 | H10: =SUM(H3:H9) -> 9 | I10: =SUM(I3:I9) -> 10 | J10: =SUM(J3:J9) -> 15 | K10: =SUM(K3:K9) -> 0 | M10: =AVERAGE(M3:M9) -> 3.8571429 | N10: =AVERAGE(N3:N9) -> 2.9489796 | P10: Total | Q10: =SUM(Q3:Q9) -> 45 | R10: =SUM(R3:R9) -> 7 | S10: =SUM(S3:S9) -> 0 | T10: =SUM(T3:T9) -> 13 | U10: =SUM(U3:U9) -> 11 | V10: =SUM(V3:V9) -> 0 | W10: =SUM(W3:W9) -> 0 | X10: =SUM(X3:X9) -> 14 | Y10: =SUM(Y3:Y9) -> 0
