Workbook
Name Asset_Conversion: #REF!

Sheet NBV Ra report 
A1: Branch | B1: Asset type | C1: Asset Code | D1: Description | E1: GBV | F1: Acc Depn | G1: NBV
A2: 0604 | B2: Furniture & fixture | C2: NQ-0275 | D2: 2 POSTES LEVERAGE | E2: 5380 | F2: 952.71 | G2: 4427.29
A3: 0604 | B3: Furniture & fixture | C3: NQ-0369 | D3: 1 POSTE DE TRAVAIL FERME | E3: 2620 | F3: 463.96 | G3: 2156.04
A4: 0604 | B4: Furniture & fixture | C4: NQ-0533 | D4: TABLE +2 CHAISE | E4: 1224.51 | F4: 191.33 | G4: 1033.18
A5: 0604 | B5: Furniture & fixture | C5: NQ-0714 | D5: 3 FAUTEUILS ERGONOMIQUES | E5: 654 | F5: 115.81 | G5: 538.19
A6: 0604 | B6: Furniture & fixture | C6: NQ-0933 | D6: 2 FAUTEUIL PACER ERGONOMI | E6: 306 | F6: 54.19 | G6: 251.81
A7: 0604 | B7: Leasehold | C7: NQ-0197 | D7: MATERIEL ELECTRIQUE | E7: 8500.8 | F7: 2449.39 | G7: 6051.41
A8: 0604 | B8: Leasehold | C8: NQ-0277 | D8: COMPTOIR SERVICE EN INOX | E8: 4400 | F8: 1267.81 | G8: 3132.19
A9: 0604 | B9: Leasehold | C9: NQ-0287 | D9: PLANCHER AIRE PRINCIPALE | E9: 4181 | F9: 1204.69 | G9: 2976.31
A10: 0604 | B10: Leasehold | C10: NQ-0372 | D10: FILAGE ET FINITION BUREAU | E10: 2555 | F10: 736.19 | G10: 1818.81
A11: 0604 | B11: Leasehold | C11: NQ-0474 | D11: LABOR INST SYST TELEPHON | E11: 1586.83 | F11: 437.75 | G11: 1149.08
A12: 0604 | B12: Leasehold | C12: NQ-0477 | D12: FILLAGE TEL BUREAU | E12: 1555.24 | F12: 448.12 | G12: 1107.12
A13: 0604 | B13: Leasehold | C13: NQ-0489 | D13: ALARM SYSTEM | E13: 1523 | F13: 420.14 | G13: 1102.86
... A1341: 06adm | B1341: Whse equipment | C1341: NQ-1304 | D1341: Description Not Entered | E1341: 25947 | F1341: 25300.66 | G1341: 646.34

Sheet Asset Cost VALUE 
D2: 1531 | E2: 1532 | F2: 1533 | G2: Total | H2: Total (Warehouse Equip) | I2: Required GL Increase (Decrease) | K2: 1541 | L2: 1542 | M2: 1543 | N2: Total | O2: Total (Office Equipment) | P2: Required GL Increase (Decrease) | R2: 1551 | S2: 1552 | T2: 1553 | U2: Total | V2: Total (Furniture & Equip + Furniture & Fixture) | W2: Required GL Increase (Decrease) | Y2: 1561 | Z2: 1562 | AA2: 1563 | AB2: Total | AC2: Total (Telephone Equip) | AD2: Required GL Increase (Decrease) | AF2: 1571 | AG2: 1572 | AH2: 1573 | AI2: Total | AJ2: Total (Computer Hardware) | AK2: Required GL Increase (Decrease) | AM2: 1576 | AN2: 1577 | AO2: 1578 | AP2: Total | AQ2: Total (Computer Software) | AR2: Required GL Increase (Decrease) | AT2: 1591 | AU2: 1592 | AV2: 1593 | AW2: Total | AX2: Total (Delivery Truck) | AY2: Required GL Increase (Decrease) | BA2: 1596 | BB2: 1597 | BC2: 1598 | BD2: Total | BE2: Total (Tow/Lift Trucks) | BF2: Required GL Increase (Decrease) | BH2: 1601 | BI2: 1602 | BJ2: 1603 | BK2: Total | BL2: Total (Paving & Landscaping) | BM2: Required GL Increase (Decrease) | BO2: 1611 | BP2: 1612 | BQ2: 1613 | BR2: Total | BS2: Total (Fences) | BT2: Required GL Increase (Decrease) | BV2: 1621 | BW2: 1622 | BX2: 1623 | BY2: Total | BZ2: Total (Signs) | CA2: Required GL Increase (Decrease) | CC2: 1631 | CD2: 1632 | CE2: 1633 | CF2: Total | CG2: Total (Leasehold) | CH2: Required GL Increase (Decrease) | CJ2: 1641 | CK2: 1642 | CL2: 1643 | CM2: Total | CN2: Total (Demo Product) | CO2: Required GL Increase (Decrease) | CQ2: Grand Total | CR2: Grand Total | CS2: Grand Total
A3: Branch | D3: GL | E3: GL | F3: GL | G3: GL | H3: RA Report | I3: Difference | K3: GL | L3: GL | N3: GL | O3: RA Report | P3: Difference | R3: GL | S3: GL | U3: GL | V3: RA Report | W3: Difference | AB3: GL | AC3: FAS Report | AD3: Difference | AI3: GL | AJ3: FAS Report | AK3: Difference | AP3: GL | AQ3: FAS Report | AR3: Difference | AW3: GL | AX3: FAS Report | AY3: Difference | BD3: GL | BE3: FAS Report | BF3: Difference | BK3: GL | BL3: FAS Report | BM3: Difference | BR3: GL | BS3: FAS Report | BT3: Difference | BY3: GL | BZ3: FAS Report | CA3: Difference | CF3: GL | CG3: FAS Report | CH3: Difference | CM3: GL | CN3: FAS Report | CO3: Difference | CQ3: GL | CR3: FAS Report | CS3: Difference
A4: 06adm | D4: 40042.75 | E4: 0 | F4: 0 | G4: 40042.75 | I4: =G4-H4 -> 40042.75 | K4: 59973.56 | L4: 0 | M4: 0 | N4: 59973.56 | P4: 951.25 | R4: 205909.31 | S4: 0 | T4: 0 | U4: 205909.31 | V4: 205909.48 | W4: 0.17 | Y4: 43491.82 | Z4: 0 | AA4: 0 | AB4: 43491.82 | AD4: #VALUE! | AF4: 176921.23 | AG4: 0 | AH4: 0 | AI4: 176921.23 | AJ4: 0 | AK4: -176921.23 | AM4: 14820.47 | AN4: 0 | AO4: 0 | AP4: 14820.47 | AQ4: 0 | AR4: -14820.47 | AT4: 0 | AU4: 0 | AV4: 0 | AW4: 0 | AX4: 0 | AY4: 0 | BA4: 0 | BB4: 0 | BC4: 0 | BD4: 0 | BE4: 0 | BF4: 0 | BH4: 79411.57 | BI4: 0 | BJ4: 0 | BK4: 79411.57 | BL4: 0 | BM4: -79411.57 | BO4: 1622.39 | BP4: 0 | BQ4: 0 | BR4: 1622.39 | BS4: 0 | BT4: -1622.39 | BV4: 2727.45 | BW4: 0 | BX4: 0 | BY4: 2727.45 | BZ4: 0 | CA4: -2727.45 | CC4: 495334.9 | CD4: 0 | CE4: 0 | CF4: 495334.9 | CG4: 0 | CH4: -495334.9 | CJ4: 0 | CK4: 0 | CL4: 0 | CM4: 0 | CN4: 0 | CO4: 0 | CQ4: 1120255.4 | CR4: 306877.11 | CS4: -813378.34
A5: 0604 | D5: 59740.71 | E5: 0 | F5: 0 | G5: 59740.71 | I5: =G5-H5 -> 59740.71 | K5: 6585.27 | L5: 0 | M5: 0 | N5: 6585.27 | P5: -0.18 | R5: 10184.51 | S5: 0 | T5: 0 | U5: 10184.51 | V5: 10184.51 | W5: 0 | Y5: 1907.27 | Z5: 0 | AA5: 0 | AB5: 1907.27 | AC5: #VALUE! | AD5: #VALUE! | AF5: 0 | AG5: 0 | AH5: 0 | AI5: 0 | AJ5: 0 | AK5: 0 | AM5: 0 | AN5: 0 | AO5: 0 | AP5: 0 | AQ5: 0 | AR5: 0 | AT5: 0 | AU5: 0 | AV5: 0 | AW5: 0 | AX5: 0 | AY5: 0 | BA5: 47719 | BB5: 0 | BC5: 0 | BD5: 47719 | BE5: 0 | BF5: -47719 | BH5: 0 | BI5: 0 | BJ5: 0 | BK5: 0 | BL5: 0 | BM5: 0 | BO5: 0 | BP5: 0 | BQ5: 0 | BR5: 0 | BS5: 0 | BT5: 0 | BV5: 1768 | BW5: 0 | BX5: 0 | BY5: 1768 | BZ5: 0 | CA5: -1768 | CC5: 35637.15 | CD5: 0 | CE5: 0 | CF5: 35637.15 | CG5: 0 | CH5: -35637.15 | CJ5: 0 | CK5: 0 | CL5: 0 | CM5: 0 | CN5: 0 | CO5: 0 | CQ5: 163541.91 | CR5: #VALUE! | CS5: #VALUE!
A6: 0606 | D6: 3251 | E6: 0 | F6: 0 | G6: 3251 | I6: =G6-H6 -> 3251 | K6: 0 | L6: 0 | M6: 0 | N6: 0 | P6: 0 | R6: 0 | S6: 0 | T6: 0 | U6: 0 | V6: 0 | W6: 0 | Y6: 0 | Z6: 0 | AA6: 0 | AB6: 0 | AC6: #VALUE! | AD6: #VALUE! | AF6: 0 | AG6: 0 | AH6: 0 | AI6: 0 | AJ6: 0 | AK6: 0 | AM6: 0 | AN6: 0 | AO6: 0 | AP6: 0 | AQ6: 0 | AR6: 0 | AT6: 0 | AU6: 0 | AV6: 0 | AW6: 0 | AX6: 0 | AY6: 0 | BA6: 0 | BB6: 0 | BC6: 0 | BD6: 0 | BE6: 0 | BF6: 0 | BH6: 0 | BI6: 0 | BJ6: 0 | BK6: 0 | BL6: 0 | BM6: 0 | BO6: 0 | BP6: 0 | BQ6: 0 | BR6: 0 | BS6: 0 | BT6: 0 | BV6: 0 | BW6: 0 | BX6: 0 | BY6: 0 | BZ6: 0 | CA6: 0 | CC6: 0 | CD6: 0 | CE6: 0 | CF6: 0 | CG6: 0 | CH6: 0 | CJ6: 0 | CK6: 0 | CL6: 0 | CM6: 0 | CN6: 0 | CO6: 0 | CQ6: 3251 | CR6: #VALUE! | CS6: #VALUE!
A7: 0608 | D7: 24479.76 | E7: 0 | F7: 0 | G7: 24479.76 | I7: =G7-H7 -> 24479.76 | K7: 4128.2 | L7: 0 | M7: 0 | N7: 4128.2 | P7: 0 | R7: 6222.77 | S7: 0 | T7: 0 | U7: 6222.77 | V7: 6222.77 | W7: 0 | Y7: 2072.82 | Z7: 0 | AA7: 0 | AB7: 2072.82 | AC7: #VALUE! | AD7: #VALUE! | AF7: 0 | AG7: 0 | AH7: 0 | AI7: 0 | AJ7: 100635.14 | AK7: 100635.14 | AM7: 0 | AN7: 0 | AO7: 0 | AP7: 0 | AQ7: 43144.63 | AR7: 43144.63 | AT7: 0 | AU7: 0 | AV7: 0 | AW7: 0 | AX7: 0 | AY7: 0 | BA7: 49982.39 | BB7: 0 | BC7: 0 | BD7: 49982.39 | BE7: 0 | BF7: -49982.39 | BH7: 0 | BI7: 0 | BJ7: 0 | BK7: 0 | BL7: 0 | BM7: 0 | BO7: 0 | BP7: 0 | BQ7: 0 | BR7: 0 | BS7: 0 | BT7: 0 | BV7: 4975 | BW7: 0 | BX7: 0 | BY7: 4975 | BZ7: 6511.58 | CA7: 1536.58 | CC7: 2347.57 | CD7: 0 | CE7: 0 | CF7: 2347.57 | CG7: 122716.74 | CH7: 120369.17 | CJ7: 0 | CK7: 0 | CL7: 0 | CM7: 0 | CN7: 0 | CO7: 0 | CQ7: 94208.51 | CR7: #VALUE! | CS7: #VALUE!
A8: 0610 | D8: 98122.25 | E8: 0 | F8: 0 | G8: 98122.25 | I8: =G8-H8 -> 98122.25 | K8: 2747.38 | L8: 0 | M8: 0 | N8: 2747.38 | P8: 0 | R8: 66539.32 | S8: 0 | T8: 0 | U8: 66539.32 | V8: 66539.32 | W8: 0 | Y8: 3122.38 | Z8: 0 | AA8: 0 | AB8: 3122.38 | AC8: #VALUE! | AD8: #VALUE! | AF8: 0 | AG8: 0 | AH8: 0 | AI8: 0 | AJ8: 18764.45 | AK8: 18764.45 | AM8: 0 | AN8: 0 | AO8: 0 | AP8: 0 | AQ8: 0 | AR8: 0 | AT8: 0 | AU8: 0 | AV8: 0 | AW8: 0 | AX8: 0 | AY8: 0 | BA8: 27999 | BB8: 0 | BC8: 0 | BD8: 27999 | BE8: 23248.2 | BF8: -4750.8 | BH8: 0 | BI8: 0 | BJ8: 0 | BK8: 0 | BL8: 819 | BM8: 819 | BO8: 0 | BP8: 0 | BQ8: 0 | BR8: 0 | BS8: 3811 | BT8: 3811 | BV8: 10968 | BW8: 0 | BX8: 0 | BY8: 10968 | BZ8: 5790 | CA8: -5178 | CC8: 14983.23 | CD8: 0 | CE8: 0 | CF8: 14983.23 | CG8: 325918.21 | CH8: 310934.98 | CJ8: 0 | CK8: 0 | CL8: 0 | CM8: 0 | CN8: 1629.97 | CO8: 1629.97 | CQ8: 224481.56 | CR8: #VALUE! | CS8: #VALUE!
A9: 0620 | D9: 34095.15 | E9: 0 | F9: 0 | G9: 34095.15 | I9: =G9-H9 -> 34095.15 | K9: 5774.77 | L9: 0 | M9: 0 | N9: 5774.77 | P9: 0 | R9: 26699.48 | S9: 0 | T9: 0 | U9: 26699.48 | V9: 26699.48 | W9: 0 | Y9: 2194.94 | Z9: 0 | AA9: 0 | AB9: 2194.94 | AC9: #VALUE! | AD9: #VALUE! | AF9: 0 | AG9: 0 | AH9: 0 | AI9: 0 | AJ9: 8416.8 | AK9: 8416.8 | AM9: 0 | AN9: 0 | AO9: 0 | AP9: 0 | AQ9: 0 | AR9: 0 | AT9: 0 | AU9: 0 | AV9: 0 | AW9: 0 | AX9: 0 | AY9: 0 | BA9: 9745 | BB9: 0 | BC9: 0 | BD9: 9745 | BE9: 0 | BF9: -9745 | BH9: 0 | BI9: 0 | BJ9: 0 | BK9: 0 | BL9: 0 | BM9: 0 | BO9: 0 | BP9: 0 | BQ9: 0 | BR9: 0 | BS9: 0 | BT9: 0 | BV9: 3040 | BW9: 0 | BX9: 0 | BY9: 3040 | BZ9: 0 | CA9: -3040 | CC9: 0 | CD9: 0 | CE9: 0 | CF9: 0 | CG9: 0 | CH9: 0 | CJ9: 0 | CK9: 0 | CL9: 0 | CM9: 0 | CN9: 0 | CO9: 0 | CQ9: 81549.34 | CR9: #VALUE! | CS9: #VALUE!
A10: 0625 | D10: 29270.51 | E10: 0 | F10: 0 | G10: 29270.51 | I10: =G10-H10 -> 29270.51 | K10: 2866.54 | L10: 0 | M10: 0 | N10: 2866.54 | P10: 0 | R10: 67300.95 | S10: 0 | T10: 0 | U10: 67300.95 | V10: 67300.95 | W10: 0 | Y10: 2567.02 | Z10: 0 | AA10: 0 | AB10: 2567.02 | AC10: #VALUE! | AD10: #VALUE! | AF10: 0 | AG10: 0 | AH10: 0 | AI10: 0 | AJ10: 0 | AK10: 0 | AM10: 0 | AN10: 0 | AO10: 0 | AP10: 0 | AQ10: 0 | AR10: 0 | AT10: 0 | AU10: 0 | AV10: 0 | AW10: 0 | AX10: 0 | AY10: 0 | BA10: 34569 | BB10: 0 | BC10: 0 | BD10: 34569 | BE10: 0 | BF10: -34569 | BH10: 0 | BI10: 0 | BJ10: 0 | BK10: 0 | BL10: 0 | BM10: 0 | BO10: 0 | BP10: 0 | BQ10: 0 | BR10: 0 | BS10: 0 | BT10: 0 | BV10: 5178.94 | BW10: 0 | BX10: 0 | BY10: 5178.94 | BZ10: 0 | CA10: -5178.94 | CC10: 105914 | CD10: 0 | CE10: 0 | CF10: 105914 | CG10: 0 | CH10: -105914 | CJ10: 0 | CK10: 0 | CL10: 0 | CM10: 0 | CN10: 0 | CO10: 0 | CQ10: 247666.96 | CR10: #VALUE! | CS10: #VALUE!
A11: 0627 | D11: 658200.73 | E11: 0 | F11: 0 | G11: 658200.73 | I11: =G11-H11 -> 658200.73 | K11: 9092.17 | L11: 0 | M11: 0 | N11: 9092.17 | P11: 0 | R11: 5407 | S11: 0 | T11: 0 | U11: 5407 | V11: 5407 | W11: 0 | Y11: 2274 | Z11: 0 | AA11: 0 | AB11: 2274 | AC11: #VALUE! | AD11: #VALUE! | AF11: 0 | AG11: 0 | AH11: 0 | AI11: 0 | AJ11: 0 | AK11: 0 | AM11: 0 | AN11: 0 | AO11: 0 | AP11: 0 | AQ11: 0 | AR11: 0 | AT11: 0 | AU11: 0 | AV11: 0 | AW11: 0 | AX11: 0 | AY11: 0 | BA11: 573461.58 | BB11: 0 | BC11: 0 | BD11: 573461.58 | BE11: 0 | BF11: -573461.58 | BH11: 16575 | BI11: 0 | BJ11: 0 | BK11: 16575 | BL11: 0 | BM11: -16575 | BO11: 0 | BP11: 0 | BQ11: 0 | BR11: 0 | BS11: 0 | BT11: 0 | BV11: 2745 | BW11: 0 | BX11: 0 | BY11: 2745 | BZ11: 0 | CA11: -2745 | CC11: 227277.27 | CD11: 0 | CE11: 0 | CF11: 227277.27 | CG11: 0 | CH11: -227277.27 | CJ11: 0 | CK11: 0 | CL11: 0 | CM11: 0 | CN11: 0 | CO11: 0 | CQ11: 1495032.8 | CR11: #VALUE! | CS11: #VALUE!
A12: 0635 | D12: 11175 | E12: 0 | F12: 0 | G12: 11175 | I12: =G12-H12 -> 11175 | K12: 2258.18 | L12: 0 | M12: 0 | N12: 2258.18 | P12: 0 | R12: 738925 | S12: 0 | T12: 0 | U12: 738925 | V12: 738925 | W12: 0 | Y12: 383.08 | Z12: 0 | AA12: 0 | AB12: 383.08 | AC12: #VALUE! | AD12: #VALUE! | AF12: 0 | AG12: 0 | AH12: 0 | AI12: 0 | AJ12: 0 | AK12: 0 | AM12: 0 | AN12: 0 | AO12: 0 | AP12: 0 | AQ12: 0 | AR12: 0 | AT12: 0 | AU12: 0 | AV12: 0 | AW12: 0 | AX12: 0 | AY12: 0 | BA12: 0 | BB12: 0 | BC12: 0 | BD12: 0 | BE12: 0 | BF12: 0 | BH12: 3500 | BI12: 0 | BJ12: 0 | BK12: 3500 | BL12: 0 | BM12: -3500 | BO12: 0 | BP12: 0 | BQ12: 0 | BR12: 0 | BS12: 0 | BT12: 0 | BV12: 0 | BW12: 0 | BX12: 0 | BY12: 0 | BZ12: 0 | CA12: 0 | CC12: 0 | CD12: 0 | CE12: 0 | CF12: 0 | CG12: 0 | CH12: 0 | CJ12: 0 | CK12: 0 | CL12: 0 | CM12: 0 | CN12: 0 | CO12: 0 | CQ12: 756241.26 | CR12: #VALUE! | CS12: #VALUE!
A13: 0645 | D13: 73664.91 | E13: 0 | F13: 0 | G13: 73664.91 | I13: =G13-H13 -> 73664.91 | K13: 34768.75 | L13: 0 | M13: 0 | N13: 34768.75 | P13: 0 | R13: 84807.62 | S13: 0 | T13: 0 | U13: 84807.62 | V13: 84807.62 | W13: 0 | Y13: 6324.81 | Z13: 0 | AA13: 0 | AB13: 6324.81 | AC13: #VALUE! | AD13: #VALUE! | AF13: 4171.44 | AG13: 0 | AH13: 0 | AI13: 4171.44 | AJ13: 0 | AK13: -4171.44 | AM13: 0 | AN13: 0 | AO13: 0 | AP13: 0 | AQ13: 0 | AR13: 0 | AT13: 0 | AU13: 0 | AV13: 0 | AW13: 0 | AX13: 0 | AY13: 0 | BA13: 35621.31 | BB13: 0 | BC13: 0 | BD13: 35621.31 | BE13: 0 | BF13: -35621.31 | BH13: 0 | BI13: 0 | BJ13: 0 | BK13: 0 | BL13: 0 | BM13: 0 | BO13: 0 | BP13: 0 | BQ13: 0 | BR13: 0 | BS13: 0 | BT13: 0 | BV13: 6910 | BW13: 0 | BX13: 0 | BY13: 6910 | BZ13: 0 | CA13: -6910 | CC13: 238240.43 | CD13: 0 | CE13: 0 | CF13: 238240.43 | CG13: 0 | CH13: -238240.43 | CJ13: 0 | CK13: 0 | CL13: 0 | CM13: 0 | CN13: 0 | CO13: 0 | CQ13: 484509.27 | CR13: #VALUE! | CS13: #VALUE!
A14: 0647 | D14: 86529.8 | E14: 0 | F14: 0 | G14: 86529.8 | I14: =G14-H14 -> 86529.8 | K14: 2743.3 | L14: 0 | M14: 0 | N14: 2743.3 | P14: 0 | R14: 2707.52 | S14: 0 | T14: 0 | U14: 2707.52 | V14: 2707.62 | W14: 0.1 | Y14: 948.12 | Z14: 0 | AA14: 0 | AB14: 948.12 | AC14: #VALUE! | AD14: #VALUE! | AF14: 0 | AG14: 0 | AH14: 0 | AI14: 0 | AJ14: 11272.58 | AK14: 11272.58 | AM14: 0 | AN14: 0 | AO14: 0 | AP14: 0 | AQ14: 0 | AR14: 0 | AT14: 0 | AU14: 0 | AV14: 0 | AW14: 0 | AX14: 0 | AY14: 0 | BA14: 13032.06 | BB14: 0 | BC14: 0 | BD14: 13032.06 | BE14: 0 | BF14: -13032.06 | BH14: 0 | BI14: 0 | BJ14: 0 | BK14: 0 | BL14: 0 | BM14: 0 | BO14: 0 | BP14: 0 | BQ14: 0 | BR14: 0 | BS14: 0 | BT14: 0 | BV14: 5366 | BW14: 0 | BX14: 0 | BY14: 5366 | BZ14: 0 | CA14: -5366 | CC14: 0 | CD14: 0 | CE14: 0 | CF14: 0 | CG14: 27652 | CH14: 27652 | CJ14: 0 | CK14: 0 | CL14: 0 | CM14: 0 | CN14: 0 | CO14: 0 | CQ14: 111326.8 | CR14: #VALUE! | CS14: #VALUE!
A15: 0649 | D15: 0 | E15: 0 | F15: 0 | G15: 0 | I15: =G15-H15 -> 0 | K15: 0 | L15: 0 | M15: 0 | N15: 0 | P15: 0 | R15: 0 | S15: 0 | T15: 0 | U15: 0 | V15: 0 | W15: 0 | Y15: 0 | Z15: 0 | AA15: 0 | AB15: 0 | AC15: #VALUE! | AD15: #VALUE! | AF15: 0 | AG15: 0 | AH15: 0 | AI15: 0 | AJ15: 2408.13 | AK15: 2408.13 | AM15: 946 | AN15: 0 | AO15: 0 | AP15: 946 | AQ15: 0 | AR15: -946 | AT15: 0 | AU15: 0 | AV15: 0 | AW15: 0 | AX15: 0 | AY15: 0 | BA15: 0 | BB15: 0 | BC15: 0 | BD15: 0 | BE15: 0 | BF15: 0 | BH15: 0 | BI15: 0 | BJ15: 0 | BK15: 0 | BL15: 0 | BM15: 0 | BO15: 0 | BP15: 0 | BQ15: 0 | BR15: 0 | BS15: 0 | BT15: 0 | BV15: 0 | BW15: 0 | BX15: 0 | BY15: 0 | BZ15: 0 | CA15: 0 | CC15: 0 | CD15: 0 | CE15: 0 | CF15: 0 | CG15: 166047.6 | CH15: 166047.6 | CJ15: 0 | CK15: 0 | CL15: 0 | CM15: 0 | CN15: 0 | CO15: 0 | CQ15: 946 | CR15: #VALUE! | CS15: #VALUE!
A16: 0650 | D16: 187932.29 | E16: 0 | F16: 0 | G16: 187932.29 | I16: =G16-H16 -> 187932.29 | K16: 8632.09 | L16: 0 | M16: 0 | N16: 8632.09 | P16: 0.81 | R16: 175152.93 | S16: 0 | T16: 0 | U16: 175152.93 | V16: 175152.93 | W16: 0 | Y16: 12011.43 | Z16: 0 | AA16: 0 | AB16: 12011.43 | AC16: #VALUE! | AD16: #VALUE! | AF16: 59.49 | AG16: 0 | AH16: 0 | AI16: 59.49 | AJ16: 1875.21 | AK16: 1815.72 | AM16: 0 | AN16: 0 | AO16: 0 | AP16: 0 | AQ16: 0 | AR16: 0 | AT16: 0 | AU16: 0 | AV16: 0 | AW16: 0 | AX16: 0 | AY16: 0 | BA16: 64640.1 | BB16: 0 | BC16: 0 | BD16: 64640.1 | BE16: 0 | BF16: -64640.1 | BH16: 0 | BI16: 0 | BJ16: 0 | BK16: 0 | BL16: 0 | BM16: 0 | BO16: 0 | BP16: 0 | BQ16: 0 | BR16: 0 | BS16: 0 | BT16: 0 | BV16: 4576.18 | BW16: 0 | BX16: 0 | BY16: 4576.18 | BZ16: 0 | CA16: -4576.18 | CC16: 23340.08 | CD16: 0 | CE16: 0 | CF16: 23340.08 | CG16: 0 | CH16: -23340.08 | CJ16: 0 | CK16: 0 | CL16: 0 | CM16: 0 | CN16: 0 | CO16: 0 | CQ16: 476344.59 | CR16: #VALUE! | CS16: #VALUE!
... A24: 0695 | D24: 50497.94 | E24: 0 | F24: 0 | G24: 50497.94 | I24: =G24-H24 -> 50497.94 | K24: 5901.9 | L24: 0 | M24: 0 | N24: 5901.9 | P24: -0.01 | R24: 10400.23 | S24: 0 | T24: 0 | U24: 10400.23 | V24: 10400.23 | W24: 0 | Y24: 2740.29 | Z24: 0 | AA24: 0 | AB24: 2740.29 | AC24: #VALUE! | AD24: #VALUE! | AF24: 0 | AG24: 0 | AH24: 0 | AI24: 0 | AJ24: 0 | AK24: 0 | AM24: 0 | AN24: 0 | AO24: 0 | AP24: 0 | AQ24: 0 | AR24: 0 | AT24: 0 | AU24: 0 | AV24: 0 | AW24: 0 | AX24: 0 | AY24: 0 | BA24: 14038 | BB24: 0 | BC24: 0 | BD24: 14038 | BE24: 0 | BF24: -14038 | BH24: 0 | BI24: 0 | BJ24: 0 | BK24: 0 | BL24: 0 | BM24: 0 | BO24: 0 | BP24: 0 | BQ24: 0 | BR24: 0 | BS24: 0 | BT24: 0 | BV24: 3234 | BW24: 0 | BX24: 0 | BY24: 3234 | BZ24: 0 | CA24: -3234 | CC24: -0.32 | CD24: 0 | CE24: 0 | CF24: -0.32 | CG24: 0 | CH24: 0.32 | CJ24: 0 | CK24: 0 | CL24: 0 | CM24: 0 | CN24: 0 | CO24: 0 | CQ24: 86812.04 | CR24: #VALUE! | CS24: #VALUE!
A25: E06tot | D25: 1559593.1 | E25: 0 | F25: 0 | G25: 1559593.1 | I25: =G25-H25 -> 1559593.1 | K25: 182922.07 | L25: 0 | M25: 0 | N25: 182922.07 | P25: 951.06 | R25: 1603048.1 | S25: 0 | T25: 0 | U25: 1603048.1 | V25: 1603048.5 | W25: 0.41 | Y25: 95511.99 | Z25: 0 | AA25: 0 | AB25: 95511.99 | AC25: 0 | AD25: -95511.99 | AF25: 181764.09 | AG25: 0 | AH25: 0 | AI25: 181764.09 | AJ25: 0 | AK25: -181764.09 | AM25: 15766.47 | AN25: 0 | AO25: 0 | AP25: 15766.47 | AQ25: 0 | AR25: -15766.47 | AT25: 0 | AU25: 0 | AV25: 0 | AW25: 0 | AX25: 0 | AY25: 0 | BA25: 1034608.2 | BB25: 0 | BC25: 0 | BD25: 1034608.2 | BE25: 0 | BF25: -1034608.2 | BH25: 99486.57 | BI25: 0 | BJ25: 0 | BK25: 99486.57 | BL25: 0 | BM25: -99486.57 | BO25: 1622.39 | BP25: 0 | BQ25: 0 | BR25: 1622.39 | BS25: 0 | BT25: -1622.39 | BV25: 68883.82 | BW25: 0 | BX25: 0 | BY25: 68883.82 | BZ25: 0 | CA25: -68883.82 | CC25: 1472551.8 | CD25: 0 | CE25: 0 | CF25: 1472551.8 | CG25: 0 | CH25: -1472551.8 | CJ25: 0 | CK25: 0 | CL25: 0 | CM25: 0 | CN25: 0 | CO25: 0 | CQ25: 6315758.5 | CR25: 3346511.8 | CS25: -2969246.6
D27: 0 | E27: 0 | F27: 0 | G27: 0 | H27: 0 | I27: 0 | K27: 0 | L27: 0 | M27: 0 | N27: 0 | O27: 0 | P27: 0 | R27: 0 | S27: 0 | T27: 0 | U27: 0 | V27: 0 | W27: 0 | Y27: 0 | Z27: 0 | AA27: 0 | AB27: 0 | AC27: 0 | AD27: 0 | AF27: 0 | AG27: 0 | AH27: 0 | AI27: 0 | AJ27: 0 | AK27: 0 | AM27: 0 | AN27: 0 | AO27: 0 | AP27: 0 | AQ27: 0 | AR27: 0 | AT27: 0 | AU27: 0 | AV27: 0 | AW27: 0 | AX27: 0 | AY27: 0 | BA27: 0 | BB27: 0 | BC27: 0 | BD27: 0 | BE27: 0 | BF27: 0 | BH27: 0 | BI27: 0 | BJ27: 0 | BK27: 0 | BL27: 0 | BM27: 0 | BO27: 0 | BP27: 0 | BQ27: 0 | BR27: 0 | BS27: 0 | BT27: 0 | BV27: 0 | BW27: 0 | BX27: 0 | BY27: 0 | BZ27: 0 | CA27: 0 | CC27: 0 | CD27: 0 | CE27: 0 | CF27: 0 | CG27: 0 | CH27: 0 | CJ27: 0 | CK27: 0 | CL27: 0 | CM27: 0 | CN27: 0 | CO27: 0 | CQ27: 0 | CR27: 0 | CS27: 0
G28: 0 | H28: 0 | I28: 0 | N28: 0 | O28: 0 | P28: 0 | U28: 0 | V28: 0 | W28: 0 | AB28: 0 | AC28: 0 | AD28: 0 | AI28: 0 | AJ28: 0 | AK28: 0 | AP28: 0 | AQ28: 0 | AR28: 0 | AW28: 0 | AX28: 0 | AY28: 0 | BD28: 0 | BE28: 0 | BF28: 0 | BK28: 0 | BL28: 0 | BM28: 0 | BR28: 0 | BS28: 0 | BT28: 0 | BY28: 0 | BZ28: 0 | CA28: 0 | CF28: 0 | CG28: 0 | CH28: 0 | CM28: 0 | CN28: 0 | CO28: 0 | CQ28: 0 | CR28: 0 | CS28: 0
D29: 0 | E29: 0 | F29: 0 | G29: 0 | H29: 0 | I29: 0 | K29: 0 | L29: 0 | M29: 0 | N29: 0 | O29: 0 | P29: 0 | R29: 0 | S29: 0 | T29: 0 | U29: 0 | V29: 0 | W29: 0 | Y29: 0 | Z29: 0 | AA29: 0 | AB29: 0 | AC29: 0 | AD29: 0 | AF29: 0 | AG29: 0 | AH29: 0 | AI29: 0 | AJ29: 0 | AK29: 0 | AM29: 0 | AN29: 0 | AO29: 0 | AP29: 0 | AQ29: 0 | AR29: 0 | AT29: 0 | AU29: 0 | AV29: 0 | AW29: 0 | AX29: 0 | AY29: 0 | BA29: 0 | BB29: 0 | BC29: 0 | BD29: 0 | BE29: 0 | BF29: 0 | BH29: 0 | BI29: 0 | BJ29: 0 | BK29: 0 | BL29: 0 | BM29: 0 | BO29: 0 | BP29: 0 | BQ29: 0 | BR29: 0 | BS29: 0 | BT29: 0 | BV29: 0 | BW29: 0 | BX29: 0 | BY29: 0 | BZ29: 0 | CA29: 0 | CC29: 0 | CD29: 0 | CE29: 0 | CF29: 0 | CG29: 0 | CH29: 0 | CJ29: 0 | CK29: 0 | CL29: 0 | CM29: 0 | CN29: 0 | CO29: 0 | CQ29: 0 | CR29: 0 | CS29: 0
D31: 0 | E31: 0 | F31: 0 | G31: 0 | H31: 0 | I31: -1.3835688e-10 | J31: 0 | K31: 0 | L31: 0 | M31: 0 | N31: 0 | O31: 0.03 | P31: 0.03 | Q31: 0 | R31: 0 | S31: 0 | T31: 0 | U31: 0 | V31: -0.14 | W31: -0.14 | X31: 0 | Y31: 0 | Z31: 0 | AA31: 0 | AB31: 0 | AC31: #VALUE! | AD31: #VALUE! | AE31: 0 | AF31: 0 | AG31: 0 | AH31: 0 | AI31: 0 | AJ31: 160768.79 | AK31: 160768.79 | AL31: 0 | AM31: 0 | AN31: 0 | AO31: 0 | AP31: 0 | AQ31: 43144.63 | AR31: 43144.63 | AS31: 0 | AT31: 0 | AU31: 0 | AV31: 0 | AW31: 0 | AX31: 31650 | AY31: 31650 | AZ31: 0 | BA31: 0 | BB31: 0 | BC31: 0 | BD31: 0 | BE31: 23248.2 | BF31: 23248.2 | BG31: 0 | BH31: 0 | BI31: 0 | BJ31: 0 | BK31: 0 | BL31: 819 | BM31: 819 | BN31: 0 | BO31: 0 | BP31: 0 | BQ31: 0 | BR31: 0 | BS31: 3811 | BT31: 3811 | BU31: 0 | BV31: 0 | BW31: 0 | BX31: 0 | BY31: 0 | BZ31: 14423.08 | CA31: 14423.08 | CB31: 0 | CC31: 0 | CD31: 0 | CE31: 0 | CF31: 0 | CG31: 735065.55 | CH31: 735065.55 | CI31: 0 | CJ31: 0 | CK31: 0 | CL31: 0 | CM31: 0 | CN31: 1629.97 | CO31: 1629.97 | CP31: 0 | CQ31: 0 | CR31: #VALUE! | CS31: #VALUE!

Sheet JE - Cost
A1: =TEXT(#REF!,"MMMMMMMMM YYYY") -> #REF! | G1: JE #
A3: Description | E3: Account | F3: DR | G3: CR
B4: BRANCH | C4: BRANCH | D4: ACCOUNT
A5: =_xll.DBRA("RXLTM1:Account",D5,"ALIAS English") -> #NAME? | B5: 0301T_H | C5: =LEFT(B5,4) -> 0301 | D5: 1532 | E5: =LEFT(C5,4)&"2"&D5&"00" -> 03012153200 | F5: =IF(INDEX(#REF!,MATCH('JE - Cost'!B5,#REF!,0),MATCH('JE - Cost'!D5,#REF!,0)+3) > 0, INDEX(#REF!,MATCH('JE - Cost'!B5,#REF!,0),MATCH('JE - Cost'!D5,#REF!,0)+3),"") -> #REF! | G5: =IF(INDEX(#REF!,MATCH('JE - Cost'!B5,#REF!,0),MATCH('JE - Cost'!D5,#REF!,0)+3) < 0, -INDEX(#REF!,MATCH('JE - Cost'!B5,#REF!,0),MATCH('JE - Cost'!D5,#REF!,0)+3),"") -> #REF!
A6: =_xll.DBRA("RXLTM1:Account",D6,"ALIAS English") -> #NAME? | B6: 0302T_H | C6: =LEFT(B6,4) -> 0302 | D6: 1532 | E6: =LEFT(C6,4)&"2"&D6&"00" -> 03022153200 | F6: =IF(INDEX(#REF!,MATCH('JE - Cost'!B6,#REF!,0),MATCH('JE - Cost'!D6,#REF!,0)+3) > 0, INDEX(#REF!,MATCH('JE - Cost'!B6,#REF!,0),MATCH('JE - Cost'!D6,#REF!,0)+3),"") -> #REF! | G6: =IF(INDEX(#REF!,MATCH('JE - Cost'!B6,#REF!,0),MATCH('JE - Cost'!D6,#REF!,0)+3) < 0, -INDEX(#REF!,MATCH('JE - Cost'!B6,#REF!,0),MATCH('JE - Cost'!D6,#REF!,0)+3),"") -> #REF!
A7: =_xll.DBRA("RXLTM1:Account",D7,"ALIAS English") -> #NAME? | B7: 0303T_H | C7: =LEFT(B7,4) -> 0303 | D7: 1532 | E7: =LEFT(C7,4)&"2"&D7&"00" -> 03032153200 | F7: =IF(INDEX(#REF!,MATCH('JE - Cost'!B7,#REF!,0),MATCH('JE - Cost'!D7,#REF!,0)+3) > 0, INDEX(#REF!,MATCH('JE - Cost'!B7,#REF!,0),MATCH('JE - Cost'!D7,#REF!,0)+3),"") -> #REF! | G7: =IF(INDEX(#REF!,MATCH('JE - Cost'!B7,#REF!,0),MATCH('JE - Cost'!D7,#REF!,0)+3) < 0, -INDEX(#REF!,MATCH('JE - Cost'!B7,#REF!,0),MATCH('JE - Cost'!D7,#REF!,0)+3),"") -> #REF!
A8: =_xll.DBRA("RXLTM1:Account",D8,"ALIAS English") -> #NAME? | B8: 0304T_H | C8: =LEFT(B8,4) -> 0304 | D8: 1532 | E8: =LEFT(C8,4)&"2"&D8&"00" -> 03042153200 | F8: =IF(INDEX(#REF!,MATCH('JE - Cost'!B8,#REF!,0),MATCH('JE - Cost'!D8,#REF!,0)+3) > 0, INDEX(#REF!,MATCH('JE - Cost'!B8,#REF!,0),MATCH('JE - Cost'!D8,#REF!,0)+3),"") -> #REF! | G8: =IF(INDEX(#REF!,MATCH('JE - Cost'!B8,#REF!,0),MATCH('JE - Cost'!D8,#REF!,0)+3) < 0, -INDEX(#REF!,MATCH('JE - Cost'!B8,#REF!,0),MATCH('JE - Cost'!D8,#REF!,0)+3),"") -> #REF!
A9: =_xll.DBRA("RXLTM1:Account",D9,"ALIAS English") -> #NAME? | B9: 0305T_H | C9: =LEFT(B9,4) -> 0305 | D9: 1532 | E9: =LEFT(C9,4)&"2"&D9&"00" -> 03052153200 | F9: =IF(INDEX(#REF!,MATCH('JE - Cost'!B9,#REF!,0),MATCH('JE - Cost'!D9,#REF!,0)+3) > 0, INDEX(#REF!,MATCH('JE - Cost'!B9,#REF!,0),MATCH('JE - Cost'!D9,#REF!,0)+3),"") -> #REF! | G9: =IF(INDEX(#REF!,MATCH('JE - Cost'!B9,#REF!,0),MATCH('JE - Cost'!D9,#REF!,0)+3) < 0, -INDEX(#REF!,MATCH('JE - Cost'!B9,#REF!,0),MATCH('JE - Cost'!D9,#REF!,0)+3),"") -> #REF!
A10: =_xll.DBRA("RXLTM1:Account",D10,"ALIAS English") -> #NAME? | B10: 0306T_H | C10: =LEFT(B10,4) -> 0306 | D10: 1532 | E10: =LEFT(C10,4)&"2"&D10&"00" -> 03062153200 | F10: =IF(INDEX(#REF!,MATCH('JE - Cost'!B10,#REF!,0),MATCH('JE - Cost'!D10,#REF!,0)+3) > 0, INDEX(#REF!,MATCH('JE - Cost'!B10,#REF!,0),MATCH('JE - Cost'!D10,#REF!,0)+3),"") -> #REF! | G10: =IF(INDEX(#REF!,MATCH('JE - Cost'!B10,#REF!,0),MATCH('JE - Cost'!D10,#REF!,0)+3) < 0, -INDEX(#REF!,MATCH('JE - Cost'!B10,#REF!,0),MATCH('JE - Cost'!D10,#REF!,0)+3),"") -> #REF!
A11: =_xll.DBRA("RXLTM1:Account",D11,"ALIAS English") -> #NAME? | B11: 0308T_H | C11: =LEFT(B11,4) -> 0308 | D11: 1532 | E11: =LEFT(C11,4)&"2"&D11&"00" -> 03082153200 | F11: =IF(INDEX(#REF!,MATCH('JE - Cost'!B11,#REF!,0),MATCH('JE - Cost'!D11,#REF!,0)+3) > 0, INDEX(#REF!,MATCH('JE - Cost'!B11,#REF!,0),MATCH('JE - Cost'!D11,#REF!,0)+3),"") -> #REF! | G11: =IF(INDEX(#REF!,MATCH('JE - Cost'!B11,#REF!,0),MATCH('JE - Cost'!D11,#REF!,0)+3) < 0, -INDEX(#REF!,MATCH('JE - Cost'!B11,#REF!,0),MATCH('JE - Cost'!D11,#REF!,0)+3),"") -> #REF!
A12: =_xll.DBRA("RXLTM1:Account",D12,"ALIAS English") -> #NAME? | B12: 0309T_H | C12: =LEFT(B12,4) -> 0309 | D12: 1532 | E12: =LEFT(C12,4)&"2"&D12&"00" -> 03092153200 | F12: =IF(INDEX(#REF!,MATCH('JE - Cost'!B12,#REF!,0),MATCH('JE - Cost'!D12,#REF!,0)+3) > 0, INDEX(#REF!,MATCH('JE - Cost'!B12,#REF!,0),MATCH('JE - Cost'!D12,#REF!,0)+3),"") -> #REF! | G12: =IF(INDEX(#REF!,MATCH('JE - Cost'!B12,#REF!,0),MATCH('JE - Cost'!D12,#REF!,0)+3) < 0, -INDEX(#REF!,MATCH('JE - Cost'!B12,#REF!,0),MATCH('JE - Cost'!D12,#REF!,0)+3),"") -> #REF!
A13: =_xll.DBRA("RXLTM1:Account",D13,"ALIAS English") -> #NAME? | B13: 03ADMT_H | C13: 0311 | D13: 1532 | E13: =LEFT(C13,4)&"2"&D13&"00" -> 03112153200 | F13: =IF(INDEX(#REF!,MATCH('JE - Cost'!B13,#REF!,0),MATCH('JE - Cost'!D13,#REF!,0)+3) > 0, INDEX(#REF!,MATCH('JE - Cost'!B13,#REF!,0),MATCH('JE - Cost'!D13,#REF!,0)+3),"") -> #REF! | G13: =IF(INDEX(#REF!,MATCH('JE - Cost'!B13,#REF!,0),MATCH('JE - Cost'!D13,#REF!,0)+3) < 0, -INDEX(#REF!,MATCH('JE - Cost'!B13,#REF!,0),MATCH('JE - Cost'!D13,#REF!,0)+3),"") -> #REF!
A14: =_xll.DBRA("RXLTM1:Account",D14,"ALIAS English") -> #NAME? | B14: 0321T_H | C14: =LEFT(B14,4) -> 0321 | D14: 1532 | E14: =LEFT(C14,4)&"2"&D14&"00" -> 03212153200 | F14: =IF(INDEX(#REF!,MATCH('JE - Cost'!B14,#REF!,0),MATCH('JE - Cost'!D14,#REF!,0)+3) > 0, INDEX(#REF!,MATCH('JE - Cost'!B14,#REF!,0),MATCH('JE - Cost'!D14,#REF!,0)+3),"") -> #REF! | G14: =IF(INDEX(#REF!,MATCH('JE - Cost'!B14,#REF!,0),MATCH('JE - Cost'!D14,#REF!,0)+3) < 0, -INDEX(#REF!,MATCH('JE - Cost'!B14,#REF!,0),MATCH('JE - Cost'!D14,#REF!,0)+3),"") -> #REF!
A15: =_xll.DBRA("RXLTM1:Account",D15,"ALIAS English") -> #NAME? | B15: 0322T_H | C15: =LEFT(B15,4) -> 0322 | D15: 1532 | E15: =LEFT(C15,4)&"2"&D15&"00" -> 03222153200 | F15: =IF(INDEX(#REF!,MATCH('JE - Cost'!B15,#REF!,0),MATCH('JE - Cost'!D15,#REF!,0)+3) > 0, INDEX(#REF!,MATCH('JE - Cost'!B15,#REF!,0),MATCH('JE - Cost'!D15,#REF!,0)+3),"") -> #REF! | G15: =IF(INDEX(#REF!,MATCH('JE - Cost'!B15,#REF!,0),MATCH('JE - Cost'!D15,#REF!,0)+3) < 0, -INDEX(#REF!,MATCH('JE - Cost'!B15,#REF!,0),MATCH('JE - Cost'!D15,#REF!,0)+3),"") -> #REF!
A16: =_xll.DBRA("RXLTM1:Account",D16,"ALIAS English") -> #NAME? | B16: 0323T_H | C16: =LEFT(B16,4) -> 0323 | D16: 1532 | E16: =LEFT(C16,4)&"2"&D16&"00" -> 03232153200 | F16: =IF(INDEX(#REF!,MATCH('JE - Cost'!B16,#REF!,0),MATCH('JE - Cost'!D16,#REF!,0)+3) > 0, INDEX(#REF!,MATCH('JE - Cost'!B16,#REF!,0),MATCH('JE - Cost'!D16,#REF!,0)+3),"") -> #REF! | G16: =IF(INDEX(#REF!,MATCH('JE - Cost'!B16,#REF!,0),MATCH('JE - Cost'!D16,#REF!,0)+3) < 0, -INDEX(#REF!,MATCH('JE - Cost'!B16,#REF!,0),MATCH('JE - Cost'!D16,#REF!,0)+3),"") -> #REF!
A17: =_xll.DBRA("RXLTM1:Account",D17,"ALIAS English") -> #NAME? | B17: 0324T_H | C17: =LEFT(B17,4) -> 0324 | D17: 1532 | E17: =LEFT(C17,4)&"2"&D17&"00" -> 03242153200 | F17: =IF(INDEX(#REF!,MATCH('JE - Cost'!B17,#REF!,0),MATCH('JE - Cost'!D17,#REF!,0)+3) > 0, INDEX(#REF!,MATCH('JE - Cost'!B17,#REF!,0),MATCH('JE - Cost'!D17,#REF!,0)+3),"") -> #REF! | G17: =IF(INDEX(#REF!,MATCH('JE - Cost'!B17,#REF!,0),MATCH('JE - Cost'!D17,#REF!,0)+3) < 0, -INDEX(#REF!,MATCH('JE - Cost'!B17,#REF!,0),MATCH('JE - Cost'!D17,#REF!,0)+3),"") -> #REF!
A18: =_xll.DBRA("RXLTM1:Account",D18,"ALIAS English") -> #NAME? | B18: 0325T_H | C18: =LEFT(B18,4) -> 0325 | D18: 1532 | E18: =LEFT(C18,4)&"2"&D18&"00" -> 03252153200 | F18: =IF(INDEX(#REF!,MATCH('JE - Cost'!B18,#REF!,0),MATCH('JE - Cost'!D18,#REF!,0)+3) > 0, INDEX(#REF!,MATCH('JE - Cost'!B18,#REF!,0),MATCH('JE - Cost'!D18,#REF!,0)+3),"") -> #REF! | G18: =IF(INDEX(#REF!,MATCH('JE - Cost'!B18,#REF!,0),MATCH('JE - Cost'!D18,#REF!,0)+3) < 0, -INDEX(#REF!,MATCH('JE - Cost'!B18,#REF!,0),MATCH('JE - Cost'!D18,#REF!,0)+3),"") -> #REF!
A19: =_xll.DBRA("RXLTM1:Account",D19,"ALIAS English") -> #NAME? | B19: 0326T_H | C19: =LEFT(B19,4) -> 0326 | D19: 1532 | E19: =LEFT(C19,4)&"2"&D19&"00" -> 03262153200 | F19: =IF(INDEX(#REF!,MATCH('JE - Cost'!B19,#REF!,0),MATCH('JE - Cost'!D19,#REF!,0)+3) > 0, INDEX(#REF!,MATCH('JE - Cost'!B19,#REF!,0),MATCH('JE - Cost'!D19,#REF!,0)+3),"") -> #REF! | G19: =IF(INDEX(#REF!,MATCH('JE - Cost'!B19,#REF!,0),MATCH('JE - Cost'!D19,#REF!,0)+3) < 0, -INDEX(#REF!,MATCH('JE - Cost'!B19,#REF!,0),MATCH('JE - Cost'!D19,#REF!,0)+3),"") -> #REF!
A20: =_xll.DBRA("RXLTM1:Account",D20,"ALIAS English") -> #NAME? | B20: 0328T_H | C20: =LEFT(B20,4) -> 0328 | D20: 1532 | E20: =LEFT(C20,4)&"2"&D20&"00" -> 03282153200 | F20: =IF(INDEX(#REF!,MATCH('JE - Cost'!B20,#REF!,0),MATCH('JE - Cost'!D20,#REF!,0)+3) > 0, INDEX(#REF!,MATCH('JE - Cost'!B20,#REF!,0),MATCH('JE - Cost'!D20,#REF!,0)+3),"") -> #REF! | G20: =IF(INDEX(#REF!,MATCH('JE - Cost'!B20,#REF!,0),MATCH('JE - Cost'!D20,#REF!,0)+3) < 0, -INDEX(#REF!,MATCH('JE - Cost'!B20,#REF!,0),MATCH('JE - Cost'!D20,#REF!,0)+3),"") -> #REF!
A21: =_xll.DBRA("RXLTM1:Account",D21,"ALIAS English") -> #NAME? | B21: 0329T | C21: =LEFT(B21,4) -> 0329 | D21: 1532 | E21: =LEFT(C21,4)&"2"&D21&"00" -> 03292153200 | F21: =IF(INDEX(#REF!,MATCH('JE - Cost'!B21,#REF!,0),MATCH('JE - Cost'!D21,#REF!,0)+3) > 0, INDEX(#REF!,MATCH('JE - Cost'!B21,#REF!,0),MATCH('JE - Cost'!D21,#REF!,0)+3),"") -> #REF! | G21: =IF(INDEX(#REF!,MATCH('JE - Cost'!B21,#REF!,0),MATCH('JE - Cost'!D21,#REF!,0)+3) < 0, -INDEX(#REF!,MATCH('JE - Cost'!B21,#REF!,0),MATCH('JE - Cost'!D21,#REF!,0)+3),"") -> #REF!
A22: =_xll.DBRA("RXLTM1:Account",D22,"ALIAS English") -> #NAME? | B22: 0330T | C22: =LEFT(B22,4) -> 0330 | D22: 1532 | E22: =LEFT(C22,4)&"2"&D22&"00" -> 03302153200 | F22: =IF(INDEX(#REF!,MATCH('JE - Cost'!B22,#REF!,0),MATCH('JE - Cost'!D22,#REF!,0)+3) > 0, INDEX(#REF!,MATCH('JE - Cost'!B22,#REF!,0),MATCH('JE - Cost'!D22,#REF!,0)+3),"") -> #REF! | G22: =IF(INDEX(#REF!,MATCH('JE - Cost'!B22,#REF!,0),MATCH('JE - Cost'!D22,#REF!,0)+3) < 0, -INDEX(#REF!,MATCH('JE - Cost'!B22,#REF!,0),MATCH('JE - Cost'!D22,#REF!,0)+3),"") -> #REF!
A24: =_xll.DBRA("RXLTM1:Account",D24,"ALIAS English") -> #NAME? | B24: 0301T_H | C24: =LEFT(B24,4) -> 0301 | D24: 1542 | E24: =LEFT(C24,4)&"2"&D24&"00" -> 03012154200 | F24: =IF(INDEX(#REF!,MATCH('JE - Cost'!B24,#REF!,0),MATCH('JE - Cost'!D24,#REF!,0)+3) > 0, INDEX(#REF!,MATCH('JE - Cost'!B24,#REF!,0),MATCH('JE - Cost'!D24,#REF!,0)+3),"") -> #REF! | G24: =IF(INDEX(#REF!,MATCH('JE - Cost'!B24,#REF!,0),MATCH('JE - Cost'!D24,#REF!,0)+3) < 0, -INDEX(#REF!,MATCH('JE - Cost'!B24,#REF!,0),MATCH('JE - Cost'!D24,#REF!,0)+3),"") -> #REF!
A25: =_xll.DBRA("RXLTM1:Account",D25,"ALIAS English") -> #NAME? | B25: 0302T_H | C25: =LEFT(B25,4) -> 0302 | D25: 1542 | E25: =LEFT(C25,4)&"2"&D25&"00" -> 03022154200 | F25: =IF(INDEX(#REF!,MATCH('JE - Cost'!B25,#REF!,0),MATCH('JE - Cost'!D25,#REF!,0)+3) > 0, INDEX(#REF!,MATCH('JE - Cost'!B25,#REF!,0),MATCH('JE - Cost'!D25,#REF!,0)+3),"") -> #REF! | G25: =IF(INDEX(#REF!,MATCH('JE - Cost'!B25,#REF!,0),MATCH('JE - Cost'!D25,#REF!,0)+3) < 0, -INDEX(#REF!,MATCH('JE - Cost'!B25,#REF!,0),MATCH('JE - Cost'!D25,#REF!,0)+3),"") -> #REF!
A26: =_xll.DBRA("RXLTM1:Account",D26,"ALIAS English") -> #NAME? | B26: 0303T_H | C26: =LEFT(B26,4) -> 0303 | D26: 1542 | E26: =LEFT(C26,4)&"2"&D26&"00" -> 03032154200 | F26: =IF(INDEX(#REF!,MATCH('JE - Cost'!B26,#REF!,0),MATCH('JE - Cost'!D26,#REF!,0)+3) > 0, INDEX(#REF!,MATCH('JE - Cost'!B26,#REF!,0),MATCH('JE - Cost'!D26,#REF!,0)+3),"") -> #REF! | G26: =IF(INDEX(#REF!,MATCH('JE - Cost'!B26,#REF!,0),MATCH('JE - Cost'!D26,#REF!,0)+3) < 0, -INDEX(#REF!,MATCH('JE - Cost'!B26,#REF!,0),MATCH('JE - Cost'!D26,#REF!,0)+3),"") -> #REF!
... A31: =_xll.DBRA("RXLTM1:Account",D31,"ALIAS English") -> #NAME? | B31: 0309T_H | C31: =LEFT(B31,4) -> 0309 | D31: 1542 | E31: =LEFT(C31,4)&"2"&D31&"00" -> 03092154200 | F31: =IF(INDEX(#REF!,MATCH('JE - Cost'!B31,#REF!,0),MATCH('JE - Cost'!D31,#REF!,0)+3) > 0, INDEX(#REF!,MATCH('JE - Cost'!B31,#REF!,0),MATCH('JE - Cost'!D31,#REF!,0)+3),"") -> #REF! | G31: =IF(INDEX(#REF!,MATCH('JE - Cost'!B31,#REF!,0),MATCH('JE - Cost'!D31,#REF!,0)+3) < 0, -INDEX(#REF!,MATCH('JE - Cost'!B31,#REF!,0),MATCH('JE - Cost'!D31,#REF!,0)+3),"") -> #REF!
A32: =_xll.DBRA("RXLTM1:Account",D32,"ALIAS English") -> #NAME? | B32: 03ADMT_H | C32: 0311 | D32: 1542 | E32: =LEFT(C32,4)&"2"&D32&"00" -> 03112154200 | F32: =IF(INDEX(#REF!,MATCH('JE - Cost'!B32,#REF!,0),MATCH('JE - Cost'!D32,#REF!,0)+3) > 0, INDEX(#REF!,MATCH('JE - Cost'!B32,#REF!,0),MATCH('JE - Cost'!D32,#REF!,0)+3),"") -> #REF! | G32: =IF(INDEX(#REF!,MATCH('JE - Cost'!B32,#REF!,0),MATCH('JE - Cost'!D32,#REF!,0)+3) < 0, -INDEX(#REF!,MATCH('JE - Cost'!B32,#REF!,0),MATCH('JE - Cost'!D32,#REF!,0)+3),"") -> #REF!
A33: =_xll.DBRA("RXLTM1:Account",D33,"ALIAS English") -> #NAME? | B33: 0321T_H | C33: =LEFT(B33,4) -> 0321 | D33: 1542 | E33: =LEFT(C33,4)&"2"&D33&"00" -> 03212154200 | F33: =IF(INDEX(#REF!,MATCH('JE - Cost'!B33,#REF!,0),MATCH('JE - Cost'!D33,#REF!,0)+3) > 0, INDEX(#REF!,MATCH('JE - Cost'!B33,#REF!,0),MATCH('JE - Cost'!D33,#REF!,0)+3),"") -> #REF! | G33: =IF(INDEX(#REF!,MATCH('JE - Cost'!B33,#REF!,0),MATCH('JE - Cost'!D33,#REF!,0)+3) < 0, -INDEX(#REF!,MATCH('JE - Cost'!B33,#REF!,0),MATCH('JE - Cost'!D33,#REF!,0)+3),"") -> #REF!
A34: =_xll.DBRA("RXLTM1:Account",D34,"ALIAS English") -> #NAME? | B34: 0322T_H | C34: =LEFT(B34,4) -> 0322 | D34: 1542 | E34: =LEFT(C34,4)&"2"&D34&"00" -> 03222154200 | F34: =IF(INDEX(#REF!,MATCH('JE - Cost'!B34,#REF!,0),MATCH('JE - Cost'!D34,#REF!,0)+3) > 0, INDEX(#REF!,MATCH('JE - Cost'!B34,#REF!,0),MATCH('JE - Cost'!D34,#REF!,0)+3),"") -> #REF! | G34: =IF(INDEX(#REF!,MATCH('JE - Cost'!B34,#REF!,0),MATCH('JE - Cost'!D34,#REF!,0)+3) < 0, -INDEX(#REF!,MATCH('JE - Cost'!B34,#REF!,0),MATCH('JE - Cost'!D34,#REF!,0)+3),"") -> #REF!
A35: =_xll.DBRA("RXLTM1:Account",D35,"ALIAS English") -> #NAME? | B35: 0323T_H | C35: =LEFT(B35,4) -> 0323 | D35: 1542 | E35: =LEFT(C35,4)&"2"&D35&"00" -> 03232154200 | F35: =IF(INDEX(#REF!,MATCH('JE - Cost'!B35,#REF!,0),MATCH('JE - Cost'!D35,#REF!,0)+3) > 0, INDEX(#REF!,MATCH('JE - Cost'!B35,#REF!,0),MATCH('JE - Cost'!D35,#REF!,0)+3),"") -> #REF! | G35: =IF(INDEX(#REF!,MATCH('JE - Cost'!B35,#REF!,0),MATCH('JE - Cost'!D35,#REF!,0)+3) < 0, -INDEX(#REF!,MATCH('JE - Cost'!B35,#REF!,0),MATCH('JE - Cost'!D35,#REF!,0)+3),"") -> #REF!
A36: =_xll.DBRA("RXLTM1:Account",D36,"ALIAS English") -> #NAME? | B36: 0324T_H | C36: =LEFT(B36,4) -> 0324 | D36: 1542 | E36: =LEFT(C36,4)&"2"&D36&"00" -> 03242154200 | F36: =IF(INDEX(#REF!,MATCH('JE - Cost'!B36,#REF!,0),MATCH('JE - Cost'!D36,#REF!,0)+3) > 0, INDEX(#REF!,MATCH('JE - Cost'!B36,#REF!,0),MATCH('JE - Cost'!D36,#REF!,0)+3),"") -> #REF! | G36: =IF(INDEX(#REF!,MATCH('JE - Cost'!B36,#REF!,0),MATCH('JE - Cost'!D36,#REF!,0)+3) < 0, -INDEX(#REF!,MATCH('JE - Cost'!B36,#REF!,0),MATCH('JE - Cost'!D36,#REF!,0)+3),"") -> #REF!
A37: =_xll.DBRA("RXLTM1:Account",D37,"ALIAS English") -> #NAME? | B37: 0325T_H | C37: =LEFT(B37,4) -> 0325 | D37: 1542 | E37: =LEFT(C37,4)&"2"&D37&"00" -> 03252154200 | F37: =IF(INDEX(#REF!,MATCH('JE - Cost'!B37,#REF!,0),MATCH('JE - Cost'!D37,#REF!,0)+3) > 0, INDEX(#REF!,MATCH('JE - Cost'!B37,#REF!,0),MATCH('JE - Cost'!D37,#REF!,0)+3),"") -> #REF! | G37: =IF(INDEX(#REF!,MATCH('JE - Cost'!B37,#REF!,0),MATCH('JE - Cost'!D37,#REF!,0)+3) < 0, -INDEX(#REF!,MATCH('JE - Cost'!B37,#REF!,0),MATCH('JE - Cost'!D37,#REF!,0)+3),"") -> #REF!
A38: =_xll.DBRA("RXLTM1:Account",D38,"ALIAS English") -> #NAME? | B38: 0326T_H | C38: =LEFT(B38,4) -> 0326 | D38: 1542 | E38: =LEFT(C38,4)&"2"&D38&"00" -> 03262154200 | F38: =IF(INDEX(#REF!,MATCH('JE - Cost'!B38,#REF!,0),MATCH('JE - Cost'!D38,#REF!,0)+3) > 0, INDEX(#REF!,MATCH('JE - Cost'!B38,#REF!,0),MATCH('JE - Cost'!D38,#REF!,0)+3),"") -> #REF! | G38: =IF(INDEX(#REF!,MATCH('JE - Cost'!B38,#REF!,0),MATCH('JE - Cost'!D38,#REF!,0)+3) < 0, -INDEX(#REF!,MATCH('JE - Cost'!B38,#REF!,0),MATCH('JE - Cost'!D38,#REF!,0)+3),"") -> #REF!
A39: =_xll.DBRA("RXLTM1:Account",D39,"ALIAS English") -> #NAME? | B39: 0328T_H | C39: =LEFT(B39,4) -> 0328 | D39: 1542 | E39: =LEFT(C39,4)&"2"&D39&"00" -> 03282154200 | F39: =IF(INDEX(#REF!,MATCH('JE - Cost'!B39,#REF!,0),MATCH('JE - Cost'!D39,#REF!,0)+3) > 0, INDEX(#REF!,MATCH('JE - Cost'!B39,#REF!,0),MATCH('JE - Cost'!D39,#REF!,0)+3),"") -> #REF! | G39: =IF(INDEX(#REF!,MATCH('JE - Cost'!B39,#REF!,0),MATCH('JE - Cost'!D39,#REF!,0)+3) < 0, -INDEX(#REF!,MATCH('JE - Cost'!B39,#REF!,0),MATCH('JE - Cost'!D39,#REF!,0)+3),"") -> #REF!
A40: =_xll.DBRA("RXLTM1:Account",D40,"ALIAS English") -> #NAME? | B40: 0329T | C40: =LEFT(B40,4) -> 0329 | D40: 1542 | E40: =LEFT(C40,4)&"2"&D40&"00" -> 03292154200 | F40: =IF(INDEX(#REF!,MATCH('JE - Cost'!B40,#REF!,0),MATCH('JE - Cost'!D40,#REF!,0)+3) > 0, INDEX(#REF!,MATCH('JE - Cost'!B40,#REF!,0),MATCH('JE - Cost'!D40,#REF!,0)+3),"") -> #REF! | G40: =IF(INDEX(#REF!,MATCH('JE - Cost'!B40,#REF!,0),MATCH('JE - Cost'!D40,#REF!,0)+3) < 0, -INDEX(#REF!,MATCH('JE - Cost'!B40,#REF!,0),MATCH('JE - Cost'!D40,#REF!,0)+3),"") -> #REF!
A41: =_xll.DBRA("RXLTM1:Account",D41,"ALIAS English") -> #NAME? | B41: 0330T | C41: =LEFT(B41,4) -> 0330 | D41: 1542 | E41: =LEFT(C41,4)&"2"&D41&"00" -> 03302154200 | F41: =IF(INDEX(#REF!,MATCH('JE - Cost'!B41,#REF!,0),MATCH('JE - Cost'!D41,#REF!,0)+3) > 0, INDEX(#REF!,MATCH('JE - Cost'!B41,#REF!,0),MATCH('JE - Cost'!D41,#REF!,0)+3),"") -> #REF! | G41: =IF(INDEX(#REF!,MATCH('JE - Cost'!B41,#REF!,0),MATCH('JE - Cost'!D41,#REF!,0)+3) < 0, -INDEX(#REF!,MATCH('JE - Cost'!B41,#REF!,0),MATCH('JE - Cost'!D41,#REF!,0)+3),"") -> #REF!
A43: =_xll.DBRA("RXLTM1:Account",D43,"ALIAS English") -> #NAME? | B43: 0301T_H | C43: =LEFT(B43,4) -> 0301 | D43: 1552 | E43: =LEFT(C43,4)&"2"&D43&"00" -> 03012155200 | F43: =IF(INDEX(#REF!,MATCH('JE - Cost'!B43,#REF!,0),MATCH('JE - Cost'!D43,#REF!,0)+3) > 0, INDEX(#REF!,MATCH('JE - Cost'!B43,#REF!,0),MATCH('JE - Cost'!D43,#REF!,0)+3),"") -> #REF! | G43: =IF(INDEX(#REF!,MATCH('JE - Cost'!B43,#REF!,0),MATCH('JE - Cost'!D43,#REF!,0)+3) < 0, -INDEX(#REF!,MATCH('JE - Cost'!B43,#REF!,0),MATCH('JE - Cost'!D43,#REF!,0)+3),"") -> #REF!
A44: =_xll.DBRA("RXLTM1:Account",D44,"ALIAS English") -> #NAME? | B44: 0302T_H | C44: =LEFT(B44,4) -> 0302 | D44: 1552 | E44: =LEFT(C44,4)&"2"&D44&"00" -> 03022155200 | F44: =IF(INDEX(#REF!,MATCH('JE - Cost'!B44,#REF!,0),MATCH('JE - Cost'!D44,#REF!,0)+3) > 0, INDEX(#REF!,MATCH('JE - Cost'!B44,#REF!,0),MATCH('JE - Cost'!D44,#REF!,0)+3),"") -> #REF! | G44: =IF(INDEX(#REF!,MATCH('JE - Cost'!B44,#REF!,0),MATCH('JE - Cost'!D44,#REF!,0)+3) < 0, -INDEX(#REF!,MATCH('JE - Cost'!B44,#REF!,0),MATCH('JE - Cost'!D44,#REF!,0)+3),"") -> #REF!
A45: =_xll.DBRA("RXLTM1:Account",D45,"ALIAS English") -> #NAME? | B45: 0303T_H | C45: =LEFT(B45,4) -> 0303 | D45: 1552 | E45: =LEFT(C45,4)&"2"&D45&"00" -> 03032155200 | F45: =IF(INDEX(#REF!,MATCH('JE - Cost'!B45,#REF!,0),MATCH('JE - Cost'!D45,#REF!,0)+3) > 0, INDEX(#REF!,MATCH('JE - Cost'!B45,#REF!,0),MATCH('JE - Cost'!D45,#REF!,0)+3),"") -> #REF! | G45: =IF(INDEX(#REF!,MATCH('JE - Cost'!B45,#REF!,0),MATCH('JE - Cost'!D45,#REF!,0)+3) < 0, -INDEX(#REF!,MATCH('JE - Cost'!B45,#REF!,0),MATCH('JE - Cost'!D45,#REF!,0)+3),"") -> #REF!
... A50: =_xll.DBRA("RXLTM1:Account",D50,"ALIAS English") -> #NAME? | B50: 0309T_H | C50: =LEFT(B50,4) -> 0309 | D50: 1552 | E50: =LEFT(C50,4)&"2"&D50&"00" -> 03092155200 | F50: =IF(INDEX(#REF!,MATCH('JE - Cost'!B50,#REF!,0),MATCH('JE - Cost'!D50,#REF!,0)+3) > 0, INDEX(#REF!,MATCH('JE - Cost'!B50,#REF!,0),MATCH('JE - Cost'!D50,#REF!,0)+3),"") -> #REF! | G50: =IF(INDEX(#REF!,MATCH('JE - Cost'!B50,#REF!,0),MATCH('JE - Cost'!D50,#REF!,0)+3) < 0, -INDEX(#REF!,MATCH('JE - Cost'!B50,#REF!,0),MATCH('JE - Cost'!D50,#REF!,0)+3),"") -> #REF!
A51: =_xll.DBRA("RXLTM1:Account",D51,"ALIAS English") -> #NAME? | B51: 03ADMT_H | C51: 0311 | D51: 1552 | E51: =LEFT(C51,4)&"2"&D51&"00" -> 03112155200 | F51: =IF(INDEX(#REF!,MATCH('JE - Cost'!B51,#REF!,0),MATCH('JE - Cost'!D51,#REF!,0)+3) > 0, INDEX(#REF!,MATCH('JE - Cost'!B51,#REF!,0),MATCH('JE - Cost'!D51,#REF!,0)+3),"") -> #REF! | G51: =IF(INDEX(#REF!,MATCH('JE - Cost'!B51,#REF!,0),MATCH('JE - Cost'!D51,#REF!,0)+3) < 0, -INDEX(#REF!,MATCH('JE - Cost'!B51,#REF!,0),MATCH('JE - Cost'!D51,#REF!,0)+3),"") -> #REF!
...

Sheet JE - Acc Dep
A1: =TEXT(#REF!,"MMMMMMMMM YYYY") -> #REF! | G1: JE #
A3: Description | E3: Account | F3: DR | G3: CR
B4: BRANCH | C4: BRANCH | D4: ACCOUNT
A5: =_xll.DBRA("RXLTM1:Account",D5,"ALIAS English") -> #NAME? | B5: 0301T_H | C5: =LEFT(B5,4) -> 0301 | D5: 1732 | E5: =LEFT(C5,4)&"2"&D5&"00" -> 03012173200 | F5: =IF(INDEX(#REF!,MATCH('JE - Acc Dep'!B5,#REF!,0),MATCH('JE - Acc Dep'!D5,#REF!,0)+3) < 0, -INDEX(#REF!,MATCH('JE - Acc Dep'!B5,#REF!,0),MATCH('JE - Acc Dep'!D5,#REF!,0)+3),"") -> #REF! | G5: =IF(INDEX(#REF!,MATCH('JE - Acc Dep'!B5,#REF!,0),MATCH('JE - Acc Dep'!D5,#REF!,0)+3) > 0, INDEX(#REF!,MATCH('JE - Acc Dep'!B5,#REF!,0),MATCH('JE - Acc Dep'!D5,#REF!,0)+3),"") -> #REF!
A6: =_xll.DBRA("RXLTM1:Account",D6,"ALIAS English") -> #NAME? | B6: 0302T_H | C6: =LEFT(B6,4) -> 0302 | D6: 1732 | E6: =LEFT(C6,4)&"2"&D6&"00" -> 03022173200 | F6: =IF(INDEX(#REF!,MATCH('JE - Acc Dep'!B6,#REF!,0),MATCH('JE - Acc Dep'!D6,#REF!,0)+3) < 0, -INDEX(#REF!,MATCH('JE - Acc Dep'!B6,#REF!,0),MATCH('JE - Acc Dep'!D6,#REF!,0)+3),"") -> #REF! | G6: =IF(INDEX(#REF!,MATCH('JE - Acc Dep'!B6,#REF!,0),MATCH('JE - Acc Dep'!D6,#REF!,0)+3) > 0, INDEX(#REF!,MATCH('JE - Acc Dep'!B6,#REF!,0),MATCH('JE - Acc Dep'!D6,#REF!,0)+3),"") -> #REF!
A7: =_xll.DBRA("RXLTM1:Account",D7,"ALIAS English") -> #NAME? | B7: 0303T_H | C7: =LEFT(B7,4) -> 0303 | D7: 1732 | E7: =LEFT(C7,4)&"2"&D7&"00" -> 03032173200 | F7: =IF(INDEX(#REF!,MATCH('JE - Acc Dep'!B7,#REF!,0),MATCH('JE - Acc Dep'!D7,#REF!,0)+3) < 0, -INDEX(#REF!,MATCH('JE - Acc Dep'!B7,#REF!,0),MATCH('JE - Acc Dep'!D7,#REF!,0)+3),"") -> #REF! | G7: =IF(INDEX(#REF!,MATCH('JE - Acc Dep'!B7,#REF!,0),MATCH('JE - Acc Dep'!D7,#REF!,0)+3) > 0, INDEX(#REF!,MATCH('JE - Acc Dep'!B7,#REF!,0),MATCH('JE - Acc Dep'!D7,#REF!,0)+3),"") -> #REF!
A8: =_xll.DBRA("RXLTM1:Account",D8,"ALIAS English") -> #NAME? | B8: 0304T_H | C8: =LEFT(B8,4) -> 0304 | D8: 1732 | E8: =LEFT(C8,4)&"2"&D8&"00" -> 03042173200 | F8: =IF(INDEX(#REF!,MATCH('JE - Acc Dep'!B8,#REF!,0),MATCH('JE - Acc Dep'!D8,#REF!,0)+3) < 0, -INDEX(#REF!,MATCH('JE - Acc Dep'!B8,#REF!,0),MATCH('JE - Acc Dep'!D8,#REF!,0)+3),"") -> #REF! | G8: =IF(INDEX(#REF!,MATCH('JE - Acc Dep'!B8,#REF!,0),MATCH('JE - Acc Dep'!D8,#REF!,0)+3) > 0, INDEX(#REF!,MATCH('JE - Acc Dep'!B8,#REF!,0),MATCH('JE - Acc Dep'!D8,#REF!,0)+3),"") -> #REF!
A9: =_xll.DBRA("RXLTM1:Account",D9,"ALIAS English") -> #NAME? | B9: 0305T_H | C9: =LEFT(B9,4) -> 0305 | D9: 1732 | E9: =LEFT(C9,4)&"2"&D9&"00" -> 03052173200 | F9: =IF(INDEX(#REF!,MATCH('JE - Acc Dep'!B9,#REF!,0),MATCH('JE - Acc Dep'!D9,#REF!,0)+3) < 0, -INDEX(#REF!,MATCH('JE - Acc Dep'!B9,#REF!,0),MATCH('JE - Acc Dep'!D9,#REF!,0)+3),"") -> #REF! | G9: =IF(INDEX(#REF!,MATCH('JE - Acc Dep'!B9,#REF!,0),MATCH('JE - Acc Dep'!D9,#REF!,0)+3) > 0, INDEX(#REF!,MATCH('JE - Acc Dep'!B9,#REF!,0),MATCH('JE - Acc Dep'!D9,#REF!,0)+3),"") -> #REF!
A10: =_xll.DBRA("RXLTM1:Account",D10,"ALIAS English") -> #NAME? | B10: 0306T_H | C10: =LEFT(B10,4) -> 0306 | D10: 1732 | E10: =LEFT(C10,4)&"2"&D10&"00" -> 03062173200 | F10: =IF(INDEX(#REF!,MATCH('JE - Acc Dep'!B10,#REF!,0),MATCH('JE - Acc Dep'!D10,#REF!,0)+3) < 0, -INDEX(#REF!,MATCH('JE - Acc Dep'!B10,#REF!,0),MATCH('JE - Acc Dep'!D10,#REF!,0)+3),"") -> #REF! | G10: =IF(INDEX(#REF!,MATCH('JE - Acc Dep'!B10,#REF!,0),MATCH('JE - Acc Dep'!D10,#REF!,0)+3) > 0, INDEX(#REF!,MATCH('JE - Acc Dep'!B10,#REF!,0),MATCH('JE - Acc Dep'!D10,#REF!,0)+3),"") -> #REF!
A11: =_xll.DBRA("RXLTM1:Account",D11,"ALIAS English") -> #NAME? | B11: 0308T_H | C11: =LEFT(B11,4) -> 0308 | D11: 1732 | E11: =LEFT(C11,4)&"2"&D11&"00" -> 03082173200 | F11: =IF(INDEX(#REF!,MATCH('JE - Acc Dep'!B11,#REF!,0),MATCH('JE - Acc Dep'!D11,#REF!,0)+3) < 0, -INDEX(#REF!,MATCH('JE - Acc Dep'!B11,#REF!,0),MATCH('JE - Acc Dep'!D11,#REF!,0)+3),"") -> #REF! | G11: =IF(INDEX(#REF!,MATCH('JE - Acc Dep'!B11,#REF!,0),MATCH('JE - Acc Dep'!D11,#REF!,0)+3) > 0, INDEX(#REF!,MATCH('JE - Acc Dep'!B11,#REF!,0),MATCH('JE - Acc Dep'!D11,#REF!,0)+3),"") -> #REF!
A12: =_xll.DBRA("RXLTM1:Account",D12,"ALIAS English") -> #NAME? | B12: 0309T_H | C12: =LEFT(B12,4) -> 0309 | D12: 1732 | E12: =LEFT(C12,4)&"2"&D12&"00" -> 03092173200 | F12: =IF(INDEX(#REF!,MATCH('JE - Acc Dep'!B12,#REF!,0),MATCH('JE - Acc Dep'!D12,#REF!,0)+3) < 0, -INDEX(#REF!,MATCH('JE - Acc Dep'!B12,#REF!,0),MATCH('JE - Acc Dep'!D12,#REF!,0)+3),"") -> #REF! | G12: =IF(INDEX(#REF!,MATCH('JE - Acc Dep'!B12,#REF!,0),MATCH('JE - Acc Dep'!D12,#REF!,0)+3) > 0, INDEX(#REF!,MATCH('JE - Acc Dep'!B12,#REF!,0),MATCH('JE - Acc Dep'!D12,#REF!,0)+3),"") -> #REF!
A13: =_xll.DBRA("RXLTM1:Account",D13,"ALIAS English") -> #NAME? | B13: 03ADMT_H | C13: 0311 | D13: 1732 | E13: =LEFT(C13,4)&"2"&D13&"00" -> 03112173200 | F13: =IF(INDEX(#REF!,MATCH('JE - Acc Dep'!B13,#REF!,0),MATCH('JE - Acc Dep'!D13,#REF!,0)+3) < 0, -INDEX(#REF!,MATCH('JE - Acc Dep'!B13,#REF!,0),MATCH('JE - Acc Dep'!D13,#REF!,0)+3),"") -> #REF! | G13: =IF(INDEX(#REF!,MATCH('JE - Acc Dep'!B13,#REF!,0),MATCH('JE - Acc Dep'!D13,#REF!,0)+3) > 0, INDEX(#REF!,MATCH('JE - Acc Dep'!B13,#REF!,0),MATCH('JE - Acc Dep'!D13,#REF!,0)+3),"") -> #REF!
A14: =_xll.DBRA("RXLTM1:Account",D14,"ALIAS English") -> #NAME? | B14: 0321T_H | C14: =LEFT(B14,4) -> 0321 | D14: 1732 | E14: =LEFT(C14,4)&"2"&D14&"00" -> 03212173200 | F14: =IF(INDEX(#REF!,MATCH('JE - Acc Dep'!B14,#REF!,0),MATCH('JE - Acc Dep'!D14,#REF!,0)+3) < 0, -INDEX(#REF!,MATCH('JE - Acc Dep'!B14,#REF!,0),MATCH('JE - Acc Dep'!D14,#REF!,0)+3),"") -> #REF! | G14: =IF(INDEX(#REF!,MATCH('JE - Acc Dep'!B14,#REF!,0),MATCH('JE - Acc Dep'!D14,#REF!,0)+3) > 0, INDEX(#REF!,MATCH('JE - Acc Dep'!B14,#REF!,0),MATCH('JE - Acc Dep'!D14,#REF!,0)+3),"") -> #REF!
A15: =_xll.DBRA("RXLTM1:Account",D15,"ALIAS English") -> #NAME? | B15: 0322T_H | C15: =LEFT(B15,4) -> 0322 | D15: 1732 | E15: =LEFT(C15,4)&"2"&D15&"00" -> 03222173200 | F15: =IF(INDEX(#REF!,MATCH('JE - Acc Dep'!B15,#REF!,0),MATCH('JE - Acc Dep'!D15,#REF!,0)+3) < 0, -INDEX(#REF!,MATCH('JE - Acc Dep'!B15,#REF!,0),MATCH('JE - Acc Dep'!D15,#REF!,0)+3),"") -> #REF! | G15: =IF(INDEX(#REF!,MATCH('JE - Acc Dep'!B15,#REF!,0),MATCH('JE - Acc Dep'!D15,#REF!,0)+3) > 0, INDEX(#REF!,MATCH('JE - Acc Dep'!B15,#REF!,0),MATCH('JE - Acc Dep'!D15,#REF!,0)+3),"") -> #REF!
A16: =_xll.DBRA("RXLTM1:Account",D16,"ALIAS English") -> #NAME? | B16: 0323T_H | C16: =LEFT(B16,4) -> 0323 | D16: 1732 | E16: =LEFT(C16,4)&"2"&D16&"00" -> 03232173200 | F16: =IF(INDEX(#REF!,MATCH('JE - Acc Dep'!B16,#REF!,0),MATCH('JE - Acc Dep'!D16,#REF!,0)+3) < 0, -INDEX(#REF!,MATCH('JE - Acc Dep'!B16,#REF!,0),MATCH('JE - Acc Dep'!D16,#REF!,0)+3),"") -> #REF! | G16: =IF(INDEX(#REF!,MATCH('JE - Acc Dep'!B16,#REF!,0),MATCH('JE - Acc Dep'!D16,#REF!,0)+3) > 0, INDEX(#REF!,MATCH('JE - Acc Dep'!B16,#REF!,0),MATCH('JE - Acc Dep'!D16,#REF!,0)+3),"") -> #REF!
A17: =_xll.DBRA("RXLTM1:Account",D17,"ALIAS English") -> #NAME? | B17: 0324T_H | C17: =LEFT(B17,4) -> 0324 | D17: 1732 | E17: =LEFT(C17,4)&"2"&D17&"00" -> 03242173200 | F17: =IF(INDEX(#REF!,MATCH('JE - Acc Dep'!B17,#REF!,0),MATCH('JE - Acc Dep'!D17,#REF!,0)+3) < 0, -INDEX(#REF!,MATCH('JE - Acc Dep'!B17,#REF!,0),MATCH('JE - Acc Dep'!D17,#REF!,0)+3),"") -> #REF! | G17: =IF(INDEX(#REF!,MATCH('JE - Acc Dep'!B17,#REF!,0),MATCH('JE - Acc Dep'!D17,#REF!,0)+3) > 0, INDEX(#REF!,MATCH('JE - Acc Dep'!B17,#REF!,0),MATCH('JE - Acc Dep'!D17,#REF!,0)+3),"") -> #REF!
A18: =_xll.DBRA("RXLTM1:Account",D18,"ALIAS English") -> #NAME? | B18: 0325T_H | C18: =LEFT(B18,4) -> 0325 | D18: 1732 | E18: =LEFT(C18,4)&"2"&D18&"00" -> 03252173200 | F18: =IF(INDEX(#REF!,MATCH('JE - Acc Dep'!B18,#REF!,0),MATCH('JE - Acc Dep'!D18,#REF!,0)+3) < 0, -INDEX(#REF!,MATCH('JE - Acc Dep'!B18,#REF!,0),MATCH('JE - Acc Dep'!D18,#REF!,0)+3),"") -> #REF! | G18: =IF(INDEX(#REF!,MATCH('JE - Acc Dep'!B18,#REF!,0),MATCH('JE - Acc Dep'!D18,#REF!,0)+3) > 0, INDEX(#REF!,MATCH('JE - Acc Dep'!B18,#REF!,0),MATCH('JE - Acc Dep'!D18,#REF!,0)+3),"") -> #REF!
A19: =_xll.DBRA("RXLTM1:Account",D19,"ALIAS English") -> #NAME? | B19: 0326T_H | C19: =LEFT(B19,4) -> 0326 | D19: 1732 | E19: =LEFT(C19,4)&"2"&D19&"00" -> 03262173200 | F19: =IF(INDEX(#REF!,MATCH('JE - Acc Dep'!B19,#REF!,0),MATCH('JE - Acc Dep'!D19,#REF!,0)+3) < 0, -INDEX(#REF!,MATCH('JE - Acc Dep'!B19,#REF!,0),MATCH('JE - Acc Dep'!D19,#REF!,0)+3),"") -> #REF! | G19: =IF(INDEX(#REF!,MATCH('JE - Acc Dep'!B19,#REF!,0),MATCH('JE - Acc Dep'!D19,#REF!,0)+3) > 0, INDEX(#REF!,MATCH('JE - Acc Dep'!B19,#REF!,0),MATCH('JE - Acc Dep'!D19,#REF!,0)+3),"") -> #REF!
A20: =_xll.DBRA("RXLTM1:Account",D20,"ALIAS English") -> #NAME? | B20: 0328T_H | C20: =LEFT(B20,4) -> 0328 | D20: 1732 | E20: =LEFT(C20,4)&"2"&D20&"00" -> 03282173200 | F20: =IF(INDEX(#REF!,MATCH('JE - Acc Dep'!B20,#REF!,0),MATCH('JE - Acc Dep'!D20,#REF!,0)+3) < 0, -INDEX(#REF!,MATCH('JE - Acc Dep'!B20,#REF!,0),MATCH('JE - Acc Dep'!D20,#REF!,0)+3),"") -> #REF! | G20: =IF(INDEX(#REF!,MATCH('JE - Acc Dep'!B20,#REF!,0),MATCH('JE - Acc Dep'!D20,#REF!,0)+3) > 0, INDEX(#REF!,MATCH('JE - Acc Dep'!B20,#REF!,0),MATCH('JE - Acc Dep'!D20,#REF!,0)+3),"") -> #REF!
A21: =_xll.DBRA("RXLTM1:Account",D21,"ALIAS English") -> #NAME? | B21: 0329T | C21: =LEFT(B21,4) -> 0329 | D21: 1732 | E21: =LEFT(C21,4)&"2"&D21&"00" -> 03292173200 | F21: =IF(INDEX(#REF!,MATCH('JE - Acc Dep'!B21,#REF!,0),MATCH('JE - Acc Dep'!D21,#REF!,0)+3) < 0, -INDEX(#REF!,MATCH('JE - Acc Dep'!B21,#REF!,0),MATCH('JE - Acc Dep'!D21,#REF!,0)+3),"") -> #REF! | G21: =IF(INDEX(#REF!,MATCH('JE - Acc Dep'!B21,#REF!,0),MATCH('JE - Acc Dep'!D21,#REF!,0)+3) > 0, INDEX(#REF!,MATCH('JE - Acc Dep'!B21,#REF!,0),MATCH('JE - Acc Dep'!D21,#REF!,0)+3),"") -> #REF!
A22: =_xll.DBRA("RXLTM1:Account",D22,"ALIAS English") -> #NAME? | B22: 0330T | C22: =LEFT(B22,4) -> 0330 | D22: 1732 | E22: =LEFT(C22,4)&"2"&D22&"00" -> 03302173200 | F22: =IF(INDEX(#REF!,MATCH('JE - Acc Dep'!B22,#REF!,0),MATCH('JE - Acc Dep'!D22,#REF!,0)+3) < 0, -INDEX(#REF!,MATCH('JE - Acc Dep'!B22,#REF!,0),MATCH('JE - Acc Dep'!D22,#REF!,0)+3),"") -> #REF! | G22: =IF(INDEX(#REF!,MATCH('JE - Acc Dep'!B22,#REF!,0),MATCH('JE - Acc Dep'!D22,#REF!,0)+3) > 0, INDEX(#REF!,MATCH('JE - Acc Dep'!B22,#REF!,0),MATCH('JE - Acc Dep'!D22,#REF!,0)+3),"") -> #REF!
A24: =_xll.DBRA("RXLTM1:Account",D24,"ALIAS English") -> #NAME? | B24: 0301T_H | C24: =LEFT(B24,4) -> 0301 | D24: 1742 | E24: =LEFT(C24,4)&"2"&D24&"00" -> 03012174200 | F24: =IF(INDEX(#REF!,MATCH('JE - Acc Dep'!B24,#REF!,0),MATCH('JE - Acc Dep'!D24,#REF!,0)+3) < 0, -INDEX(#REF!,MATCH('JE - Acc Dep'!B24,#REF!,0),MATCH('JE - Acc Dep'!D24,#REF!,0)+3),"") -> #REF! | G24: =IF(INDEX(#REF!,MATCH('JE - Acc Dep'!B24,#REF!,0),MATCH('JE - Acc Dep'!D24,#REF!,0)+3) > 0, INDEX(#REF!,MATCH('JE - Acc Dep'!B24,#REF!,0),MATCH('JE - Acc Dep'!D24,#REF!,0)+3),"") -> #REF!
A25: =_xll.DBRA("RXLTM1:Account",D25,"ALIAS English") -> #NAME? | B25: 0302T_H | C25: =LEFT(B25,4) -> 0302 | D25: 1742 | E25: =LEFT(C25,4)&"2"&D25&"00" -> 03022174200 | F25: =IF(INDEX(#REF!,MATCH('JE - Acc Dep'!B25,#REF!,0),MATCH('JE - Acc Dep'!D25,#REF!,0)+3) < 0, -INDEX(#REF!,MATCH('JE - Acc Dep'!B25,#REF!,0),MATCH('JE - Acc Dep'!D25,#REF!,0)+3),"") -> #REF! | G25: =IF(INDEX(#REF!,MATCH('JE - Acc Dep'!B25,#REF!,0),MATCH('JE - Acc Dep'!D25,#REF!,0)+3) > 0, INDEX(#REF!,MATCH('JE - Acc Dep'!B25,#REF!,0),MATCH('JE - Acc Dep'!D25,#REF!,0)+3),"") -> #REF!
A26: =_xll.DBRA("RXLTM1:Account",D26,"ALIAS English") -> #NAME? | B26: 0303T_H | C26: =LEFT(B26,4) -> 0303 | D26: 1742 | E26: =LEFT(C26,4)&"2"&D26&"00" -> 03032174200 | F26: =IF(INDEX(#REF!,MATCH('JE - Acc Dep'!B26,#REF!,0),MATCH('JE - Acc Dep'!D26,#REF!,0)+3) < 0, -INDEX(#REF!,MATCH('JE - Acc Dep'!B26,#REF!,0),MATCH('JE - Acc Dep'!D26,#REF!,0)+3),"") -> #REF! | G26: =IF(INDEX(#REF!,MATCH('JE - Acc Dep'!B26,#REF!,0),MATCH('JE - Acc Dep'!D26,#REF!,0)+3) > 0, INDEX(#REF!,MATCH('JE - Acc Dep'!B26,#REF!,0),MATCH('JE - Acc Dep'!D26,#REF!,0)+3),"") -> #REF!
... A31: =_xll.DBRA("RXLTM1:Account",D31,"ALIAS English") -> #NAME? | B31: 0309T_H | C31: =LEFT(B31,4) -> 0309 | D31: 1742 | E31: =LEFT(C31,4)&"2"&D31&"00" -> 03092174200 | F31: =IF(INDEX(#REF!,MATCH('JE - Acc Dep'!B31,#REF!,0),MATCH('JE - Acc Dep'!D31,#REF!,0)+3) < 0, -INDEX(#REF!,MATCH('JE - Acc Dep'!B31,#REF!,0),MATCH('JE - Acc Dep'!D31,#REF!,0)+3),"") -> #REF! | G31: =IF(INDEX(#REF!,MATCH('JE - Acc Dep'!B31,#REF!,0),MATCH('JE - Acc Dep'!D31,#REF!,0)+3) > 0, INDEX(#REF!,MATCH('JE - Acc Dep'!B31,#REF!,0),MATCH('JE - Acc Dep'!D31,#REF!,0)+3),"") -> #REF!
A32: =_xll.DBRA("RXLTM1:Account",D32,"ALIAS English") -> #NAME? | B32: 03ADMT_H | C32: 0311 | D32: 1742 | E32: =LEFT(C32,4)&"2"&D32&"00" -> 03112174200 | F32: =IF(INDEX(#REF!,MATCH('JE - Acc Dep'!B32,#REF!,0),MATCH('JE - Acc Dep'!D32,#REF!,0)+3) < 0, -INDEX(#REF!,MATCH('JE - Acc Dep'!B32,#REF!,0),MATCH('JE - Acc Dep'!D32,#REF!,0)+3),"") -> #REF! | G32: =IF(INDEX(#REF!,MATCH('JE - Acc Dep'!B32,#REF!,0),MATCH('JE - Acc Dep'!D32,#REF!,0)+3) > 0, INDEX(#REF!,MATCH('JE - Acc Dep'!B32,#REF!,0),MATCH('JE - Acc Dep'!D32,#REF!,0)+3),"") -> #REF!
A33: =_xll.DBRA("RXLTM1:Account",D33,"ALIAS English") -> #NAME? | B33: 0321T_H | C33: =LEFT(B33,4) -> 0321 | D33: 1742 | E33: =LEFT(C33,4)&"2"&D33&"00" -> 03212174200 | F33: =IF(INDEX(#REF!,MATCH('JE - Acc Dep'!B33,#REF!,0),MATCH('JE - Acc Dep'!D33,#REF!,0)+3) < 0, -INDEX(#REF!,MATCH('JE - Acc Dep'!B33,#REF!,0),MATCH('JE - Acc Dep'!D33,#REF!,0)+3),"") -> #REF! | G33: =IF(INDEX(#REF!,MATCH('JE - Acc Dep'!B33,#REF!,0),MATCH('JE - Acc Dep'!D33,#REF!,0)+3) > 0, INDEX(#REF!,MATCH('JE - Acc Dep'!B33,#REF!,0),MATCH('JE - Acc Dep'!D33,#REF!,0)+3),"") -> #REF!
A34: =_xll.DBRA("RXLTM1:Account",D34,"ALIAS English") -> #NAME? | B34: 0322T_H | C34: =LEFT(B34,4) -> 0322 | D34: 1742 | E34: =LEFT(C34,4)&"2"&D34&"00" -> 03222174200 | F34: =IF(INDEX(#REF!,MATCH('JE - Acc Dep'!B34,#REF!,0),MATCH('JE - Acc Dep'!D34,#REF!,0)+3) < 0, -INDEX(#REF!,MATCH('JE - Acc Dep'!B34,#REF!,0),MATCH('JE - Acc Dep'!D34,#REF!,0)+3),"") -> #REF! | G34: =IF(INDEX(#REF!,MATCH('JE - Acc Dep'!B34,#REF!,0),MATCH('JE - Acc Dep'!D34,#REF!,0)+3) > 0, INDEX(#REF!,MATCH('JE - Acc Dep'!B34,#REF!,0),MATCH('JE - Acc Dep'!D34,#REF!,0)+3),"") -> #REF!
A35: =_xll.DBRA("RXLTM1:Account",D35,"ALIAS English") -> #NAME? | B35: 0323T_H | C35: =LEFT(B35,4) -> 0323 | D35: 1742 | E35: =LEFT(C35,4)&"2"&D35&"00" -> 03232174200 | F35: =IF(INDEX(#REF!,MATCH('JE - Acc Dep'!B35,#REF!,0),MATCH('JE - Acc Dep'!D35,#REF!,0)+3) < 0, -INDEX(#REF!,MATCH('JE - Acc Dep'!B35,#REF!,0),MATCH('JE - Acc Dep'!D35,#REF!,0)+3),"") -> #REF! | G35: =IF(INDEX(#REF!,MATCH('JE - Acc Dep'!B35,#REF!,0),MATCH('JE - Acc Dep'!D35,#REF!,0)+3) > 0, INDEX(#REF!,MATCH('JE - Acc Dep'!B35,#REF!,0),MATCH('JE - Acc Dep'!D35,#REF!,0)+3),"") -> #REF!
A36: =_xll.DBRA("RXLTM1:Account",D36,"ALIAS English") -> #NAME? | B36: 0324T_H | C36: =LEFT(B36,4) -> 0324 | D36: 1742 | E36: =LEFT(C36,4)&"2"&D36&"00" -> 03242174200 | F36: =IF(INDEX(#REF!,MATCH('JE - Acc Dep'!B36,#REF!,0),MATCH('JE - Acc Dep'!D36,#REF!,0)+3) < 0, -INDEX(#REF!,MATCH('JE - Acc Dep'!B36,#REF!,0),MATCH('JE - Acc Dep'!D36,#REF!,0)+3),"") -> #REF! | G36: =IF(INDEX(#REF!,MATCH('JE - Acc Dep'!B36,#REF!,0),MATCH('JE - Acc Dep'!D36,#REF!,0)+3) > 0, INDEX(#REF!,MATCH('JE - Acc Dep'!B36,#REF!,0),MATCH('JE - Acc Dep'!D36,#REF!,0)+3),"") -> #REF!
A37: =_xll.DBRA("RXLTM1:Account",D37,"ALIAS English") -> #NAME? | B37: 0325T_H | C37: =LEFT(B37,4) -> 0325 | D37: 1742 | E37: =LEFT(C37,4)&"2"&D37&"00" -> 03252174200 | F37: =IF(INDEX(#REF!,MATCH('JE - Acc Dep'!B37,#REF!,0),MATCH('JE - Acc Dep'!D37,#REF!,0)+3) < 0, -INDEX(#REF!,MATCH('JE - Acc Dep'!B37,#REF!,0),MATCH('JE - Acc Dep'!D37,#REF!,0)+3),"") -> #REF! | G37: =IF(INDEX(#REF!,MATCH('JE - Acc Dep'!B37,#REF!,0),MATCH('JE - Acc Dep'!D37,#REF!,0)+3) > 0, INDEX(#REF!,MATCH('JE - Acc Dep'!B37,#REF!,0),MATCH('JE - Acc Dep'!D37,#REF!,0)+3),"") -> #REF!
A38: =_xll.DBRA("RXLTM1:Account",D38,"ALIAS English") -> #NAME? | B38: 0326T_H | C38: =LEFT(B38,4) -> 0326 | D38: 1742 | E38: =LEFT(C38,4)&"2"&D38&"00" -> 03262174200 | F38: =IF(INDEX(#REF!,MATCH('JE - Acc Dep'!B38,#REF!,0),MATCH('JE - Acc Dep'!D38,#REF!,0)+3) < 0, -INDEX(#REF!,MATCH('JE - Acc Dep'!B38,#REF!,0),MATCH('JE - Acc Dep'!D38,#REF!,0)+3),"") -> #REF! | G38: =IF(INDEX(#REF!,MATCH('JE - Acc Dep'!B38,#REF!,0),MATCH('JE - Acc Dep'!D38,#REF!,0)+3) > 0, INDEX(#REF!,MATCH('JE - Acc Dep'!B38,#REF!,0),MATCH('JE - Acc Dep'!D38,#REF!,0)+3),"") -> #REF!
A39: =_xll.DBRA("RXLTM1:Account",D39,"ALIAS English") -> #NAME? | B39: 0328T_H | C39: =LEFT(B39,4) -> 0328 | D39: 1742 | E39: =LEFT(C39,4)&"2"&D39&"00" -> 03282174200 | F39: =IF(INDEX(#REF!,MATCH('JE - Acc Dep'!B39,#REF!,0),MATCH('JE - Acc Dep'!D39,#REF!,0)+3) < 0, -INDEX(#REF!,MATCH('JE - Acc Dep'!B39,#REF!,0),MATCH('JE - Acc Dep'!D39,#REF!,0)+3),"") -> #REF! | G39: =IF(INDEX(#REF!,MATCH('JE - Acc Dep'!B39,#REF!,0),MATCH('JE - Acc Dep'!D39,#REF!,0)+3) > 0, INDEX(#REF!,MATCH('JE - Acc Dep'!B39,#REF!,0),MATCH('JE - Acc Dep'!D39,#REF!,0)+3),"") -> #REF!
A40: =_xll.DBRA("RXLTM1:Account",D40,"ALIAS English") -> #NAME? | B40: 0329T | C40: =LEFT(B40,4) -> 0329 | D40: 1742 | E40: =LEFT(C40,4)&"2"&D40&"00" -> 03292174200 | F40: =IF(INDEX(#REF!,MATCH('JE - Acc Dep'!B40,#REF!,0),MATCH('JE - Acc Dep'!D40,#REF!,0)+3) < 0, -INDEX(#REF!,MATCH('JE - Acc Dep'!B40,#REF!,0),MATCH('JE - Acc Dep'!D40,#REF!,0)+3),"") -> #REF! | G40: =IF(INDEX(#REF!,MATCH('JE - Acc Dep'!B40,#REF!,0),MATCH('JE - Acc Dep'!D40,#REF!,0)+3) > 0, INDEX(#REF!,MATCH('JE - Acc Dep'!B40,#REF!,0),MATCH('JE - Acc Dep'!D40,#REF!,0)+3),"") -> #REF!
A41: =_xll.DBRA("RXLTM1:Account",D41,"ALIAS English") -> #NAME? | B41: 0330T | C41: =LEFT(B41,4) -> 0330 | D41: 1742 | E41: =LEFT(C41,4)&"2"&D41&"00" -> 03302174200 | F41: =IF(INDEX(#REF!,MATCH('JE - Acc Dep'!B41,#REF!,0),MATCH('JE - Acc Dep'!D41,#REF!,0)+3) < 0, -INDEX(#REF!,MATCH('JE - Acc Dep'!B41,#REF!,0),MATCH('JE - Acc Dep'!D41,#REF!,0)+3),"") -> #REF! | G41: =IF(INDEX(#REF!,MATCH('JE - Acc Dep'!B41,#REF!,0),MATCH('JE - Acc Dep'!D41,#REF!,0)+3) > 0, INDEX(#REF!,MATCH('JE - Acc Dep'!B41,#REF!,0),MATCH('JE - Acc Dep'!D41,#REF!,0)+3),"") -> #REF!
A43: =_xll.DBRA("RXLTM1:Account",D43,"ALIAS English") -> #NAME? | B43: 0301T_H | C43: =LEFT(B43,4) -> 0301 | D43: 1752 | E43: =LEFT(C43,4)&"2"&D43&"00" -> 03012175200 | F43: =IF(INDEX(#REF!,MATCH('JE - Acc Dep'!B43,#REF!,0),MATCH('JE - Acc Dep'!D43,#REF!,0)+3) < 0, -INDEX(#REF!,MATCH('JE - Acc Dep'!B43,#REF!,0),MATCH('JE - Acc Dep'!D43,#REF!,0)+3),"") -> #REF! | G43: =IF(INDEX(#REF!,MATCH('JE - Acc Dep'!B43,#REF!,0),MATCH('JE - Acc Dep'!D43,#REF!,0)+3) > 0, INDEX(#REF!,MATCH('JE - Acc Dep'!B43,#REF!,0),MATCH('JE - Acc Dep'!D43,#REF!,0)+3),"") -> #REF!
A44: =_xll.DBRA("RXLTM1:Account",D44,"ALIAS English") -> #NAME? | B44: 0302T_H | C44: =LEFT(B44,4) -> 0302 | D44: 1752 | E44: =LEFT(C44,4)&"2"&D44&"00" -> 03022175200 | F44: =IF(INDEX(#REF!,MATCH('JE - Acc Dep'!B44,#REF!,0),MATCH('JE - Acc Dep'!D44,#REF!,0)+3) < 0, -INDEX(#REF!,MATCH('JE - Acc Dep'!B44,#REF!,0),MATCH('JE - Acc Dep'!D44,#REF!,0)+3),"") -> #REF! | G44: =IF(INDEX(#REF!,MATCH('JE - Acc Dep'!B44,#REF!,0),MATCH('JE - Acc Dep'!D44,#REF!,0)+3) > 0, INDEX(#REF!,MATCH('JE - Acc Dep'!B44,#REF!,0),MATCH('JE - Acc Dep'!D44,#REF!,0)+3),"") -> #REF!
