Workbook
Name bengale_lance_décor: 'base de donnée JCO '!$AI$5:$AI$18
Name bombe_100mm: 'base de donnée JCO '!$H$5:$H$155
Name bombe_125mm: 'base de donnée JCO '!$I$5:$I$88
Name bombe_150mm: 'base de donnée JCO '!$J$5:$J$79
Name bombe_200mm: 'base de donnée JCO '!$K$5:$K$15
Name bombe_50mm: 'base de donnée JCO '!$F$5:$F$18
Name bombe_75mm: 'base de donnée JCO '!$G$5:$G$134
Name botte_de_chandelles: 'base de donnée JCO '!$M$5:$M$35
Name chandelle_20mm: 'base de donnée JCO '!$N$5:$N$9
Name chandelle_25mm: 'base de donnée JCO '!$O$5:$O$17
Name chandelle_30mm: 'base de donnée JCO '!$P$5:$P$40
Name chandelle_40mm: 'base de donnée JCO '!$Q$5:$Q$18
Name chandelle_45mm: 'base de donnée JCO '!$R$5:$R$24
Name chandelle_50mm: 'base de donnée JCO '!$S$5:$S$11
Name compact_19cps_30mm: 'base de donnée JCO '!$U$5:$U$29
Name compact_21cps_30mm: 'base de donnée JCO '!$V$5:$V$25
Name compact_25cps_30mm: 'base de donnée JCO '!$W$5:$W$7
Name compact_36cps_30mm: 'base de donnée JCO '!$X$5:$X$34
Name compact_49cps_30mm: 'base de donnée JCO '!$Y$5:$Y$30
Name compact_divers: 'base de donnée JCO '!$Z$5:$Z$42
Name date: 'plan de tir'!$C$11:$G$11
Name entete: 'base de donnée JCO '!$C$14:$C$20
Name Fontaine_jet: 'base de donnée JCO '!$AH$5:$AH$24
Name incli: 'base de donnée JCO '!$C$24:$C$29
Name mono_coup_20mm: 'base de donnée JCO '!$AD$5:$AD$13
Name mono_coup_30mm: 'base de donnée JCO '!$AE$5:$AE$29
Name mono_coup_45mm: 'base de donnée JCO '!$AF$5:$AF$32
Name pyroshow: 'base de donnée JCO '!$AA$5:$AA$22
Name rangée_30mm: 'base de donnée JCO '!$AB$5:$AB$33
Name régie: 'base de donnée JCO '!$C$37:$C$39
Name theme: 'plan de tir'!$C$7:$G$7
Name TR: 'base de donnée JCO '!$C$3:$C$13
Name type: 'base de donnée JCO '!$F$4:$AI$4
Name TYPE_PRODUITS: stat!#REF!
Name TYPE_PRODUITS: 'plan de tir'!#REF!
Name Vieilles_Charrues: 'sortie de stock'!$B$4:$C$4='plan de tir'!$C$3+'sortie de stock'!$B$4:$C$4

Sheet plan de tir
A3: Ville: | C3: test | I3: DS MAX :
A7: Thème: | C7: Meddley Bowie | I7: Calibre MAX : | J7: 150 mm
A11: Date: | C11: 42565 | I11: Durée : | J11: 5'
A14: LIGNE | B14: SEQ | C14: x | D14: TIME | E14: x | F14: Poste | G14: QTE | H14: x | I14: Famille | J14: PYROTECHNIE | K14: Montage | L14: en tete | N14: Durée | O14: Fin | Q14: Implantation | V14: prix | W14: qte | X14: pyro | Z14: caisse de 10 b 50 mm | AA14: envolée de 5 b 50 mm | AB14: mortiers 50 uni | AD14: mortiers 75 uni | AE14: caisse de 5 b 75 | AF14: caisse de 10 b 75 | AG14: envolée de 3 b 75 | AH14: envolée de 7 b 75 | AJ14: mortiers 100 uni | AK14: caisse de 5 b 100 | AL14: envolée de 3 b 100 | AM14: envolée de 5 b 100 | AO14: mortiers 125 uni | AP14: caisse de 5 b 125 | AQ14: envolée de 3 b 125 | AS14: mortiers 150 uni | AT14: caisse de 4 b 150 | AU14: envolée de 3 b 150 | AW14: mortiers 200 uni | AY14: trad | AZ14: V40 | BA14: XL3
A16: 1 | D16: 2.3148148e-05 | F16: 1 | G16: 1 | I16: bombe_75mm | J16: Planète multicolore | K16: I | N16: =IF(ISBLANK(I16),"",IF(COUNTIF(I16,"*bombe*"),(G16-1)*SUMIF('base de donnée JCO '!C$3:C$10,K16,'base de donnée JCO '!D$3:D$10)+SUMIF(entete,L16,'base de donnée JCO '!D$14:D$20),SUMIFS('base de donnée JCO '!I$173:I$1080,'base de donnée JCO '!F$173:F$1080,I16,'base de donnée JCO '!G$173:G$1080,J16))) -> 0 | O16: =IF(ISBLANK(I16),"",IF(ISBLANK(D16),#REF!+N16,D16+N16)) -> 2.3148148e-05 | V16: =W16*SUMIFS('base de donnée JCO '!H$173:H$1080,'base de donnée JCO '!F$173:F$1080,I16,'base de donnée JCO '!G$173:G$1080,J16) -> 0 | W16: =F16*G16 -> 1 | X16: =W16*SUMIFS('base de donnée JCO '!J$173:J$1080,'base de donnée JCO '!F$173:F$1080,I16,'base de donnée JCO '!G$173:G$1080,J16) -> 0 | Z16: =IF(ISBLANK(I16),"",IF(COUNTIF(I16,"*BOMBE_50MM*"),IF(COUNTIF(K16,"*TR*"),IF(G16>=6,F16*1,0.5*F16),""),"")) | AA16: =IF(ISBLANK(I16),"",IF(COUNTIF(I16,"*BOMBE_50MM*"),IF(COUNTIF(K16,"*\*"),IF(G16>1,F16*1,""),""),"")) | AB16: =IF(ISBLANK(I16),"",IF(COUNTIF(I16,"*BOMBE_50MM*"),IF(G16=1,F16,""),"")) | AD16: =IF(ISBLANK(I16),"",IF(COUNTIF(I16,"*BOMBE_75MM*"),IF(G16=1,F16,""),"")) -> 1 | AE16: =IF(ISBLANK(I16),"",IF(COUNTIF(I16,"*BOMBE_75MM*"),IF(COUNTIF(K16,"*TR*"),IF(G16<=5,F16,""),""),"")) | AF16: =IF(ISBLANK(I16),"",IF(COUNTIF(I16,"*BOMBE_75MM*"),IF(COUNTIF(K16,"*TR*"),IF(G16>5,F16,""),""),"")) | AG16: =IF(ISBLANK(I16),"",IF(COUNTIF(I16,"*BOMBE_75MM*"),IF(COUNTIF(K16,"*\*"),IF(AND(G16<=3,G16>=2),F16,""),""),"")) | AH16: =IF(ISBLANK(I16),"",IF(COUNTIF(I16,"*BOMBE_75MM*"),IF(COUNTIF(K16,"*\*"),IF(AND(G16<=7,G16>=4),F16,""),""),"")) | AJ16: =IF(ISBLANK(I16),"",IF(COUNTIF(I16,"*BOMBE_100MM*"),IF(G16=1,F16,""),"")) | AK16: =IF(ISBLANK(I16),"",IF(COUNTIF(I16,"*BOMBE_100MM*"),IF(COUNTIF(K16,"*TR*"),IF(G16<=5,F16,F16*2),""),"")) | AL16: =IF(ISBLANK(I16),"",IF(COUNTIF(I16,"*BOMBE_100MM*"),IF(COUNTIF(K16,"*\*"),IF(AND(G16<=3,G16>=2),F16,""),""),"")) | AM16: =IF(ISBLANK(I16),"",IF(COUNTIF(I16,"*BOMBE_100MM*"),IF(COUNTIF(K16,"*\*"),IF(AND(G16<=5,G16>=4),F16,""),""),"")) | AO16: =IF(ISBLANK(I16),"",IF(COUNTIF(I16,"*BOMBE_125MM*"),IF(G16=1,F16,""),"")) | AP16: =IF(ISBLANK(I16),"",IF(COUNTIF(I16,"*BOMBE_125MM*"),IF(COUNTIF(K16,"*TR*"),IF(G16<=5,F16,""),""),"")) | AQ16: =IF(ISBLANK(I16),"",IF(COUNTIF(I16,"*BOMBE_125MM*"),IF(COUNTIF(K16,"*\*"),IF(AND(G16<=3,G16>=2),F16,""),""),"")) | AS16: =IF(ISBLANK(I16),"",IF(COUNTIF(I16,"*BOMBE_150MM*"),IF(G16=1,F16,""),"")) | AT16: =IF(ISBLANK(I16),"",IF(COUNTIF(I16,"*BOMBE_150MM*"),IF(COUNTIF(K16,"*TR*"),IF(G16<=4,F16,""),""),"")) | AU16: =IF(ISBLANK(I16),"",IF(COUNTIF(I16,"*BOMBE_150MM*"),IF(COUNTIF(K16,"*\*"),IF(AND(G16<=3,G16>=2),F16,""),""),"")) | AW16: =IF(ISBLANK(I16),"",IF(COUNTIF(I16,"*BOMBE_200MM*"),F16*G16,"")) | AY16: =IF(ISBLANK(I16),"",IF(COUNTIF(I16,"*BOMBE_*"),F16*20,F16*15)) -> 20 | AZ16: =IF(ISBLANK(I16),"",IF(COUNTIF(I16,"*BOMBE_*"),F16*15,F16*10)) -> 15 | BA16: =IF(ISBLANK(I16),"",IF(COUNTIF(I16,"*BOMBE_*"),F16*10,F16*5)) -> 10
J17: Musique 1 | V17: =W17*SUMIFS('base de donnée JCO '!H$173:H$1080,'base de donnée JCO '!F$173:F$1080,I17,'base de donnée JCO '!G$173:G$1080,J17) -> 0 | W17: =F17*G17 -> 0 | X17: =W17*SUMIFS('base de donnée JCO '!J$173:J$1080,'base de donnée JCO '!F$173:F$1080,I17,'base de donnée JCO '!G$173:G$1080,J17) -> 0 | Z17: =IF(ISBLANK(I17),"",IF(COUNTIF(I17,"*BOMBE_50MM*"),IF(COUNTIF(K17,"*TR*"),IF(G17>=6,F17*1,0.5*F17),""),"")) | AA17: =IF(ISBLANK(I17),"",IF(COUNTIF(I17,"*BOMBE_50MM*"),IF(COUNTIF(K17,"*\*"),IF(G17>1,F17*1,""),""),"")) | AB17: =IF(ISBLANK(I17),"",IF(COUNTIF(I17,"*BOMBE_50MM*"),IF(G17=1,F17,""),"")) | AD17: =IF(ISBLANK(I17),"",IF(COUNTIF(I17,"*BOMBE_75MM*"),IF(G17=1,F17,""),"")) | AE17: =IF(ISBLANK(I17),"",IF(COUNTIF(I17,"*BOMBE_75MM*"),IF(COUNTIF(K17,"*TR*"),IF(G17<=5,F17,""),""),"")) | AF17: =IF(ISBLANK(I17),"",IF(COUNTIF(I17,"*BOMBE_75MM*"),IF(COUNTIF(K17,"*TR*"),IF(G17>5,F17,""),""),"")) | AG17: =IF(ISBLANK(I17),"",IF(COUNTIF(I17,"*BOMBE_75MM*"),IF(COUNTIF(K17,"*\*"),IF(AND(G17<=3,G17>=2),F17,""),""),"")) | AH17: =IF(ISBLANK(I17),"",IF(COUNTIF(I17,"*BOMBE_75MM*"),IF(COUNTIF(K17,"*\*"),IF(AND(G17<=7,G17>=4),F17,""),""),"")) | AJ17: =IF(ISBLANK(I17),"",IF(COUNTIF(I17,"*BOMBE_100MM*"),IF(G17=1,F17,""),"")) | AK17: =IF(ISBLANK(I17),"",IF(COUNTIF(I17,"*BOMBE_100MM*"),IF(COUNTIF(K17,"*TR*"),IF(G17<=5,F17,F17*2),""),"")) | AL17: =IF(ISBLANK(I17),"",IF(COUNTIF(I17,"*BOMBE_100MM*"),IF(COUNTIF(K17,"*\*"),IF(AND(G17<=3,G17>=2),F17,""),""),"")) | AM17: =IF(ISBLANK(I17),"",IF(COUNTIF(I17,"*BOMBE_100MM*"),IF(COUNTIF(K17,"*\*"),IF(AND(G17<=5,G17>=4),F17,""),""),"")) | AO17: =IF(ISBLANK(I17),"",IF(COUNTIF(I17,"*BOMBE_125MM*"),IF(G17=1,F17,""),"")) | AP17: =IF(ISBLANK(I17),"",IF(COUNTIF(I17,"*BOMBE_125MM*"),IF(COUNTIF(K17,"*TR*"),IF(G17<=5,F17,""),""),"")) | AQ17: =IF(ISBLANK(I17),"",IF(COUNTIF(I17,"*BOMBE_125MM*"),IF(COUNTIF(K17,"*\*"),IF(AND(G17<=3,G17>=2),F17,""),""),"")) | AS17: =IF(ISBLANK(I17),"",IF(COUNTIF(I17,"*BOMBE_150MM*"),IF(G17=1,F17,""),"")) | AT17: =IF(ISBLANK(I17),"",IF(COUNTIF(I17,"*BOMBE_150MM*"),IF(COUNTIF(K17,"*TR*"),IF(G17<=4,F17,""),""),"")) | AU17: =IF(ISBLANK(I17),"",IF(COUNTIF(I17,"*BOMBE_150MM*"),IF(COUNTIF(K17,"*\*"),IF(AND(G17<=3,G17>=2),F17,""),""),"")) | AW17: =IF(ISBLANK(I17),"",IF(COUNTIF(I17,"*BOMBE_200MM*"),F17*G17,"")) | AY17: =IF(ISBLANK(I17),"",IF(COUNTIF(I17,"*BOMBE_*"),F17*20,F17*15)) | AZ17: =IF(ISBLANK(I17),"",IF(COUNTIF(I17,"*BOMBE_*"),F17*15,F17*10)) | BA17: =IF(ISBLANK(I17),"",IF(COUNTIF(I17,"*BOMBE_*"),F17*10,F17*5))
A18: 2 | D18: 0.0006712963 | F18: 1 | G18: 7 | I18: rangée_30mm | J18: 9 serpentins / com violet UP | K18: \ / | L18: 10''T | N18: =IF(ISBLANK(I18),"",IF(COUNTIF(I18,"*bombe*"),(G18-1)*SUMIF('base de donnée JCO '!C$3:C$10,K18,'base de donnée JCO '!D$3:D$10)+SUMIF(entete,L18,'base de donnée JCO '!D$14:D$20),SUMIFS('base de donnée JCO '!I$173:I$1080,'base de donnée JCO '!F$173:F$1080,I18,'base de donnée JCO '!G$173:G$1080,J18))) -> 0 | O18: =IF(ISBLANK(I18),"",IF(ISBLANK(D18),D17+N18,D18+N18)) -> 0.0006712963 | V18: =W18*SUMIFS('base de donnée JCO '!H$173:H$1080,'base de donnée JCO '!F$173:F$1080,I18,'base de donnée JCO '!G$173:G$1080,J18) -> 0 | W18: =F18*G18 -> 7 | X18: =W18*SUMIFS('base de donnée JCO '!J$173:J$1080,'base de donnée JCO '!F$173:F$1080,I18,'base de donnée JCO '!G$173:G$1080,J18) -> 0 | Z18: =IF(ISBLANK(I18),"",IF(COUNTIF(I18,"*BOMBE_50MM*"),IF(COUNTIF(K18,"*TR*"),IF(G18>=6,F18*1,0.5*F18),""),"")) | AA18: =IF(ISBLANK(I18),"",IF(COUNTIF(I18,"*BOMBE_50MM*"),IF(COUNTIF(K18,"*\*"),IF(G18>1,F18*1,""),""),"")) | AB18: =IF(ISBLANK(I18),"",IF(COUNTIF(I18,"*BOMBE_50MM*"),IF(G18=1,F18,""),"")) | AD18: =IF(ISBLANK(I18),"",IF(COUNTIF(I18,"*BOMBE_75MM*"),IF(G18=1,F18,""),"")) | AE18: =IF(ISBLANK(I18),"",IF(COUNTIF(I18,"*BOMBE_75MM*"),IF(COUNTIF(K18,"*TR*"),IF(G18<=5,F18,""),""),"")) | AF18: =IF(ISBLANK(I18),"",IF(COUNTIF(I18,"*BOMBE_75MM*"),IF(COUNTIF(K18,"*TR*"),IF(G18>5,F18,""),""),"")) | AG18: =IF(ISBLANK(I18),"",IF(COUNTIF(I18,"*BOMBE_75MM*"),IF(COUNTIF(K18,"*\*"),IF(AND(G18<=3,G18>=2),F18,""),""),"")) | AH18: =IF(ISBLANK(I18),"",IF(COUNTIF(I18,"*BOMBE_75MM*"),IF(COUNTIF(K18,"*\*"),IF(AND(G18<=7,G18>=4),F18,""),""),"")) | AJ18: =IF(ISBLANK(I18),"",IF(COUNTIF(I18,"*BOMBE_100MM*"),IF(G18=1,F18,""),"")) | AK18: =IF(ISBLANK(I18),"",IF(COUNTIF(I18,"*BOMBE_100MM*"),IF(COUNTIF(K18,"*TR*"),IF(G18<=5,F18,F18*2),""),"")) | AL18: =IF(ISBLANK(I18),"",IF(COUNTIF(I18,"*BOMBE_100MM*"),IF(COUNTIF(K18,"*\*"),IF(AND(G18<=3,G18>=2),F18,""),""),"")) | AM18: =IF(ISBLANK(I18),"",IF(COUNTIF(I18,"*BOMBE_100MM*"),IF(COUNTIF(K18,"*\*"),IF(AND(G18<=5,G18>=4),F18,""),""),"")) | AO18: =IF(ISBLANK(I18),"",IF(COUNTIF(I18,"*BOMBE_125MM*"),IF(G18=1,F18,""),"")) | AP18: =IF(ISBLANK(I18),"",IF(COUNTIF(I18,"*BOMBE_125MM*"),IF(COUNTIF(K18,"*TR*"),IF(G18<=5,F18,""),""),"")) | AQ18: =IF(ISBLANK(I18),"",IF(COUNTIF(I18,"*BOMBE_125MM*"),IF(COUNTIF(K18,"*\*"),IF(AND(G18<=3,G18>=2),F18,""),""),"")) | AS18: =IF(ISBLANK(I18),"",IF(COUNTIF(I18,"*BOMBE_150MM*"),IF(G18=1,F18,""),"")) | AT18: =IF(ISBLANK(I18),"",IF(COUNTIF(I18,"*BOMBE_150MM*"),IF(COUNTIF(K18,"*TR*"),IF(G18<=4,F18,""),""),"")) | AU18: =IF(ISBLANK(I18),"",IF(COUNTIF(I18,"*BOMBE_150MM*"),IF(COUNTIF(K18,"*\*"),IF(AND(G18<=3,G18>=2),F18,""),""),"")) | AW18: =IF(ISBLANK(I18),"",IF(COUNTIF(I18,"*BOMBE_200MM*"),F18*G18,"")) | AY18: =IF(ISBLANK(I18),"",IF(COUNTIF(I18,"*BOMBE_*"),F18*20,F18*15)) -> 15 | AZ18: =IF(ISBLANK(I18),"",IF(COUNTIF(I18,"*BOMBE_*"),F18*15,F18*10)) -> 10 | BA18: =IF(ISBLANK(I18),"",IF(COUNTIF(I18,"*BOMBE_*"),F18*10,F18*5)) -> 5
A19: 199 | D19: 0.0006712963 | F19: 10 | G19: 1 | I19: bombe_75mm | J19: Phénomène bleu | K19: \ I / | L19: 2''T | N19: =IF(ISBLANK(I19),"",IF(COUNTIF(I19,"*bombe*"),(G19-1)*SUMIF('base de donnée JCO '!C$3:C$10,K19,'base de donnée JCO '!D$3:D$10)+SUMIF(entete,L19,'base de donnée JCO '!D$14:D$20),SUMIFS('base de donnée JCO '!I$173:I$1080,'base de donnée JCO '!F$173:F$1080,I19,'base de donnée JCO '!G$173:G$1080,J19))) -> 2.0000231 | O19: =IF(ISBLANK(I19),"",IF(ISBLANK(D19),D18+N19,D19+N19)) -> 2.0006944 | V19: =W19*SUMIFS('base de donnée JCO '!H$173:H$1080,'base de donnée JCO '!F$173:F$1080,I19,'base de donnée JCO '!G$173:G$1080,J19) -> 0 | W19: =F19*G19 -> 10 | X19: =W19*SUMIFS('base de donnée JCO '!J$173:J$1080,'base de donnée JCO '!F$173:F$1080,I19,'base de donnée JCO '!G$173:G$1080,J19) -> 0 | Z19: =IF(ISBLANK(I19),"",IF(COUNTIF(I19,"*BOMBE_50MM*"),IF(COUNTIF(K19,"*TR*"),IF(G19>=6,F19*1,0.5*F19),""),"")) | AA19: =IF(ISBLANK(I19),"",IF(COUNTIF(I19,"*BOMBE_50MM*"),IF(COUNTIF(K19,"*\*"),IF(G19>1,F19*1,""),""),"")) | AB19: =IF(ISBLANK(I19),"",IF(COUNTIF(I19,"*BOMBE_50MM*"),IF(G19=1,F19,""),"")) | AD19: =IF(ISBLANK(I19),"",IF(COUNTIF(I19,"*BOMBE_75MM*"),IF(G19=1,F19,""),"")) -> 10 | AE19: =IF(ISBLANK(I19),"",IF(COUNTIF(I19,"*BOMBE_75MM*"),IF(COUNTIF(K19,"*TR*"),IF(G19<=5,F19,""),""),"")) | AF19: =IF(ISBLANK(I19),"",IF(COUNTIF(I19,"*BOMBE_75MM*"),IF(COUNTIF(K19,"*TR*"),IF(G19>5,F19,""),""),"")) | AG19: =IF(ISBLANK(I19),"",IF(COUNTIF(I19,"*BOMBE_75MM*"),IF(COUNTIF(K19,"*\*"),IF(AND(G19<=3,G19>=2),F19,""),""),"")) | AH19: =IF(ISBLANK(I19),"",IF(COUNTIF(I19,"*BOMBE_75MM*"),IF(COUNTIF(K19,"*\*"),IF(AND(G19<=7,G19>=4),F19,""),""),"")) | AJ19: =IF(ISBLANK(I19),"",IF(COUNTIF(I19,"*BOMBE_100MM*"),IF(G19=1,F19,""),"")) | AK19: =IF(ISBLANK(I19),"",IF(COUNTIF(I19,"*BOMBE_100MM*"),IF(COUNTIF(K19,"*TR*"),IF(G19<=5,F19,F19*2),""),"")) | AL19: =IF(ISBLANK(I19),"",IF(COUNTIF(I19,"*BOMBE_100MM*"),IF(COUNTIF(K19,"*\*"),IF(AND(G19<=3,G19>=2),F19,""),""),"")) | AM19: =IF(ISBLANK(I19),"",IF(COUNTIF(I19,"*BOMBE_100MM*"),IF(COUNTIF(K19,"*\*"),IF(AND(G19<=5,G19>=4),F19,""),""),"")) | AO19: =IF(ISBLANK(I19),"",IF(COUNTIF(I19,"*BOMBE_125MM*"),IF(G19=1,F19,""),"")) | AP19: =IF(ISBLANK(I19),"",IF(COUNTIF(I19,"*BOMBE_125MM*"),IF(COUNTIF(K19,"*TR*"),IF(G19<=5,F19,""),""),"")) | AQ19: =IF(ISBLANK(I19),"",IF(COUNTIF(I19,"*BOMBE_125MM*"),IF(COUNTIF(K19,"*\*"),IF(AND(G19<=3,G19>=2),F19,""),""),"")) | AS19: =IF(ISBLANK(I19),"",IF(COUNTIF(I19,"*BOMBE_150MM*"),IF(G19=1,F19,""),"")) | AT19: =IF(ISBLANK(I19),"",IF(COUNTIF(I19,"*BOMBE_150MM*"),IF(COUNTIF(K19,"*TR*"),IF(G19<=4,F19,""),""),"")) | AU19: =IF(ISBLANK(I19),"",IF(COUNTIF(I19,"*BOMBE_150MM*"),IF(COUNTIF(K19,"*\*"),IF(AND(G19<=3,G19>=2),F19,""),""),"")) | AW19: =IF(ISBLANK(I19),"",IF(COUNTIF(I19,"*BOMBE_200MM*"),F19*G19,"")) | AY19: =IF(ISBLANK(I19),"",IF(COUNTIF(I19,"*BOMBE_*"),F19*20,F19*15)) -> 200 | AZ19: =IF(ISBLANK(I19),"",IF(COUNTIF(I19,"*BOMBE_*"),F19*15,F19*10)) -> 150 | BA19: =IF(ISBLANK(I19),"",IF(COUNTIF(I19,"*BOMBE_*"),F19*10,F19*5)) -> 100
N20: =IF(ISBLANK(I20),"",IF(COUNTIF(I20,"*bombe*"),(G20-1)*SUMIF('base de donnée JCO '!C$3:C$10,K20,'base de donnée JCO '!D$3:D$10)+SUMIF(entete,L20,'base de donnée JCO '!D$14:D$20),SUMIFS('base de donnée JCO '!I$173:I$1080,'base de donnée JCO '!F$173:F$1080,I20,'base de donnée JCO '!G$173:G$1080,J20))) | O20: =IF(ISBLANK(I20),"",IF(ISBLANK(D20),D19+N20,D20+N20)) | S20: fen | V20: =W20*SUMIFS('base de donnée JCO '!H$173:H$1080,'base de donnée JCO '!F$173:F$1080,I20,'base de donnée JCO '!G$173:G$1080,J20) -> 0 | W20: =F20*G20 -> 0 | X20: =W20*SUMIFS('base de donnée JCO '!J$173:J$1080,'base de donnée JCO '!F$173:F$1080,I20,'base de donnée JCO '!G$173:G$1080,J20) -> 0 | Z20: =IF(ISBLANK(I20),"",IF(COUNTIF(I20,"*BOMBE_50MM*"),IF(COUNTIF(K20,"*TR*"),IF(G20>=6,F20*1,0.5*F20),""),"")) | AA20: =IF(ISBLANK(I20),"",IF(COUNTIF(I20,"*BOMBE_50MM*"),IF(COUNTIF(K20,"*\*"),IF(G20>1,F20*1,""),""),"")) | AB20: =IF(ISBLANK(I20),"",IF(COUNTIF(I20,"*BOMBE_50MM*"),IF(G20=1,F20,""),"")) | AD20: =IF(ISBLANK(I20),"",IF(COUNTIF(I20,"*BOMBE_75MM*"),IF(G20=1,F20,""),"")) | AE20: =IF(ISBLANK(I20),"",IF(COUNTIF(I20,"*BOMBE_75MM*"),IF(COUNTIF(K20,"*TR*"),IF(G20<=5,F20,""),""),"")) | AF20: =IF(ISBLANK(I20),"",IF(COUNTIF(I20,"*BOMBE_75MM*"),IF(COUNTIF(K20,"*TR*"),IF(G20>5,F20,""),""),"")) | AG20: =IF(ISBLANK(I20),"",IF(COUNTIF(I20,"*BOMBE_75MM*"),IF(COUNTIF(K20,"*\*"),IF(AND(G20<=3,G20>=2),F20,""),""),"")) | AH20: =IF(ISBLANK(I20),"",IF(COUNTIF(I20,"*BOMBE_75MM*"),IF(COUNTIF(K20,"*\*"),IF(AND(G20<=7,G20>=4),F20,""),""),"")) | AJ20: =IF(ISBLANK(I20),"",IF(COUNTIF(I20,"*BOMBE_100MM*"),IF(G20=1,F20,""),"")) | AK20: =IF(ISBLANK(I20),"",IF(COUNTIF(I20,"*BOMBE_100MM*"),IF(COUNTIF(K20,"*TR*"),IF(G20<=5,F20,F20*2),""),"")) | AL20: =IF(ISBLANK(I20),"",IF(COUNTIF(I20,"*BOMBE_100MM*"),IF(COUNTIF(K20,"*\*"),IF(AND(G20<=3,G20>=2),F20,""),""),"")) | AM20: =IF(ISBLANK(I20),"",IF(COUNTIF(I20,"*BOMBE_100MM*"),IF(COUNTIF(K20,"*\*"),IF(AND(G20<=5,G20>=4),F20,""),""),"")) | AO20: =IF(ISBLANK(I20),"",IF(COUNTIF(I20,"*BOMBE_125MM*"),IF(G20=1,F20,""),"")) | AP20: =IF(ISBLANK(I20),"",IF(COUNTIF(I20,"*BOMBE_125MM*"),IF(COUNTIF(K20,"*TR*"),IF(G20<=5,F20,""),""),"")) | AQ20: =IF(ISBLANK(I20),"",IF(COUNTIF(I20,"*BOMBE_125MM*"),IF(COUNTIF(K20,"*\*"),IF(AND(G20<=3,G20>=2),F20,""),""),"")) | AS20: =IF(ISBLANK(I20),"",IF(COUNTIF(I20,"*BOMBE_150MM*"),IF(G20=1,F20,""),"")) | AT20: =IF(ISBLANK(I20),"",IF(COUNTIF(I20,"*BOMBE_150MM*"),IF(COUNTIF(K20,"*TR*"),IF(G20<=4,F20,""),""),"")) | AU20: =IF(ISBLANK(I20),"",IF(COUNTIF(I20,"*BOMBE_150MM*"),IF(COUNTIF(K20,"*\*"),IF(AND(G20<=3,G20>=2),F20,""),""),"")) | AW20: =IF(ISBLANK(I20),"",IF(COUNTIF(I20,"*BOMBE_200MM*"),F20*G20,"")) | AY20: =IF(ISBLANK(I20),"",IF(COUNTIF(I20,"*BOMBE_*"),F20*20,F20*15)) | AZ20: =IF(ISBLANK(I20),"",IF(COUNTIF(I20,"*BOMBE_*"),F20*15,F20*10)) | BA20: =IF(ISBLANK(I20),"",IF(COUNTIF(I20,"*BOMBE_*"),F20*10,F20*5))
N21: =IF(ISBLANK(I21),"",IF(COUNTIF(I21,"*bombe*"),(G21-1)*SUMIF('base de donnée JCO '!C$3:C$10,K21,'base de donnée JCO '!D$3:D$10)+SUMIF(entete,L21,'base de donnée JCO '!D$14:D$20),SUMIFS('base de donnée JCO '!I$173:I$1080,'base de donnée JCO '!F$173:F$1080,I21,'base de donnée JCO '!G$173:G$1080,J21))) | O21: =IF(ISBLANK(I21),"",IF(ISBLANK(D21),#REF!+N21,D21+N21)) | V21: =W21*SUMIFS('base de donnée JCO '!H$173:H$1080,'base de donnée JCO '!F$173:F$1080,I21,'base de donnée JCO '!G$173:G$1080,J21) -> 0 | W21: =F21*G21 -> 0 | X21: =W21*SUMIFS('base de donnée JCO '!J$173:J$1080,'base de donnée JCO '!F$173:F$1080,I21,'base de donnée JCO '!G$173:G$1080,J21) -> 0 | Z21: =IF(ISBLANK(I21),"",IF(COUNTIF(I21,"*BOMBE_50MM*"),IF(COUNTIF(K21,"*TR*"),IF(G21>=6,F21*1,0.5*F21),""),"")) | AA21: =IF(ISBLANK(I21),"",IF(COUNTIF(I21,"*BOMBE_50MM*"),IF(COUNTIF(K21,"*\*"),IF(G21>1,F21*1,""),""),"")) | AB21: =IF(ISBLANK(I21),"",IF(COUNTIF(I21,"*BOMBE_50MM*"),IF(G21=1,F21,""),"")) | AD21: =IF(ISBLANK(I21),"",IF(COUNTIF(I21,"*BOMBE_75MM*"),IF(G21=1,F21,""),"")) | AE21: =IF(ISBLANK(I21),"",IF(COUNTIF(I21,"*BOMBE_75MM*"),IF(COUNTIF(K21,"*TR*"),IF(G21<=5,F21,""),""),"")) | AF21: =IF(ISBLANK(I21),"",IF(COUNTIF(I21,"*BOMBE_75MM*"),IF(COUNTIF(K21,"*TR*"),IF(G21>5,F21,""),""),"")) | AG21: =IF(ISBLANK(I21),"",IF(COUNTIF(I21,"*BOMBE_75MM*"),IF(COUNTIF(K21,"*\*"),IF(AND(G21<=3,G21>=2),F21,""),""),"")) | AH21: =IF(ISBLANK(I21),"",IF(COUNTIF(I21,"*BOMBE_75MM*"),IF(COUNTIF(K21,"*\*"),IF(AND(G21<=7,G21>=4),F21,""),""),"")) | AJ21: =IF(ISBLANK(I21),"",IF(COUNTIF(I21,"*BOMBE_100MM*"),IF(G21=1,F21,""),"")) | AK21: =IF(ISBLANK(I21),"",IF(COUNTIF(I21,"*BOMBE_100MM*"),IF(COUNTIF(K21,"*TR*"),IF(G21<=5,F21,F21*2),""),"")) | AL21: =IF(ISBLANK(I21),"",IF(COUNTIF(I21,"*BOMBE_100MM*"),IF(COUNTIF(K21,"*\*"),IF(AND(G21<=3,G21>=2),F21,""),""),"")) | AM21: =IF(ISBLANK(I21),"",IF(COUNTIF(I21,"*BOMBE_100MM*"),IF(COUNTIF(K21,"*\*"),IF(AND(G21<=5,G21>=4),F21,""),""),"")) | AO21: =IF(ISBLANK(I21),"",IF(COUNTIF(I21,"*BOMBE_125MM*"),IF(G21=1,F21,""),"")) | AP21: =IF(ISBLANK(I21),"",IF(COUNTIF(I21,"*BOMBE_125MM*"),IF(COUNTIF(K21,"*TR*"),IF(G21<=5,F21,""),""),"")) | AQ21: =IF(ISBLANK(I21),"",IF(COUNTIF(I21,"*BOMBE_125MM*"),IF(COUNTIF(K21,"*\*"),IF(AND(G21<=3,G21>=2),F21,""),""),"")) | AS21: =IF(ISBLANK(I21),"",IF(COUNTIF(I21,"*BOMBE_150MM*"),IF(G21=1,F21,""),"")) | AT21: =IF(ISBLANK(I21),"",IF(COUNTIF(I21,"*BOMBE_150MM*"),IF(COUNTIF(K21,"*TR*"),IF(G21<=4,F21,""),""),"")) | AU21: =IF(ISBLANK(I21),"",IF(COUNTIF(I21,"*BOMBE_150MM*"),IF(COUNTIF(K21,"*\*"),IF(AND(G21<=3,G21>=2),F21,""),""),"")) | AW21: =IF(ISBLANK(I21),"",IF(COUNTIF(I21,"*BOMBE_200MM*"),F21*G21,"")) | AY21: =IF(ISBLANK(I21),"",IF(COUNTIF(I21,"*BOMBE_*"),F21*20,F21*15)) | AZ21: =IF(ISBLANK(I21),"",IF(COUNTIF(I21,"*BOMBE_*"),F21*15,F21*10)) | BA21: =IF(ISBLANK(I21),"",IF(COUNTIF(I21,"*BOMBE_*"),F21*10,F21*5))
N22: =IF(ISBLANK(I22),"",IF(COUNTIF(I22,"*bombe*"),(G22-1)*SUMIF('base de donnée JCO '!C$3:C$10,K22,'base de donnée JCO '!D$3:D$10)+SUMIF(entete,L22,'base de donnée JCO '!D$14:D$20),SUMIFS('base de donnée JCO '!I$173:I$1080,'base de donnée JCO '!F$173:F$1080,I22,'base de donnée JCO '!G$173:G$1080,J22))) | O22: =IF(ISBLANK(I22),"",IF(ISBLANK(D22),D21+N22,D22+N22)) | Q22: X | U22: X | V22: =W22*SUMIFS('base de donnée JCO '!H$173:H$1080,'base de donnée JCO '!F$173:F$1080,I22,'base de donnée JCO '!G$173:G$1080,J22) -> 0 | W22: =F22*G22 -> 0 | X22: =W22*SUMIFS('base de donnée JCO '!J$173:J$1080,'base de donnée JCO '!F$173:F$1080,I22,'base de donnée JCO '!G$173:G$1080,J22) -> 0 | Z22: =IF(ISBLANK(I22),"",IF(COUNTIF(I22,"*BOMBE_50MM*"),IF(COUNTIF(K22,"*TR*"),IF(G22>=6,F22*1,0.5*F22),""),"")) | AA22: =IF(ISBLANK(I22),"",IF(COUNTIF(I22,"*BOMBE_50MM*"),IF(COUNTIF(K22,"*\*"),IF(G22>1,F22*1,""),""),"")) | AB22: =IF(ISBLANK(I22),"",IF(COUNTIF(I22,"*BOMBE_50MM*"),IF(G22=1,F22,""),"")) | AD22: =IF(ISBLANK(I22),"",IF(COUNTIF(I22,"*BOMBE_75MM*"),IF(G22=1,F22,""),"")) | AE22: =IF(ISBLANK(I22),"",IF(COUNTIF(I22,"*BOMBE_75MM*"),IF(COUNTIF(K22,"*TR*"),IF(G22<=5,F22,""),""),"")) | AF22: =IF(ISBLANK(I22),"",IF(COUNTIF(I22,"*BOMBE_75MM*"),IF(COUNTIF(K22,"*TR*"),IF(G22>5,F22,""),""),"")) | AG22: =IF(ISBLANK(I22),"",IF(COUNTIF(I22,"*BOMBE_75MM*"),IF(COUNTIF(K22,"*\*"),IF(AND(G22<=3,G22>=2),F22,""),""),"")) | AH22: =IF(ISBLANK(I22),"",IF(COUNTIF(I22,"*BOMBE_75MM*"),IF(COUNTIF(K22,"*\*"),IF(AND(G22<=7,G22>=4),F22,""),""),"")) | AJ22: =IF(ISBLANK(I22),"",IF(COUNTIF(I22,"*BOMBE_100MM*"),IF(G22=1,F22,""),"")) | AK22: =IF(ISBLANK(I22),"",IF(COUNTIF(I22,"*BOMBE_100MM*"),IF(COUNTIF(K22,"*TR*"),IF(G22<=5,F22,F22*2),""),"")) | AL22: =IF(ISBLANK(I22),"",IF(COUNTIF(I22,"*BOMBE_100MM*"),IF(COUNTIF(K22,"*\*"),IF(AND(G22<=3,G22>=2),F22,""),""),"")) | AM22: =IF(ISBLANK(I22),"",IF(COUNTIF(I22,"*BOMBE_100MM*"),IF(COUNTIF(K22,"*\*"),IF(AND(G22<=5,G22>=4),F22,""),""),"")) | AO22: =IF(ISBLANK(I22),"",IF(COUNTIF(I22,"*BOMBE_125MM*"),IF(G22=1,F22,""),"")) | AP22: =IF(ISBLANK(I22),"",IF(COUNTIF(I22,"*BOMBE_125MM*"),IF(COUNTIF(K22,"*TR*"),IF(G22<=5,F22,""),""),"")) | AQ22: =IF(ISBLANK(I22),"",IF(COUNTIF(I22,"*BOMBE_125MM*"),IF(COUNTIF(K22,"*\*"),IF(AND(G22<=3,G22>=2),F22,""),""),"")) | AS22: =IF(ISBLANK(I22),"",IF(COUNTIF(I22,"*BOMBE_150MM*"),IF(G22=1,F22,""),"")) | AT22: =IF(ISBLANK(I22),"",IF(COUNTIF(I22,"*BOMBE_150MM*"),IF(COUNTIF(K22,"*TR*"),IF(G22<=4,F22,""),""),"")) | AU22: =IF(ISBLANK(I22),"",IF(COUNTIF(I22,"*BOMBE_150MM*"),IF(COUNTIF(K22,"*\*"),IF(AND(G22<=3,G22>=2),F22,""),""),"")) | AW22: =IF(ISBLANK(I22),"",IF(COUNTIF(I22,"*BOMBE_200MM*"),F22*G22,"")) | AY22: =IF(ISBLANK(I22),"",IF(COUNTIF(I22,"*BOMBE_*"),F22*20,F22*15)) | AZ22: =IF(ISBLANK(I22),"",IF(COUNTIF(I22,"*BOMBE_*"),F22*15,F22*10)) | BA22: =IF(ISBLANK(I22),"",IF(COUNTIF(I22,"*BOMBE_*"),F22*10,F22*5))
N23: =IF(ISBLANK(I23),"",IF(COUNTIF(I23,"*bombe*"),(G23-1)*SUMIF('base de donnée JCO '!C$3:C$10,K23,'base de donnée JCO '!D$3:D$10)+SUMIF(entete,L23,'base de donnée JCO '!D$14:D$20),SUMIFS('base de donnée JCO '!I$173:I$1080,'base de donnée JCO '!F$173:F$1080,I23,'base de donnée JCO '!G$173:G$1080,J23))) | O23: =IF(ISBLANK(I23),"",IF(ISBLANK(D23),D22+N23,D23+N23)) | S23: x | V23: =W23*SUMIFS('base de donnée JCO '!H$173:H$1080,'base de donnée JCO '!F$173:F$1080,I23,'base de donnée JCO '!G$173:G$1080,J23) -> 0 | W23: =F23*G23 -> 0 | X23: =W23*SUMIFS('base de donnée JCO '!J$173:J$1080,'base de donnée JCO '!F$173:F$1080,I23,'base de donnée JCO '!G$173:G$1080,J23) -> 0 | Z23: =IF(ISBLANK(I23),"",IF(COUNTIF(I23,"*BOMBE_50MM*"),IF(COUNTIF(K23,"*TR*"),IF(G23>=6,F23*1,0.5*F23),""),"")) | AA23: =IF(ISBLANK(I23),"",IF(COUNTIF(I23,"*BOMBE_50MM*"),IF(COUNTIF(K23,"*\*"),IF(G23>1,F23*1,""),""),"")) | AB23: =IF(ISBLANK(I23),"",IF(COUNTIF(I23,"*BOMBE_50MM*"),IF(G23=1,F23,""),"")) | AD23: =IF(ISBLANK(I23),"",IF(COUNTIF(I23,"*BOMBE_75MM*"),IF(G23=1,F23,""),"")) | AE23: =IF(ISBLANK(I23),"",IF(COUNTIF(I23,"*BOMBE_75MM*"),IF(COUNTIF(K23,"*TR*"),IF(G23<=5,F23,""),""),"")) | AF23: =IF(ISBLANK(I23),"",IF(COUNTIF(I23,"*BOMBE_75MM*"),IF(COUNTIF(K23,"*TR*"),IF(G23>5,F23,""),""),"")) | AG23: =IF(ISBLANK(I23),"",IF(COUNTIF(I23,"*BOMBE_75MM*"),IF(COUNTIF(K23,"*\*"),IF(AND(G23<=3,G23>=2),F23,""),""),"")) | AH23: =IF(ISBLANK(I23),"",IF(COUNTIF(I23,"*BOMBE_75MM*"),IF(COUNTIF(K23,"*\*"),IF(AND(G23<=7,G23>=4),F23,""),""),"")) | AJ23: =IF(ISBLANK(I23),"",IF(COUNTIF(I23,"*BOMBE_100MM*"),IF(G23=1,F23,""),"")) | AK23: =IF(ISBLANK(I23),"",IF(COUNTIF(I23,"*BOMBE_100MM*"),IF(COUNTIF(K23,"*TR*"),IF(G23<=5,F23,F23*2),""),"")) | AL23: =IF(ISBLANK(I23),"",IF(COUNTIF(I23,"*BOMBE_100MM*"),IF(COUNTIF(K23,"*\*"),IF(AND(G23<=3,G23>=2),F23,""),""),"")) | AM23: =IF(ISBLANK(I23),"",IF(COUNTIF(I23,"*BOMBE_100MM*"),IF(COUNTIF(K23,"*\*"),IF(AND(G23<=5,G23>=4),F23,""),""),"")) | AO23: =IF(ISBLANK(I23),"",IF(COUNTIF(I23,"*BOMBE_125MM*"),IF(G23=1,F23,""),"")) | AP23: =IF(ISBLANK(I23),"",IF(COUNTIF(I23,"*BOMBE_125MM*"),IF(COUNTIF(K23,"*TR*"),IF(G23<=5,F23,""),""),"")) | AQ23: =IF(ISBLANK(I23),"",IF(COUNTIF(I23,"*BOMBE_125MM*"),IF(COUNTIF(K23,"*\*"),IF(AND(G23<=3,G23>=2),F23,""),""),"")) | AS23: =IF(ISBLANK(I23),"",IF(COUNTIF(I23,"*BOMBE_150MM*"),IF(G23=1,F23,""),"")) | AT23: =IF(ISBLANK(I23),"",IF(COUNTIF(I23,"*BOMBE_150MM*"),IF(COUNTIF(K23,"*TR*"),IF(G23<=4,F23,""),""),"")) | AU23: =IF(ISBLANK(I23),"",IF(COUNTIF(I23,"*BOMBE_150MM*"),IF(COUNTIF(K23,"*\*"),IF(AND(G23<=3,G23>=2),F23,""),""),"")) | AW23: =IF(ISBLANK(I23),"",IF(COUNTIF(I23,"*BOMBE_200MM*"),F23*G23,"")) | AY23: =IF(ISBLANK(I23),"",IF(COUNTIF(I23,"*BOMBE_*"),F23*20,F23*15)) | AZ23: =IF(ISBLANK(I23),"",IF(COUNTIF(I23,"*BOMBE_*"),F23*15,F23*10)) | BA23: =IF(ISBLANK(I23),"",IF(COUNTIF(I23,"*BOMBE_*"),F23*10,F23*5))
A24: 19 | D24: 0.0006712963 | F24: 19 | G24: 2 | I24: bombe_75mm | J24: I/ tronc palm kamuro | K24: \ / | L24: 10''T | N24: =IF(ISBLANK(I24),"",IF(COUNTIF(I24,"*bombe*"),(G24-1)*SUMIF('base de donnée JCO '!C$3:C$10,K24,'base de donnée JCO '!D$3:D$10)+SUMIF(entete,L24,'base de donnée JCO '!D$14:D$20),SUMIFS('base de donnée JCO '!I$173:I$1080,'base de donnée JCO '!F$173:F$1080,I24,'base de donnée JCO '!G$173:G$1080,J24))) -> 2.0001157 | O24: =IF(ISBLANK(I24),"",IF(ISBLANK(D24),#REF!+N24,D24+N24)) -> 2.000787 | V24: =W24*SUMIFS('base de donnée JCO '!H$173:H$1080,'base de donnée JCO '!F$173:F$1080,I24,'base de donnée JCO '!G$173:G$1080,J24) -> 0 | W24: =F24*G24 -> 38 | X24: =W24*SUMIFS('base de donnée JCO '!J$173:J$1080,'base de donnée JCO '!F$173:F$1080,I24,'base de donnée JCO '!G$173:G$1080,J24) -> 0 | Z24: =IF(ISBLANK(I24),"",IF(COUNTIF(I24,"*BOMBE_50MM*"),IF(COUNTIF(K24,"*TR*"),IF(G24>=6,F24*1,0.5*F24),""),"")) | AA24: =IF(ISBLANK(I24),"",IF(COUNTIF(I24,"*BOMBE_50MM*"),IF(COUNTIF(K24,"*\*"),IF(G24>1,F24*1,""),""),"")) | AB24: =IF(ISBLANK(I24),"",IF(COUNTIF(I24,"*BOMBE_50MM*"),IF(G24=1,F24,""),"")) | AD24: =IF(ISBLANK(I24),"",IF(COUNTIF(I24,"*BOMBE_75MM*"),IF(G24=1,F24,""),"")) | AE24: =IF(ISBLANK(I24),"",IF(COUNTIF(I24,"*BOMBE_75MM*"),IF(COUNTIF(K24,"*TR*"),IF(G24<=5,F24,""),""),"")) | AF24: =IF(ISBLANK(I24),"",IF(COUNTIF(I24,"*BOMBE_75MM*"),IF(COUNTIF(K24,"*TR*"),IF(G24>5,F24,""),""),"")) | AG24: =IF(ISBLANK(I24),"",IF(COUNTIF(I24,"*BOMBE_75MM*"),IF(COUNTIF(K24,"*\*"),IF(AND(G24<=3,G24>=2),F24,""),""),"")) -> 19 | AH24: =IF(ISBLANK(I24),"",IF(COUNTIF(I24,"*BOMBE_75MM*"),IF(COUNTIF(K24,"*\*"),IF(AND(G24<=7,G24>=4),F24,""),""),"")) | AJ24: =IF(ISBLANK(I24),"",IF(COUNTIF(I24,"*BOMBE_100MM*"),IF(G24=1,F24,""),"")) | AK24: =IF(ISBLANK(I24),"",IF(COUNTIF(I24,"*BOMBE_100MM*"),IF(COUNTIF(K24,"*TR*"),IF(G24<=5,F24,F24*2),""),"")) | AL24: =IF(ISBLANK(I24),"",IF(COUNTIF(I24,"*BOMBE_100MM*"),IF(COUNTIF(K24,"*\*"),IF(AND(G24<=3,G24>=2),F24,""),""),"")) | AM24: =IF(ISBLANK(I24),"",IF(COUNTIF(I24,"*BOMBE_100MM*"),IF(COUNTIF(K24,"*\*"),IF(AND(G24<=5,G24>=4),F24,""),""),"")) | AO24: =IF(ISBLANK(I24),"",IF(COUNTIF(I24,"*BOMBE_125MM*"),IF(G24=1,F24,""),"")) | AP24: =IF(ISBLANK(I24),"",IF(COUNTIF(I24,"*BOMBE_125MM*"),IF(COUNTIF(K24,"*TR*"),IF(G24<=5,F24,""),""),"")) | AQ24: =IF(ISBLANK(I24),"",IF(COUNTIF(I24,"*BOMBE_125MM*"),IF(COUNTIF(K24,"*\*"),IF(AND(G24<=3,G24>=2),F24,""),""),"")) | AS24: =IF(ISBLANK(I24),"",IF(COUNTIF(I24,"*BOMBE_150MM*"),IF(G24=1,F24,""),"")) | AT24: =IF(ISBLANK(I24),"",IF(COUNTIF(I24,"*BOMBE_150MM*"),IF(COUNTIF(K24,"*TR*"),IF(G24<=4,F24,""),""),"")) | AU24: =IF(ISBLANK(I24),"",IF(COUNTIF(I24,"*BOMBE_150MM*"),IF(COUNTIF(K24,"*\*"),IF(AND(G24<=3,G24>=2),F24,""),""),"")) | AW24: =IF(ISBLANK(I24),"",IF(COUNTIF(I24,"*BOMBE_200MM*"),F24*G24,"")) | AY24: =IF(ISBLANK(I24),"",IF(COUNTIF(I24,"*BOMBE_*"),F24*20,F24*15)) -> 380 | AZ24: =IF(ISBLANK(I24),"",IF(COUNTIF(I24,"*BOMBE_*"),F24*15,F24*10)) -> 285 | BA24: =IF(ISBLANK(I24),"",IF(COUNTIF(I24,"*BOMBE_*"),F24*10,F24*5)) -> 190
A25: 20 | F25: 78 | G25: 1 | I25: bombe_75mm | J25: Z/cyl volcan 2 coul jaune et violet | K25: I | N25: =IF(ISBLANK(I25),"",IF(COUNTIF(I25,"*bombe*"),(G25-1)*SUMIF('base de donnée JCO '!C$3:C$10,K25,'base de donnée JCO '!D$3:D$10)+SUMIF(entete,L25,'base de donnée JCO '!D$14:D$20),SUMIFS('base de donnée JCO '!I$173:I$1080,'base de donnée JCO '!F$173:F$1080,I25,'base de donnée JCO '!G$173:G$1080,J25))) -> 0 | O25: =IF(ISBLANK(I25),"",IF(ISBLANK(D25),#REF!+N25,D25+N25)) -> #REF! | Q25: \ / | U25: \ / | V25: =W25*SUMIFS('base de donnée JCO '!H$173:H$1080,'base de donnée JCO '!F$173:F$1080,I25,'base de donnée JCO '!G$173:G$1080,J25) -> 0 | W25: =F25*G25 -> 78 | X25: =W25*SUMIFS('base de donnée JCO '!J$173:J$1080,'base de donnée JCO '!F$173:F$1080,I25,'base de donnée JCO '!G$173:G$1080,J25) -> 0 | Z25: =IF(ISBLANK(I25),"",IF(COUNTIF(I25,"*BOMBE_50MM*"),IF(COUNTIF(K25,"*TR*"),IF(G25>=6,F25*1,0.5*F25),""),"")) | AA25: =IF(ISBLANK(I25),"",IF(COUNTIF(I25,"*BOMBE_50MM*"),IF(COUNTIF(K25,"*\*"),IF(G25>1,F25*1,""),""),"")) | AB25: =IF(ISBLANK(I25),"",IF(COUNTIF(I25,"*BOMBE_50MM*"),IF(G25=1,F25,""),"")) | AD25: =IF(ISBLANK(I25),"",IF(COUNTIF(I25,"*BOMBE_75MM*"),IF(G25=1,F25,""),"")) -> 78 | AE25: =IF(ISBLANK(I25),"",IF(COUNTIF(I25,"*BOMBE_75MM*"),IF(COUNTIF(K25,"*TR*"),IF(G25<=5,F25,""),""),"")) | AF25: =IF(ISBLANK(I25),"",IF(COUNTIF(I25,"*BOMBE_75MM*"),IF(COUNTIF(K25,"*TR*"),IF(G25>5,F25,""),""),"")) | AG25: =IF(ISBLANK(I25),"",IF(COUNTIF(I25,"*BOMBE_75MM*"),IF(COUNTIF(K25,"*\*"),IF(AND(G25<=3,G25>=2),F25,""),""),"")) | AH25: =IF(ISBLANK(I25),"",IF(COUNTIF(I25,"*BOMBE_75MM*"),IF(COUNTIF(K25,"*\*"),IF(AND(G25<=7,G25>=4),F25,""),""),"")) | AJ25: =IF(ISBLANK(I25),"",IF(COUNTIF(I25,"*BOMBE_100MM*"),IF(G25=1,F25,""),"")) | AK25: =IF(ISBLANK(I25),"",IF(COUNTIF(I25,"*BOMBE_100MM*"),IF(COUNTIF(K25,"*TR*"),IF(G25<=5,F25,F25*2),""),"")) | AL25: =IF(ISBLANK(I25),"",IF(COUNTIF(I25,"*BOMBE_100MM*"),IF(COUNTIF(K25,"*\*"),IF(AND(G25<=3,G25>=2),F25,""),""),"")) | AM25: =IF(ISBLANK(I25),"",IF(COUNTIF(I25,"*BOMBE_100MM*"),IF(COUNTIF(K25,"*\*"),IF(AND(G25<=5,G25>=4),F25,""),""),"")) | AO25: =IF(ISBLANK(I25),"",IF(COUNTIF(I25,"*BOMBE_125MM*"),IF(G25=1,F25,""),"")) | AP25: =IF(ISBLANK(I25),"",IF(COUNTIF(I25,"*BOMBE_125MM*"),IF(COUNTIF(K25,"*TR*"),IF(G25<=5,F25,""),""),"")) | AQ25: =IF(ISBLANK(I25),"",IF(COUNTIF(I25,"*BOMBE_125MM*"),IF(COUNTIF(K25,"*\*"),IF(AND(G25<=3,G25>=2),F25,""),""),"")) | AS25: =IF(ISBLANK(I25),"",IF(COUNTIF(I25,"*BOMBE_150MM*"),IF(G25=1,F25,""),"")) | AT25: =IF(ISBLANK(I25),"",IF(COUNTIF(I25,"*BOMBE_150MM*"),IF(COUNTIF(K25,"*TR*"),IF(G25<=4,F25,""),""),"")) | AU25: =IF(ISBLANK(I25),"",IF(COUNTIF(I25,"*BOMBE_150MM*"),IF(COUNTIF(K25,"*\*"),IF(AND(G25<=3,G25>=2),F25,""),""),"")) | AW25: =IF(ISBLANK(I25),"",IF(COUNTIF(I25,"*BOMBE_200MM*"),F25*G25,"")) | AY25: =IF(ISBLANK(I25),"",IF(COUNTIF(I25,"*BOMBE_*"),F25*20,F25*15)) -> 1560 | AZ25: =IF(ISBLANK(I25),"",IF(COUNTIF(I25,"*BOMBE_*"),F25*15,F25*10)) -> 1170 | BA25: =IF(ISBLANK(I25),"",IF(COUNTIF(I25,"*BOMBE_*"),F25*10,F25*5)) -> 780
N26: =IF(ISBLANK(I26),"",IF(COUNTIF(I26,"*bombe*"),(G26-1)*SUMIF('base de donnée JCO '!C$3:C$10,K26,'base de donnée JCO '!D$3:D$10)+SUMIF(entete,L26,'base de donnée JCO '!D$14:D$20),SUMIFS('base de donnée JCO '!I$173:I$1080,'base de donnée JCO '!F$173:F$1080,I26,'base de donnée JCO '!G$173:G$1080,J26))) | O26: =IF(ISBLANK(I26),"",IF(ISBLANK(D26),#REF!+N26,D26+N26)) | V26: =W26*SUMIFS('base de donnée JCO '!H$173:H$1080,'base de donnée JCO '!F$173:F$1080,I26,'base de donnée JCO '!G$173:G$1080,J26) -> 0 | W26: =F26*G26 -> 0 | X26: =W26*SUMIFS('base de donnée JCO '!J$173:J$1080,'base de donnée JCO '!F$173:F$1080,I26,'base de donnée JCO '!G$173:G$1080,J26) -> 0 | Z26: =IF(ISBLANK(I26),"",IF(COUNTIF(I26,"*BOMBE_50MM*"),IF(COUNTIF(K26,"*TR*"),IF(G26>=6,F26*1,0.5*F26),""),"")) | AA26: =IF(ISBLANK(I26),"",IF(COUNTIF(I26,"*BOMBE_50MM*"),IF(COUNTIF(K26,"*\*"),IF(G26>1,F26*1,""),""),"")) | AB26: =IF(ISBLANK(I26),"",IF(COUNTIF(I26,"*BOMBE_50MM*"),IF(G26=1,F26,""),"")) | AD26: =IF(ISBLANK(I26),"",IF(COUNTIF(I26,"*BOMBE_75MM*"),IF(G26=1,F26,""),"")) | AE26: =IF(ISBLANK(I26),"",IF(COUNTIF(I26,"*BOMBE_75MM*"),IF(COUNTIF(K26,"*TR*"),IF(G26<=5,F26,""),""),"")) | AF26: =IF(ISBLANK(I26),"",IF(COUNTIF(I26,"*BOMBE_75MM*"),IF(COUNTIF(K26,"*TR*"),IF(G26>5,F26,""),""),"")) | AG26: =IF(ISBLANK(I26),"",IF(COUNTIF(I26,"*BOMBE_75MM*"),IF(COUNTIF(K26,"*\*"),IF(AND(G26<=3,G26>=2),F26,""),""),"")) | AH26: =IF(ISBLANK(I26),"",IF(COUNTIF(I26,"*BOMBE_75MM*"),IF(COUNTIF(K26,"*\*"),IF(AND(G26<=7,G26>=4),F26,""),""),"")) | AJ26: =IF(ISBLANK(I26),"",IF(COUNTIF(I26,"*BOMBE_100MM*"),IF(G26=1,F26,""),"")) | AK26: =IF(ISBLANK(I26),"",IF(COUNTIF(I26,"*BOMBE_100MM*"),IF(COUNTIF(K26,"*TR*"),IF(G26<=5,F26,F26*2),""),"")) | AL26: =IF(ISBLANK(I26),"",IF(COUNTIF(I26,"*BOMBE_100MM*"),IF(COUNTIF(K26,"*\*"),IF(AND(G26<=3,G26>=2),F26,""),""),"")) | AM26: =IF(ISBLANK(I26),"",IF(COUNTIF(I26,"*BOMBE_100MM*"),IF(COUNTIF(K26,"*\*"),IF(AND(G26<=5,G26>=4),F26,""),""),"")) | AO26: =IF(ISBLANK(I26),"",IF(COUNTIF(I26,"*BOMBE_125MM*"),IF(G26=1,F26,""),"")) | AP26: =IF(ISBLANK(I26),"",IF(COUNTIF(I26,"*BOMBE_125MM*"),IF(COUNTIF(K26,"*TR*"),IF(G26<=5,F26,""),""),"")) | AQ26: =IF(ISBLANK(I26),"",IF(COUNTIF(I26,"*BOMBE_125MM*"),IF(COUNTIF(K26,"*\*"),IF(AND(G26<=3,G26>=2),F26,""),""),"")) | AS26: =IF(ISBLANK(I26),"",IF(COUNTIF(I26,"*BOMBE_150MM*"),IF(G26=1,F26,""),"")) | AT26: =IF(ISBLANK(I26),"",IF(COUNTIF(I26,"*BOMBE_150MM*"),IF(COUNTIF(K26,"*TR*"),IF(G26<=4,F26,""),""),"")) | AU26: =IF(ISBLANK(I26),"",IF(COUNTIF(I26,"*BOMBE_150MM*"),IF(COUNTIF(K26,"*\*"),IF(AND(G26<=3,G26>=2),F26,""),""),"")) | AW26: =IF(ISBLANK(I26),"",IF(COUNTIF(I26,"*BOMBE_200MM*"),F26*G26,"")) | AY26: =IF(ISBLANK(I26),"",IF(COUNTIF(I26,"*BOMBE_*"),F26*20,F26*15)) | AZ26: =IF(ISBLANK(I26),"",IF(COUNTIF(I26,"*BOMBE_*"),F26*15,F26*10)) | BA26: =IF(ISBLANK(I26),"",IF(COUNTIF(I26,"*BOMBE_*"),F26*10,F26*5))
N27: =IF(ISBLANK(I27),"",IF(COUNTIF(I27,"*bombe*"),(G27-1)*SUMIF('base de donnée JCO '!C$3:C$10,K27,'base de donnée JCO '!D$3:D$10)+SUMIF(entete,L27,'base de donnée JCO '!D$14:D$20),SUMIFS('base de donnée JCO '!I$173:I$1080,'base de donnée JCO '!F$173:F$1080,I27,'base de donnée JCO '!G$173:G$1080,J27))) | O27: =IF(ISBLANK(I27),"",IF(ISBLANK(D27),D26+N27,D27+N27)) | Q27: X | U27: X | V27: =W27*SUMIFS('base de donnée JCO '!H$173:H$1080,'base de donnée JCO '!F$173:F$1080,I27,'base de donnée JCO '!G$173:G$1080,J27) -> 0 | W27: =F27*G27 -> 0 | X27: =W27*SUMIFS('base de donnée JCO '!J$173:J$1080,'base de donnée JCO '!F$173:F$1080,I27,'base de donnée JCO '!G$173:G$1080,J27) -> 0 | Z27: =IF(ISBLANK(I27),"",IF(COUNTIF(I27,"*BOMBE_50MM*"),IF(COUNTIF(K27,"*TR*"),IF(G27>=6,F27*1,0.5*F27),""),"")) | AA27: =IF(ISBLANK(I27),"",IF(COUNTIF(I27,"*BOMBE_50MM*"),IF(COUNTIF(K27,"*\*"),IF(G27>1,F27*1,""),""),"")) | AB27: =IF(ISBLANK(I27),"",IF(COUNTIF(I27,"*BOMBE_50MM*"),IF(G27=1,F27,""),"")) | AD27: =IF(ISBLANK(I27),"",IF(COUNTIF(I27,"*BOMBE_75MM*"),IF(G27=1,F27,""),"")) | AE27: =IF(ISBLANK(I27),"",IF(COUNTIF(I27,"*BOMBE_75MM*"),IF(COUNTIF(K27,"*TR*"),IF(G27<=5,F27,""),""),"")) | AF27: =IF(ISBLANK(I27),"",IF(COUNTIF(I27,"*BOMBE_75MM*"),IF(COUNTIF(K27,"*TR*"),IF(G27>5,F27,""),""),"")) | AG27: =IF(ISBLANK(I27),"",IF(COUNTIF(I27,"*BOMBE_75MM*"),IF(COUNTIF(K27,"*\*"),IF(AND(G27<=3,G27>=2),F27,""),""),"")) | AH27: =IF(ISBLANK(I27),"",IF(COUNTIF(I27,"*BOMBE_75MM*"),IF(COUNTIF(K27,"*\*"),IF(AND(G27<=7,G27>=4),F27,""),""),"")) | AJ27: =IF(ISBLANK(I27),"",IF(COUNTIF(I27,"*BOMBE_100MM*"),IF(G27=1,F27,""),"")) | AK27: =IF(ISBLANK(I27),"",IF(COUNTIF(I27,"*BOMBE_100MM*"),IF(COUNTIF(K27,"*TR*"),IF(G27<=5,F27,F27*2),""),"")) | AL27: =IF(ISBLANK(I27),"",IF(COUNTIF(I27,"*BOMBE_100MM*"),IF(COUNTIF(K27,"*\*"),IF(AND(G27<=3,G27>=2),F27,""),""),"")) | AM27: =IF(ISBLANK(I27),"",IF(COUNTIF(I27,"*BOMBE_100MM*"),IF(COUNTIF(K27,"*\*"),IF(AND(G27<=5,G27>=4),F27,""),""),"")) | AO27: =IF(ISBLANK(I27),"",IF(COUNTIF(I27,"*BOMBE_125MM*"),IF(G27=1,F27,""),"")) | AP27: =IF(ISBLANK(I27),"",IF(COUNTIF(I27,"*BOMBE_125MM*"),IF(COUNTIF(K27,"*TR*"),IF(G27<=5,F27,""),""),"")) | AQ27: =IF(ISBLANK(I27),"",IF(COUNTIF(I27,"*BOMBE_125MM*"),IF(COUNTIF(K27,"*\*"),IF(AND(G27<=3,G27>=2),F27,""),""),"")) | AS27: =IF(ISBLANK(I27),"",IF(COUNTIF(I27,"*BOMBE_150MM*"),IF(G27=1,F27,""),"")) | AT27: =IF(ISBLANK(I27),"",IF(COUNTIF(I27,"*BOMBE_150MM*"),IF(COUNTIF(K27,"*TR*"),IF(G27<=4,F27,""),""),"")) | AU27: =IF(ISBLANK(I27),"",IF(COUNTIF(I27,"*BOMBE_150MM*"),IF(COUNTIF(K27,"*\*"),IF(AND(G27<=3,G27>=2),F27,""),""),"")) | AW27: =IF(ISBLANK(I27),"",IF(COUNTIF(I27,"*BOMBE_200MM*"),F27*G27,"")) | AY27: =IF(ISBLANK(I27),"",IF(COUNTIF(I27,"*BOMBE_*"),F27*20,F27*15)) | AZ27: =IF(ISBLANK(I27),"",IF(COUNTIF(I27,"*BOMBE_*"),F27*15,F27*10)) | BA27: =IF(ISBLANK(I27),"",IF(COUNTIF(I27,"*BOMBE_*"),F27*10,F27*5))
N28: =IF(ISBLANK(I28),"",IF(COUNTIF(I28,"*bombe*"),(G28-1)*SUMIF('base de donnée JCO '!C$3:C$10,K28,'base de donnée JCO '!D$3:D$10)+SUMIF(entete,L28,'base de donnée JCO '!D$14:D$20),SUMIFS('base de donnée JCO '!I$173:I$1080,'base de donnée JCO '!F$173:F$1080,I28,'base de donnée JCO '!G$173:G$1080,J28))) | O28: =IF(ISBLANK(I28),"",IF(ISBLANK(D28),D27+N28,D28+N28)) | S28: X | V28: =W28*SUMIFS('base de donnée JCO '!H$173:H$1080,'base de donnée JCO '!F$173:F$1080,I28,'base de donnée JCO '!G$173:G$1080,J28) -> 0 | W28: =F28*G28 -> 0 | X28: =W28*SUMIFS('base de donnée JCO '!J$173:J$1080,'base de donnée JCO '!F$173:F$1080,I28,'base de donnée JCO '!G$173:G$1080,J28) -> 0 | Z28: =IF(ISBLANK(I28),"",IF(COUNTIF(I28,"*BOMBE_50MM*"),IF(COUNTIF(K28,"*TR*"),IF(G28>=6,F28*1,0.5*F28),""),"")) | AA28: =IF(ISBLANK(I28),"",IF(COUNTIF(I28,"*BOMBE_50MM*"),IF(COUNTIF(K28,"*\*"),IF(G28>1,F28*1,""),""),"")) | AB28: =IF(ISBLANK(I28),"",IF(COUNTIF(I28,"*BOMBE_50MM*"),IF(G28=1,F28,""),"")) | AD28: =IF(ISBLANK(I28),"",IF(COUNTIF(I28,"*BOMBE_75MM*"),IF(G28=1,F28,""),"")) | AE28: =IF(ISBLANK(I28),"",IF(COUNTIF(I28,"*BOMBE_75MM*"),IF(COUNTIF(K28,"*TR*"),IF(G28<=5,F28,""),""),"")) | AF28: =IF(ISBLANK(I28),"",IF(COUNTIF(I28,"*BOMBE_75MM*"),IF(COUNTIF(K28,"*TR*"),IF(G28>5,F28,""),""),"")) | AG28: =IF(ISBLANK(I28),"",IF(COUNTIF(I28,"*BOMBE_75MM*"),IF(COUNTIF(K28,"*\*"),IF(AND(G28<=3,G28>=2),F28,""),""),"")) | AH28: =IF(ISBLANK(I28),"",IF(COUNTIF(I28,"*BOMBE_75MM*"),IF(COUNTIF(K28,"*\*"),IF(AND(G28<=7,G28>=4),F28,""),""),"")) | AJ28: =IF(ISBLANK(I28),"",IF(COUNTIF(I28,"*BOMBE_100MM*"),IF(G28=1,F28,""),"")) | AK28: =IF(ISBLANK(I28),"",IF(COUNTIF(I28,"*BOMBE_100MM*"),IF(COUNTIF(K28,"*TR*"),IF(G28<=5,F28,F28*2),""),"")) | AL28: =IF(ISBLANK(I28),"",IF(COUNTIF(I28,"*BOMBE_100MM*"),IF(COUNTIF(K28,"*\*"),IF(AND(G28<=3,G28>=2),F28,""),""),"")) | AM28: =IF(ISBLANK(I28),"",IF(COUNTIF(I28,"*BOMBE_100MM*"),IF(COUNTIF(K28,"*\*"),IF(AND(G28<=5,G28>=4),F28,""),""),"")) | AO28: =IF(ISBLANK(I28),"",IF(COUNTIF(I28,"*BOMBE_125MM*"),IF(G28=1,F28,""),"")) | AP28: =IF(ISBLANK(I28),"",IF(COUNTIF(I28,"*BOMBE_125MM*"),IF(COUNTIF(K28,"*TR*"),IF(G28<=5,F28,""),""),"")) | AQ28: =IF(ISBLANK(I28),"",IF(COUNTIF(I28,"*BOMBE_125MM*"),IF(COUNTIF(K28,"*\*"),IF(AND(G28<=3,G28>=2),F28,""),""),"")) | AS28: =IF(ISBLANK(I28),"",IF(COUNTIF(I28,"*BOMBE_150MM*"),IF(G28=1,F28,""),"")) | AT28: =IF(ISBLANK(I28),"",IF(COUNTIF(I28,"*BOMBE_150MM*"),IF(COUNTIF(K28,"*TR*"),IF(G28<=4,F28,""),""),"")) | AU28: =IF(ISBLANK(I28),"",IF(COUNTIF(I28,"*BOMBE_150MM*"),IF(COUNTIF(K28,"*\*"),IF(AND(G28<=3,G28>=2),F28,""),""),"")) | AW28: =IF(ISBLANK(I28),"",IF(COUNTIF(I28,"*BOMBE_200MM*"),F28*G28,"")) | AY28: =IF(ISBLANK(I28),"",IF(COUNTIF(I28,"*BOMBE_*"),F28*20,F28*15)) | AZ28: =IF(ISBLANK(I28),"",IF(COUNTIF(I28,"*BOMBE_*"),F28*15,F28*10)) | BA28: =IF(ISBLANK(I28),"",IF(COUNTIF(I28,"*BOMBE_*"),F28*10,F28*5))
N29: =IF(ISBLANK(I29),"",IF(COUNTIF(I29,"*bombe*"),(G29-1)*SUMIF('base de donnée JCO '!C$3:C$10,K29,'base de donnée JCO '!D$3:D$10)+SUMIF(entete,L29,'base de donnée JCO '!D$14:D$20),SUMIFS('base de donnée JCO '!I$173:I$1080,'base de donnée JCO '!F$173:F$1080,I29,'base de donnée JCO '!G$173:G$1080,J29))) | O29: =IF(ISBLANK(I29),"",IF(ISBLANK(D29),D27+N29,D29+N29)) | V29: =W29*SUMIFS('base de donnée JCO '!H$173:H$1080,'base de donnée JCO '!F$173:F$1080,I29,'base de donnée JCO '!G$173:G$1080,J29) -> 0 | W29: =F29*G29 -> 0 | X29: =W29*SUMIFS('base de donnée JCO '!J$173:J$1080,'base de donnée JCO '!F$173:F$1080,I29,'base de donnée JCO '!G$173:G$1080,J29) -> 0 | Z29: =IF(ISBLANK(I29),"",IF(COUNTIF(I29,"*BOMBE_50MM*"),IF(COUNTIF(K29,"*TR*"),IF(G29>=6,F29*1,0.5*F29),""),"")) | AA29: =IF(ISBLANK(I29),"",IF(COUNTIF(I29,"*BOMBE_50MM*"),IF(COUNTIF(K29,"*\*"),IF(G29>1,F29*1,""),""),"")) | AB29: =IF(ISBLANK(I29),"",IF(COUNTIF(I29,"*BOMBE_50MM*"),IF(G29=1,F29,""),"")) | AD29: =IF(ISBLANK(I29),"",IF(COUNTIF(I29,"*BOMBE_75MM*"),IF(G29=1,F29,""),"")) | AE29: =IF(ISBLANK(I29),"",IF(COUNTIF(I29,"*BOMBE_75MM*"),IF(COUNTIF(K29,"*TR*"),IF(G29<=5,F29,""),""),"")) | AF29: =IF(ISBLANK(I29),"",IF(COUNTIF(I29,"*BOMBE_75MM*"),IF(COUNTIF(K29,"*TR*"),IF(G29>5,F29,""),""),"")) | AG29: =IF(ISBLANK(I29),"",IF(COUNTIF(I29,"*BOMBE_75MM*"),IF(COUNTIF(K29,"*\*"),IF(AND(G29<=3,G29>=2),F29,""),""),"")) | AH29: =IF(ISBLANK(I29),"",IF(COUNTIF(I29,"*BOMBE_75MM*"),IF(COUNTIF(K29,"*\*"),IF(AND(G29<=7,G29>=4),F29,""),""),"")) | AJ29: =IF(ISBLANK(I29),"",IF(COUNTIF(I29,"*BOMBE_100MM*"),IF(G29=1,F29,""),"")) | AK29: =IF(ISBLANK(I29),"",IF(COUNTIF(I29,"*BOMBE_100MM*"),IF(COUNTIF(K29,"*TR*"),IF(G29<=5,F29,F29*2),""),"")) | AL29: =IF(ISBLANK(I29),"",IF(COUNTIF(I29,"*BOMBE_100MM*"),IF(COUNTIF(K29,"*\*"),IF(AND(G29<=3,G29>=2),F29,""),""),"")) | AM29: =IF(ISBLANK(I29),"",IF(COUNTIF(I29,"*BOMBE_100MM*"),IF(COUNTIF(K29,"*\*"),IF(AND(G29<=5,G29>=4),F29,""),""),"")) | AO29: =IF(ISBLANK(I29),"",IF(COUNTIF(I29,"*BOMBE_125MM*"),IF(G29=1,F29,""),"")) | AP29: =IF(ISBLANK(I29),"",IF(COUNTIF(I29,"*BOMBE_125MM*"),IF(COUNTIF(K29,"*TR*"),IF(G29<=5,F29,""),""),"")) | AQ29: =IF(ISBLANK(I29),"",IF(COUNTIF(I29,"*BOMBE_125MM*"),IF(COUNTIF(K29,"*\*"),IF(AND(G29<=3,G29>=2),F29,""),""),"")) | AS29: =IF(ISBLANK(I29),"",IF(COUNTIF(I29,"*BOMBE_150MM*"),IF(G29=1,F29,""),"")) | AT29: =IF(ISBLANK(I29),"",IF(COUNTIF(I29,"*BOMBE_150MM*"),IF(COUNTIF(K29,"*TR*"),IF(G29<=4,F29,""),""),"")) | AU29: =IF(ISBLANK(I29),"",IF(COUNTIF(I29,"*BOMBE_150MM*"),IF(COUNTIF(K29,"*\*"),IF(AND(G29<=3,G29>=2),F29,""),""),"")) | AW29: =IF(ISBLANK(I29),"",IF(COUNTIF(I29,"*BOMBE_200MM*"),F29*G29,"")) | AY29: =IF(ISBLANK(I29),"",IF(COUNTIF(I29,"*BOMBE_*"),F29*20,F29*15)) | AZ29: =IF(ISBLANK(I29),"",IF(COUNTIF(I29,"*BOMBE_*"),F29*15,F29*10)) | BA29: =IF(ISBLANK(I29),"",IF(COUNTIF(I29,"*BOMBE_*"),F29*10,F29*5))
N30: =IF(ISBLANK(I30),"",IF(COUNTIF(I30,"*bombe*"),(G30-1)*SUMIF('base de donnée JCO '!C$3:C$10,K30,'base de donnée JCO '!D$3:D$10)+SUMIF(entete,L30,'base de donnée JCO '!D$14:D$20),SUMIFS('base de donnée JCO '!I$173:I$1080,'base de donnée JCO '!F$173:F$1080,I30,'base de donnée JCO '!G$173:G$1080,J30))) | O30: =IF(ISBLANK(I30),"",IF(ISBLANK(D30),#REF!+N30,D30+N30)) | S30: fen | V30: =W30*SUMIFS('base de donnée JCO '!H$173:H$1080,'base de donnée JCO '!F$173:F$1080,I30,'base de donnée JCO '!G$173:G$1080,J30) -> 0 | W30: =F30*G30 -> 0 | X30: =W30*SUMIFS('base de donnée JCO '!J$173:J$1080,'base de donnée JCO '!F$173:F$1080,I30,'base de donnée JCO '!G$173:G$1080,J30) -> 0 | Z30: =IF(ISBLANK(I30),"",IF(COUNTIF(I30,"*BOMBE_50MM*"),IF(COUNTIF(K30,"*TR*"),IF(G30>=6,F30*1,0.5*F30),""),"")) | AA30: =IF(ISBLANK(I30),"",IF(COUNTIF(I30,"*BOMBE_50MM*"),IF(COUNTIF(K30,"*\*"),IF(G30>1,F30*1,""),""),"")) | AB30: =IF(ISBLANK(I30),"",IF(COUNTIF(I30,"*BOMBE_50MM*"),IF(G30=1,F30,""),"")) | AD30: =IF(ISBLANK(I30),"",IF(COUNTIF(I30,"*BOMBE_75MM*"),IF(G30=1,F30,""),"")) | AE30: =IF(ISBLANK(I30),"",IF(COUNTIF(I30,"*BOMBE_75MM*"),IF(COUNTIF(K30,"*TR*"),IF(G30<=5,F30,""),""),"")) | AF30: =IF(ISBLANK(I30),"",IF(COUNTIF(I30,"*BOMBE_75MM*"),IF(COUNTIF(K30,"*TR*"),IF(G30>5,F30,""),""),"")) | AG30: =IF(ISBLANK(I30),"",IF(COUNTIF(I30,"*BOMBE_75MM*"),IF(COUNTIF(K30,"*\*"),IF(AND(G30<=3,G30>=2),F30,""),""),"")) | AH30: =IF(ISBLANK(I30),"",IF(COUNTIF(I30,"*BOMBE_75MM*"),IF(COUNTIF(K30,"*\*"),IF(AND(G30<=7,G30>=4),F30,""),""),"")) | AJ30: =IF(ISBLANK(I30),"",IF(COUNTIF(I30,"*BOMBE_100MM*"),IF(G30=1,F30,""),"")) | AK30: =IF(ISBLANK(I30),"",IF(COUNTIF(I30,"*BOMBE_100MM*"),IF(COUNTIF(K30,"*TR*"),IF(G30<=5,F30,F30*2),""),"")) | AL30: =IF(ISBLANK(I30),"",IF(COUNTIF(I30,"*BOMBE_100MM*"),IF(COUNTIF(K30,"*\*"),IF(AND(G30<=3,G30>=2),F30,""),""),"")) | AM30: =IF(ISBLANK(I30),"",IF(COUNTIF(I30,"*BOMBE_100MM*"),IF(COUNTIF(K30,"*\*"),IF(AND(G30<=5,G30>=4),F30,""),""),"")) | AO30: =IF(ISBLANK(I30),"",IF(COUNTIF(I30,"*BOMBE_125MM*"),IF(G30=1,F30,""),"")) | AP30: =IF(ISBLANK(I30),"",IF(COUNTIF(I30,"*BOMBE_125MM*"),IF(COUNTIF(K30,"*TR*"),IF(G30<=5,F30,""),""),"")) | AQ30: =IF(ISBLANK(I30),"",IF(COUNTIF(I30,"*BOMBE_125MM*"),IF(COUNTIF(K30,"*\*"),IF(AND(G30<=3,G30>=2),F30,""),""),"")) | AS30: =IF(ISBLANK(I30),"",IF(COUNTIF(I30,"*BOMBE_150MM*"),IF(G30=1,F30,""),"")) | AT30: =IF(ISBLANK(I30),"",IF(COUNTIF(I30,"*BOMBE_150MM*"),IF(COUNTIF(K30,"*TR*"),IF(G30<=4,F30,""),""),"")) | AU30: =IF(ISBLANK(I30),"",IF(COUNTIF(I30,"*BOMBE_150MM*"),IF(COUNTIF(K30,"*\*"),IF(AND(G30<=3,G30>=2),F30,""),""),"")) | AW30: =IF(ISBLANK(I30),"",IF(COUNTIF(I30,"*BOMBE_200MM*"),F30*G30,"")) | AY30: =IF(ISBLANK(I30),"",IF(COUNTIF(I30,"*BOMBE_*"),F30*20,F30*15)) | AZ30: =IF(ISBLANK(I30),"",IF(COUNTIF(I30,"*BOMBE_*"),F30*15,F30*10)) | BA30: =IF(ISBLANK(I30),"",IF(COUNTIF(I30,"*BOMBE_*"),F30*10,F30*5))
N31: =IF(ISBLANK(I31),"",IF(COUNTIF(I31,"*bombe*"),(G31-1)*SUMIF('base de donnée JCO '!C$3:C$10,K31,'base de donnée JCO '!D$3:D$10)+SUMIF(entete,L31,'base de donnée JCO '!D$14:D$20),SUMIFS('base de donnée JCO '!I$173:I$1080,'base de donnée JCO '!F$173:F$1080,I31,'base de donnée JCO '!G$173:G$1080,J31))) | O31: =IF(ISBLANK(I31),"",IF(ISBLANK(D31),D29+N31,D31+N31)) | V31: =W31*SUMIFS('base de donnée JCO '!H$173:H$1080,'base de donnée JCO '!F$173:F$1080,I31,'base de donnée JCO '!G$173:G$1080,J31) -> 0 | W31: =F31*G31 -> 0 | X31: =W31*SUMIFS('base de donnée JCO '!J$173:J$1080,'base de donnée JCO '!F$173:F$1080,I31,'base de donnée JCO '!G$173:G$1080,J31) -> 0 | Z31: =IF(ISBLANK(I31),"",IF(COUNTIF(I31,"*BOMBE_50MM*"),IF(COUNTIF(K31,"*TR*"),IF(G31>=6,F31*1,0.5*F31),""),"")) | AA31: =IF(ISBLANK(I31),"",IF(COUNTIF(I31,"*BOMBE_50MM*"),IF(COUNTIF(K31,"*\*"),IF(G31>1,F31*1,""),""),"")) | AB31: =IF(ISBLANK(I31),"",IF(COUNTIF(I31,"*BOMBE_50MM*"),IF(G31=1,F31,""),"")) | AD31: =IF(ISBLANK(I31),"",IF(COUNTIF(I31,"*BOMBE_75MM*"),IF(G31=1,F31,""),"")) | AE31: =IF(ISBLANK(I31),"",IF(COUNTIF(I31,"*BOMBE_75MM*"),IF(COUNTIF(K31,"*TR*"),IF(G31<=5,F31,""),""),"")) | AF31: =IF(ISBLANK(I31),"",IF(COUNTIF(I31,"*BOMBE_75MM*"),IF(COUNTIF(K31,"*TR*"),IF(G31>5,F31,""),""),"")) | AG31: =IF(ISBLANK(I31),"",IF(COUNTIF(I31,"*BOMBE_75MM*"),IF(COUNTIF(K31,"*\*"),IF(AND(G31<=3,G31>=2),F31,""),""),"")) | AH31: =IF(ISBLANK(I31),"",IF(COUNTIF(I31,"*BOMBE_75MM*"),IF(COUNTIF(K31,"*\*"),IF(AND(G31<=7,G31>=4),F31,""),""),"")) | AJ31: =IF(ISBLANK(I31),"",IF(COUNTIF(I31,"*BOMBE_100MM*"),IF(G31=1,F31,""),"")) | AK31: =IF(ISBLANK(I31),"",IF(COUNTIF(I31,"*BOMBE_100MM*"),IF(COUNTIF(K31,"*TR*"),IF(G31<=5,F31,F31*2),""),"")) | AL31: =IF(ISBLANK(I31),"",IF(COUNTIF(I31,"*BOMBE_100MM*"),IF(COUNTIF(K31,"*\*"),IF(AND(G31<=3,G31>=2),F31,""),""),"")) | AM31: =IF(ISBLANK(I31),"",IF(COUNTIF(I31,"*BOMBE_100MM*"),IF(COUNTIF(K31,"*\*"),IF(AND(G31<=5,G31>=4),F31,""),""),"")) | AO31: =IF(ISBLANK(I31),"",IF(COUNTIF(I31,"*BOMBE_125MM*"),IF(G31=1,F31,""),"")) | AP31: =IF(ISBLANK(I31),"",IF(COUNTIF(I31,"*BOMBE_125MM*"),IF(COUNTIF(K31,"*TR*"),IF(G31<=5,F31,""),""),"")) | AQ31: =IF(ISBLANK(I31),"",IF(COUNTIF(I31,"*BOMBE_125MM*"),IF(COUNTIF(K31,"*\*"),IF(AND(G31<=3,G31>=2),F31,""),""),"")) | AS31: =IF(ISBLANK(I31),"",IF(COUNTIF(I31,"*BOMBE_150MM*"),IF(G31=1,F31,""),"")) | AT31: =IF(ISBLANK(I31),"",IF(COUNTIF(I31,"*BOMBE_150MM*"),IF(COUNTIF(K31,"*TR*"),IF(G31<=4,F31,""),""),"")) | AU31: =IF(ISBLANK(I31),"",IF(COUNTIF(I31,"*BOMBE_150MM*"),IF(COUNTIF(K31,"*\*"),IF(AND(G31<=3,G31>=2),F31,""),""),"")) | AW31: =IF(ISBLANK(I31),"",IF(COUNTIF(I31,"*BOMBE_200MM*"),F31*G31,"")) | AY31: =IF(ISBLANK(I31),"",IF(COUNTIF(I31,"*BOMBE_*"),F31*20,F31*15)) | AZ31: =IF(ISBLANK(I31),"",IF(COUNTIF(I31,"*BOMBE_*"),F31*15,F31*10)) | BA31: =IF(ISBLANK(I31),"",IF(COUNTIF(I31,"*BOMBE_*"),F31*10,F31*5))
N32: =IF(ISBLANK(I32),"",IF(COUNTIF(I32,"*bombe*"),(G32-1)*SUMIF('base de donnée JCO '!C$3:C$10,K32,'base de donnée JCO '!D$3:D$10)+SUMIF(entete,L32,'base de donnée JCO '!D$14:D$20),SUMIFS('base de donnée JCO '!I$173:I$1080,'base de donnée JCO '!F$173:F$1080,I32,'base de donnée JCO '!G$173:G$1080,J32))) | O32: =IF(ISBLANK(I32),"",IF(ISBLANK(D32),D30+N32,D32+N32)) | V32: =W32*SUMIFS('base de donnée JCO '!H$173:H$1080,'base de donnée JCO '!F$173:F$1080,I32,'base de donnée JCO '!G$173:G$1080,J32) -> 0 | W32: =F32*G32 -> 0 | X32: =W32*SUMIFS('base de donnée JCO '!J$173:J$1080,'base de donnée JCO '!F$173:F$1080,I32,'base de donnée JCO '!G$173:G$1080,J32) -> 0 | Z32: =IF(ISBLANK(I32),"",IF(COUNTIF(I32,"*BOMBE_50MM*"),IF(COUNTIF(K32,"*TR*"),IF(G32>=6,F32*1,0.5*F32),""),"")) | AA32: =IF(ISBLANK(I32),"",IF(COUNTIF(I32,"*BOMBE_50MM*"),IF(COUNTIF(K32,"*\*"),IF(G32>1,F32*1,""),""),"")) | AB32: =IF(ISBLANK(I32),"",IF(COUNTIF(I32,"*BOMBE_50MM*"),IF(G32=1,F32,""),"")) | AD32: =IF(ISBLANK(I32),"",IF(COUNTIF(I32,"*BOMBE_75MM*"),IF(G32=1,F32,""),"")) | AE32: =IF(ISBLANK(I32),"",IF(COUNTIF(I32,"*BOMBE_75MM*"),IF(COUNTIF(K32,"*TR*"),IF(G32<=5,F32,""),""),"")) | AF32: =IF(ISBLANK(I32),"",IF(COUNTIF(I32,"*BOMBE_75MM*"),IF(COUNTIF(K32,"*TR*"),IF(G32>5,F32,""),""),"")) | AG32: =IF(ISBLANK(I32),"",IF(COUNTIF(I32,"*BOMBE_75MM*"),IF(COUNTIF(K32,"*\*"),IF(AND(G32<=3,G32>=2),F32,""),""),"")) | AH32: =IF(ISBLANK(I32),"",IF(COUNTIF(I32,"*BOMBE_75MM*"),IF(COUNTIF(K32,"*\*"),IF(AND(G32<=7,G32>=4),F32,""),""),"")) | AJ32: =IF(ISBLANK(I32),"",IF(COUNTIF(I32,"*BOMBE_100MM*"),IF(G32=1,F32,""),"")) | AK32: =IF(ISBLANK(I32),"",IF(COUNTIF(I32,"*BOMBE_100MM*"),IF(COUNTIF(K32,"*TR*"),IF(G32<=5,F32,F32*2),""),"")) | AL32: =IF(ISBLANK(I32),"",IF(COUNTIF(I32,"*BOMBE_100MM*"),IF(COUNTIF(K32,"*\*"),IF(AND(G32<=3,G32>=2),F32,""),""),"")) | AM32: =IF(ISBLANK(I32),"",IF(COUNTIF(I32,"*BOMBE_100MM*"),IF(COUNTIF(K32,"*\*"),IF(AND(G32<=5,G32>=4),F32,""),""),"")) | AO32: =IF(ISBLANK(I32),"",IF(COUNTIF(I32,"*BOMBE_125MM*"),IF(G32=1,F32,""),"")) | AP32: =IF(ISBLANK(I32),"",IF(COUNTIF(I32,"*BOMBE_125MM*"),IF(COUNTIF(K32,"*TR*"),IF(G32<=5,F32,""),""),"")) | AQ32: =IF(ISBLANK(I32),"",IF(COUNTIF(I32,"*BOMBE_125MM*"),IF(COUNTIF(K32,"*\*"),IF(AND(G32<=3,G32>=2),F32,""),""),"")) | AS32: =IF(ISBLANK(I32),"",IF(COUNTIF(I32,"*BOMBE_150MM*"),IF(G32=1,F32,""),"")) | AT32: =IF(ISBLANK(I32),"",IF(COUNTIF(I32,"*BOMBE_150MM*"),IF(COUNTIF(K32,"*TR*"),IF(G32<=4,F32,""),""),"")) | AU32: =IF(ISBLANK(I32),"",IF(COUNTIF(I32,"*BOMBE_150MM*"),IF(COUNTIF(K32,"*\*"),IF(AND(G32<=3,G32>=2),F32,""),""),"")) | AW32: =IF(ISBLANK(I32),"",IF(COUNTIF(I32,"*BOMBE_200MM*"),F32*G32,"")) | AY32: =IF(ISBLANK(I32),"",IF(COUNTIF(I32,"*BOMBE_*"),F32*20,F32*15)) | AZ32: =IF(ISBLANK(I32),"",IF(COUNTIF(I32,"*BOMBE_*"),F32*15,F32*10)) | BA32: =IF(ISBLANK(I32),"",IF(COUNTIF(I32,"*BOMBE_*"),F32*10,F32*5))
N33: =IF(ISBLANK(I33),"",IF(COUNTIF(I33,"*bombe*"),(G33-1)*SUMIF('base de donnée JCO '!C$3:C$10,K33,'base de donnée JCO '!D$3:D$10)+SUMIF(entete,L33,'base de donnée JCO '!D$14:D$20),SUMIFS('base de donnée JCO '!I$173:I$1080,'base de donnée JCO '!F$173:F$1080,I33,'base de donnée JCO '!G$173:G$1080,J33))) | O33: =IF(ISBLANK(I33),"",IF(ISBLANK(D33),D30+N33,D33+N33)) | S33: X | V33: =W33*SUMIFS('base de donnée JCO '!H$173:H$1080,'base de donnée JCO '!F$173:F$1080,I33,'base de donnée JCO '!G$173:G$1080,J33) -> 0 | W33: =F33*G33 -> 0 | X33: =W33*SUMIFS('base de donnée JCO '!J$173:J$1080,'base de donnée JCO '!F$173:F$1080,I33,'base de donnée JCO '!G$173:G$1080,J33) -> 0 | Z33: =IF(ISBLANK(I33),"",IF(COUNTIF(I33,"*BOMBE_50MM*"),IF(COUNTIF(K33,"*TR*"),IF(G33>=6,F33*1,0.5*F33),""),"")) | AA33: =IF(ISBLANK(I33),"",IF(COUNTIF(I33,"*BOMBE_50MM*"),IF(COUNTIF(K33,"*\*"),IF(G33>1,F33*1,""),""),"")) | AB33: =IF(ISBLANK(I33),"",IF(COUNTIF(I33,"*BOMBE_50MM*"),IF(G33=1,F33,""),"")) | AD33: =IF(ISBLANK(I33),"",IF(COUNTIF(I33,"*BOMBE_75MM*"),IF(G33=1,F33,""),"")) | AE33: =IF(ISBLANK(I33),"",IF(COUNTIF(I33,"*BOMBE_75MM*"),IF(COUNTIF(K33,"*TR*"),IF(G33<=5,F33,""),""),"")) | AF33: =IF(ISBLANK(I33),"",IF(COUNTIF(I33,"*BOMBE_75MM*"),IF(COUNTIF(K33,"*TR*"),IF(G33>5,F33,""),""),"")) | AG33: =IF(ISBLANK(I33),"",IF(COUNTIF(I33,"*BOMBE_75MM*"),IF(COUNTIF(K33,"*\*"),IF(AND(G33<=3,G33>=2),F33,""),""),"")) | AH33: =IF(ISBLANK(I33),"",IF(COUNTIF(I33,"*BOMBE_75MM*"),IF(COUNTIF(K33,"*\*"),IF(AND(G33<=7,G33>=4),F33,""),""),"")) | AJ33: =IF(ISBLANK(I33),"",IF(COUNTIF(I33,"*BOMBE_100MM*"),IF(G33=1,F33,""),"")) | AK33: =IF(ISBLANK(I33),"",IF(COUNTIF(I33,"*BOMBE_100MM*"),IF(COUNTIF(K33,"*TR*"),IF(G33<=5,F33,F33*2),""),"")) | AL33: =IF(ISBLANK(I33),"",IF(COUNTIF(I33,"*BOMBE_100MM*"),IF(COUNTIF(K33,"*\*"),IF(AND(G33<=3,G33>=2),F33,""),""),"")) | AM33: =IF(ISBLANK(I33),"",IF(COUNTIF(I33,"*BOMBE_100MM*"),IF(COUNTIF(K33,"*\*"),IF(AND(G33<=5,G33>=4),F33,""),""),"")) | AO33: =IF(ISBLANK(I33),"",IF(COUNTIF(I33,"*BOMBE_125MM*"),IF(G33=1,F33,""),"")) | AP33: =IF(ISBLANK(I33),"",IF(COUNTIF(I33,"*BOMBE_125MM*"),IF(COUNTIF(K33,"*TR*"),IF(G33<=5,F33,""),""),"")) | AQ33: =IF(ISBLANK(I33),"",IF(COUNTIF(I33,"*BOMBE_125MM*"),IF(COUNTIF(K33,"*\*"),IF(AND(G33<=3,G33>=2),F33,""),""),"")) | AS33: =IF(ISBLANK(I33),"",IF(COUNTIF(I33,"*BOMBE_150MM*"),IF(G33=1,F33,""),"")) | AT33: =IF(ISBLANK(I33),"",IF(COUNTIF(I33,"*BOMBE_150MM*"),IF(COUNTIF(K33,"*TR*"),IF(G33<=4,F33,""),""),"")) | AU33: =IF(ISBLANK(I33),"",IF(COUNTIF(I33,"*BOMBE_150MM*"),IF(COUNTIF(K33,"*\*"),IF(AND(G33<=3,G33>=2),F33,""),""),"")) | AW33: =IF(ISBLANK(I33),"",IF(COUNTIF(I33,"*BOMBE_200MM*"),F33*G33,"")) | AY33: =IF(ISBLANK(I33),"",IF(COUNTIF(I33,"*BOMBE_*"),F33*20,F33*15)) | AZ33: =IF(ISBLANK(I33),"",IF(COUNTIF(I33,"*BOMBE_*"),F33*15,F33*10)) | BA33: =IF(ISBLANK(I33),"",IF(COUNTIF(I33,"*BOMBE_*"),F33*10,F33*5))
N34: =IF(ISBLANK(I34),"",IF(COUNTIF(I34,"*bombe*"),(G34-1)*SUMIF('base de donnée JCO '!C$3:C$10,K34,'base de donnée JCO '!D$3:D$10)+SUMIF(entete,L34,'base de donnée JCO '!D$14:D$20),SUMIFS('base de donnée JCO '!I$173:I$1080,'base de donnée JCO '!F$173:F$1080,I34,'base de donnée JCO '!G$173:G$1080,J34))) | O34: =IF(ISBLANK(I34),"",IF(ISBLANK(D34),D32+N34,D34+N34)) | V34: =W34*SUMIFS('base de donnée JCO '!H$173:H$1080,'base de donnée JCO '!F$173:F$1080,I34,'base de donnée JCO '!G$173:G$1080,J34) -> 0 | W34: =F34*G34 -> 0 | X34: =W34*SUMIFS('base de donnée JCO '!J$173:J$1080,'base de donnée JCO '!F$173:F$1080,I34,'base de donnée JCO '!G$173:G$1080,J34) -> 0 | Z34: =IF(ISBLANK(I34),"",IF(COUNTIF(I34,"*BOMBE_50MM*"),IF(COUNTIF(K34,"*TR*"),IF(G34>=6,F34*1,0.5*F34),""),"")) | AA34: =IF(ISBLANK(I34),"",IF(COUNTIF(I34,"*BOMBE_50MM*"),IF(COUNTIF(K34,"*\*"),IF(G34>1,F34*1,""),""),"")) | AB34: =IF(ISBLANK(I34),"",IF(COUNTIF(I34,"*BOMBE_50MM*"),IF(G34=1,F34,""),"")) | AD34: =IF(ISBLANK(I34),"",IF(COUNTIF(I34,"*BOMBE_75MM*"),IF(G34=1,F34,""),"")) | AE34: =IF(ISBLANK(I34),"",IF(COUNTIF(I34,"*BOMBE_75MM*"),IF(COUNTIF(K34,"*TR*"),IF(G34<=5,F34,""),""),"")) | AF34: =IF(ISBLANK(I34),"",IF(COUNTIF(I34,"*BOMBE_75MM*"),IF(COUNTIF(K34,"*TR*"),IF(G34>5,F34,""),""),"")) | AG34: =IF(ISBLANK(I34),"",IF(COUNTIF(I34,"*BOMBE_75MM*"),IF(COUNTIF(K34,"*\*"),IF(AND(G34<=3,G34>=2),F34,""),""),"")) | AH34: =IF(ISBLANK(I34),"",IF(COUNTIF(I34,"*BOMBE_75MM*"),IF(COUNTIF(K34,"*\*"),IF(AND(G34<=7,G34>=4),F34,""),""),"")) | AJ34: =IF(ISBLANK(I34),"",IF(COUNTIF(I34,"*BOMBE_100MM*"),IF(G34=1,F34,""),"")) | AK34: =IF(ISBLANK(I34),"",IF(COUNTIF(I34,"*BOMBE_100MM*"),IF(COUNTIF(K34,"*TR*"),IF(G34<=5,F34,F34*2),""),"")) | AL34: =IF(ISBLANK(I34),"",IF(COUNTIF(I34,"*BOMBE_100MM*"),IF(COUNTIF(K34,"*\*"),IF(AND(G34<=3,G34>=2),F34,""),""),"")) | AM34: =IF(ISBLANK(I34),"",IF(COUNTIF(I34,"*BOMBE_100MM*"),IF(COUNTIF(K34,"*\*"),IF(AND(G34<=5,G34>=4),F34,""),""),"")) | AO34: =IF(ISBLANK(I34),"",IF(COUNTIF(I34,"*BOMBE_125MM*"),IF(G34=1,F34,""),"")) | AP34: =IF(ISBLANK(I34),"",IF(COUNTIF(I34,"*BOMBE_125MM*"),IF(COUNTIF(K34,"*TR*"),IF(G34<=5,F34,""),""),"")) | AQ34: =IF(ISBLANK(I34),"",IF(COUNTIF(I34,"*BOMBE_125MM*"),IF(COUNTIF(K34,"*\*"),IF(AND(G34<=3,G34>=2),F34,""),""),"")) | AS34: =IF(ISBLANK(I34),"",IF(COUNTIF(I34,"*BOMBE_150MM*"),IF(G34=1,F34,""),"")) | AT34: =IF(ISBLANK(I34),"",IF(COUNTIF(I34,"*BOMBE_150MM*"),IF(COUNTIF(K34,"*TR*"),IF(G34<=4,F34,""),""),"")) | AU34: =IF(ISBLANK(I34),"",IF(COUNTIF(I34,"*BOMBE_150MM*"),IF(COUNTIF(K34,"*\*"),IF(AND(G34<=3,G34>=2),F34,""),""),"")) | AW34: =IF(ISBLANK(I34),"",IF(COUNTIF(I34,"*BOMBE_200MM*"),F34*G34,"")) | AY34: =IF(ISBLANK(I34),"",IF(COUNTIF(I34,"*BOMBE_*"),F34*20,F34*15)) | AZ34: =IF(ISBLANK(I34),"",IF(COUNTIF(I34,"*BOMBE_*"),F34*15,F34*10)) | BA34: =IF(ISBLANK(I34),"",IF(COUNTIF(I34,"*BOMBE_*"),F34*10,F34*5))
