Workbook
Name bengale_lance_décor: 'base de donnée JCO '!$AI$5:$AI$18
Name bombe_100mm: 'base de donnée JCO '!$H$5:$H$155
Name bombe_125mm: 'base de donnée JCO '!$I$5:$I$88
Name bombe_150mm: 'base de donnée JCO '!$J$5:$J$79
Name bombe_200mm: 'base de donnée JCO '!$K$5:$K$15
Name bombe_50mm: 'base de donnée JCO '!$F$5:$F$18
Name bombe_75mm: 'base de donnée JCO '!$G$5:$G$134
Name botte_de_chandelles: 'base de donnée JCO '!$M$5:$M$35
Name chandelle_20mm: 'base de donnée JCO '!$N$5:$N$9
Name chandelle_25mm: 'base de donnée JCO '!$O$5:$O$17
Name chandelle_30mm: 'base de donnée JCO '!$P$5:$P$40
Name chandelle_40mm: 'base de donnée JCO '!$Q$5:$Q$18
Name chandelle_45mm: 'base de donnée JCO '!$R$5:$R$24
Name chandelle_50mm: 'base de donnée JCO '!$S$5:$S$11
Name compact_19cps_30mm: 'base de donnée JCO '!$U$5:$U$29
Name compact_21cps_30mm: 'base de donnée JCO '!$V$5:$V$25
Name compact_25cps_30mm: 'base de donnée JCO '!$W$5:$W$7
Name compact_36cps_30mm: 'base de donnée JCO '!$X$5:$X$34
Name compact_49cps_30mm: 'base de donnée JCO '!$Y$5:$Y$30
Name compact_divers: 'base de donnée JCO '!$Z$5:$Z$42
Name date: 'plan de tir'!$C$11:$G$11
Name entete: 'base de donnée JCO '!$C$14:$C$20
Name Fontaine_jet: 'base de donnée JCO '!$AH$5:$AH$24
Name incli: 'base de donnée JCO '!$C$24:$C$29
Name mono_coup_20mm: 'base de donnée JCO '!$AD$5:$AD$13
Name mono_coup_30mm: 'base de donnée JCO '!$AE$5:$AE$29
Name mono_coup_45mm: 'base de donnée JCO '!$AF$5:$AF$32
Name pyroshow: 'base de donnée JCO '!$AA$5:$AA$22
Name rangée_30mm: 'base de donnée JCO '!$AB$5:$AB$33
Name régie: 'base de donnée JCO '!$C$37:$C$39
Name theme: 'plan de tir'!$C$7:$G$7
Name TR: 'base de donnée JCO '!$C$3:$C$13
Name type: 'base de donnée JCO '!$F$4:$AI$4
Name TYPE_PRODUITS: stat!#REF!
Name TYPE_PRODUITS: 'plan de tir'!#REF!
Name Vieilles_Charrues: 'sortie de stock'!$B$4:$C$4='plan de tir'!$C$3+'sortie de stock'!$B$4:$C$4

Sheet plan de tir
A3: Ville: | C3: test | I3: DS MAX :
A7: Thème: | C7: Meddley Bowie | I7: Calibre MAX : | J7: 150 mm
A11: Date: | C11: 42565 | I11: Durée : | J11: 5'
A14: LIGNE | B14: SEQ | C14: x | D14: TIME | E14: x | F14: Poste | G14: QTE | H14: x | I14: Famille | J14: PYROTECHNIE | K14: Montage | L14: en tete | N14: Durée | O14: Fin | Q14: Implantation | V14: prix | W14: qte | X14: pyro | Z14: caisse de 10 b 50 mm | AA14: envolée de 5 b 50 mm | AB14: mortiers 50 uni | AD14: mortiers 75 uni | AE14: caisse de 5 b 75 | AF14: caisse de 10 b 75 | AG14: envolée de 3 b 75 | AH14: envolée de 7 b 75 | AJ14: mortiers 100 uni | AK14: caisse de 5 b 100 | AL14: envolée de 3 b 100 | AM14: envolée de 5 b 100 | AO14: mortiers 125 uni | AP14: caisse de 5 b 125 | AQ14: envolée de 3 b 125 | AS14: mortiers 150 uni | AT14: caisse de 4 b 150 | AU14: envolée de 3 b 150 | AW14: mortiers 200 uni | AY14: trad | AZ14: V40 | BA14: XL3
A16: 1 | D16: 2.3148148e-05 | F16: 1 | G16: 1 | I16: bombe_75mm | J16: Planète multicolore | K16: I | N16: =IF(ISBLANK(I16),"",IF(COUNTIF(I16,"*bombe*"),(G16-1)*SUMIF('base de donnée JCO '!C$3:C$10,K16,'base de donnée JCO '!D$3:D$10)+SUMIF(entete,L16,'base de donnée JCO '!D$14:D$20),SUMIFS('base de donnée JCO '!I$173:I$1080,'base de donnée JCO '!F$173:F$1080,I16,'base de donnée JCO '!G$173:G$1080,J16))) -> 0 | O16: =IF(ISBLANK(I16),"",IF(ISBLANK(D16),#REF!+N16,D16+N16)) -> 2.3148148e-05 | V16: =W16*SUMIFS('base de donnée JCO '!H$173:H$1080,'base de donnée JCO '!F$173:F$1080,I16,'base de donnée JCO '!G$173:G$1080,J16) -> 0 | W16: =F16*G16 -> 1 | X16: =W16*SUMIFS('base de donnée JCO '!J$173:J$1080,'base de donnée JCO '!F$173:F$1080,I16,'base de donnée JCO '!G$173:G$1080,J16) -> 0 | Z16: =IF(ISBLANK(I16),"",IF(COUNTIF(I16,"*BOMBE_50MM*"),IF(COUNTIF(K16,"*TR*"),IF(G16>=6,F16*1,0.5*F16),""),"")) | AA16: =IF(ISBLANK(I16),"",IF(COUNTIF(I16,"*BOMBE_50MM*"),IF(COUNTIF(K16,"*\*"),IF(G16>1,F16*1,""),""),"")) | AB16: =IF(ISBLANK(I16),"",IF(COUNTIF(I16,"*BOMBE_50MM*"),IF(G16=1,F16,""),"")) | AD16: =IF(ISBLANK(I16),"",IF(COUNTIF(I16,"*BOMBE_75MM*"),IF(G16=1,F16,""),"")) -> 1 | AE16: =IF(ISBLANK(I16),"",IF(COUNTIF(I16,"*BOMBE_75MM*"),IF(COUNTIF(K16,"*TR*"),IF(G16<=5,F16,""),""),"")) | AF16: =IF(ISBLANK(I16),"",IF(COUNTIF(I16,"*BOMBE_75MM*"),IF(COUNTIF(K16,"*TR*"),IF(G16>5,F16,""),""),"")) | AG16: =IF(ISBLANK(I16),"",IF(COUNTIF(I16,"*BOMBE_75MM*"),IF(COUNTIF(K16,"*\*"),IF(AND(G16<=3,G16>=2),F16,""),""),"")) | AH16: =IF(ISBLANK(I16),"",IF(COUNTIF(I16,"*BOMBE_75MM*"),IF(COUNTIF(K16,"*\*"),IF(AND(G16<=7,G16>=4),F16,""),""),"")) | AJ16: =IF(ISBLANK(I16),"",IF(COUNTIF(I16,"*BOMBE_100MM*"),IF(G16=1,F16,""),"")) | AK16: =IF(ISBLANK(I16),"",IF(COUNTIF(I16,"*BOMBE_100MM*"),IF(COUNTIF(K16,"*TR*"),IF(G16<=5,F16,F16*2),""),"")) | AL16: =IF(ISBLANK(I16),"",IF(COUNTIF(I16,"*BOMBE_100MM*"),IF(COUNTIF(K16,"*\*"),IF(AND(G16<=3,G16>=2),F16,""),""),"")) | AM16: =IF(ISBLANK(I16),"",IF(COUNTIF(I16,"*BOMBE_100MM*"),IF(COUNTIF(K16,"*\*"),IF(AND(G16<=5,G16>=4),F16,""),""),"")) | AO16: =IF(ISBLANK(I16),"",IF(COUNTIF(I16,"*BOMBE_125MM*"),IF(G16=1,F16,""),"")) | AP16: =IF(ISBLANK(I16),"",IF(COUNTIF(I16,"*BOMBE_125MM*"),IF(COUNTIF(K16,"*TR*"),IF(G16<=5,F16,""),""),"")) | AQ16: =IF(ISBLANK(I16),"",IF(COUNTIF(I16,"*BOMBE_125MM*"),IF(COUNTIF(K16,"*\*"),IF(AND(G16<=3,G16>=2),F16,""),""),"")) | AS16: =IF(ISBLANK(I16),"",IF(COUNTIF(I16,"*BOMBE_150MM*"),IF(G16=1,F16,""),"")) | AT16: =IF(ISBLANK(I16),"",IF(COUNTIF(I16,"*BOMBE_150MM*"),IF(COUNTIF(K16,"*TR*"),IF(G16<=4,F16,""),""),"")) | AU16: =IF(ISBLANK(I16),"",IF(COUNTIF(I16,"*BOMBE_150MM*"),IF(COUNTIF(K16,"*\*"),IF(AND(G16<=3,G16>=2),F16,""),""),"")) | AW16: =IF(ISBLANK(I16),"",IF(COUNTIF(I16,"*BOMBE_200MM*"),F16*G16,"")) | AY16: =IF(ISBLANK(I16),"",IF(COUNTIF(I16,"*BOMBE_*"),F16*20,F16*15)) -> 20 | AZ16: =IF(ISBLANK(I16),"",IF(COUNTIF(I16,"*BOMBE_*"),F16*15,F16*10)) -> 15 | BA16: =IF(ISBLANK(I16),"",IF(COUNTIF(I16,"*BOMBE_*"),F16*10,F16*5)) -> 10
J17: Musique 1 | V17: =W17*SUMIFS('base de donnée JCO '!H$173:H$1080,'base de donnée JCO '!F$173:F$1080,I17,'base de donnée JCO '!G$173:G$1080,J17) -> 0 | W17: =F17*G17 -> 0 | X17: =W17*SUMIFS('base de donnée JCO '!J$173:J$1080,'base de donnée JCO '!F$173:F$1080,I17,'base de donnée JCO '!G$173:G$1080,J17) -> 0 | Z17: =IF(ISBLANK(I17),"",IF(COUNTIF(I17,"*BOMBE_50MM*"),IF(COUNTIF(K17,"*TR*"),IF(G17>=6,F17*1,0.5*F17),""),"")) | AA17: =IF(ISBLANK(I17),"",IF(COUNTIF(I17,"*BOMBE_50MM*"),IF(COUNTIF(K17,"*\*"),IF(G17>1,F17*1,""),""),"")) | AB17: =IF(ISBLANK(I17),"",IF(COUNTIF(I17,"*BOMBE_50MM*"),IF(G17=1,F17,""),"")) | AD17: =IF(ISBLANK(I17),"",IF(COUNTIF(I17,"*BOMBE_75MM*"),IF(G17=1,F17,""),"")) | AE17: =IF(ISBLANK(I17),"",IF(COUNTIF(I17,"*BOMBE_75MM*"),IF(COUNTIF(K17,"*TR*"),IF(G17<=5,F17,""),""),"")) | AF17: =IF(ISBLANK(I17),"",IF(COUNTIF(I17,"*BOMBE_75MM*"),IF(COUNTIF(K17,"*TR*"),IF(G17>5,F17,""),""),"")) | AG17: =IF(ISBLANK(I17),"",IF(COUNTIF(I17,"*BOMBE_75MM*"),IF(COUNTIF(K17,"*\*"),IF(AND(G17<=3,G17>=2),F17,""),""),"")) | AH17: =IF(ISBLANK(I17),"",IF(COUNTIF(I17,"*BOMBE_75MM*"),IF(COUNTIF(K17,"*\*"),IF(AND(G17<=7,G17>=4),F17,""),""),"")) | AJ17: =IF(ISBLANK(I17),"",IF(COUNTIF(I17,"*BOMBE_100MM*"),IF(G17=1,F17,""),"")) | AK17: =IF(ISBLANK(I17),"",IF(COUNTIF(I17,"*BOMBE_100MM*"),IF(COUNTIF(K17,"*TR*"),IF(G17<=5,F17,F17*2),""),"")) | AL17: =IF(ISBLANK(I17),"",IF(COUNTIF(I17,"*BOMBE_100MM*"),IF(COUNTIF(K17,"*\*"),IF(AND(G17<=3,G17>=2),F17,""),""),"")) | AM17: =IF(ISBLANK(I17),"",IF(COUNTIF(I17,"*BOMBE_100MM*"),IF(COUNTIF(K17,"*\*"),IF(AND(G17<=5,G17>=4),F17,""),""),"")) | AO17: =IF(ISBLANK(I17),"",IF(COUNTIF(I17,"*BOMBE_125MM*"),IF(G17=1,F17,""),"")) | AP17: =IF(ISBLANK(I17),"",IF(COUNTIF(I17,"*BOMBE_125MM*"),IF(COUNTIF(K17,"*TR*"),IF(G17<=5,F17,""),""),"")) | AQ17: =IF(ISBLANK(I17),"",IF(COUNTIF(I17,"*BOMBE_125MM*"),IF(COUNTIF(K17,"*\*"),IF(AND(G17<=3,G17>=2),F17,""),""),"")) | AS17: =IF(ISBLANK(I17),"",IF(COUNTIF(I17,"*BOMBE_150MM*"),IF(G17=1,F17,""),"")) | AT17: =IF(ISBLANK(I17),"",IF(COUNTIF(I17,"*BOMBE_150MM*"),IF(COUNTIF(K17,"*TR*"),IF(G17<=4,F17,""),""),"")) | AU17: =IF(ISBLANK(I17),"",IF(COUNTIF(I17,"*BOMBE_150MM*"),IF(COUNTIF(K17,"*\*"),IF(AND(G17<=3,G17>=2),F17,""),""),"")) | AW17: =IF(ISBLANK(I17),"",IF(COUNTIF(I17,"*BOMBE_200MM*"),F17*G17,"")) | AY17: =IF(ISBLANK(I17),"",IF(COUNTIF(I17,"*BOMBE_*"),F17*20,F17*15)) | AZ17: =IF(ISBLANK(I17),"",IF(COUNTIF(I17,"*BOMBE_*"),F17*15,F17*10)) | BA17: =IF(ISBLANK(I17),"",IF(COUNTIF(I17,"*BOMBE_*"),F17*10,F17*5))
A18: 2 | D18: 0.0006712963 | F18: 1 | G18: 7 | I18: rangée_30mm | J18: 9 serpentins / com violet UP | K18: \ / | L18: 10''T | N18: =IF(ISBLANK(I18),"",IF(COUNTIF(I18,"*bombe*"),(G18-1)*SUMIF('base de donnée JCO '!C$3:C$10,K18,'base de donnée JCO '!D$3:D$10)+SUMIF(entete,L18,'base de donnée JCO '!D$14:D$20),SUMIFS('base de donnée JCO '!I$173:I$1080,'base de donnée JCO '!F$173:F$1080,I18,'base de donnée JCO '!G$173:G$1080,J18))) -> 0 | O18: =IF(ISBLANK(I18),"",IF(ISBLANK(D18),D17+N18,D18+N18)) -> 0.0006712963 | V18: =W18*SUMIFS('base de donnée JCO '!H$173:H$1080,'base de donnée JCO '!F$173:F$1080,I18,'base de donnée JCO '!G$173:G$1080,J18) -> 0 | W18: =F18*G18 -> 7 | X18: =W18*SUMIFS('base de donnée JCO '!J$173:J$1080,'base de donnée JCO '!F$173:F$1080,I18,'base de donnée JCO '!G$173:G$1080,J18) -> 0 | Z18: =IF(ISBLANK(I18),"",IF(COUNTIF(I18,"*BOMBE_50MM*"),IF(COUNTIF(K18,"*TR*"),IF(G18>=6,F18*1,0.5*F18),""),"")) | AA18: =IF(ISBLANK(I18),"",IF(COUNTIF(I18,"*BOMBE_50MM*"),IF(COUNTIF(K18,"*\*"),IF(G18>1,F18*1,""),""),"")) | AB18: =IF(ISBLANK(I18),"",IF(COUNTIF(I18,"*BOMBE_50MM*"),IF(G18=1,F18,""),"")) | AD18: =IF(ISBLANK(I18),"",IF(COUNTIF(I18,"*BOMBE_75MM*"),IF(G18=1,F18,""),"")) | AE18: =IF(ISBLANK(I18),"",IF(COUNTIF(I18,"*BOMBE_75MM*"),IF(COUNTIF(K18,"*TR*"),IF(G18<=5,F18,""),""),"")) | AF18: =IF(ISBLANK(I18),"",IF(COUNTIF(I18,"*BOMBE_75MM*"),IF(COUNTIF(K18,"*TR*"),IF(G18>5,F18,""),""),"")) | AG18: =IF(ISBLANK(I18),"",IF(COUNTIF(I18,"*BOMBE_75MM*"),IF(COUNTIF(K18,"*\*"),IF(AND(G18<=3,G18>=2),F18,""),""),"")) | AH18: =IF(ISBLANK(I18),"",IF(COUNTIF(I18,"*BOMBE_75MM*"),IF(COUNTIF(K18,"*\*"),IF(AND(G18<=7,G18>=4),F18,""),""),"")) | AJ18: =IF(ISBLANK(I18),"",IF(COUNTIF(I18,"*BOMBE_100MM*"),IF(G18=1,F18,""),"")) | AK18: =IF(ISBLANK(I18),"",IF(COUNTIF(I18,"*BOMBE_100MM*"),IF(COUNTIF(K18,"*TR*"),IF(G18<=5,F18,F18*2),""),"")) | AL18: =IF(ISBLANK(I18),"",IF(COUNTIF(I18,"*BOMBE_100MM*"),IF(COUNTIF(K18,"*\*"),IF(AND(G18<=3,G18>=2),F18,""),""),"")) | AM18: =IF(ISBLANK(I18),"",IF(COUNTIF(I18,"*BOMBE_100MM*"),IF(COUNTIF(K18,"*\*"),IF(AND(G18<=5,G18>=4),F18,""),""),"")) | AO18: =IF(ISBLANK(I18),"",IF(COUNTIF(I18,"*BOMBE_125MM*"),IF(G18=1,F18,""),"")) | AP18: =IF(ISBLANK(I18),"",IF(COUNTIF(I18,"*BOMBE_125MM*"),IF(COUNTIF(K18,"*TR*"),IF(G18<=5,F18,""),""),"")) | AQ18: =IF(ISBLANK(I18),"",IF(COUNTIF(I18,"*BOMBE_125MM*"),IF(COUNTIF(K18,"*\*"),IF(AND(G18<=3,G18>=2),F18,""),""),"")) | AS18: =IF(ISBLANK(I18),"",IF(COUNTIF(I18,"*BOMBE_150MM*"),IF(G18=1,F18,""),"")) | AT18: =IF(ISBLANK(I18),"",IF(COUNTIF(I18,"*BOMBE_150MM*"),IF(COUNTIF(K18,"*TR*"),IF(G18<=4,F18,""),""),"")) | AU18: =IF(ISBLANK(I18),"",IF(COUNTIF(I18,"*BOMBE_150MM*"),IF(COUNTIF(K18,"*\*"),IF(AND(G18<=3,G18>=2),F18,""),""),"")) | AW18: =IF(ISBLANK(I18),"",IF(COUNTIF(I18,"*BOMBE_200MM*"),F18*G18,"")) | AY18: =IF(ISBLANK(I18),"",IF(COUNTIF(I18,"*BOMBE_*"),F18*20,F18*15)) -> 15 | AZ18: =IF(ISBLANK(I18),"",IF(COUNTIF(I18,"*BOMBE_*"),F18*15,F18*10)) -> 10 | BA18: =IF(ISBLANK(I18),"",IF(COUNTIF(I18,"*BOMBE_*"),F18*10,F18*5)) -> 5
A19: 199 | D19: 0.0006712963 | F19: 10 | G19: 1 | I19: bombe_75mm | J19: Phénomène bleu | K19: \ I / | L19: 2''T | N19: =IF(ISBLANK(I19),"",IF(COUNTIF(I19,"*bombe*"),(G19-1)*SUMIF('base de donnée JCO '!C$3:C$10,K19,'base de donnée JCO '!D$3:D$10)+SUMIF(entete,L19,'base de donnée JCO '!D$14:D$20),SUMIFS('base de donnée JCO '!I$173:I$1080,'base de donnée JCO '!F$173:F$1080,I19,'base de donnée JCO '!G$173:G$1080,J19))) -> 2.0000231 | O19: =IF(ISBLANK(I19),"",IF(ISBLANK(D19),D18+N19,D19+N19)) -> 2.0006944 | V19: =W19*SUMIFS('base de donnée JCO '!H$173:H$1080,'base de donnée JCO '!F$173:F$1080,I19,'base de donnée JCO '!G$173:G$1080,J19) -> 0 | W19: =F19*G19 -> 10 | X19: =W19*SUMIFS('base de donnée JCO '!J$173:J$1080,'base de donnée JCO '!F$173:F$1080,I19,'base de donnée JCO '!G$173:G$1080,J19) -> 0 | Z19: =IF(ISBLANK(I19),"",IF(COUNTIF(I19,"*BOMBE_50MM*"),IF(COUNTIF(K19,"*TR*"),IF(G19>=6,F19*1,0.5*F19),""),"")) | AA19: =IF(ISBLANK(I19),"",IF(COUNTIF(I19,"*BOMBE_50MM*"),IF(COUNTIF(K19,"*\*"),IF(G19>1,F19*1,""),""),"")) | AB19: =IF(ISBLANK(I19),"",IF(COUNTIF(I19,"*BOMBE_50MM*"),IF(G19=1,F19,""),"")) | AD19: =IF(ISBLANK(I19),"",IF(COUNTIF(I19,"*BOMBE_75MM*"),IF(G19=1,F19,""),"")) -> 10 | AE19: =IF(ISBLANK(I19),"",IF(COUNTIF(I19,"*BOMBE_75MM*"),IF(COUNTIF(K19,"*TR*"),IF(G19<=5,F19,""),""),"")) | AF19: =IF(ISBLANK(I19),"",IF(COUNTIF(I19,"*BOMBE_75MM*"),IF(COUNTIF(K19,"*TR*"),IF(G19>5,F19,""),""),"")) | AG19: =IF(ISBLANK(I19),"",IF(COUNTIF(I19,"*BOMBE_75MM*"),IF(COUNTIF(K19,"*\*"),IF(AND(G19<=3,G19>=2),F19,""),""),"")) | AH19: =IF(ISBLANK(I19),"",IF(COUNTIF(I19,"*BOMBE_75MM*"),IF(COUNTIF(K19,"*\*"),IF(AND(G19<=7,G19>=4),F19,""),""),"")) | AJ19: =IF(ISBLANK(I19),"",IF(COUNTIF(I19,"*BOMBE_100MM*"),IF(G19=1,F19,""),"")) | AK19: =IF(ISBLANK(I19),"",IF(COUNTIF(I19,"*BOMBE_100MM*"),IF(COUNTIF(K19,"*TR*"),IF(G19<=5,F19,F19*2),""),"")) | AL19: =IF(ISBLANK(I19),"",IF(COUNTIF(I19,"*BOMBE_100MM*"),IF(COUNTIF(K19,"*\*"),IF(AND(G19<=3,G19>=2),F19,""),""),"")) | AM19: =IF(ISBLANK(I19),"",IF(COUNTIF(I19,"*BOMBE_100MM*"),IF(COUNTIF(K19,"*\*"),IF(AND(G19<=5,G19>=4),F19,""),""),"")) | AO19: =IF(ISBLANK(I19),"",IF(COUNTIF(I19,"*BOMBE_125MM*"),IF(G19=1,F19,""),"")) | AP19: =IF(ISBLANK(I19),"",IF(COUNTIF(I19,"*BOMBE_125MM*"),IF(COUNTIF(K19,"*TR*"),IF(G19<=5,F19,""),""),"")) | AQ19: =IF(ISBLANK(I19),"",IF(COUNTIF(I19,"*BOMBE_125MM*"),IF(COUNTIF(K19,"*\*"),IF(AND(G19<=3,G19>=2),F19,""),""),"")) | AS19: =IF(ISBLANK(I19),"",IF(COUNTIF(I19,"*BOMBE_150MM*"),IF(G19=1,F19,""),"")) | AT19: =IF(ISBLANK(I19),"",IF(COUNTIF(I19,"*BOMBE_150MM*"),IF(COUNTIF(K19,"*TR*"),IF(G19<=4,F19,""),""),"")) | AU19: =IF(ISBLANK(I19),"",IF(COUNTIF(I19,"*BOMBE_150MM*"),IF(COUNTIF(K19,"*\*"),IF(AND(G19<=3,G19>=2),F19,""),""),"")) | AW19: =IF(ISBLANK(I19),"",IF(COUNTIF(I19,"*BOMBE_200MM*"),F19*G19,"")) | AY19: =IF(ISBLANK(I19),"",IF(COUNTIF(I19,"*BOMBE_*"),F19*20,F19*15)) -> 200 | AZ19: =IF(ISBLANK(I19),"",IF(COUNTIF(I19,"*BOMBE_*"),F19*15,F19*10)) -> 150 | BA19: =IF(ISBLANK(I19),"",IF(COUNTIF(I19,"*BOMBE_*"),F19*10,F19*5)) -> 100
N20: =IF(ISBLANK(I20),"",IF(COUNTIF(I20,"*bombe*"),(G20-1)*SUMIF('base de donnée JCO '!C$3:C$10,K20,'base de donnée JCO '!D$3:D$10)+SUMIF(entete,L20,'base de donnée JCO '!D$14:D$20),SUMIFS('base de donnée JCO '!I$173:I$1080,'base de donnée JCO '!F$173:F$1080,I20,'base de donnée JCO '!G$173:G$1080,J20))) | O20: =IF(ISBLANK(I20),"",IF(ISBLANK(D20),D19+N20,D20+N20)) | S20: fen | V20: =W20*SUMIFS('base de donnée JCO '!H$173:H$1080,'base de donnée JCO '!F$173:F$1080,I20,'base de donnée JCO '!G$173:G$1080,J20) -> 0 | W20: =F20*G20 -> 0 | X20: =W20*SUMIFS('base de donnée JCO '!J$173:J$1080,'base de donnée JCO '!F$173:F$1080,I20,'base de donnée JCO '!G$173:G$1080,J20) -> 0 | Z20: =IF(ISBLANK(I20),"",IF(COUNTIF(I20,"*BOMBE_50MM*"),IF(COUNTIF(K20,"*TR*"),IF(G20>=6,F20*1,0.5*F20),""),"")) | AA20: =IF(ISBLANK(I20),"",IF(COUNTIF(I20,"*BOMBE_50MM*"),IF(COUNTIF(K20,"*\*"),IF(G20>1,F20*1,""),""),"")) | AB20: =IF(ISBLANK(I20),"",IF(COUNTIF(I20,"*BOMBE_50MM*"),IF(G20=1,F20,""),"")) | AD20: =IF(ISBLANK(I20),"",IF(COUNTIF(I20,"*BOMBE_75MM*"),IF(G20=1,F20,""),"")) | AE20: =IF(ISBLANK(I20),"",IF(COUNTIF(I20,"*BOMBE_75MM*"),IF(COUNTIF(K20,"*TR*"),IF(G20<=5,F20,""),""),"")) | AF20: =IF(ISBLANK(I20),"",IF(COUNTIF(I20,"*BOMBE_75MM*"),IF(COUNTIF(K20,"*TR*"),IF(G20>5,F20,""),""),"")) | AG20: =IF(ISBLANK(I20),"",IF(COUNTIF(I20,"*BOMBE_75MM*"),IF(COUNTIF(K20,"*\*"),IF(AND(G20<=3,G20>=2),F20,""),""),"")) | AH20: =IF(ISBLANK(I20),"",IF(COUNTIF(I20,"*BOMBE_75MM*"),IF(COUNTIF(K20,"*\*"),IF(AND(G20<=7,G20>=4),F20,""),""),"")) | AJ20: =IF(ISBLANK(I20),"",IF(COUNTIF(I20,"*BOMBE_100MM*"),IF(G20=1,F20,""),"")) | AK20: =IF(ISBLANK(I20),"",IF(COUNTIF(I20,"*BOMBE_100MM*"),IF(COUNTIF(K20,"*TR*"),IF(G20<=5,F20,F20*2),""),"")) | AL20: =IF(ISBLANK(I20),"",IF(COUNTIF(I20,"*BOMBE_100MM*"),IF(COUNTIF(K20,"*\*"),IF(AND(G20<=3,G20>=2),F20,""),""),"")) | AM20: =IF(ISBLANK(I20),"",IF(COUNTIF(I20,"*BOMBE_100MM*"),IF(COUNTIF(K20,"*\*"),IF(AND(G20<=5,G20>=4),F20,""),""),"")) | AO20: =IF(ISBLANK(I20),"",IF(COUNTIF(I20,"*BOMBE_125MM*"),IF(G20=1,F20,""),"")) | AP20: =IF(ISBLANK(I20),"",IF(COUNTIF(I20,"*BOMBE_125MM*"),IF(COUNTIF(K20,"*TR*"),IF(G20<=5,F20,""),""),"")) | AQ20: =IF(ISBLANK(I20),"",IF(COUNTIF(I20,"*BOMBE_125MM*"),IF(COUNTIF(K20,"*\*"),IF(AND(G20<=3,G20>=2),F20,""),""),"")) | AS20: =IF(ISBLANK(I20),"",IF(COUNTIF(I20,"*BOMBE_150MM*"),IF(G20=1,F20,""),"")) | AT20: =IF(ISBLANK(I20),"",IF(COUNTIF(I20,"*BOMBE_150MM*"),IF(COUNTIF(K20,"*TR*"),IF(G20<=4,F20,""),""),"")) | AU20: =IF(ISBLANK(I20),"",IF(COUNTIF(I20,"*BOMBE_150MM*"),IF(COUNTIF(K20,"*\*"),IF(AND(G20<=3,G20>=2),F20,""),""),"")) | AW20: =IF(ISBLANK(I20),"",IF(COUNTIF(I20,"*BOMBE_200MM*"),F20*G20,"")) | AY20: =IF(ISBLANK(I20),"",IF(COUNTIF(I20,"*BOMBE_*"),F20*20,F20*15)) | AZ20: =IF(ISBLANK(I20),"",IF(COUNTIF(I20,"*BOMBE_*"),F20*15,F20*10)) | BA20: =IF(ISBLANK(I20),"",IF(COUNTIF(I20,"*BOMBE_*"),F20*10,F20*5))
N21: =IF(ISBLANK(I21),"",IF(COUNTIF(I21,"*bombe*"),(G21-1)*SUMIF('base de donnée JCO '!C$3:C$10,K21,'base de donnée JCO '!D$3:D$10)+SUMIF(entete,L21,'base de donnée JCO '!D$14:D$20),SUMIFS('base de donnée JCO '!I$173:I$1080,'base de donnée JCO '!F$173:F$1080,I21,'base de donnée JCO '!G$173:G$1080,J21))) | O21: =IF(ISBLANK(I21),"",IF(ISBLANK(D21),#REF!+N21,D21+N21)) | V21: =W21*SUMIFS('base de donnée JCO '!H$173:H$1080,'base de donnée JCO '!F$173:F$1080,I21,'base de donnée JCO '!G$173:G$1080,J21) -> 0 | W21: =F21*G21 -> 0 | X21: =W21*SUMIFS('base de donnée JCO '!J$173:J$1080,'base de donnée JCO '!F$173:F$1080,I21,'base de donnée JCO '!G$173:G$1080,J21) -> 0 | Z21: =IF(ISBLANK(I21),"",IF(COUNTIF(I21,"*BOMBE_50MM*"),IF(COUNTIF(K21,"*TR*"),IF(G21>=6,F21*1,0.5*F21),""),"")) | AA21: =IF(ISBLANK(I21),"",IF(COUNTIF(I21,"*BOMBE_50MM*"),IF(COUNTIF(K21,"*\*"),IF(G21>1,F21*1,""),""),"")) | AB21: =IF(ISBLANK(I21),"",IF(COUNTIF(I21,"*BOMBE_50MM*"),IF(G21=1,F21,""),"")) | AD21: =IF(ISBLANK(I21),"",IF(COUNTIF(I21,"*BOMBE_75MM*"),IF(G21=1,F21,""),"")) | AE21: =IF(ISBLANK(I21),"",IF(COUNTIF(I21,"*BOMBE_75MM*"),IF(COUNTIF(K21,"*TR*"),IF(G21<=5,F21,""),""),"")) | AF21: =IF(ISBLANK(I21),"",IF(COUNTIF(I21,"*BOMBE_75MM*"),IF(COUNTIF(K21,"*TR*"),IF(G21>5,F21,""),""),"")) | AG21: =IF(ISBLANK(I21),"",IF(COUNTIF(I21,"*BOMBE_75MM*"),IF(COUNTIF(K21,"*\*"),IF(AND(G21<=3,G21>=2),F21,""),""),"")) | AH21: =IF(ISBLANK(I21),"",IF(COUNTIF(I21,"*BOMBE_75MM*"),IF(COUNTIF(K21,"*\*"),IF(AND(G21<=7,G21>=4),F21,""),""),"")) | AJ21: =IF(ISBLANK(I21),"",IF(COUNTIF(I21,"*BOMBE_100MM*"),IF(G21=1,F21,""),"")) | AK21: =IF(ISBLANK(I21),"",IF(COUNTIF(I21,"*BOMBE_100MM*"),IF(COUNTIF(K21,"*TR*"),IF(G21<=5,F21,F21*2),""),"")) | AL21: =IF(ISBLANK(I21),"",IF(COUNTIF(I21,"*BOMBE_100MM*"),IF(COUNTIF(K21,"*\*"),IF(AND(G21<=3,G21>=2),F21,""),""),"")) | AM21: =IF(ISBLANK(I21),"",IF(COUNTIF(I21,"*BOMBE_100MM*"),IF(COUNTIF(K21,"*\*"),IF(AND(G21<=5,G21>=4),F21,""),""),"")) | AO21: =IF(ISBLANK(I21),"",IF(COUNTIF(I21,"*BOMBE_125MM*"),IF(G21=1,F21,""),"")) | AP21: =IF(ISBLANK(I21),"",IF(COUNTIF(I21,"*BOMBE_125MM*"),IF(COUNTIF(K21,"*TR*"),IF(G21<=5,F21,""),""),"")) | AQ21: =IF(ISBLANK(I21),"",IF(COUNTIF(I21,"*BOMBE_125MM*"),IF(COUNTIF(K21,"*\*"),IF(AND(G21<=3,G21>=2),F21,""),""),"")) | AS21: =IF(ISBLANK(I21),"",IF(COUNTIF(I21,"*BOMBE_150MM*"),IF(G21=1,F21,""),"")) | AT21: =IF(ISBLANK(I21),"",IF(COUNTIF(I21,"*BOMBE_150MM*"),IF(COUNTIF(K21,"*TR*"),IF(G21<=4,F21,""),""),"")) | AU21: =IF(ISBLANK(I21),"",IF(COUNTIF(I21,"*BOMBE_150MM*"),IF(COUNTIF(K21,"*\*"),IF(AND(G21<=3,G21>=2),F21,""),""),"")) | AW21: =IF(ISBLANK(I21),"",IF(COUNTIF(I21,"*BOMBE_200MM*"),F21*G21,"")) | AY21: =IF(ISBLANK(I21),"",IF(COUNTIF(I21,"*BOMBE_*"),F21*20,F21*15)) | AZ21: =IF(ISBLANK(I21),"",IF(COUNTIF(I21,"*BOMBE_*"),F21*15,F21*10)) | BA21: =IF(ISBLANK(I21),"",IF(COUNTIF(I21,"*BOMBE_*"),F21*10,F21*5))
N22: =IF(ISBLANK(I22),"",IF(COUNTIF(I22,"*bombe*"),(G22-1)*SUMIF('base de donnée JCO '!C$3:C$10,K22,'base de donnée JCO '!D$3:D$10)+SUMIF(entete,L22,'base de donnée JCO '!D$14:D$20),SUMIFS('base de donnée JCO '!I$173:I$1080,'base de donnée JCO '!F$173:F$1080,I22,'base de donnée JCO '!G$173:G$1080,J22))) | O22: =IF(ISBLANK(I22),"",IF(ISBLANK(D22),D21+N22,D22+N22)) | Q22: X | U22: X | V22: =W22*SUMIFS('base de donnée JCO '!H$173:H$1080,'base de donnée JCO '!F$173:F$1080,I22,'base de donnée JCO '!G$173:G$1080,J22) -> 0 | W22: =F22*G22 -> 0 | X22: =W22*SUMIFS('base de donnée JCO '!J$173:J$1080,'base de donnée JCO '!F$173:F$1080,I22,'base de donnée JCO '!G$173:G$1080,J22) -> 0 | Z22: =IF(ISBLANK(I22),"",IF(COUNTIF(I22,"*BOMBE_50MM*"),IF(COUNTIF(K22,"*TR*"),IF(G22>=6,F22*1,0.5*F22),""),"")) | AA22: =IF(ISBLANK(I22),"",IF(COUNTIF(I22,"*BOMBE_50MM*"),IF(COUNTIF(K22,"*\*"),IF(G22>1,F22*1,""),""),"")) | AB22: =IF(ISBLANK(I22),"",IF(COUNTIF(I22,"*BOMBE_50MM*"),IF(G22=1,F22,""),"")) | AD22: =IF(ISBLANK(I22),"",IF(COUNTIF(I22,"*BOMBE_75MM*"),IF(G22=1,F22,""),"")) | AE22: =IF(ISBLANK(I22),"",IF(COUNTIF(I22,"*BOMBE_75MM*"),IF(COUNTIF(K22,"*TR*"),IF(G22<=5,F22,""),""),"")) | AF22: =IF(ISBLANK(I22),"",IF(COUNTIF(I22,"*BOMBE_75MM*"),IF(COUNTIF(K22,"*TR*"),IF(G22>5,F22,""),""),"")) | AG22: =IF(ISBLANK(I22),"",IF(COUNTIF(I22,"*BOMBE_75MM*"),IF(COUNTIF(K22,"*\*"),IF(AND(G22<=3,G22>=2),F22,""),""),"")) | AH22: =IF(ISBLANK(I22),"",IF(COUNTIF(I22,"*BOMBE_75MM*"),IF(COUNTIF(K22,"*\*"),IF(AND(G22<=7,G22>=4),F22,""),""),"")) | AJ22: =IF(ISBLANK(I22),"",IF(COUNTIF(I22,"*BOMBE_100MM*"),IF(G22=1,F22,""),"")) | AK22: =IF(ISBLANK(I22),"",IF(COUNTIF(I22,"*BOMBE_100MM*"),IF(COUNTIF(K22,"*TR*"),IF(G22<=5,F22,F22*2),""),"")) | AL22: =IF(ISBLANK(I22),"",IF(COUNTIF(I22,"*BOMBE_100MM*"),IF(COUNTIF(K22,"*\*"),IF(AND(G22<=3,G22>=2),F22,""),""),"")) | AM22: =IF(ISBLANK(I22),"",IF(COUNTIF(I22,"*BOMBE_100MM*"),IF(COUNTIF(K22,"*\*"),IF(AND(G22<=5,G22>=4),F22,""),""),"")) | AO22: =IF(ISBLANK(I22),"",IF(COUNTIF(I22,"*BOMBE_125MM*"),IF(G22=1,F22,""),"")) | AP22: =IF(ISBLANK(I22),"",IF(COUNTIF(I22,"*BOMBE_125MM*"),IF(COUNTIF(K22,"*TR*"),IF(G22<=5,F22,""),""),"")) | AQ22: =IF(ISBLANK(I22),"",IF(COUNTIF(I22,"*BOMBE_125MM*"),IF(COUNTIF(K22,"*\*"),IF(AND(G22<=3,G22>=2),F22,""),""),"")) | AS22: =IF(ISBLANK(I22),"",IF(COUNTIF(I22,"*BOMBE_150MM*"),IF(G22=1,F22,""),"")) | AT22: =IF(ISBLANK(I22),"",IF(COUNTIF(I22,"*BOMBE_150MM*"),IF(COUNTIF(K22,"*TR*"),IF(G22<=4,F22,""),""),"")) | AU22: =IF(ISBLANK(I22),"",IF(COUNTIF(I22,"*BOMBE_150MM*"),IF(COUNTIF(K22,"*\*"),IF(AND(G22<=3,G22>=2),F22,""),""),"")) | AW22: =IF(ISBLANK(I22),"",IF(COUNTIF(I22,"*BOMBE_200MM*"),F22*G22,"")) | AY22: =IF(ISBLANK(I22),"",IF(COUNTIF(I22,"*BOMBE_*"),F22*20,F22*15)) | AZ22: =IF(ISBLANK(I22),"",IF(COUNTIF(I22,"*BOMBE_*"),F22*15,F22*10)) | BA22: =IF(ISBLANK(I22),"",IF(COUNTIF(I22,"*BOMBE_*"),F22*10,F22*5))
N23: =IF(ISBLANK(I23),"",IF(COUNTIF(I23,"*bombe*"),(G23-1)*SUMIF('base de donnée JCO '!C$3:C$10,K23,'base de donnée JCO '!D$3:D$10)+SUMIF(entete,L23,'base de donnée JCO '!D$14:D$20),SUMIFS('base de donnée JCO '!I$173:I$1080,'base de donnée JCO '!F$173:F$1080,I23,'base de donnée JCO '!G$173:G$1080,J23))) | O23: =IF(ISBLANK(I23),"",IF(ISBLANK(D23),D22+N23,D23+N23)) | S23: x | V23: =W23*SUMIFS('base de donnée JCO '!H$173:H$1080,'base de donnée JCO '!F$173:F$1080,I23,'base de donnée JCO '!G$173:G$1080,J23) -> 0 | W23: =F23*G23 -> 0 | X23: =W23*SUMIFS('base de donnée JCO '!J$173:J$1080,'base de donnée JCO '!F$173:F$1080,I23,'base de donnée JCO '!G$173:G$1080,J23) -> 0 | Z23: =IF(ISBLANK(I23),"",IF(COUNTIF(I23,"*BOMBE_50MM*"),IF(COUNTIF(K23,"*TR*"),IF(G23>=6,F23*1,0.5*F23),""),"")) | AA23: =IF(ISBLANK(I23),"",IF(COUNTIF(I23,"*BOMBE_50MM*"),IF(COUNTIF(K23,"*\*"),IF(G23>1,F23*1,""),""),"")) | AB23: =IF(ISBLANK(I23),"",IF(COUNTIF(I23,"*BOMBE_50MM*"),IF(G23=1,F23,""),"")) | AD23: =IF(ISBLANK(I23),"",IF(COUNTIF(I23,"*BOMBE_75MM*"),IF(G23=1,F23,""),"")) | AE23: =IF(ISBLANK(I23),"",IF(COUNTIF(I23,"*BOMBE_75MM*"),IF(COUNTIF(K23,"*TR*"),IF(G23<=5,F23,""),""),"")) | AF23: =IF(ISBLANK(I23),"",IF(COUNTIF(I23,"*BOMBE_75MM*"),IF(COUNTIF(K23,"*TR*"),IF(G23>5,F23,""),""),"")) | AG23: =IF(ISBLANK(I23),"",IF(COUNTIF(I23,"*BOMBE_75MM*"),IF(COUNTIF(K23,"*\*"),IF(AND(G23<=3,G23>=2),F23,""),""),"")) | AH23: =IF(ISBLANK(I23),"",IF(COUNTIF(I23,"*BOMBE_75MM*"),IF(COUNTIF(K23,"*\*"),IF(AND(G23<=7,G23>=4),F23,""),""),"")) | AJ23: =IF(ISBLANK(I23),"",IF(COUNTIF(I23,"*BOMBE_100MM*"),IF(G23=1,F23,""),"")) | AK23: =IF(ISBLANK(I23),"",IF(COUNTIF(I23,"*BOMBE_100MM*"),IF(COUNTIF(K23,"*TR*"),IF(G23<=5,F23,F23*2),""),"")) | AL23: =IF(ISBLANK(I23),"",IF(COUNTIF(I23,"*BOMBE_100MM*"),IF(COUNTIF(K23,"*\*"),IF(AND(G23<=3,G23>=2),F23,""),""),"")) | AM23: =IF(ISBLANK(I23),"",IF(COUNTIF(I23,"*BOMBE_100MM*"),IF(COUNTIF(K23,"*\*"),IF(AND(G23<=5,G23>=4),F23,""),""),"")) | AO23: =IF(ISBLANK(I23),"",IF(COUNTIF(I23,"*BOMBE_125MM*"),IF(G23=1,F23,""),"")) | AP23: =IF(ISBLANK(I23),"",IF(COUNTIF(I23,"*BOMBE_125MM*"),IF(COUNTIF(K23,"*TR*"),IF(G23<=5,F23,""),""),"")) | AQ23: =IF(ISBLANK(I23),"",IF(COUNTIF(I23,"*BOMBE_125MM*"),IF(COUNTIF(K23,"*\*"),IF(AND(G23<=3,G23>=2),F23,""),""),"")) | AS23: =IF(ISBLANK(I23),"",IF(COUNTIF(I23,"*BOMBE_150MM*"),IF(G23=1,F23,""),"")) | AT23: =IF(ISBLANK(I23),"",IF(COUNTIF(I23,"*BOMBE_150MM*"),IF(COUNTIF(K23,"*TR*"),IF(G23<=4,F23,""),""),"")) | AU23: =IF(ISBLANK(I23),"",IF(COUNTIF(I23,"*BOMBE_150MM*"),IF(COUNTIF(K23,"*\*"),IF(AND(G23<=3,G23>=2),F23,""),""),"")) | AW23: =IF(ISBLANK(I23),"",IF(COUNTIF(I23,"*BOMBE_200MM*"),F23*G23,"")) | AY23: =IF(ISBLANK(I23),"",IF(COUNTIF(I23,"*BOMBE_*"),F23*20,F23*15)) | AZ23: =IF(ISBLANK(I23),"",IF(COUNTIF(I23,"*BOMBE_*"),F23*15,F23*10)) | BA23: =IF(ISBLANK(I23),"",IF(COUNTIF(I23,"*BOMBE_*"),F23*10,F23*5))
A24: 19 | D24: 0.0006712963 | F24: 19 | G24: 2 | I24: bombe_75mm | J24: I/ tronc palm kamuro | K24: \ / | L24: 10''T | N24: =IF(ISBLANK(I24),"",IF(COUNTIF(I24,"*bombe*"),(G24-1)*SUMIF('base de donnée JCO '!C$3:C$10,K24,'base de donnée JCO '!D$3:D$10)+SUMIF(entete,L24,'base de donnée JCO '!D$14:D$20),SUMIFS('base de donnée JCO '!I$173:I$1080,'base de donnée JCO '!F$173:F$1080,I24,'base de donnée JCO '!G$173:G$1080,J24))) -> 2.0001157 | O24: =IF(ISBLANK(I24),"",IF(ISBLANK(D24),#REF!+N24,D24+N24)) -> 2.000787 | V24: =W24*SUMIFS('base de donnée JCO '!H$173:H$1080,'base de donnée JCO '!F$173:F$1080,I24,'base de donnée JCO '!G$173:G$1080,J24) -> 0 | W24: =F24*G24 -> 38 | X24: =W24*SUMIFS('base de donnée JCO '!J$173:J$1080,'base de donnée JCO '!F$173:F$1080,I24,'base de donnée JCO '!G$173:G$1080,J24) -> 0 | Z24: =IF(ISBLANK(I24),"",IF(COUNTIF(I24,"*BOMBE_50MM*"),IF(COUNTIF(K24,"*TR*"),IF(G24>=6,F24*1,0.5*F24),""),"")) | AA24: =IF(ISBLANK(I24),"",IF(COUNTIF(I24,"*BOMBE_50MM*"),IF(COUNTIF(K24,"*\*"),IF(G24>1,F24*1,""),""),"")) | AB24: =IF(ISBLANK(I24),"",IF(COUNTIF(I24,"*BOMBE_50MM*"),IF(G24=1,F24,""),"")) | AD24: =IF(ISBLANK(I24),"",IF(COUNTIF(I24,"*BOMBE_75MM*"),IF(G24=1,F24,""),"")) | AE24: =IF(ISBLANK(I24),"",IF(COUNTIF(I24,"*BOMBE_75MM*"),IF(COUNTIF(K24,"*TR*"),IF(G24<=5,F24,""),""),"")) | AF24: =IF(ISBLANK(I24),"",IF(COUNTIF(I24,"*BOMBE_75MM*"),IF(COUNTIF(K24,"*TR*"),IF(G24>5,F24,""),""),"")) | AG24: =IF(ISBLANK(I24),"",IF(COUNTIF(I24,"*BOMBE_75MM*"),IF(COUNTIF(K24,"*\*"),IF(AND(G24<=3,G24>=2),F24,""),""),"")) -> 19 | AH24: =IF(ISBLANK(I24),"",IF(COUNTIF(I24,"*BOMBE_75MM*"),IF(COUNTIF(K24,"*\*"),IF(AND(G24<=7,G24>=4),F24,""),""),"")) | AJ24: =IF(ISBLANK(I24),"",IF(COUNTIF(I24,"*BOMBE_100MM*"),IF(G24=1,F24,""),"")) | AK24: =IF(ISBLANK(I24),"",IF(COUNTIF(I24,"*BOMBE_100MM*"),IF(COUNTIF(K24,"*TR*"),IF(G24<=5,F24,F24*2),""),"")) | AL24: =IF(ISBLANK(I24),"",IF(COUNTIF(I24,"*BOMBE_100MM*"),IF(COUNTIF(K24,"*\*"),IF(AND(G24<=3,G24>=2),F24,""),""),"")) | AM24: =IF(ISBLANK(I24),"",IF(COUNTIF(I24,"*BOMBE_100MM*"),IF(COUNTIF(K24,"*\*"),IF(AND(G24<=5,G24>=4),F24,""),""),"")) | AO24: =IF(ISBLANK(I24),"",IF(COUNTIF(I24,"*BOMBE_125MM*"),IF(G24=1,F24,""),"")) | AP24: =IF(ISBLANK(I24),"",IF(COUNTIF(I24,"*BOMBE_125MM*"),IF(COUNTIF(K24,"*TR*"),IF(G24<=5,F24,""),""),"")) | AQ24: =IF(ISBLANK(I24),"",IF(COUNTIF(I24,"*BOMBE_125MM*"),IF(COUNTIF(K24,"*\*"),IF(AND(G24<=3,G24>=2),F24,""),""),"")) | AS24: =IF(ISBLANK(I24),"",IF(COUNTIF(I24,"*BOMBE_150MM*"),IF(G24=1,F24,""),"")) | AT24: =IF(ISBLANK(I24),"",IF(COUNTIF(I24,"*BOMBE_150MM*"),IF(COUNTIF(K24,"*TR*"),IF(G24<=4,F24,""),""),"")) | AU24: =IF(ISBLANK(I24),"",IF(COUNTIF(I24,"*BOMBE_150MM*"),IF(COUNTIF(K24,"*\*"),IF(AND(G24<=3,G24>=2),F24,""),""),"")) | AW24: =IF(ISBLANK(I24),"",IF(COUNTIF(I24,"*BOMBE_200MM*"),F24*G24,"")) | AY24: =IF(ISBLANK(I24),"",IF(COUNTIF(I24,"*BOMBE_*"),F24*20,F24*15)) -> 380 | AZ24: =IF(ISBLANK(I24),"",IF(COUNTIF(I24,"*BOMBE_*"),F24*15,F24*10)) -> 285 | BA24: =IF(ISBLANK(I24),"",IF(COUNTIF(I24,"*BOMBE_*"),F24*10,F24*5)) -> 190
A25: 20 | F25: 78 | G25: 1 | I25: bombe_75mm | J25: Z/cyl volcan 2 coul jaune et violet | K25: I | N25: =IF(ISBLANK(I25),"",IF(COUNTIF(I25,"*bombe*"),(G25-1)*SUMIF('base de donnée JCO '!C$3:C$10,K25,'base de donnée JCO '!D$3:D$10)+SUMIF(entete,L25,'base de donnée JCO '!D$14:D$20),SUMIFS('base de donnée JCO '!I$173:I$1080,'base de donnée JCO '!F$173:F$1080,I25,'base de donnée JCO '!G$173:G$1080,J25))) -> 0 | O25: =IF(ISBLANK(I25),"",IF(ISBLANK(D25),#REF!+N25,D25+N25)) -> #REF! | Q25: \ / | U25: \ / | V25: =W25*SUMIFS('base de donnée JCO '!H$173:H$1080,'base de donnée JCO '!F$173:F$1080,I25,'base de donnée JCO '!G$173:G$1080,J25) -> 0 | W25: =F25*G25 -> 78 | X25: =W25*SUMIFS('base de donnée JCO '!J$173:J$1080,'base de donnée JCO '!F$173:F$1080,I25,'base de donnée JCO '!G$173:G$1080,J25) -> 0 | Z25: =IF(ISBLANK(I25),"",IF(COUNTIF(I25,"*BOMBE_50MM*"),IF(COUNTIF(K25,"*TR*"),IF(G25>=6,F25*1,0.5*F25),""),"")) | AA25: =IF(ISBLANK(I25),"",IF(COUNTIF(I25,"*BOMBE_50MM*"),IF(COUNTIF(K25,"*\*"),IF(G25>1,F25*1,""),""),"")) | AB25: =IF(ISBLANK(I25),"",IF(COUNTIF(I25,"*BOMBE_50MM*"),IF(G25=1,F25,""),"")) | AD25: =IF(ISBLANK(I25),"",IF(COUNTIF(I25,"*BOMBE_75MM*"),IF(G25=1,F25,""),"")) -> 78 | AE25: =IF(ISBLANK(I25),"",IF(COUNTIF(I25,"*BOMBE_75MM*"),IF(COUNTIF(K25,"*TR*"),IF(G25<=5,F25,""),""),"")) | AF25: =IF(ISBLANK(I25),"",IF(COUNTIF(I25,"*BOMBE_75MM*"),IF(COUNTIF(K25,"*TR*"),IF(G25>5,F25,""),""),"")) | AG25: =IF(ISBLANK(I25),"",IF(COUNTIF(I25,"*BOMBE_75MM*"),IF(COUNTIF(K25,"*\*"),IF(AND(G25<=3,G25>=2),F25,""),""),"")) | AH25: =IF(ISBLANK(I25),"",IF(COUNTIF(I25,"*BOMBE_75MM*"),IF(COUNTIF(K25,"*\*"),IF(AND(G25<=7,G25>=4),F25,""),""),"")) | AJ25: =IF(ISBLANK(I25),"",IF(COUNTIF(I25,"*BOMBE_100MM*"),IF(G25=1,F25,""),"")) | AK25: =IF(ISBLANK(I25),"",IF(COUNTIF(I25,"*BOMBE_100MM*"),IF(COUNTIF(K25,"*TR*"),IF(G25<=5,F25,F25*2),""),"")) | AL25: =IF(ISBLANK(I25),"",IF(COUNTIF(I25,"*BOMBE_100MM*"),IF(COUNTIF(K25,"*\*"),IF(AND(G25<=3,G25>=2),F25,""),""),"")) | AM25: =IF(ISBLANK(I25),"",IF(COUNTIF(I25,"*BOMBE_100MM*"),IF(COUNTIF(K25,"*\*"),IF(AND(G25<=5,G25>=4),F25,""),""),"")) | AO25: =IF(ISBLANK(I25),"",IF(COUNTIF(I25,"*BOMBE_125MM*"),IF(G25=1,F25,""),"")) | AP25: =IF(ISBLANK(I25),"",IF(COUNTIF(I25,"*BOMBE_125MM*"),IF(COUNTIF(K25,"*TR*"),IF(G25<=5,F25,""),""),"")) | AQ25: =IF(ISBLANK(I25),"",IF(COUNTIF(I25,"*BOMBE_125MM*"),IF(COUNTIF(K25,"*\*"),IF(AND(G25<=3,G25>=2),F25,""),""),"")) | AS25: =IF(ISBLANK(I25),"",IF(COUNTIF(I25,"*BOMBE_150MM*"),IF(G25=1,F25,""),"")) | AT25: =IF(ISBLANK(I25),"",IF(COUNTIF(I25,"*BOMBE_150MM*"),IF(COUNTIF(K25,"*TR*"),IF(G25<=4,F25,""),""),"")) | AU25: =IF(ISBLANK(I25),"",IF(COUNTIF(I25,"*BOMBE_150MM*"),IF(COUNTIF(K25,"*\*"),IF(AND(G25<=3,G25>=2),F25,""),""),"")) | AW25: =IF(ISBLANK(I25),"",IF(COUNTIF(I25,"*BOMBE_200MM*"),F25*G25,"")) | AY25: =IF(ISBLANK(I25),"",IF(COUNTIF(I25,"*BOMBE_*"),F25*20,F25*15)) -> 1560 | AZ25: =IF(ISBLANK(I25),"",IF(COUNTIF(I25,"*BOMBE_*"),F25*15,F25*10)) -> 1170 | BA25: =IF(ISBLANK(I25),"",IF(COUNTIF(I25,"*BOMBE_*"),F25*10,F25*5)) -> 780
N26: =IF(ISBLANK(I26),"",IF(COUNTIF(I26,"*bombe*"),(G26-1)*SUMIF('base de donnée JCO '!C$3:C$10,K26,'base de donnée JCO '!D$3:D$10)+SUMIF(entete,L26,'base de donnée JCO '!D$14:D$20),SUMIFS('base de donnée JCO '!I$173:I$1080,'base de donnée JCO '!F$173:F$1080,I26,'base de donnée JCO '!G$173:G$1080,J26))) | O26: =IF(ISBLANK(I26),"",IF(ISBLANK(D26),#REF!+N26,D26+N26)) | V26: =W26*SUMIFS('base de donnée JCO '!H$173:H$1080,'base de donnée JCO '!F$173:F$1080,I26,'base de donnée JCO '!G$173:G$1080,J26) -> 0 | W26: =F26*G26 -> 0 | X26: =W26*SUMIFS('base de donnée JCO '!J$173:J$1080,'base de donnée JCO '!F$173:F$1080,I26,'base de donnée JCO '!G$173:G$1080,J26) -> 0 | Z26: =IF(ISBLANK(I26),"",IF(COUNTIF(I26,"*BOMBE_50MM*"),IF(COUNTIF(K26,"*TR*"),IF(G26>=6,F26*1,0.5*F26),""),"")) | AA26: =IF(ISBLANK(I26),"",IF(COUNTIF(I26,"*BOMBE_50MM*"),IF(COUNTIF(K26,"*\*"),IF(G26>1,F26*1,""),""),"")) | AB26: =IF(ISBLANK(I26),"",IF(COUNTIF(I26,"*BOMBE_50MM*"),IF(G26=1,F26,""),"")) | AD26: =IF(ISBLANK(I26),"",IF(COUNTIF(I26,"*BOMBE_75MM*"),IF(G26=1,F26,""),"")) | AE26: =IF(ISBLANK(I26),"",IF(COUNTIF(I26,"*BOMBE_75MM*"),IF(COUNTIF(K26,"*TR*"),IF(G26<=5,F26,""),""),"")) | AF26: =IF(ISBLANK(I26),"",IF(COUNTIF(I26,"*BOMBE_75MM*"),IF(COUNTIF(K26,"*TR*"),IF(G26>5,F26,""),""),"")) | AG26: =IF(ISBLANK(I26),"",IF(COUNTIF(I26,"*BOMBE_75MM*"),IF(COUNTIF(K26,"*\*"),IF(AND(G26<=3,G26>=2),F26,""),""),"")) | AH26: =IF(ISBLANK(I26),"",IF(COUNTIF(I26,"*BOMBE_75MM*"),IF(COUNTIF(K26,"*\*"),IF(AND(G26<=7,G26>=4),F26,""),""),"")) | AJ26: =IF(ISBLANK(I26),"",IF(COUNTIF(I26,"*BOMBE_100MM*"),IF(G26=1,F26,""),"")) | AK26: =IF(ISBLANK(I26),"",IF(COUNTIF(I26,"*BOMBE_100MM*"),IF(COUNTIF(K26,"*TR*"),IF(G26<=5,F26,F26*2),""),"")) | AL26: =IF(ISBLANK(I26),"",IF(COUNTIF(I26,"*BOMBE_100MM*"),IF(COUNTIF(K26,"*\*"),IF(AND(G26<=3,G26>=2),F26,""),""),"")) | AM26: =IF(ISBLANK(I26),"",IF(COUNTIF(I26,"*BOMBE_100MM*"),IF(COUNTIF(K26,"*\*"),IF(AND(G26<=5,G26>=4),F26,""),""),"")) | AO26: =IF(ISBLANK(I26),"",IF(COUNTIF(I26,"*BOMBE_125MM*"),IF(G26=1,F26,""),"")) | AP26: =IF(ISBLANK(I26),"",IF(COUNTIF(I26,"*BOMBE_125MM*"),IF(COUNTIF(K26,"*TR*"),IF(G26<=5,F26,""),""),"")) | AQ26: =IF(ISBLANK(I26),"",IF(COUNTIF(I26,"*BOMBE_125MM*"),IF(COUNTIF(K26,"*\*"),IF(AND(G26<=3,G26>=2),F26,""),""),"")) | AS26: =IF(ISBLANK(I26),"",IF(COUNTIF(I26,"*BOMBE_150MM*"),IF(G26=1,F26,""),"")) | AT26: =IF(ISBLANK(I26),"",IF(COUNTIF(I26,"*BOMBE_150MM*"),IF(COUNTIF(K26,"*TR*"),IF(G26<=4,F26,""),""),"")) | AU26: =IF(ISBLANK(I26),"",IF(COUNTIF(I26,"*BOMBE_150MM*"),IF(COUNTIF(K26,"*\*"),IF(AND(G26<=3,G26>=2),F26,""),""),"")) | AW26: =IF(ISBLANK(I26),"",IF(COUNTIF(I26,"*BOMBE_200MM*"),F26*G26,"")) | AY26: =IF(ISBLANK(I26),"",IF(COUNTIF(I26,"*BOMBE_*"),F26*20,F26*15)) | AZ26: =IF(ISBLANK(I26),"",IF(COUNTIF(I26,"*BOMBE_*"),F26*15,F26*10)) | BA26: =IF(ISBLANK(I26),"",IF(COUNTIF(I26,"*BOMBE_*"),F26*10,F26*5))
N27: =IF(ISBLANK(I27),"",IF(COUNTIF(I27,"*bombe*"),(G27-1)*SUMIF('base de donnée JCO '!C$3:C$10,K27,'base de donnée JCO '!D$3:D$10)+SUMIF(entete,L27,'base de donnée JCO '!D$14:D$20),SUMIFS('base de donnée JCO '!I$173:I$1080,'base de donnée JCO '!F$173:F$1080,I27,'base de donnée JCO '!G$173:G$1080,J27))) | O27: =IF(ISBLANK(I27),"",IF(ISBLANK(D27),D26+N27,D27+N27)) | Q27: X | U27: X | V27: =W27*SUMIFS('base de donnée JCO '!H$173:H$1080,'base de donnée JCO '!F$173:F$1080,I27,'base de donnée JCO '!G$173:G$1080,J27) -> 0 | W27: =F27*G27 -> 0 | X27: =W27*SUMIFS('base de donnée JCO '!J$173:J$1080,'base de donnée JCO '!F$173:F$1080,I27,'base de donnée JCO '!G$173:G$1080,J27) -> 0 | Z27: =IF(ISBLANK(I27),"",IF(COUNTIF(I27,"*BOMBE_50MM*"),IF(COUNTIF(K27,"*TR*"),IF(G27>=6,F27*1,0.5*F27),""),"")) | AA27: =IF(ISBLANK(I27),"",IF(COUNTIF(I27,"*BOMBE_50MM*"),IF(COUNTIF(K27,"*\*"),IF(G27>1,F27*1,""),""),"")) | AB27: =IF(ISBLANK(I27),"",IF(COUNTIF(I27,"*BOMBE_50MM*"),IF(G27=1,F27,""),"")) | AD27: =IF(ISBLANK(I27),"",IF(COUNTIF(I27,"*BOMBE_75MM*"),IF(G27=1,F27,""),"")) | AE27: =IF(ISBLANK(I27),"",IF(COUNTIF(I27,"*BOMBE_75MM*"),IF(COUNTIF(K27,"*TR*"),IF(G27<=5,F27,""),""),"")) | AF27: =IF(ISBLANK(I27),"",IF(COUNTIF(I27,"*BOMBE_75MM*"),IF(COUNTIF(K27,"*TR*"),IF(G27>5,F27,""),""),"")) | AG27: =IF(ISBLANK(I27),"",IF(COUNTIF(I27,"*BOMBE_75MM*"),IF(COUNTIF(K27,"*\*"),IF(AND(G27<=3,G27>=2),F27,""),""),"")) | AH27: =IF(ISBLANK(I27),"",IF(COUNTIF(I27,"*BOMBE_75MM*"),IF(COUNTIF(K27,"*\*"),IF(AND(G27<=7,G27>=4),F27,""),""),"")) | AJ27: =IF(ISBLANK(I27),"",IF(COUNTIF(I27,"*BOMBE_100MM*"),IF(G27=1,F27,""),"")) | AK27: =IF(ISBLANK(I27),"",IF(COUNTIF(I27,"*BOMBE_100MM*"),IF(COUNTIF(K27,"*TR*"),IF(G27<=5,F27,F27*2),""),"")) | AL27: =IF(ISBLANK(I27),"",IF(COUNTIF(I27,"*BOMBE_100MM*"),IF(COUNTIF(K27,"*\*"),IF(AND(G27<=3,G27>=2),F27,""),""),"")) | AM27: =IF(ISBLANK(I27),"",IF(COUNTIF(I27,"*BOMBE_100MM*"),IF(COUNTIF(K27,"*\*"),IF(AND(G27<=5,G27>=4),F27,""),""),"")) | AO27: =IF(ISBLANK(I27),"",IF(COUNTIF(I27,"*BOMBE_125MM*"),IF(G27=1,F27,""),"")) | AP27: =IF(ISBLANK(I27),"",IF(COUNTIF(I27,"*BOMBE_125MM*"),IF(COUNTIF(K27,"*TR*"),IF(G27<=5,F27,""),""),"")) | AQ27: =IF(ISBLANK(I27),"",IF(COUNTIF(I27,"*BOMBE_125MM*"),IF(COUNTIF(K27,"*\*"),IF(AND(G27<=3,G27>=2),F27,""),""),"")) | AS27: =IF(ISBLANK(I27),"",IF(COUNTIF(I27,"*BOMBE_150MM*"),IF(G27=1,F27,""),"")) | AT27: =IF(ISBLANK(I27),"",IF(COUNTIF(I27,"*BOMBE_150MM*"),IF(COUNTIF(K27,"*TR*"),IF(G27<=4,F27,""),""),"")) | AU27: =IF(ISBLANK(I27),"",IF(COUNTIF(I27,"*BOMBE_150MM*"),IF(COUNTIF(K27,"*\*"),IF(AND(G27<=3,G27>=2),F27,""),""),"")) | AW27: =IF(ISBLANK(I27),"",IF(COUNTIF(I27,"*BOMBE_200MM*"),F27*G27,"")) | AY27: =IF(ISBLANK(I27),"",IF(COUNTIF(I27,"*BOMBE_*"),F27*20,F27*15)) | AZ27: =IF(ISBLANK(I27),"",IF(COUNTIF(I27,"*BOMBE_*"),F27*15,F27*10)) | BA27: =IF(ISBLANK(I27),"",IF(COUNTIF(I27,"*BOMBE_*"),F27*10,F27*5))
N28: =IF(ISBLANK(I28),"",IF(COUNTIF(I28,"*bombe*"),(G28-1)*SUMIF('base de donnée JCO '!C$3:C$10,K28,'base de donnée JCO '!D$3:D$10)+SUMIF(entete,L28,'base de donnée JCO '!D$14:D$20),SUMIFS('base de donnée JCO '!I$173:I$1080,'base de donnée JCO '!F$173:F$1080,I28,'base de donnée JCO '!G$173:G$1080,J28))) | O28: =IF(ISBLANK(I28),"",IF(ISBLANK(D28),D27+N28,D28+N28)) | S28: X | V28: =W28*SUMIFS('base de donnée JCO '!H$173:H$1080,'base de donnée JCO '!F$173:F$1080,I28,'base de donnée JCO '!G$173:G$1080,J28) -> 0 | W28: =F28*G28 -> 0 | X28: =W28*SUMIFS('base de donnée JCO '!J$173:J$1080,'base de donnée JCO '!F$173:F$1080,I28,'base de donnée JCO '!G$173:G$1080,J28) -> 0 | Z28: =IF(ISBLANK(I28),"",IF(COUNTIF(I28,"*BOMBE_50MM*"),IF(COUNTIF(K28,"*TR*"),IF(G28>=6,F28*1,0.5*F28),""),"")) | AA28: =IF(ISBLANK(I28),"",IF(COUNTIF(I28,"*BOMBE_50MM*"),IF(COUNTIF(K28,"*\*"),IF(G28>1,F28*1,""),""),"")) | AB28: =IF(ISBLANK(I28),"",IF(COUNTIF(I28,"*BOMBE_50MM*"),IF(G28=1,F28,""),"")) | AD28: =IF(ISBLANK(I28),"",IF(COUNTIF(I28,"*BOMBE_75MM*"),IF(G28=1,F28,""),"")) | AE28: =IF(ISBLANK(I28),"",IF(COUNTIF(I28,"*BOMBE_75MM*"),IF(COUNTIF(K28,"*TR*"),IF(G28<=5,F28,""),""),"")) | AF28: =IF(ISBLANK(I28),"",IF(COUNTIF(I28,"*BOMBE_75MM*"),IF(COUNTIF(K28,"*TR*"),IF(G28>5,F28,""),""),"")) | AG28: =IF(ISBLANK(I28),"",IF(COUNTIF(I28,"*BOMBE_75MM*"),IF(COUNTIF(K28,"*\*"),IF(AND(G28<=3,G28>=2),F28,""),""),"")) | AH28: =IF(ISBLANK(I28),"",IF(COUNTIF(I28,"*BOMBE_75MM*"),IF(COUNTIF(K28,"*\*"),IF(AND(G28<=7,G28>=4),F28,""),""),"")) | AJ28: =IF(ISBLANK(I28),"",IF(COUNTIF(I28,"*BOMBE_100MM*"),IF(G28=1,F28,""),"")) | AK28: =IF(ISBLANK(I28),"",IF(COUNTIF(I28,"*BOMBE_100MM*"),IF(COUNTIF(K28,"*TR*"),IF(G28<=5,F28,F28*2),""),"")) | AL28: =IF(ISBLANK(I28),"",IF(COUNTIF(I28,"*BOMBE_100MM*"),IF(COUNTIF(K28,"*\*"),IF(AND(G28<=3,G28>=2),F28,""),""),"")) | AM28: =IF(ISBLANK(I28),"",IF(COUNTIF(I28,"*BOMBE_100MM*"),IF(COUNTIF(K28,"*\*"),IF(AND(G28<=5,G28>=4),F28,""),""),"")) | AO28: =IF(ISBLANK(I28),"",IF(COUNTIF(I28,"*BOMBE_125MM*"),IF(G28=1,F28,""),"")) | AP28: =IF(ISBLANK(I28),"",IF(COUNTIF(I28,"*BOMBE_125MM*"),IF(COUNTIF(K28,"*TR*"),IF(G28<=5,F28,""),""),"")) | AQ28: =IF(ISBLANK(I28),"",IF(COUNTIF(I28,"*BOMBE_125MM*"),IF(COUNTIF(K28,"*\*"),IF(AND(G28<=3,G28>=2),F28,""),""),"")) | AS28: =IF(ISBLANK(I28),"",IF(COUNTIF(I28,"*BOMBE_150MM*"),IF(G28=1,F28,""),"")) | AT28: =IF(ISBLANK(I28),"",IF(COUNTIF(I28,"*BOMBE_150MM*"),IF(COUNTIF(K28,"*TR*"),IF(G28<=4,F28,""),""),"")) | AU28: =IF(ISBLANK(I28),"",IF(COUNTIF(I28,"*BOMBE_150MM*"),IF(COUNTIF(K28,"*\*"),IF(AND(G28<=3,G28>=2),F28,""),""),"")) | AW28: =IF(ISBLANK(I28),"",IF(COUNTIF(I28,"*BOMBE_200MM*"),F28*G28,"")) | AY28: =IF(ISBLANK(I28),"",IF(COUNTIF(I28,"*BOMBE_*"),F28*20,F28*15)) | AZ28: =IF(ISBLANK(I28),"",IF(COUNTIF(I28,"*BOMBE_*"),F28*15,F28*10)) | BA28: =IF(ISBLANK(I28),"",IF(COUNTIF(I28,"*BOMBE_*"),F28*10,F28*5))
N29: =IF(ISBLANK(I29),"",IF(COUNTIF(I29,"*bombe*"),(G29-1)*SUMIF('base de donnée JCO '!C$3:C$10,K29,'base de donnée JCO '!D$3:D$10)+SUMIF(entete,L29,'base de donnée JCO '!D$14:D$20),SUMIFS('base de donnée JCO '!I$173:I$1080,'base de donnée JCO '!F$173:F$1080,I29,'base de donnée JCO '!G$173:G$1080,J29))) | O29: =IF(ISBLANK(I29),"",IF(ISBLANK(D29),D27+N29,D29+N29)) | V29: =W29*SUMIFS('base de donnée JCO '!H$173:H$1080,'base de donnée JCO '!F$173:F$1080,I29,'base de donnée JCO '!G$173:G$1080,J29) -> 0 | W29: =F29*G29 -> 0 | X29: =W29*SUMIFS('base de donnée JCO '!J$173:J$1080,'base de donnée JCO '!F$173:F$1080,I29,'base de donnée JCO '!G$173:G$1080,J29) -> 0 | Z29: =IF(ISBLANK(I29),"",IF(COUNTIF(I29,"*BOMBE_50MM*"),IF(COUNTIF(K29,"*TR*"),IF(G29>=6,F29*1,0.5*F29),""),"")) | AA29: =IF(ISBLANK(I29),"",IF(COUNTIF(I29,"*BOMBE_50MM*"),IF(COUNTIF(K29,"*\*"),IF(G29>1,F29*1,""),""),"")) | AB29: =IF(ISBLANK(I29),"",IF(COUNTIF(I29,"*BOMBE_50MM*"),IF(G29=1,F29,""),"")) | AD29: =IF(ISBLANK(I29),"",IF(COUNTIF(I29,"*BOMBE_75MM*"),IF(G29=1,F29,""),"")) | AE29: =IF(ISBLANK(I29),"",IF(COUNTIF(I29,"*BOMBE_75MM*"),IF(COUNTIF(K29,"*TR*"),IF(G29<=5,F29,""),""),"")) | AF29: =IF(ISBLANK(I29),"",IF(COUNTIF(I29,"*BOMBE_75MM*"),IF(COUNTIF(K29,"*TR*"),IF(G29>5,F29,""),""),"")) | AG29: =IF(ISBLANK(I29),"",IF(COUNTIF(I29,"*BOMBE_75MM*"),IF(COUNTIF(K29,"*\*"),IF(AND(G29<=3,G29>=2),F29,""),""),"")) | AH29: =IF(ISBLANK(I29),"",IF(COUNTIF(I29,"*BOMBE_75MM*"),IF(COUNTIF(K29,"*\*"),IF(AND(G29<=7,G29>=4),F29,""),""),"")) | AJ29: =IF(ISBLANK(I29),"",IF(COUNTIF(I29,"*BOMBE_100MM*"),IF(G29=1,F29,""),"")) | AK29: =IF(ISBLANK(I29),"",IF(COUNTIF(I29,"*BOMBE_100MM*"),IF(COUNTIF(K29,"*TR*"),IF(G29<=5,F29,F29*2),""),"")) | AL29: =IF(ISBLANK(I29),"",IF(COUNTIF(I29,"*BOMBE_100MM*"),IF(COUNTIF(K29,"*\*"),IF(AND(G29<=3,G29>=2),F29,""),""),"")) | AM29: =IF(ISBLANK(I29),"",IF(COUNTIF(I29,"*BOMBE_100MM*"),IF(COUNTIF(K29,"*\*"),IF(AND(G29<=5,G29>=4),F29,""),""),"")) | AO29: =IF(ISBLANK(I29),"",IF(COUNTIF(I29,"*BOMBE_125MM*"),IF(G29=1,F29,""),"")) | AP29: =IF(ISBLANK(I29),"",IF(COUNTIF(I29,"*BOMBE_125MM*"),IF(COUNTIF(K29,"*TR*"),IF(G29<=5,F29,""),""),"")) | AQ29: =IF(ISBLANK(I29),"",IF(COUNTIF(I29,"*BOMBE_125MM*"),IF(COUNTIF(K29,"*\*"),IF(AND(G29<=3,G29>=2),F29,""),""),"")) | AS29: =IF(ISBLANK(I29),"",IF(COUNTIF(I29,"*BOMBE_150MM*"),IF(G29=1,F29,""),"")) | AT29: =IF(ISBLANK(I29),"",IF(COUNTIF(I29,"*BOMBE_150MM*"),IF(COUNTIF(K29,"*TR*"),IF(G29<=4,F29,""),""),"")) | AU29: =IF(ISBLANK(I29),"",IF(COUNTIF(I29,"*BOMBE_150MM*"),IF(COUNTIF(K29,"*\*"),IF(AND(G29<=3,G29>=2),F29,""),""),"")) | AW29: =IF(ISBLANK(I29),"",IF(COUNTIF(I29,"*BOMBE_200MM*"),F29*G29,"")) | AY29: =IF(ISBLANK(I29),"",IF(COUNTIF(I29,"*BOMBE_*"),F29*20,F29*15)) | AZ29: =IF(ISBLANK(I29),"",IF(COUNTIF(I29,"*BOMBE_*"),F29*15,F29*10)) | BA29: =IF(ISBLANK(I29),"",IF(COUNTIF(I29,"*BOMBE_*"),F29*10,F29*5))
N30: =IF(ISBLANK(I30),"",IF(COUNTIF(I30,"*bombe*"),(G30-1)*SUMIF('base de donnée JCO '!C$3:C$10,K30,'base de donnée JCO '!D$3:D$10)+SUMIF(entete,L30,'base de donnée JCO '!D$14:D$20),SUMIFS('base de donnée JCO '!I$173:I$1080,'base de donnée JCO '!F$173:F$1080,I30,'base de donnée JCO '!G$173:G$1080,J30))) | O30: =IF(ISBLANK(I30),"",IF(ISBLANK(D30),#REF!+N30,D30+N30)) | S30: fen | V30: =W30*SUMIFS('base de donnée JCO '!H$173:H$1080,'base de donnée JCO '!F$173:F$1080,I30,'base de donnée JCO '!G$173:G$1080,J30) -> 0 | W30: =F30*G30 -> 0 | X30: =W30*SUMIFS('base de donnée JCO '!J$173:J$1080,'base de donnée JCO '!F$173:F$1080,I30,'base de donnée JCO '!G$173:G$1080,J30) -> 0 | Z30: =IF(ISBLANK(I30),"",IF(COUNTIF(I30,"*BOMBE_50MM*"),IF(COUNTIF(K30,"*TR*"),IF(G30>=6,F30*1,0.5*F30),""),"")) | AA30: =IF(ISBLANK(I30),"",IF(COUNTIF(I30,"*BOMBE_50MM*"),IF(COUNTIF(K30,"*\*"),IF(G30>1,F30*1,""),""),"")) | AB30: =IF(ISBLANK(I30),"",IF(COUNTIF(I30,"*BOMBE_50MM*"),IF(G30=1,F30,""),"")) | AD30: =IF(ISBLANK(I30),"",IF(COUNTIF(I30,"*BOMBE_75MM*"),IF(G30=1,F30,""),"")) | AE30: =IF(ISBLANK(I30),"",IF(COUNTIF(I30,"*BOMBE_75MM*"),IF(COUNTIF(K30,"*TR*"),IF(G30<=5,F30,""),""),"")) | AF30: =IF(ISBLANK(I30),"",IF(COUNTIF(I30,"*BOMBE_75MM*"),IF(COUNTIF(K30,"*TR*"),IF(G30>5,F30,""),""),"")) | AG30: =IF(ISBLANK(I30),"",IF(COUNTIF(I30,"*BOMBE_75MM*"),IF(COUNTIF(K30,"*\*"),IF(AND(G30<=3,G30>=2),F30,""),""),"")) | AH30: =IF(ISBLANK(I30),"",IF(COUNTIF(I30,"*BOMBE_75MM*"),IF(COUNTIF(K30,"*\*"),IF(AND(G30<=7,G30>=4),F30,""),""),"")) | AJ30: =IF(ISBLANK(I30),"",IF(COUNTIF(I30,"*BOMBE_100MM*"),IF(G30=1,F30,""),"")) | AK30: =IF(ISBLANK(I30),"",IF(COUNTIF(I30,"*BOMBE_100MM*"),IF(COUNTIF(K30,"*TR*"),IF(G30<=5,F30,F30*2),""),"")) | AL30: =IF(ISBLANK(I30),"",IF(COUNTIF(I30,"*BOMBE_100MM*"),IF(COUNTIF(K30,"*\*"),IF(AND(G30<=3,G30>=2),F30,""),""),"")) | AM30: =IF(ISBLANK(I30),"",IF(COUNTIF(I30,"*BOMBE_100MM*"),IF(COUNTIF(K30,"*\*"),IF(AND(G30<=5,G30>=4),F30,""),""),"")) | AO30: =IF(ISBLANK(I30),"",IF(COUNTIF(I30,"*BOMBE_125MM*"),IF(G30=1,F30,""),"")) | AP30: =IF(ISBLANK(I30),"",IF(COUNTIF(I30,"*BOMBE_125MM*"),IF(COUNTIF(K30,"*TR*"),IF(G30<=5,F30,""),""),"")) | AQ30: =IF(ISBLANK(I30),"",IF(COUNTIF(I30,"*BOMBE_125MM*"),IF(COUNTIF(K30,"*\*"),IF(AND(G30<=3,G30>=2),F30,""),""),"")) | AS30: =IF(ISBLANK(I30),"",IF(COUNTIF(I30,"*BOMBE_150MM*"),IF(G30=1,F30,""),"")) | AT30: =IF(ISBLANK(I30),"",IF(COUNTIF(I30,"*BOMBE_150MM*"),IF(COUNTIF(K30,"*TR*"),IF(G30<=4,F30,""),""),"")) | AU30: =IF(ISBLANK(I30),"",IF(COUNTIF(I30,"*BOMBE_150MM*"),IF(COUNTIF(K30,"*\*"),IF(AND(G30<=3,G30>=2),F30,""),""),"")) | AW30: =IF(ISBLANK(I30),"",IF(COUNTIF(I30,"*BOMBE_200MM*"),F30*G30,"")) | AY30: =IF(ISBLANK(I30),"",IF(COUNTIF(I30,"*BOMBE_*"),F30*20,F30*15)) | AZ30: =IF(ISBLANK(I30),"",IF(COUNTIF(I30,"*BOMBE_*"),F30*15,F30*10)) | BA30: =IF(ISBLANK(I30),"",IF(COUNTIF(I30,"*BOMBE_*"),F30*10,F30*5))
N31: =IF(ISBLANK(I31),"",IF(COUNTIF(I31,"*bombe*"),(G31-1)*SUMIF('base de donnée JCO '!C$3:C$10,K31,'base de donnée JCO '!D$3:D$10)+SUMIF(entete,L31,'base de donnée JCO '!D$14:D$20),SUMIFS('base de donnée JCO '!I$173:I$1080,'base de donnée JCO '!F$173:F$1080,I31,'base de donnée JCO '!G$173:G$1080,J31))) | O31: =IF(ISBLANK(I31),"",IF(ISBLANK(D31),D29+N31,D31+N31)) | V31: =W31*SUMIFS('base de donnée JCO '!H$173:H$1080,'base de donnée JCO '!F$173:F$1080,I31,'base de donnée JCO '!G$173:G$1080,J31) -> 0 | W31: =F31*G31 -> 0 | X31: =W31*SUMIFS('base de donnée JCO '!J$173:J$1080,'base de donnée JCO '!F$173:F$1080,I31,'base de donnée JCO '!G$173:G$1080,J31) -> 0 | Z31: =IF(ISBLANK(I31),"",IF(COUNTIF(I31,"*BOMBE_50MM*"),IF(COUNTIF(K31,"*TR*"),IF(G31>=6,F31*1,0.5*F31),""),"")) | AA31: =IF(ISBLANK(I31),"",IF(COUNTIF(I31,"*BOMBE_50MM*"),IF(COUNTIF(K31,"*\*"),IF(G31>1,F31*1,""),""),"")) | AB31: =IF(ISBLANK(I31),"",IF(COUNTIF(I31,"*BOMBE_50MM*"),IF(G31=1,F31,""),"")) | AD31: =IF(ISBLANK(I31),"",IF(COUNTIF(I31,"*BOMBE_75MM*"),IF(G31=1,F31,""),"")) | AE31: =IF(ISBLANK(I31),"",IF(COUNTIF(I31,"*BOMBE_75MM*"),IF(COUNTIF(K31,"*TR*"),IF(G31<=5,F31,""),""),"")) | AF31: =IF(ISBLANK(I31),"",IF(COUNTIF(I31,"*BOMBE_75MM*"),IF(COUNTIF(K31,"*TR*"),IF(G31>5,F31,""),""),"")) | AG31: =IF(ISBLANK(I31),"",IF(COUNTIF(I31,"*BOMBE_75MM*"),IF(COUNTIF(K31,"*\*"),IF(AND(G31<=3,G31>=2),F31,""),""),"")) | AH31: =IF(ISBLANK(I31),"",IF(COUNTIF(I31,"*BOMBE_75MM*"),IF(COUNTIF(K31,"*\*"),IF(AND(G31<=7,G31>=4),F31,""),""),"")) | AJ31: =IF(ISBLANK(I31),"",IF(COUNTIF(I31,"*BOMBE_100MM*"),IF(G31=1,F31,""),"")) | AK31: =IF(ISBLANK(I31),"",IF(COUNTIF(I31,"*BOMBE_100MM*"),IF(COUNTIF(K31,"*TR*"),IF(G31<=5,F31,F31*2),""),"")) | AL31: =IF(ISBLANK(I31),"",IF(COUNTIF(I31,"*BOMBE_100MM*"),IF(COUNTIF(K31,"*\*"),IF(AND(G31<=3,G31>=2),F31,""),""),"")) | AM31: =IF(ISBLANK(I31),"",IF(COUNTIF(I31,"*BOMBE_100MM*"),IF(COUNTIF(K31,"*\*"),IF(AND(G31<=5,G31>=4),F31,""),""),"")) | AO31: =IF(ISBLANK(I31),"",IF(COUNTIF(I31,"*BOMBE_125MM*"),IF(G31=1,F31,""),"")) | AP31: =IF(ISBLANK(I31),"",IF(COUNTIF(I31,"*BOMBE_125MM*"),IF(COUNTIF(K31,"*TR*"),IF(G31<=5,F31,""),""),"")) | AQ31: =IF(ISBLANK(I31),"",IF(COUNTIF(I31,"*BOMBE_125MM*"),IF(COUNTIF(K31,"*\*"),IF(AND(G31<=3,G31>=2),F31,""),""),"")) | AS31: =IF(ISBLANK(I31),"",IF(COUNTIF(I31,"*BOMBE_150MM*"),IF(G31=1,F31,""),"")) | AT31: =IF(ISBLANK(I31),"",IF(COUNTIF(I31,"*BOMBE_150MM*"),IF(COUNTIF(K31,"*TR*"),IF(G31<=4,F31,""),""),"")) | AU31: =IF(ISBLANK(I31),"",IF(COUNTIF(I31,"*BOMBE_150MM*"),IF(COUNTIF(K31,"*\*"),IF(AND(G31<=3,G31>=2),F31,""),""),"")) | AW31: =IF(ISBLANK(I31),"",IF(COUNTIF(I31,"*BOMBE_200MM*"),F31*G31,"")) | AY31: =IF(ISBLANK(I31),"",IF(COUNTIF(I31,"*BOMBE_*"),F31*20,F31*15)) | AZ31: =IF(ISBLANK(I31),"",IF(COUNTIF(I31,"*BOMBE_*"),F31*15,F31*10)) | BA31: =IF(ISBLANK(I31),"",IF(COUNTIF(I31,"*BOMBE_*"),F31*10,F31*5))
N32: =IF(ISBLANK(I32),"",IF(COUNTIF(I32,"*bombe*"),(G32-1)*SUMIF('base de donnée JCO '!C$3:C$10,K32,'base de donnée JCO '!D$3:D$10)+SUMIF(entete,L32,'base de donnée JCO '!D$14:D$20),SUMIFS('base de donnée JCO '!I$173:I$1080,'base de donnée JCO '!F$173:F$1080,I32,'base de donnée JCO '!G$173:G$1080,J32))) | O32: =IF(ISBLANK(I32),"",IF(ISBLANK(D32),D30+N32,D32+N32)) | V32: =W32*SUMIFS('base de donnée JCO '!H$173:H$1080,'base de donnée JCO '!F$173:F$1080,I32,'base de donnée JCO '!G$173:G$1080,J32) -> 0 | W32: =F32*G32 -> 0 | X32: =W32*SUMIFS('base de donnée JCO '!J$173:J$1080,'base de donnée JCO '!F$173:F$1080,I32,'base de donnée JCO '!G$173:G$1080,J32) -> 0 | Z32: =IF(ISBLANK(I32),"",IF(COUNTIF(I32,"*BOMBE_50MM*"),IF(COUNTIF(K32,"*TR*"),IF(G32>=6,F32*1,0.5*F32),""),"")) | AA32: =IF(ISBLANK(I32),"",IF(COUNTIF(I32,"*BOMBE_50MM*"),IF(COUNTIF(K32,"*\*"),IF(G32>1,F32*1,""),""),"")) | AB32: =IF(ISBLANK(I32),"",IF(COUNTIF(I32,"*BOMBE_50MM*"),IF(G32=1,F32,""),"")) | AD32: =IF(ISBLANK(I32),"",IF(COUNTIF(I32,"*BOMBE_75MM*"),IF(G32=1,F32,""),"")) | AE32: =IF(ISBLANK(I32),"",IF(COUNTIF(I32,"*BOMBE_75MM*"),IF(COUNTIF(K32,"*TR*"),IF(G32<=5,F32,""),""),"")) | AF32: =IF(ISBLANK(I32),"",IF(COUNTIF(I32,"*BOMBE_75MM*"),IF(COUNTIF(K32,"*TR*"),IF(G32>5,F32,""),""),"")) | AG32: =IF(ISBLANK(I32),"",IF(COUNTIF(I32,"*BOMBE_75MM*"),IF(COUNTIF(K32,"*\*"),IF(AND(G32<=3,G32>=2),F32,""),""),"")) | AH32: =IF(ISBLANK(I32),"",IF(COUNTIF(I32,"*BOMBE_75MM*"),IF(COUNTIF(K32,"*\*"),IF(AND(G32<=7,G32>=4),F32,""),""),"")) | AJ32: =IF(ISBLANK(I32),"",IF(COUNTIF(I32,"*BOMBE_100MM*"),IF(G32=1,F32,""),"")) | AK32: =IF(ISBLANK(I32),"",IF(COUNTIF(I32,"*BOMBE_100MM*"),IF(COUNTIF(K32,"*TR*"),IF(G32<=5,F32,F32*2),""),"")) | AL32: =IF(ISBLANK(I32),"",IF(COUNTIF(I32,"*BOMBE_100MM*"),IF(COUNTIF(K32,"*\*"),IF(AND(G32<=3,G32>=2),F32,""),""),"")) | AM32: =IF(ISBLANK(I32),"",IF(COUNTIF(I32,"*BOMBE_100MM*"),IF(COUNTIF(K32,"*\*"),IF(AND(G32<=5,G32>=4),F32,""),""),"")) | AO32: =IF(ISBLANK(I32),"",IF(COUNTIF(I32,"*BOMBE_125MM*"),IF(G32=1,F32,""),"")) | AP32: =IF(ISBLANK(I32),"",IF(COUNTIF(I32,"*BOMBE_125MM*"),IF(COUNTIF(K32,"*TR*"),IF(G32<=5,F32,""),""),"")) | AQ32: =IF(ISBLANK(I32),"",IF(COUNTIF(I32,"*BOMBE_125MM*"),IF(COUNTIF(K32,"*\*"),IF(AND(G32<=3,G32>=2),F32,""),""),"")) | AS32: =IF(ISBLANK(I32),"",IF(COUNTIF(I32,"*BOMBE_150MM*"),IF(G32=1,F32,""),"")) | AT32: =IF(ISBLANK(I32),"",IF(COUNTIF(I32,"*BOMBE_150MM*"),IF(COUNTIF(K32,"*TR*"),IF(G32<=4,F32,""),""),"")) | AU32: =IF(ISBLANK(I32),"",IF(COUNTIF(I32,"*BOMBE_150MM*"),IF(COUNTIF(K32,"*\*"),IF(AND(G32<=3,G32>=2),F32,""),""),"")) | AW32: =IF(ISBLANK(I32),"",IF(COUNTIF(I32,"*BOMBE_200MM*"),F32*G32,"")) | AY32: =IF(ISBLANK(I32),"",IF(COUNTIF(I32,"*BOMBE_*"),F32*20,F32*15)) | AZ32: =IF(ISBLANK(I32),"",IF(COUNTIF(I32,"*BOMBE_*"),F32*15,F32*10)) | BA32: =IF(ISBLANK(I32),"",IF(COUNTIF(I32,"*BOMBE_*"),F32*10,F32*5))
N33: =IF(ISBLANK(I33),"",IF(COUNTIF(I33,"*bombe*"),(G33-1)*SUMIF('base de donnée JCO '!C$3:C$10,K33,'base de donnée JCO '!D$3:D$10)+SUMIF(entete,L33,'base de donnée JCO '!D$14:D$20),SUMIFS('base de donnée JCO '!I$173:I$1080,'base de donnée JCO '!F$173:F$1080,I33,'base de donnée JCO '!G$173:G$1080,J33))) | O33: =IF(ISBLANK(I33),"",IF(ISBLANK(D33),D30+N33,D33+N33)) | S33: X | V33: =W33*SUMIFS('base de donnée JCO '!H$173:H$1080,'base de donnée JCO '!F$173:F$1080,I33,'base de donnée JCO '!G$173:G$1080,J33) -> 0 | W33: =F33*G33 -> 0 | X33: =W33*SUMIFS('base de donnée JCO '!J$173:J$1080,'base de donnée JCO '!F$173:F$1080,I33,'base de donnée JCO '!G$173:G$1080,J33) -> 0 | Z33: =IF(ISBLANK(I33),"",IF(COUNTIF(I33,"*BOMBE_50MM*"),IF(COUNTIF(K33,"*TR*"),IF(G33>=6,F33*1,0.5*F33),""),"")) | AA33: =IF(ISBLANK(I33),"",IF(COUNTIF(I33,"*BOMBE_50MM*"),IF(COUNTIF(K33,"*\*"),IF(G33>1,F33*1,""),""),"")) | AB33: =IF(ISBLANK(I33),"",IF(COUNTIF(I33,"*BOMBE_50MM*"),IF(G33=1,F33,""),"")) | AD33: =IF(ISBLANK(I33),"",IF(COUNTIF(I33,"*BOMBE_75MM*"),IF(G33=1,F33,""),"")) | AE33: =IF(ISBLANK(I33),"",IF(COUNTIF(I33,"*BOMBE_75MM*"),IF(COUNTIF(K33,"*TR*"),IF(G33<=5,F33,""),""),"")) | AF33: =IF(ISBLANK(I33),"",IF(COUNTIF(I33,"*BOMBE_75MM*"),IF(COUNTIF(K33,"*TR*"),IF(G33>5,F33,""),""),"")) | AG33: =IF(ISBLANK(I33),"",IF(COUNTIF(I33,"*BOMBE_75MM*"),IF(COUNTIF(K33,"*\*"),IF(AND(G33<=3,G33>=2),F33,""),""),"")) | AH33: =IF(ISBLANK(I33),"",IF(COUNTIF(I33,"*BOMBE_75MM*"),IF(COUNTIF(K33,"*\*"),IF(AND(G33<=7,G33>=4),F33,""),""),"")) | AJ33: =IF(ISBLANK(I33),"",IF(COUNTIF(I33,"*BOMBE_100MM*"),IF(G33=1,F33,""),"")) | AK33: =IF(ISBLANK(I33),"",IF(COUNTIF(I33,"*BOMBE_100MM*"),IF(COUNTIF(K33,"*TR*"),IF(G33<=5,F33,F33*2),""),"")) | AL33: =IF(ISBLANK(I33),"",IF(COUNTIF(I33,"*BOMBE_100MM*"),IF(COUNTIF(K33,"*\*"),IF(AND(G33<=3,G33>=2),F33,""),""),"")) | AM33: =IF(ISBLANK(I33),"",IF(COUNTIF(I33,"*BOMBE_100MM*"),IF(COUNTIF(K33,"*\*"),IF(AND(G33<=5,G33>=4),F33,""),""),"")) | AO33: =IF(ISBLANK(I33),"",IF(COUNTIF(I33,"*BOMBE_125MM*"),IF(G33=1,F33,""),"")) | AP33: =IF(ISBLANK(I33),"",IF(COUNTIF(I33,"*BOMBE_125MM*"),IF(COUNTIF(K33,"*TR*"),IF(G33<=5,F33,""),""),"")) | AQ33: =IF(ISBLANK(I33),"",IF(COUNTIF(I33,"*BOMBE_125MM*"),IF(COUNTIF(K33,"*\*"),IF(AND(G33<=3,G33>=2),F33,""),""),"")) | AS33: =IF(ISBLANK(I33),"",IF(COUNTIF(I33,"*BOMBE_150MM*"),IF(G33=1,F33,""),"")) | AT33: =IF(ISBLANK(I33),"",IF(COUNTIF(I33,"*BOMBE_150MM*"),IF(COUNTIF(K33,"*TR*"),IF(G33<=4,F33,""),""),"")) | AU33: =IF(ISBLANK(I33),"",IF(COUNTIF(I33,"*BOMBE_150MM*"),IF(COUNTIF(K33,"*\*"),IF(AND(G33<=3,G33>=2),F33,""),""),"")) | AW33: =IF(ISBLANK(I33),"",IF(COUNTIF(I33,"*BOMBE_200MM*"),F33*G33,"")) | AY33: =IF(ISBLANK(I33),"",IF(COUNTIF(I33,"*BOMBE_*"),F33*20,F33*15)) | AZ33: =IF(ISBLANK(I33),"",IF(COUNTIF(I33,"*BOMBE_*"),F33*15,F33*10)) | BA33: =IF(ISBLANK(I33),"",IF(COUNTIF(I33,"*BOMBE_*"),F33*10,F33*5))
N34: =IF(ISBLANK(I34),"",IF(COUNTIF(I34,"*bombe*"),(G34-1)*SUMIF('base de donnée JCO '!C$3:C$10,K34,'base de donnée JCO '!D$3:D$10)+SUMIF(entete,L34,'base de donnée JCO '!D$14:D$20),SUMIFS('base de donnée JCO '!I$173:I$1080,'base de donnée JCO '!F$173:F$1080,I34,'base de donnée JCO '!G$173:G$1080,J34))) | O34: =IF(ISBLANK(I34),"",IF(ISBLANK(D34),D32+N34,D34+N34)) | V34: =W34*SUMIFS('base de donnée JCO '!H$173:H$1080,'base de donnée JCO '!F$173:F$1080,I34,'base de donnée JCO '!G$173:G$1080,J34) -> 0 | W34: =F34*G34 -> 0 | X34: =W34*SUMIFS('base de donnée JCO '!J$173:J$1080,'base de donnée JCO '!F$173:F$1080,I34,'base de donnée JCO '!G$173:G$1080,J34) -> 0 | Z34: =IF(ISBLANK(I34),"",IF(COUNTIF(I34,"*BOMBE_50MM*"),IF(COUNTIF(K34,"*TR*"),IF(G34>=6,F34*1,0.5*F34),""),"")) | AA34: =IF(ISBLANK(I34),"",IF(COUNTIF(I34,"*BOMBE_50MM*"),IF(COUNTIF(K34,"*\*"),IF(G34>1,F34*1,""),""),"")) | AB34: =IF(ISBLANK(I34),"",IF(COUNTIF(I34,"*BOMBE_50MM*"),IF(G34=1,F34,""),"")) | AD34: =IF(ISBLANK(I34),"",IF(COUNTIF(I34,"*BOMBE_75MM*"),IF(G34=1,F34,""),"")) | AE34: =IF(ISBLANK(I34),"",IF(COUNTIF(I34,"*BOMBE_75MM*"),IF(COUNTIF(K34,"*TR*"),IF(G34<=5,F34,""),""),"")) | AF34: =IF(ISBLANK(I34),"",IF(COUNTIF(I34,"*BOMBE_75MM*"),IF(COUNTIF(K34,"*TR*"),IF(G34>5,F34,""),""),"")) | AG34: =IF(ISBLANK(I34),"",IF(COUNTIF(I34,"*BOMBE_75MM*"),IF(COUNTIF(K34,"*\*"),IF(AND(G34<=3,G34>=2),F34,""),""),"")) | AH34: =IF(ISBLANK(I34),"",IF(COUNTIF(I34,"*BOMBE_75MM*"),IF(COUNTIF(K34,"*\*"),IF(AND(G34<=7,G34>=4),F34,""),""),"")) | AJ34: =IF(ISBLANK(I34),"",IF(COUNTIF(I34,"*BOMBE_100MM*"),IF(G34=1,F34,""),"")) | AK34: =IF(ISBLANK(I34),"",IF(COUNTIF(I34,"*BOMBE_100MM*"),IF(COUNTIF(K34,"*TR*"),IF(G34<=5,F34,F34*2),""),"")) | AL34: =IF(ISBLANK(I34),"",IF(COUNTIF(I34,"*BOMBE_100MM*"),IF(COUNTIF(K34,"*\*"),IF(AND(G34<=3,G34>=2),F34,""),""),"")) | AM34: =IF(ISBLANK(I34),"",IF(COUNTIF(I34,"*BOMBE_100MM*"),IF(COUNTIF(K34,"*\*"),IF(AND(G34<=5,G34>=4),F34,""),""),"")) | AO34: =IF(ISBLANK(I34),"",IF(COUNTIF(I34,"*BOMBE_125MM*"),IF(G34=1,F34,""),"")) | AP34: =IF(ISBLANK(I34),"",IF(COUNTIF(I34,"*BOMBE_125MM*"),IF(COUNTIF(K34,"*TR*"),IF(G34<=5,F34,""),""),"")) | AQ34: =IF(ISBLANK(I34),"",IF(COUNTIF(I34,"*BOMBE_125MM*"),IF(COUNTIF(K34,"*\*"),IF(AND(G34<=3,G34>=2),F34,""),""),"")) | AS34: =IF(ISBLANK(I34),"",IF(COUNTIF(I34,"*BOMBE_150MM*"),IF(G34=1,F34,""),"")) | AT34: =IF(ISBLANK(I34),"",IF(COUNTIF(I34,"*BOMBE_150MM*"),IF(COUNTIF(K34,"*TR*"),IF(G34<=4,F34,""),""),"")) | AU34: =IF(ISBLANK(I34),"",IF(COUNTIF(I34,"*BOMBE_150MM*"),IF(COUNTIF(K34,"*\*"),IF(AND(G34<=3,G34>=2),F34,""),""),"")) | AW34: =IF(ISBLANK(I34),"",IF(COUNTIF(I34,"*BOMBE_200MM*"),F34*G34,"")) | AY34: =IF(ISBLANK(I34),"",IF(COUNTIF(I34,"*BOMBE_*"),F34*20,F34*15)) | AZ34: =IF(ISBLANK(I34),"",IF(COUNTIF(I34,"*BOMBE_*"),F34*15,F34*10)) | BA34: =IF(ISBLANK(I34),"",IF(COUNTIF(I34,"*BOMBE_*"),F34*10,F34*5))
N35: =IF(ISBLANK(I35),"",IF(COUNTIF(I35,"*bombe*"),(G35-1)*SUMIF('base de donnée JCO '!C$3:C$10,K35,'base de donnée JCO '!D$3:D$10)+SUMIF(entete,L35,'base de donnée JCO '!D$14:D$20),SUMIFS('base de donnée JCO '!I$173:I$1080,'base de donnée JCO '!F$173:F$1080,I35,'base de donnée JCO '!G$173:G$1080,J35))) | O35: =IF(ISBLANK(I35),"",IF(ISBLANK(D35),#REF!+N35,D35+N35)) | S35: \ / | V35: =W35*SUMIFS('base de donnée JCO '!H$173:H$1080,'base de donnée JCO '!F$173:F$1080,I35,'base de donnée JCO '!G$173:G$1080,J35) -> 0 | W35: =F35*G35 -> 0 | X35: =W35*SUMIFS('base de donnée JCO '!J$173:J$1080,'base de donnée JCO '!F$173:F$1080,I35,'base de donnée JCO '!G$173:G$1080,J35) -> 0 | Z35: =IF(ISBLANK(I35),"",IF(COUNTIF(I35,"*BOMBE_50MM*"),IF(COUNTIF(K35,"*TR*"),IF(G35>=6,F35*1,0.5*F35),""),"")) | AA35: =IF(ISBLANK(I35),"",IF(COUNTIF(I35,"*BOMBE_50MM*"),IF(COUNTIF(K35,"*\*"),IF(G35>1,F35*1,""),""),"")) | AB35: =IF(ISBLANK(I35),"",IF(COUNTIF(I35,"*BOMBE_50MM*"),IF(G35=1,F35,""),"")) | AD35: =IF(ISBLANK(I35),"",IF(COUNTIF(I35,"*BOMBE_75MM*"),IF(G35=1,F35,""),"")) | AE35: =IF(ISBLANK(I35),"",IF(COUNTIF(I35,"*BOMBE_75MM*"),IF(COUNTIF(K35,"*TR*"),IF(G35<=5,F35,""),""),"")) | AF35: =IF(ISBLANK(I35),"",IF(COUNTIF(I35,"*BOMBE_75MM*"),IF(COUNTIF(K35,"*TR*"),IF(G35>5,F35,""),""),"")) | AG35: =IF(ISBLANK(I35),"",IF(COUNTIF(I35,"*BOMBE_75MM*"),IF(COUNTIF(K35,"*\*"),IF(AND(G35<=3,G35>=2),F35,""),""),"")) | AH35: =IF(ISBLANK(I35),"",IF(COUNTIF(I35,"*BOMBE_75MM*"),IF(COUNTIF(K35,"*\*"),IF(AND(G35<=7,G35>=4),F35,""),""),"")) | AJ35: =IF(ISBLANK(I35),"",IF(COUNTIF(I35,"*BOMBE_100MM*"),IF(G35=1,F35,""),"")) | AK35: =IF(ISBLANK(I35),"",IF(COUNTIF(I35,"*BOMBE_100MM*"),IF(COUNTIF(K35,"*TR*"),IF(G35<=5,F35,F35*2),""),"")) | AL35: =IF(ISBLANK(I35),"",IF(COUNTIF(I35,"*BOMBE_100MM*"),IF(COUNTIF(K35,"*\*"),IF(AND(G35<=3,G35>=2),F35,""),""),"")) | AM35: =IF(ISBLANK(I35),"",IF(COUNTIF(I35,"*BOMBE_100MM*"),IF(COUNTIF(K35,"*\*"),IF(AND(G35<=5,G35>=4),F35,""),""),"")) | AO35: =IF(ISBLANK(I35),"",IF(COUNTIF(I35,"*BOMBE_125MM*"),IF(G35=1,F35,""),"")) | AP35: =IF(ISBLANK(I35),"",IF(COUNTIF(I35,"*BOMBE_125MM*"),IF(COUNTIF(K35,"*TR*"),IF(G35<=5,F35,""),""),"")) | AQ35: =IF(ISBLANK(I35),"",IF(COUNTIF(I35,"*BOMBE_125MM*"),IF(COUNTIF(K35,"*\*"),IF(AND(G35<=3,G35>=2),F35,""),""),"")) | AS35: =IF(ISBLANK(I35),"",IF(COUNTIF(I35,"*BOMBE_150MM*"),IF(G35=1,F35,""),"")) | AT35: =IF(ISBLANK(I35),"",IF(COUNTIF(I35,"*BOMBE_150MM*"),IF(COUNTIF(K35,"*TR*"),IF(G35<=4,F35,""),""),"")) | AU35: =IF(ISBLANK(I35),"",IF(COUNTIF(I35,"*BOMBE_150MM*"),IF(COUNTIF(K35,"*\*"),IF(AND(G35<=3,G35>=2),F35,""),""),"")) | AW35: =IF(ISBLANK(I35),"",IF(COUNTIF(I35,"*BOMBE_200MM*"),F35*G35,"")) | AY35: =IF(ISBLANK(I35),"",IF(COUNTIF(I35,"*BOMBE_*"),F35*20,F35*15)) | AZ35: =IF(ISBLANK(I35),"",IF(COUNTIF(I35,"*BOMBE_*"),F35*15,F35*10)) | BA35: =IF(ISBLANK(I35),"",IF(COUNTIF(I35,"*BOMBE_*"),F35*10,F35*5))
N36: =IF(ISBLANK(I36),"",IF(COUNTIF(I36,"*bombe*"),(G36-1)*SUMIF('base de donnée JCO '!C$3:C$10,K36,'base de donnée JCO '!D$3:D$10)+SUMIF(entete,L36,'base de donnée JCO '!D$14:D$20),SUMIFS('base de donnée JCO '!I$173:I$1080,'base de donnée JCO '!F$173:F$1080,I36,'base de donnée JCO '!G$173:G$1080,J36))) | O36: =IF(ISBLANK(I36),"",IF(ISBLANK(D36),D35+N36,D36+N36)) | S36: X | V36: =W36*SUMIFS('base de donnée JCO '!H$173:H$1080,'base de donnée JCO '!F$173:F$1080,I36,'base de donnée JCO '!G$173:G$1080,J36) -> 0 | W36: =F36*G36 -> 0 | X36: =W36*SUMIFS('base de donnée JCO '!J$173:J$1080,'base de donnée JCO '!F$173:F$1080,I36,'base de donnée JCO '!G$173:G$1080,J36) -> 0 | Z36: =IF(ISBLANK(I36),"",IF(COUNTIF(I36,"*BOMBE_50MM*"),IF(COUNTIF(K36,"*TR*"),IF(G36>=6,F36*1,0.5*F36),""),"")) | AA36: =IF(ISBLANK(I36),"",IF(COUNTIF(I36,"*BOMBE_50MM*"),IF(COUNTIF(K36,"*\*"),IF(G36>1,F36*1,""),""),"")) | AB36: =IF(ISBLANK(I36),"",IF(COUNTIF(I36,"*BOMBE_50MM*"),IF(G36=1,F36,""),"")) | AD36: =IF(ISBLANK(I36),"",IF(COUNTIF(I36,"*BOMBE_75MM*"),IF(G36=1,F36,""),"")) | AE36: =IF(ISBLANK(I36),"",IF(COUNTIF(I36,"*BOMBE_75MM*"),IF(COUNTIF(K36,"*TR*"),IF(G36<=5,F36,""),""),"")) | AF36: =IF(ISBLANK(I36),"",IF(COUNTIF(I36,"*BOMBE_75MM*"),IF(COUNTIF(K36,"*TR*"),IF(G36>5,F36,""),""),"")) | AG36: =IF(ISBLANK(I36),"",IF(COUNTIF(I36,"*BOMBE_75MM*"),IF(COUNTIF(K36,"*\*"),IF(AND(G36<=3,G36>=2),F36,""),""),"")) | AH36: =IF(ISBLANK(I36),"",IF(COUNTIF(I36,"*BOMBE_75MM*"),IF(COUNTIF(K36,"*\*"),IF(AND(G36<=7,G36>=4),F36,""),""),"")) | AJ36: =IF(ISBLANK(I36),"",IF(COUNTIF(I36,"*BOMBE_100MM*"),IF(G36=1,F36,""),"")) | AK36: =IF(ISBLANK(I36),"",IF(COUNTIF(I36,"*BOMBE_100MM*"),IF(COUNTIF(K36,"*TR*"),IF(G36<=5,F36,F36*2),""),"")) | AL36: =IF(ISBLANK(I36),"",IF(COUNTIF(I36,"*BOMBE_100MM*"),IF(COUNTIF(K36,"*\*"),IF(AND(G36<=3,G36>=2),F36,""),""),"")) | AM36: =IF(ISBLANK(I36),"",IF(COUNTIF(I36,"*BOMBE_100MM*"),IF(COUNTIF(K36,"*\*"),IF(AND(G36<=5,G36>=4),F36,""),""),"")) | AO36: =IF(ISBLANK(I36),"",IF(COUNTIF(I36,"*BOMBE_125MM*"),IF(G36=1,F36,""),"")) | AP36: =IF(ISBLANK(I36),"",IF(COUNTIF(I36,"*BOMBE_125MM*"),IF(COUNTIF(K36,"*TR*"),IF(G36<=5,F36,""),""),"")) | AQ36: =IF(ISBLANK(I36),"",IF(COUNTIF(I36,"*BOMBE_125MM*"),IF(COUNTIF(K36,"*\*"),IF(AND(G36<=3,G36>=2),F36,""),""),"")) | AS36: =IF(ISBLANK(I36),"",IF(COUNTIF(I36,"*BOMBE_150MM*"),IF(G36=1,F36,""),"")) | AT36: =IF(ISBLANK(I36),"",IF(COUNTIF(I36,"*BOMBE_150MM*"),IF(COUNTIF(K36,"*TR*"),IF(G36<=4,F36,""),""),"")) | AU36: =IF(ISBLANK(I36),"",IF(COUNTIF(I36,"*BOMBE_150MM*"),IF(COUNTIF(K36,"*\*"),IF(AND(G36<=3,G36>=2),F36,""),""),"")) | AW36: =IF(ISBLANK(I36),"",IF(COUNTIF(I36,"*BOMBE_200MM*"),F36*G36,"")) | AY36: =IF(ISBLANK(I36),"",IF(COUNTIF(I36,"*BOMBE_*"),F36*20,F36*15)) | AZ36: =IF(ISBLANK(I36),"",IF(COUNTIF(I36,"*BOMBE_*"),F36*15,F36*10)) | BA36: =IF(ISBLANK(I36),"",IF(COUNTIF(I36,"*BOMBE_*"),F36*10,F36*5))
N37: =IF(ISBLANK(I37),"",IF(COUNTIF(I37,"*bombe*"),(G37-1)*SUMIF('base de donnée JCO '!C$3:C$10,K37,'base de donnée JCO '!D$3:D$10)+SUMIF(entete,L37,'base de donnée JCO '!D$14:D$20),SUMIFS('base de donnée JCO '!I$173:I$1080,'base de donnée JCO '!F$173:F$1080,I37,'base de donnée JCO '!G$173:G$1080,J37))) | O37: =IF(ISBLANK(I37),"",IF(ISBLANK(D37),#REF!+N37,D37+N37)) | V37: =W37*SUMIFS('base de donnée JCO '!H$173:H$1080,'base de donnée JCO '!F$173:F$1080,I37,'base de donnée JCO '!G$173:G$1080,J37) -> 0 | W37: =F37*G37 -> 0 | X37: =W37*SUMIFS('base de donnée JCO '!J$173:J$1080,'base de donnée JCO '!F$173:F$1080,I37,'base de donnée JCO '!G$173:G$1080,J37) -> 0 | Z37: =IF(ISBLANK(I37),"",IF(COUNTIF(I37,"*BOMBE_50MM*"),IF(COUNTIF(K37,"*TR*"),IF(G37>=6,F37*1,0.5*F37),""),"")) | AA37: =IF(ISBLANK(I37),"",IF(COUNTIF(I37,"*BOMBE_50MM*"),IF(COUNTIF(K37,"*\*"),IF(G37>1,F37*1,""),""),"")) | AB37: =IF(ISBLANK(I37),"",IF(COUNTIF(I37,"*BOMBE_50MM*"),IF(G37=1,F37,""),"")) | AD37: =IF(ISBLANK(I37),"",IF(COUNTIF(I37,"*BOMBE_75MM*"),IF(G37=1,F37,""),"")) | AE37: =IF(ISBLANK(I37),"",IF(COUNTIF(I37,"*BOMBE_75MM*"),IF(COUNTIF(K37,"*TR*"),IF(G37<=5,F37,""),""),"")) | AF37: =IF(ISBLANK(I37),"",IF(COUNTIF(I37,"*BOMBE_75MM*"),IF(COUNTIF(K37,"*TR*"),IF(G37>5,F37,""),""),"")) | AG37: =IF(ISBLANK(I37),"",IF(COUNTIF(I37,"*BOMBE_75MM*"),IF(COUNTIF(K37,"*\*"),IF(AND(G37<=3,G37>=2),F37,""),""),"")) | AH37: =IF(ISBLANK(I37),"",IF(COUNTIF(I37,"*BOMBE_75MM*"),IF(COUNTIF(K37,"*\*"),IF(AND(G37<=7,G37>=4),F37,""),""),"")) | AJ37: =IF(ISBLANK(I37),"",IF(COUNTIF(I37,"*BOMBE_100MM*"),IF(G37=1,F37,""),"")) | AK37: =IF(ISBLANK(I37),"",IF(COUNTIF(I37,"*BOMBE_100MM*"),IF(COUNTIF(K37,"*TR*"),IF(G37<=5,F37,F37*2),""),"")) | AL37: =IF(ISBLANK(I37),"",IF(COUNTIF(I37,"*BOMBE_100MM*"),IF(COUNTIF(K37,"*\*"),IF(AND(G37<=3,G37>=2),F37,""),""),"")) | AM37: =IF(ISBLANK(I37),"",IF(COUNTIF(I37,"*BOMBE_100MM*"),IF(COUNTIF(K37,"*\*"),IF(AND(G37<=5,G37>=4),F37,""),""),"")) | AO37: =IF(ISBLANK(I37),"",IF(COUNTIF(I37,"*BOMBE_125MM*"),IF(G37=1,F37,""),"")) | AP37: =IF(ISBLANK(I37),"",IF(COUNTIF(I37,"*BOMBE_125MM*"),IF(COUNTIF(K37,"*TR*"),IF(G37<=5,F37,""),""),"")) | AQ37: =IF(ISBLANK(I37),"",IF(COUNTIF(I37,"*BOMBE_125MM*"),IF(COUNTIF(K37,"*\*"),IF(AND(G37<=3,G37>=2),F37,""),""),"")) | AS37: =IF(ISBLANK(I37),"",IF(COUNTIF(I37,"*BOMBE_150MM*"),IF(G37=1,F37,""),"")) | AT37: =IF(ISBLANK(I37),"",IF(COUNTIF(I37,"*BOMBE_150MM*"),IF(COUNTIF(K37,"*TR*"),IF(G37<=4,F37,""),""),"")) | AU37: =IF(ISBLANK(I37),"",IF(COUNTIF(I37,"*BOMBE_150MM*"),IF(COUNTIF(K37,"*\*"),IF(AND(G37<=3,G37>=2),F37,""),""),"")) | AW37: =IF(ISBLANK(I37),"",IF(COUNTIF(I37,"*BOMBE_200MM*"),F37*G37,"")) | AY37: =IF(ISBLANK(I37),"",IF(COUNTIF(I37,"*BOMBE_*"),F37*20,F37*15)) | AZ37: =IF(ISBLANK(I37),"",IF(COUNTIF(I37,"*BOMBE_*"),F37*15,F37*10)) | BA37: =IF(ISBLANK(I37),"",IF(COUNTIF(I37,"*BOMBE_*"),F37*10,F37*5))
N38: =IF(ISBLANK(I38),"",IF(COUNTIF(I38,"*bombe*"),(G38-1)*SUMIF('base de donnée JCO '!C$3:C$10,K38,'base de donnée JCO '!D$3:D$10)+SUMIF(entete,L38,'base de donnée JCO '!D$14:D$20),SUMIFS('base de donnée JCO '!I$173:I$1080,'base de donnée JCO '!F$173:F$1080,I38,'base de donnée JCO '!G$173:G$1080,J38))) | O38: =IF(ISBLANK(I38),"",IF(ISBLANK(D38),D37+N38,D38+N38)) | Q38: fen | U38: fen | V38: =W38*SUMIFS('base de donnée JCO '!H$173:H$1080,'base de donnée JCO '!F$173:F$1080,I38,'base de donnée JCO '!G$173:G$1080,J38) -> 0 | W38: =F38*G38 -> 0 | X38: =W38*SUMIFS('base de donnée JCO '!J$173:J$1080,'base de donnée JCO '!F$173:F$1080,I38,'base de donnée JCO '!G$173:G$1080,J38) -> 0 | Z38: =IF(ISBLANK(I38),"",IF(COUNTIF(I38,"*BOMBE_50MM*"),IF(COUNTIF(K38,"*TR*"),IF(G38>=6,F38*1,0.5*F38),""),"")) | AA38: =IF(ISBLANK(I38),"",IF(COUNTIF(I38,"*BOMBE_50MM*"),IF(COUNTIF(K38,"*\*"),IF(G38>1,F38*1,""),""),"")) | AB38: =IF(ISBLANK(I38),"",IF(COUNTIF(I38,"*BOMBE_50MM*"),IF(G38=1,F38,""),"")) | AD38: =IF(ISBLANK(I38),"",IF(COUNTIF(I38,"*BOMBE_75MM*"),IF(G38=1,F38,""),"")) | AE38: =IF(ISBLANK(I38),"",IF(COUNTIF(I38,"*BOMBE_75MM*"),IF(COUNTIF(K38,"*TR*"),IF(G38<=5,F38,""),""),"")) | AF38: =IF(ISBLANK(I38),"",IF(COUNTIF(I38,"*BOMBE_75MM*"),IF(COUNTIF(K38,"*TR*"),IF(G38>5,F38,""),""),"")) | AG38: =IF(ISBLANK(I38),"",IF(COUNTIF(I38,"*BOMBE_75MM*"),IF(COUNTIF(K38,"*\*"),IF(AND(G38<=3,G38>=2),F38,""),""),"")) | AH38: =IF(ISBLANK(I38),"",IF(COUNTIF(I38,"*BOMBE_75MM*"),IF(COUNTIF(K38,"*\*"),IF(AND(G38<=7,G38>=4),F38,""),""),"")) | AJ38: =IF(ISBLANK(I38),"",IF(COUNTIF(I38,"*BOMBE_100MM*"),IF(G38=1,F38,""),"")) | AK38: =IF(ISBLANK(I38),"",IF(COUNTIF(I38,"*BOMBE_100MM*"),IF(COUNTIF(K38,"*TR*"),IF(G38<=5,F38,F38*2),""),"")) | AL38: =IF(ISBLANK(I38),"",IF(COUNTIF(I38,"*BOMBE_100MM*"),IF(COUNTIF(K38,"*\*"),IF(AND(G38<=3,G38>=2),F38,""),""),"")) | AM38: =IF(ISBLANK(I38),"",IF(COUNTIF(I38,"*BOMBE_100MM*"),IF(COUNTIF(K38,"*\*"),IF(AND(G38<=5,G38>=4),F38,""),""),"")) | AO38: =IF(ISBLANK(I38),"",IF(COUNTIF(I38,"*BOMBE_125MM*"),IF(G38=1,F38,""),"")) | AP38: =IF(ISBLANK(I38),"",IF(COUNTIF(I38,"*BOMBE_125MM*"),IF(COUNTIF(K38,"*TR*"),IF(G38<=5,F38,""),""),"")) | AQ38: =IF(ISBLANK(I38),"",IF(COUNTIF(I38,"*BOMBE_125MM*"),IF(COUNTIF(K38,"*\*"),IF(AND(G38<=3,G38>=2),F38,""),""),"")) | AS38: =IF(ISBLANK(I38),"",IF(COUNTIF(I38,"*BOMBE_150MM*"),IF(G38=1,F38,""),"")) | AT38: =IF(ISBLANK(I38),"",IF(COUNTIF(I38,"*BOMBE_150MM*"),IF(COUNTIF(K38,"*TR*"),IF(G38<=4,F38,""),""),"")) | AU38: =IF(ISBLANK(I38),"",IF(COUNTIF(I38,"*BOMBE_150MM*"),IF(COUNTIF(K38,"*\*"),IF(AND(G38<=3,G38>=2),F38,""),""),"")) | AW38: =IF(ISBLANK(I38),"",IF(COUNTIF(I38,"*BOMBE_200MM*"),F38*G38,"")) | AY38: =IF(ISBLANK(I38),"",IF(COUNTIF(I38,"*BOMBE_*"),F38*20,F38*15)) | AZ38: =IF(ISBLANK(I38),"",IF(COUNTIF(I38,"*BOMBE_*"),F38*15,F38*10)) | BA38: =IF(ISBLANK(I38),"",IF(COUNTIF(I38,"*BOMBE_*"),F38*10,F38*5))
N39: =IF(ISBLANK(I39),"",IF(COUNTIF(I39,"*bombe*"),(G39-1)*SUMIF('base de donnée JCO '!C$3:C$10,K39,'base de donnée JCO '!D$3:D$10)+SUMIF(entete,L39,'base de donnée JCO '!D$14:D$20),SUMIFS('base de donnée JCO '!I$173:I$1080,'base de donnée JCO '!F$173:F$1080,I39,'base de donnée JCO '!G$173:G$1080,J39))) | O39: =IF(ISBLANK(I39),"",IF(ISBLANK(D39),D37+N39,D39+N39)) | V39: =W39*SUMIFS('base de donnée JCO '!H$173:H$1080,'base de donnée JCO '!F$173:F$1080,I39,'base de donnée JCO '!G$173:G$1080,J39) -> 0 | W39: =F39*G39 -> 0 | X39: =W39*SUMIFS('base de donnée JCO '!J$173:J$1080,'base de donnée JCO '!F$173:F$1080,I39,'base de donnée JCO '!G$173:G$1080,J39) -> 0 | Z39: =IF(ISBLANK(I39),"",IF(COUNTIF(I39,"*BOMBE_50MM*"),IF(COUNTIF(K39,"*TR*"),IF(G39>=6,F39*1,0.5*F39),""),"")) | AA39: =IF(ISBLANK(I39),"",IF(COUNTIF(I39,"*BOMBE_50MM*"),IF(COUNTIF(K39,"*\*"),IF(G39>1,F39*1,""),""),"")) | AB39: =IF(ISBLANK(I39),"",IF(COUNTIF(I39,"*BOMBE_50MM*"),IF(G39=1,F39,""),"")) | AD39: =IF(ISBLANK(I39),"",IF(COUNTIF(I39,"*BOMBE_75MM*"),IF(G39=1,F39,""),"")) | AE39: =IF(ISBLANK(I39),"",IF(COUNTIF(I39,"*BOMBE_75MM*"),IF(COUNTIF(K39,"*TR*"),IF(G39<=5,F39,""),""),"")) | AF39: =IF(ISBLANK(I39),"",IF(COUNTIF(I39,"*BOMBE_75MM*"),IF(COUNTIF(K39,"*TR*"),IF(G39>5,F39,""),""),"")) | AG39: =IF(ISBLANK(I39),"",IF(COUNTIF(I39,"*BOMBE_75MM*"),IF(COUNTIF(K39,"*\*"),IF(AND(G39<=3,G39>=2),F39,""),""),"")) | AH39: =IF(ISBLANK(I39),"",IF(COUNTIF(I39,"*BOMBE_75MM*"),IF(COUNTIF(K39,"*\*"),IF(AND(G39<=7,G39>=4),F39,""),""),"")) | AJ39: =IF(ISBLANK(I39),"",IF(COUNTIF(I39,"*BOMBE_100MM*"),IF(G39=1,F39,""),"")) | AK39: =IF(ISBLANK(I39),"",IF(COUNTIF(I39,"*BOMBE_100MM*"),IF(COUNTIF(K39,"*TR*"),IF(G39<=5,F39,F39*2),""),"")) | AL39: =IF(ISBLANK(I39),"",IF(COUNTIF(I39,"*BOMBE_100MM*"),IF(COUNTIF(K39,"*\*"),IF(AND(G39<=3,G39>=2),F39,""),""),"")) | AM39: =IF(ISBLANK(I39),"",IF(COUNTIF(I39,"*BOMBE_100MM*"),IF(COUNTIF(K39,"*\*"),IF(AND(G39<=5,G39>=4),F39,""),""),"")) | AO39: =IF(ISBLANK(I39),"",IF(COUNTIF(I39,"*BOMBE_125MM*"),IF(G39=1,F39,""),"")) | AP39: =IF(ISBLANK(I39),"",IF(COUNTIF(I39,"*BOMBE_125MM*"),IF(COUNTIF(K39,"*TR*"),IF(G39<=5,F39,""),""),"")) | AQ39: =IF(ISBLANK(I39),"",IF(COUNTIF(I39,"*BOMBE_125MM*"),IF(COUNTIF(K39,"*\*"),IF(AND(G39<=3,G39>=2),F39,""),""),"")) | AS39: =IF(ISBLANK(I39),"",IF(COUNTIF(I39,"*BOMBE_150MM*"),IF(G39=1,F39,""),"")) | AT39: =IF(ISBLANK(I39),"",IF(COUNTIF(I39,"*BOMBE_150MM*"),IF(COUNTIF(K39,"*TR*"),IF(G39<=4,F39,""),""),"")) | AU39: =IF(ISBLANK(I39),"",IF(COUNTIF(I39,"*BOMBE_150MM*"),IF(COUNTIF(K39,"*\*"),IF(AND(G39<=3,G39>=2),F39,""),""),"")) | AW39: =IF(ISBLANK(I39),"",IF(COUNTIF(I39,"*BOMBE_200MM*"),F39*G39,"")) | AY39: =IF(ISBLANK(I39),"",IF(COUNTIF(I39,"*BOMBE_*"),F39*20,F39*15)) | AZ39: =IF(ISBLANK(I39),"",IF(COUNTIF(I39,"*BOMBE_*"),F39*15,F39*10)) | BA39: =IF(ISBLANK(I39),"",IF(COUNTIF(I39,"*BOMBE_*"),F39*10,F39*5))
N40: =IF(ISBLANK(I40),"",IF(COUNTIF(I40,"*bombe*"),(G40-1)*SUMIF('base de donnée JCO '!C$3:C$10,K40,'base de donnée JCO '!D$3:D$10)+SUMIF(entete,L40,'base de donnée JCO '!D$14:D$20),SUMIFS('base de donnée JCO '!I$173:I$1080,'base de donnée JCO '!F$173:F$1080,I40,'base de donnée JCO '!G$173:G$1080,J40))) | O40: =IF(ISBLANK(I40),"",IF(ISBLANK(D40),D39+N40,D40+N40)) | S40: \ / | V40: =W40*SUMIFS('base de donnée JCO '!H$173:H$1080,'base de donnée JCO '!F$173:F$1080,I40,'base de donnée JCO '!G$173:G$1080,J40) -> 0 | W40: =F40*G40 -> 0 | X40: =W40*SUMIFS('base de donnée JCO '!J$173:J$1080,'base de donnée JCO '!F$173:F$1080,I40,'base de donnée JCO '!G$173:G$1080,J40) -> 0 | Z40: =IF(ISBLANK(I40),"",IF(COUNTIF(I40,"*BOMBE_50MM*"),IF(COUNTIF(K40,"*TR*"),IF(G40>=6,F40*1,0.5*F40),""),"")) | AA40: =IF(ISBLANK(I40),"",IF(COUNTIF(I40,"*BOMBE_50MM*"),IF(COUNTIF(K40,"*\*"),IF(G40>1,F40*1,""),""),"")) | AB40: =IF(ISBLANK(I40),"",IF(COUNTIF(I40,"*BOMBE_50MM*"),IF(G40=1,F40,""),"")) | AD40: =IF(ISBLANK(I40),"",IF(COUNTIF(I40,"*BOMBE_75MM*"),IF(G40=1,F40,""),"")) | AE40: =IF(ISBLANK(I40),"",IF(COUNTIF(I40,"*BOMBE_75MM*"),IF(COUNTIF(K40,"*TR*"),IF(G40<=5,F40,""),""),"")) | AF40: =IF(ISBLANK(I40),"",IF(COUNTIF(I40,"*BOMBE_75MM*"),IF(COUNTIF(K40,"*TR*"),IF(G40>5,F40,""),""),"")) | AG40: =IF(ISBLANK(I40),"",IF(COUNTIF(I40,"*BOMBE_75MM*"),IF(COUNTIF(K40,"*\*"),IF(AND(G40<=3,G40>=2),F40,""),""),"")) | AH40: =IF(ISBLANK(I40),"",IF(COUNTIF(I40,"*BOMBE_75MM*"),IF(COUNTIF(K40,"*\*"),IF(AND(G40<=7,G40>=4),F40,""),""),"")) | AJ40: =IF(ISBLANK(I40),"",IF(COUNTIF(I40,"*BOMBE_100MM*"),IF(G40=1,F40,""),"")) | AK40: =IF(ISBLANK(I40),"",IF(COUNTIF(I40,"*BOMBE_100MM*"),IF(COUNTIF(K40,"*TR*"),IF(G40<=5,F40,F40*2),""),"")) | AL40: =IF(ISBLANK(I40),"",IF(COUNTIF(I40,"*BOMBE_100MM*"),IF(COUNTIF(K40,"*\*"),IF(AND(G40<=3,G40>=2),F40,""),""),"")) | AM40: =IF(ISBLANK(I40),"",IF(COUNTIF(I40,"*BOMBE_100MM*"),IF(COUNTIF(K40,"*\*"),IF(AND(G40<=5,G40>=4),F40,""),""),"")) | AO40: =IF(ISBLANK(I40),"",IF(COUNTIF(I40,"*BOMBE_125MM*"),IF(G40=1,F40,""),"")) | AP40: =IF(ISBLANK(I40),"",IF(COUNTIF(I40,"*BOMBE_125MM*"),IF(COUNTIF(K40,"*TR*"),IF(G40<=5,F40,""),""),"")) | AQ40: =IF(ISBLANK(I40),"",IF(COUNTIF(I40,"*BOMBE_125MM*"),IF(COUNTIF(K40,"*\*"),IF(AND(G40<=3,G40>=2),F40,""),""),"")) | AS40: =IF(ISBLANK(I40),"",IF(COUNTIF(I40,"*BOMBE_150MM*"),IF(G40=1,F40,""),"")) | AT40: =IF(ISBLANK(I40),"",IF(COUNTIF(I40,"*BOMBE_150MM*"),IF(COUNTIF(K40,"*TR*"),IF(G40<=4,F40,""),""),"")) | AU40: =IF(ISBLANK(I40),"",IF(COUNTIF(I40,"*BOMBE_150MM*"),IF(COUNTIF(K40,"*\*"),IF(AND(G40<=3,G40>=2),F40,""),""),"")) | AW40: =IF(ISBLANK(I40),"",IF(COUNTIF(I40,"*BOMBE_200MM*"),F40*G40,"")) | AY40: =IF(ISBLANK(I40),"",IF(COUNTIF(I40,"*BOMBE_*"),F40*20,F40*15)) | AZ40: =IF(ISBLANK(I40),"",IF(COUNTIF(I40,"*BOMBE_*"),F40*15,F40*10)) | BA40: =IF(ISBLANK(I40),"",IF(COUNTIF(I40,"*BOMBE_*"),F40*10,F40*5))
N41: =IF(ISBLANK(I41),"",IF(COUNTIF(I41,"*bombe*"),(G41-1)*SUMIF('base de donnée JCO '!C$3:C$10,K41,'base de donnée JCO '!D$3:D$10)+SUMIF(entete,L41,'base de donnée JCO '!D$14:D$20),SUMIFS('base de donnée JCO '!I$173:I$1080,'base de donnée JCO '!F$173:F$1080,I41,'base de donnée JCO '!G$173:G$1080,J41))) | O41: =IF(ISBLANK(I41),"",IF(ISBLANK(D41),D40+N41,D41+N41)) | V41: =W41*SUMIFS('base de donnée JCO '!H$173:H$1080,'base de donnée JCO '!F$173:F$1080,I41,'base de donnée JCO '!G$173:G$1080,J41) -> 0 | W41: =F41*G41 -> 0 | X41: =W41*SUMIFS('base de donnée JCO '!J$173:J$1080,'base de donnée JCO '!F$173:F$1080,I41,'base de donnée JCO '!G$173:G$1080,J41) -> 0 | Z41: =IF(ISBLANK(I41),"",IF(COUNTIF(I41,"*BOMBE_50MM*"),IF(COUNTIF(K41,"*TR*"),IF(G41>=6,F41*1,0.5*F41),""),"")) | AA41: =IF(ISBLANK(I41),"",IF(COUNTIF(I41,"*BOMBE_50MM*"),IF(COUNTIF(K41,"*\*"),IF(G41>1,F41*1,""),""),"")) | AB41: =IF(ISBLANK(I41),"",IF(COUNTIF(I41,"*BOMBE_50MM*"),IF(G41=1,F41,""),"")) | AD41: =IF(ISBLANK(I41),"",IF(COUNTIF(I41,"*BOMBE_75MM*"),IF(G41=1,F41,""),"")) | AE41: =IF(ISBLANK(I41),"",IF(COUNTIF(I41,"*BOMBE_75MM*"),IF(COUNTIF(K41,"*TR*"),IF(G41<=5,F41,""),""),"")) | AF41: =IF(ISBLANK(I41),"",IF(COUNTIF(I41,"*BOMBE_75MM*"),IF(COUNTIF(K41,"*TR*"),IF(G41>5,F41,""),""),"")) | AG41: =IF(ISBLANK(I41),"",IF(COUNTIF(I41,"*BOMBE_75MM*"),IF(COUNTIF(K41,"*\*"),IF(AND(G41<=3,G41>=2),F41,""),""),"")) | AH41: =IF(ISBLANK(I41),"",IF(COUNTIF(I41,"*BOMBE_75MM*"),IF(COUNTIF(K41,"*\*"),IF(AND(G41<=7,G41>=4),F41,""),""),"")) | AJ41: =IF(ISBLANK(I41),"",IF(COUNTIF(I41,"*BOMBE_100MM*"),IF(G41=1,F41,""),"")) | AK41: =IF(ISBLANK(I41),"",IF(COUNTIF(I41,"*BOMBE_100MM*"),IF(COUNTIF(K41,"*TR*"),IF(G41<=5,F41,F41*2),""),"")) | AL41: =IF(ISBLANK(I41),"",IF(COUNTIF(I41,"*BOMBE_100MM*"),IF(COUNTIF(K41,"*\*"),IF(AND(G41<=3,G41>=2),F41,""),""),"")) | AM41: =IF(ISBLANK(I41),"",IF(COUNTIF(I41,"*BOMBE_100MM*"),IF(COUNTIF(K41,"*\*"),IF(AND(G41<=5,G41>=4),F41,""),""),"")) | AO41: =IF(ISBLANK(I41),"",IF(COUNTIF(I41,"*BOMBE_125MM*"),IF(G41=1,F41,""),"")) | AP41: =IF(ISBLANK(I41),"",IF(COUNTIF(I41,"*BOMBE_125MM*"),IF(COUNTIF(K41,"*TR*"),IF(G41<=5,F41,""),""),"")) | AQ41: =IF(ISBLANK(I41),"",IF(COUNTIF(I41,"*BOMBE_125MM*"),IF(COUNTIF(K41,"*\*"),IF(AND(G41<=3,G41>=2),F41,""),""),"")) | AS41: =IF(ISBLANK(I41),"",IF(COUNTIF(I41,"*BOMBE_150MM*"),IF(G41=1,F41,""),"")) | AT41: =IF(ISBLANK(I41),"",IF(COUNTIF(I41,"*BOMBE_150MM*"),IF(COUNTIF(K41,"*TR*"),IF(G41<=4,F41,""),""),"")) | AU41: =IF(ISBLANK(I41),"",IF(COUNTIF(I41,"*BOMBE_150MM*"),IF(COUNTIF(K41,"*\*"),IF(AND(G41<=3,G41>=2),F41,""),""),"")) | AW41: =IF(ISBLANK(I41),"",IF(COUNTIF(I41,"*BOMBE_200MM*"),F41*G41,"")) | AY41: =IF(ISBLANK(I41),"",IF(COUNTIF(I41,"*BOMBE_*"),F41*20,F41*15)) | AZ41: =IF(ISBLANK(I41),"",IF(COUNTIF(I41,"*BOMBE_*"),F41*15,F41*10)) | BA41: =IF(ISBLANK(I41),"",IF(COUNTIF(I41,"*BOMBE_*"),F41*10,F41*5))
S42: \ / | V42: =W42*SUMIFS('base de donnée JCO '!H$173:H$1080,'base de donnée JCO '!F$173:F$1080,I42,'base de donnée JCO '!G$173:G$1080,J42) -> 0 | W42: =F42*G42 -> 0 | X42: =W42*SUMIFS('base de donnée JCO '!J$173:J$1080,'base de donnée JCO '!F$173:F$1080,I42,'base de donnée JCO '!G$173:G$1080,J42) -> 0 | Z42: =IF(ISBLANK(I42),"",IF(COUNTIF(I42,"*BOMBE_50MM*"),IF(COUNTIF(K42,"*TR*"),IF(G42>=6,F42*1,0.5*F42),""),"")) | AA42: =IF(ISBLANK(I42),"",IF(COUNTIF(I42,"*BOMBE_50MM*"),IF(COUNTIF(K42,"*\*"),IF(G42>1,F42*1,""),""),"")) | AB42: =IF(ISBLANK(I42),"",IF(COUNTIF(I42,"*BOMBE_50MM*"),IF(G42=1,F42,""),"")) | AD42: =IF(ISBLANK(I42),"",IF(COUNTIF(I42,"*BOMBE_75MM*"),IF(G42=1,F42,""),"")) | AE42: =IF(ISBLANK(I42),"",IF(COUNTIF(I42,"*BOMBE_75MM*"),IF(COUNTIF(K42,"*TR*"),IF(G42<=5,F42,""),""),"")) | AF42: =IF(ISBLANK(I42),"",IF(COUNTIF(I42,"*BOMBE_75MM*"),IF(COUNTIF(K42,"*TR*"),IF(G42>5,F42,""),""),"")) | AG42: =IF(ISBLANK(I42),"",IF(COUNTIF(I42,"*BOMBE_75MM*"),IF(COUNTIF(K42,"*\*"),IF(AND(G42<=3,G42>=2),F42,""),""),"")) | AH42: =IF(ISBLANK(I42),"",IF(COUNTIF(I42,"*BOMBE_75MM*"),IF(COUNTIF(K42,"*\*"),IF(AND(G42<=7,G42>=4),F42,""),""),"")) | AJ42: =IF(ISBLANK(I42),"",IF(COUNTIF(I42,"*BOMBE_100MM*"),IF(G42=1,F42,""),"")) | AK42: =IF(ISBLANK(I42),"",IF(COUNTIF(I42,"*BOMBE_100MM*"),IF(COUNTIF(K42,"*TR*"),IF(G42<=5,F42,F42*2),""),"")) | AL42: =IF(ISBLANK(I42),"",IF(COUNTIF(I42,"*BOMBE_100MM*"),IF(COUNTIF(K42,"*\*"),IF(AND(G42<=3,G42>=2),F42,""),""),"")) | AM42: =IF(ISBLANK(I42),"",IF(COUNTIF(I42,"*BOMBE_100MM*"),IF(COUNTIF(K42,"*\*"),IF(AND(G42<=5,G42>=4),F42,""),""),"")) | AO42: =IF(ISBLANK(I42),"",IF(COUNTIF(I42,"*BOMBE_125MM*"),IF(G42=1,F42,""),"")) | AP42: =IF(ISBLANK(I42),"",IF(COUNTIF(I42,"*BOMBE_125MM*"),IF(COUNTIF(K42,"*TR*"),IF(G42<=5,F42,""),""),"")) | AQ42: =IF(ISBLANK(I42),"",IF(COUNTIF(I42,"*BOMBE_125MM*"),IF(COUNTIF(K42,"*\*"),IF(AND(G42<=3,G42>=2),F42,""),""),"")) | AS42: =IF(ISBLANK(I42),"",IF(COUNTIF(I42,"*BOMBE_150MM*"),IF(G42=1,F42,""),"")) | AT42: =IF(ISBLANK(I42),"",IF(COUNTIF(I42,"*BOMBE_150MM*"),IF(COUNTIF(K42,"*TR*"),IF(G42<=4,F42,""),""),"")) | AU42: =IF(ISBLANK(I42),"",IF(COUNTIF(I42,"*BOMBE_150MM*"),IF(COUNTIF(K42,"*\*"),IF(AND(G42<=3,G42>=2),F42,""),""),"")) | AW42: =IF(ISBLANK(I42),"",IF(COUNTIF(I42,"*BOMBE_200MM*"),F42*G42,"")) | AY42: =IF(ISBLANK(I42),"",IF(COUNTIF(I42,"*BOMBE_*"),F42*20,F42*15)) | AZ42: =IF(ISBLANK(I42),"",IF(COUNTIF(I42,"*BOMBE_*"),F42*15,F42*10)) | BA42: =IF(ISBLANK(I42),"",IF(COUNTIF(I42,"*BOMBE_*"),F42*10,F42*5))
N43: =IF(ISBLANK(I43),"",IF(COUNTIF(I43,"*bombe*"),(G43-1)*SUMIF('base de donnée JCO '!C$3:C$10,K43,'base de donnée JCO '!D$3:D$10)+SUMIF(entete,L43,'base de donnée JCO '!D$14:D$20),SUMIFS('base de donnée JCO '!I$173:I$1080,'base de donnée JCO '!F$173:F$1080,I43,'base de donnée JCO '!G$173:G$1080,J43))) | O43: =IF(ISBLANK(I43),"",IF(ISBLANK(D43),D42+N43,D43+N43)) | V43: =W43*SUMIFS('base de donnée JCO '!H$173:H$1080,'base de donnée JCO '!F$173:F$1080,I43,'base de donnée JCO '!G$173:G$1080,J43) -> 0 | W43: =F43*G43 -> 0 | X43: =W43*SUMIFS('base de donnée JCO '!J$173:J$1080,'base de donnée JCO '!F$173:F$1080,I43,'base de donnée JCO '!G$173:G$1080,J43) -> 0 | Z43: =IF(ISBLANK(I43),"",IF(COUNTIF(I43,"*BOMBE_50MM*"),IF(COUNTIF(K43,"*TR*"),IF(G43>=6,F43*1,0.5*F43),""),"")) | AA43: =IF(ISBLANK(I43),"",IF(COUNTIF(I43,"*BOMBE_50MM*"),IF(COUNTIF(K43,"*\*"),IF(G43>1,F43*1,""),""),"")) | AB43: =IF(ISBLANK(I43),"",IF(COUNTIF(I43,"*BOMBE_50MM*"),IF(G43=1,F43,""),"")) | AD43: =IF(ISBLANK(I43),"",IF(COUNTIF(I43,"*BOMBE_75MM*"),IF(G43=1,F43,""),"")) | AE43: =IF(ISBLANK(I43),"",IF(COUNTIF(I43,"*BOMBE_75MM*"),IF(COUNTIF(K43,"*TR*"),IF(G43<=5,F43,""),""),"")) | AF43: =IF(ISBLANK(I43),"",IF(COUNTIF(I43,"*BOMBE_75MM*"),IF(COUNTIF(K43,"*TR*"),IF(G43>5,F43,""),""),"")) | AG43: =IF(ISBLANK(I43),"",IF(COUNTIF(I43,"*BOMBE_75MM*"),IF(COUNTIF(K43,"*\*"),IF(AND(G43<=3,G43>=2),F43,""),""),"")) | AH43: =IF(ISBLANK(I43),"",IF(COUNTIF(I43,"*BOMBE_75MM*"),IF(COUNTIF(K43,"*\*"),IF(AND(G43<=7,G43>=4),F43,""),""),"")) | AJ43: =IF(ISBLANK(I43),"",IF(COUNTIF(I43,"*BOMBE_100MM*"),IF(G43=1,F43,""),"")) | AK43: =IF(ISBLANK(I43),"",IF(COUNTIF(I43,"*BOMBE_100MM*"),IF(COUNTIF(K43,"*TR*"),IF(G43<=5,F43,F43*2),""),"")) | AL43: =IF(ISBLANK(I43),"",IF(COUNTIF(I43,"*BOMBE_100MM*"),IF(COUNTIF(K43,"*\*"),IF(AND(G43<=3,G43>=2),F43,""),""),"")) | AM43: =IF(ISBLANK(I43),"",IF(COUNTIF(I43,"*BOMBE_100MM*"),IF(COUNTIF(K43,"*\*"),IF(AND(G43<=5,G43>=4),F43,""),""),"")) | AO43: =IF(ISBLANK(I43),"",IF(COUNTIF(I43,"*BOMBE_125MM*"),IF(G43=1,F43,""),"")) | AP43: =IF(ISBLANK(I43),"",IF(COUNTIF(I43,"*BOMBE_125MM*"),IF(COUNTIF(K43,"*TR*"),IF(G43<=5,F43,""),""),"")) | AQ43: =IF(ISBLANK(I43),"",IF(COUNTIF(I43,"*BOMBE_125MM*"),IF(COUNTIF(K43,"*\*"),IF(AND(G43<=3,G43>=2),F43,""),""),"")) | AS43: =IF(ISBLANK(I43),"",IF(COUNTIF(I43,"*BOMBE_150MM*"),IF(G43=1,F43,""),"")) | AT43: =IF(ISBLANK(I43),"",IF(COUNTIF(I43,"*BOMBE_150MM*"),IF(COUNTIF(K43,"*TR*"),IF(G43<=4,F43,""),""),"")) | AU43: =IF(ISBLANK(I43),"",IF(COUNTIF(I43,"*BOMBE_150MM*"),IF(COUNTIF(K43,"*\*"),IF(AND(G43<=3,G43>=2),F43,""),""),"")) | AW43: =IF(ISBLANK(I43),"",IF(COUNTIF(I43,"*BOMBE_200MM*"),F43*G43,"")) | AY43: =IF(ISBLANK(I43),"",IF(COUNTIF(I43,"*BOMBE_*"),F43*20,F43*15)) | AZ43: =IF(ISBLANK(I43),"",IF(COUNTIF(I43,"*BOMBE_*"),F43*15,F43*10)) | BA43: =IF(ISBLANK(I43),"",IF(COUNTIF(I43,"*BOMBE_*"),F43*10,F43*5))
N44: =IF(ISBLANK(I44),"",IF(COUNTIF(I44,"*bombe*"),(G44-1)*SUMIF('base de donnée JCO '!C$3:C$10,K44,'base de donnée JCO '!D$3:D$10)+SUMIF(entete,L44,'base de donnée JCO '!D$14:D$20),SUMIFS('base de donnée JCO '!I$173:I$1080,'base de donnée JCO '!F$173:F$1080,I44,'base de donnée JCO '!G$173:G$1080,J44))) | O44: =IF(ISBLANK(I44),"",IF(ISBLANK(D44),D43+N44,D44+N44)) | S44: \ I / | V44: =W44*SUMIFS('base de donnée JCO '!H$173:H$1080,'base de donnée JCO '!F$173:F$1080,I44,'base de donnée JCO '!G$173:G$1080,J44) -> 0 | W44: =F44*G44 -> 0 | X44: =W44*SUMIFS('base de donnée JCO '!J$173:J$1080,'base de donnée JCO '!F$173:F$1080,I44,'base de donnée JCO '!G$173:G$1080,J44) -> 0 | Z44: =IF(ISBLANK(I44),"",IF(COUNTIF(I44,"*BOMBE_50MM*"),IF(COUNTIF(K44,"*TR*"),IF(G44>=6,F44*1,0.5*F44),""),"")) | AA44: =IF(ISBLANK(I44),"",IF(COUNTIF(I44,"*BOMBE_50MM*"),IF(COUNTIF(K44,"*\*"),IF(G44>1,F44*1,""),""),"")) | AB44: =IF(ISBLANK(I44),"",IF(COUNTIF(I44,"*BOMBE_50MM*"),IF(G44=1,F44,""),"")) | AD44: =IF(ISBLANK(I44),"",IF(COUNTIF(I44,"*BOMBE_75MM*"),IF(G44=1,F44,""),"")) | AE44: =IF(ISBLANK(I44),"",IF(COUNTIF(I44,"*BOMBE_75MM*"),IF(COUNTIF(K44,"*TR*"),IF(G44<=5,F44,""),""),"")) | AF44: =IF(ISBLANK(I44),"",IF(COUNTIF(I44,"*BOMBE_75MM*"),IF(COUNTIF(K44,"*TR*"),IF(G44>5,F44,""),""),"")) | AG44: =IF(ISBLANK(I44),"",IF(COUNTIF(I44,"*BOMBE_75MM*"),IF(COUNTIF(K44,"*\*"),IF(AND(G44<=3,G44>=2),F44,""),""),"")) | AH44: =IF(ISBLANK(I44),"",IF(COUNTIF(I44,"*BOMBE_75MM*"),IF(COUNTIF(K44,"*\*"),IF(AND(G44<=7,G44>=4),F44,""),""),"")) | AJ44: =IF(ISBLANK(I44),"",IF(COUNTIF(I44,"*BOMBE_100MM*"),IF(G44=1,F44,""),"")) | AK44: =IF(ISBLANK(I44),"",IF(COUNTIF(I44,"*BOMBE_100MM*"),IF(COUNTIF(K44,"*TR*"),IF(G44<=5,F44,F44*2),""),"")) | AL44: =IF(ISBLANK(I44),"",IF(COUNTIF(I44,"*BOMBE_100MM*"),IF(COUNTIF(K44,"*\*"),IF(AND(G44<=3,G44>=2),F44,""),""),"")) | AM44: =IF(ISBLANK(I44),"",IF(COUNTIF(I44,"*BOMBE_100MM*"),IF(COUNTIF(K44,"*\*"),IF(AND(G44<=5,G44>=4),F44,""),""),"")) | AO44: =IF(ISBLANK(I44),"",IF(COUNTIF(I44,"*BOMBE_125MM*"),IF(G44=1,F44,""),"")) | AP44: =IF(ISBLANK(I44),"",IF(COUNTIF(I44,"*BOMBE_125MM*"),IF(COUNTIF(K44,"*TR*"),IF(G44<=5,F44,""),""),"")) | AQ44: =IF(ISBLANK(I44),"",IF(COUNTIF(I44,"*BOMBE_125MM*"),IF(COUNTIF(K44,"*\*"),IF(AND(G44<=3,G44>=2),F44,""),""),"")) | AS44: =IF(ISBLANK(I44),"",IF(COUNTIF(I44,"*BOMBE_150MM*"),IF(G44=1,F44,""),"")) | AT44: =IF(ISBLANK(I44),"",IF(COUNTIF(I44,"*BOMBE_150MM*"),IF(COUNTIF(K44,"*TR*"),IF(G44<=4,F44,""),""),"")) | AU44: =IF(ISBLANK(I44),"",IF(COUNTIF(I44,"*BOMBE_150MM*"),IF(COUNTIF(K44,"*\*"),IF(AND(G44<=3,G44>=2),F44,""),""),"")) | AW44: =IF(ISBLANK(I44),"",IF(COUNTIF(I44,"*BOMBE_200MM*"),F44*G44,"")) | AY44: =IF(ISBLANK(I44),"",IF(COUNTIF(I44,"*BOMBE_*"),F44*20,F44*15)) | AZ44: =IF(ISBLANK(I44),"",IF(COUNTIF(I44,"*BOMBE_*"),F44*15,F44*10)) | BA44: =IF(ISBLANK(I44),"",IF(COUNTIF(I44,"*BOMBE_*"),F44*10,F44*5))
N45: =IF(ISBLANK(I45),"",IF(COUNTIF(I45,"*bombe*"),(G45-1)*SUMIF('base de donnée JCO '!C$3:C$10,K45,'base de donnée JCO '!D$3:D$10)+SUMIF(entete,L45,'base de donnée JCO '!D$14:D$20),SUMIFS('base de donnée JCO '!I$173:I$1080,'base de donnée JCO '!F$173:F$1080,I45,'base de donnée JCO '!G$173:G$1080,J45))) | O45: =IF(ISBLANK(I45),"",IF(ISBLANK(D45),D43+N45,D45+N45)) | V45: =W45*SUMIFS('base de donnée JCO '!H$173:H$1080,'base de donnée JCO '!F$173:F$1080,I45,'base de donnée JCO '!G$173:G$1080,J45) -> 0 | W45: =F45*G45 -> 0 | X45: =W45*SUMIFS('base de donnée JCO '!J$173:J$1080,'base de donnée JCO '!F$173:F$1080,I45,'base de donnée JCO '!G$173:G$1080,J45) -> 0 | Z45: =IF(ISBLANK(I45),"",IF(COUNTIF(I45,"*BOMBE_50MM*"),IF(COUNTIF(K45,"*TR*"),IF(G45>=6,F45*1,0.5*F45),""),"")) | AA45: =IF(ISBLANK(I45),"",IF(COUNTIF(I45,"*BOMBE_50MM*"),IF(COUNTIF(K45,"*\*"),IF(G45>1,F45*1,""),""),"")) | AB45: =IF(ISBLANK(I45),"",IF(COUNTIF(I45,"*BOMBE_50MM*"),IF(G45=1,F45,""),"")) | AD45: =IF(ISBLANK(I45),"",IF(COUNTIF(I45,"*BOMBE_75MM*"),IF(G45=1,F45,""),"")) | AE45: =IF(ISBLANK(I45),"",IF(COUNTIF(I45,"*BOMBE_75MM*"),IF(COUNTIF(K45,"*TR*"),IF(G45<=5,F45,""),""),"")) | AF45: =IF(ISBLANK(I45),"",IF(COUNTIF(I45,"*BOMBE_75MM*"),IF(COUNTIF(K45,"*TR*"),IF(G45>5,F45,""),""),"")) | AG45: =IF(ISBLANK(I45),"",IF(COUNTIF(I45,"*BOMBE_75MM*"),IF(COUNTIF(K45,"*\*"),IF(AND(G45<=3,G45>=2),F45,""),""),"")) | AH45: =IF(ISBLANK(I45),"",IF(COUNTIF(I45,"*BOMBE_75MM*"),IF(COUNTIF(K45,"*\*"),IF(AND(G45<=7,G45>=4),F45,""),""),"")) | AJ45: =IF(ISBLANK(I45),"",IF(COUNTIF(I45,"*BOMBE_100MM*"),IF(G45=1,F45,""),"")) | AK45: =IF(ISBLANK(I45),"",IF(COUNTIF(I45,"*BOMBE_100MM*"),IF(COUNTIF(K45,"*TR*"),IF(G45<=5,F45,F45*2),""),"")) | AL45: =IF(ISBLANK(I45),"",IF(COUNTIF(I45,"*BOMBE_100MM*"),IF(COUNTIF(K45,"*\*"),IF(AND(G45<=3,G45>=2),F45,""),""),"")) | AM45: =IF(ISBLANK(I45),"",IF(COUNTIF(I45,"*BOMBE_100MM*"),IF(COUNTIF(K45,"*\*"),IF(AND(G45<=5,G45>=4),F45,""),""),"")) | AO45: =IF(ISBLANK(I45),"",IF(COUNTIF(I45,"*BOMBE_125MM*"),IF(G45=1,F45,""),"")) | AP45: =IF(ISBLANK(I45),"",IF(COUNTIF(I45,"*BOMBE_125MM*"),IF(COUNTIF(K45,"*TR*"),IF(G45<=5,F45,""),""),"")) | AQ45: =IF(ISBLANK(I45),"",IF(COUNTIF(I45,"*BOMBE_125MM*"),IF(COUNTIF(K45,"*\*"),IF(AND(G45<=3,G45>=2),F45,""),""),"")) | AS45: =IF(ISBLANK(I45),"",IF(COUNTIF(I45,"*BOMBE_150MM*"),IF(G45=1,F45,""),"")) | AT45: =IF(ISBLANK(I45),"",IF(COUNTIF(I45,"*BOMBE_150MM*"),IF(COUNTIF(K45,"*TR*"),IF(G45<=4,F45,""),""),"")) | AU45: =IF(ISBLANK(I45),"",IF(COUNTIF(I45,"*BOMBE_150MM*"),IF(COUNTIF(K45,"*\*"),IF(AND(G45<=3,G45>=2),F45,""),""),"")) | AW45: =IF(ISBLANK(I45),"",IF(COUNTIF(I45,"*BOMBE_200MM*"),F45*G45,"")) | AY45: =IF(ISBLANK(I45),"",IF(COUNTIF(I45,"*BOMBE_*"),F45*20,F45*15)) | AZ45: =IF(ISBLANK(I45),"",IF(COUNTIF(I45,"*BOMBE_*"),F45*15,F45*10)) | BA45: =IF(ISBLANK(I45),"",IF(COUNTIF(I45,"*BOMBE_*"),F45*10,F45*5))
N46: =IF(ISBLANK(I46),"",IF(COUNTIF(I46,"*bombe*"),(G46-1)*SUMIF('base de donnée JCO '!C$3:C$10,K46,'base de donnée JCO '!D$3:D$10)+SUMIF(entete,L46,'base de donnée JCO '!D$14:D$20),SUMIFS('base de donnée JCO '!I$173:I$1080,'base de donnée JCO '!F$173:F$1080,I46,'base de donnée JCO '!G$173:G$1080,J46))) | O46: =IF(ISBLANK(I46),"",IF(ISBLANK(D46),D45+N46,D46+N46)) | R46: \ | S46: \ / | T46: / | V46: =W46*SUMIFS('base de donnée JCO '!H$173:H$1080,'base de donnée JCO '!F$173:F$1080,I46,'base de donnée JCO '!G$173:G$1080,J46) -> 0 | W46: =F46*G46 -> 0 | X46: =W46*SUMIFS('base de donnée JCO '!J$173:J$1080,'base de donnée JCO '!F$173:F$1080,I46,'base de donnée JCO '!G$173:G$1080,J46) -> 0 | Z46: =IF(ISBLANK(I46),"",IF(COUNTIF(I46,"*BOMBE_50MM*"),IF(COUNTIF(K46,"*TR*"),IF(G46>=6,F46*1,0.5*F46),""),"")) | AA46: =IF(ISBLANK(I46),"",IF(COUNTIF(I46,"*BOMBE_50MM*"),IF(COUNTIF(K46,"*\*"),IF(G46>1,F46*1,""),""),"")) | AB46: =IF(ISBLANK(I46),"",IF(COUNTIF(I46,"*BOMBE_50MM*"),IF(G46=1,F46,""),"")) | AD46: =IF(ISBLANK(I46),"",IF(COUNTIF(I46,"*BOMBE_75MM*"),IF(G46=1,F46,""),"")) | AE46: =IF(ISBLANK(I46),"",IF(COUNTIF(I46,"*BOMBE_75MM*"),IF(COUNTIF(K46,"*TR*"),IF(G46<=5,F46,""),""),"")) | AF46: =IF(ISBLANK(I46),"",IF(COUNTIF(I46,"*BOMBE_75MM*"),IF(COUNTIF(K46,"*TR*"),IF(G46>5,F46,""),""),"")) | AG46: =IF(ISBLANK(I46),"",IF(COUNTIF(I46,"*BOMBE_75MM*"),IF(COUNTIF(K46,"*\*"),IF(AND(G46<=3,G46>=2),F46,""),""),"")) | AH46: =IF(ISBLANK(I46),"",IF(COUNTIF(I46,"*BOMBE_75MM*"),IF(COUNTIF(K46,"*\*"),IF(AND(G46<=7,G46>=4),F46,""),""),"")) | AJ46: =IF(ISBLANK(I46),"",IF(COUNTIF(I46,"*BOMBE_100MM*"),IF(G46=1,F46,""),"")) | AK46: =IF(ISBLANK(I46),"",IF(COUNTIF(I46,"*BOMBE_100MM*"),IF(COUNTIF(K46,"*TR*"),IF(G46<=5,F46,F46*2),""),"")) | AL46: =IF(ISBLANK(I46),"",IF(COUNTIF(I46,"*BOMBE_100MM*"),IF(COUNTIF(K46,"*\*"),IF(AND(G46<=3,G46>=2),F46,""),""),"")) | AM46: =IF(ISBLANK(I46),"",IF(COUNTIF(I46,"*BOMBE_100MM*"),IF(COUNTIF(K46,"*\*"),IF(AND(G46<=5,G46>=4),F46,""),""),"")) | AO46: =IF(ISBLANK(I46),"",IF(COUNTIF(I46,"*BOMBE_125MM*"),IF(G46=1,F46,""),"")) | AP46: =IF(ISBLANK(I46),"",IF(COUNTIF(I46,"*BOMBE_125MM*"),IF(COUNTIF(K46,"*TR*"),IF(G46<=5,F46,""),""),"")) | AQ46: =IF(ISBLANK(I46),"",IF(COUNTIF(I46,"*BOMBE_125MM*"),IF(COUNTIF(K46,"*\*"),IF(AND(G46<=3,G46>=2),F46,""),""),"")) | AS46: =IF(ISBLANK(I46),"",IF(COUNTIF(I46,"*BOMBE_150MM*"),IF(G46=1,F46,""),"")) | AT46: =IF(ISBLANK(I46),"",IF(COUNTIF(I46,"*BOMBE_150MM*"),IF(COUNTIF(K46,"*TR*"),IF(G46<=4,F46,""),""),"")) | AU46: =IF(ISBLANK(I46),"",IF(COUNTIF(I46,"*BOMBE_150MM*"),IF(COUNTIF(K46,"*\*"),IF(AND(G46<=3,G46>=2),F46,""),""),"")) | AW46: =IF(ISBLANK(I46),"",IF(COUNTIF(I46,"*BOMBE_200MM*"),F46*G46,"")) | AY46: =IF(ISBLANK(I46),"",IF(COUNTIF(I46,"*BOMBE_*"),F46*20,F46*15)) | AZ46: =IF(ISBLANK(I46),"",IF(COUNTIF(I46,"*BOMBE_*"),F46*15,F46*10)) | BA46: =IF(ISBLANK(I46),"",IF(COUNTIF(I46,"*BOMBE_*"),F46*10,F46*5))
N47: =IF(ISBLANK(I47),"",IF(COUNTIF(I47,"*bombe*"),(G47-1)*SUMIF('base de donnée JCO '!C$3:C$10,K47,'base de donnée JCO '!D$3:D$10)+SUMIF(entete,L47,'base de donnée JCO '!D$14:D$20),SUMIFS('base de donnée JCO '!I$173:I$1080,'base de donnée JCO '!F$173:F$1080,I47,'base de donnée JCO '!G$173:G$1080,J47))) | O47: =IF(ISBLANK(I47),"",IF(ISBLANK(D47),D46+N47,D47+N47)) | V47: =W47*SUMIFS('base de donnée JCO '!H$173:H$1080,'base de donnée JCO '!F$173:F$1080,I47,'base de donnée JCO '!G$173:G$1080,J47) -> 0 | W47: =F47*G47 -> 0 | X47: =W47*SUMIFS('base de donnée JCO '!J$173:J$1080,'base de donnée JCO '!F$173:F$1080,I47,'base de donnée JCO '!G$173:G$1080,J47) -> 0 | Z47: =IF(ISBLANK(I47),"",IF(COUNTIF(I47,"*BOMBE_50MM*"),IF(COUNTIF(K47,"*TR*"),IF(G47>=6,F47*1,0.5*F47),""),"")) | AA47: =IF(ISBLANK(I47),"",IF(COUNTIF(I47,"*BOMBE_50MM*"),IF(COUNTIF(K47,"*\*"),IF(G47>1,F47*1,""),""),"")) | AB47: =IF(ISBLANK(I47),"",IF(COUNTIF(I47,"*BOMBE_50MM*"),IF(G47=1,F47,""),"")) | AD47: =IF(ISBLANK(I47),"",IF(COUNTIF(I47,"*BOMBE_75MM*"),IF(G47=1,F47,""),"")) | AE47: =IF(ISBLANK(I47),"",IF(COUNTIF(I47,"*BOMBE_75MM*"),IF(COUNTIF(K47,"*TR*"),IF(G47<=5,F47,""),""),"")) | AF47: =IF(ISBLANK(I47),"",IF(COUNTIF(I47,"*BOMBE_75MM*"),IF(COUNTIF(K47,"*TR*"),IF(G47>5,F47,""),""),"")) | AG47: =IF(ISBLANK(I47),"",IF(COUNTIF(I47,"*BOMBE_75MM*"),IF(COUNTIF(K47,"*\*"),IF(AND(G47<=3,G47>=2),F47,""),""),"")) | AH47: =IF(ISBLANK(I47),"",IF(COUNTIF(I47,"*BOMBE_75MM*"),IF(COUNTIF(K47,"*\*"),IF(AND(G47<=7,G47>=4),F47,""),""),"")) | AJ47: =IF(ISBLANK(I47),"",IF(COUNTIF(I47,"*BOMBE_100MM*"),IF(G47=1,F47,""),"")) | AK47: =IF(ISBLANK(I47),"",IF(COUNTIF(I47,"*BOMBE_100MM*"),IF(COUNTIF(K47,"*TR*"),IF(G47<=5,F47,F47*2),""),"")) | AL47: =IF(ISBLANK(I47),"",IF(COUNTIF(I47,"*BOMBE_100MM*"),IF(COUNTIF(K47,"*\*"),IF(AND(G47<=3,G47>=2),F47,""),""),"")) | AM47: =IF(ISBLANK(I47),"",IF(COUNTIF(I47,"*BOMBE_100MM*"),IF(COUNTIF(K47,"*\*"),IF(AND(G47<=5,G47>=4),F47,""),""),"")) | AO47: =IF(ISBLANK(I47),"",IF(COUNTIF(I47,"*BOMBE_125MM*"),IF(G47=1,F47,""),"")) | AP47: =IF(ISBLANK(I47),"",IF(COUNTIF(I47,"*BOMBE_125MM*"),IF(COUNTIF(K47,"*TR*"),IF(G47<=5,F47,""),""),"")) | AQ47: =IF(ISBLANK(I47),"",IF(COUNTIF(I47,"*BOMBE_125MM*"),IF(COUNTIF(K47,"*\*"),IF(AND(G47<=3,G47>=2),F47,""),""),"")) | AS47: =IF(ISBLANK(I47),"",IF(COUNTIF(I47,"*BOMBE_150MM*"),IF(G47=1,F47,""),"")) | AT47: =IF(ISBLANK(I47),"",IF(COUNTIF(I47,"*BOMBE_150MM*"),IF(COUNTIF(K47,"*TR*"),IF(G47<=4,F47,""),""),"")) | AU47: =IF(ISBLANK(I47),"",IF(COUNTIF(I47,"*BOMBE_150MM*"),IF(COUNTIF(K47,"*\*"),IF(AND(G47<=3,G47>=2),F47,""),""),"")) | AW47: =IF(ISBLANK(I47),"",IF(COUNTIF(I47,"*BOMBE_200MM*"),F47*G47,"")) | AY47: =IF(ISBLANK(I47),"",IF(COUNTIF(I47,"*BOMBE_*"),F47*20,F47*15)) | AZ47: =IF(ISBLANK(I47),"",IF(COUNTIF(I47,"*BOMBE_*"),F47*15,F47*10)) | BA47: =IF(ISBLANK(I47),"",IF(COUNTIF(I47,"*BOMBE_*"),F47*10,F47*5))
V48: =W48*SUMIFS('base de donnée JCO '!H$173:H$1080,'base de donnée JCO '!F$173:F$1080,I48,'base de donnée JCO '!G$173:G$1080,J48) -> 0 | W48: =F48*G48 -> 0 | X48: =W48*SUMIFS('base de donnée JCO '!J$173:J$1080,'base de donnée JCO '!F$173:F$1080,I48,'base de donnée JCO '!G$173:G$1080,J48) -> 0 | Z48: =IF(ISBLANK(I48),"",IF(COUNTIF(I48,"*BOMBE_50MM*"),IF(COUNTIF(K48,"*TR*"),IF(G48>=6,F48*1,0.5*F48),""),"")) | AA48: =IF(ISBLANK(I48),"",IF(COUNTIF(I48,"*BOMBE_50MM*"),IF(COUNTIF(K48,"*\*"),IF(G48>1,F48*1,""),""),"")) | AB48: =IF(ISBLANK(I48),"",IF(COUNTIF(I48,"*BOMBE_50MM*"),IF(G48=1,F48,""),"")) | AD48: =IF(ISBLANK(I48),"",IF(COUNTIF(I48,"*BOMBE_75MM*"),IF(G48=1,F48,""),"")) | AE48: =IF(ISBLANK(I48),"",IF(COUNTIF(I48,"*BOMBE_75MM*"),IF(COUNTIF(K48,"*TR*"),IF(G48<=5,F48,""),""),"")) | AF48: =IF(ISBLANK(I48),"",IF(COUNTIF(I48,"*BOMBE_75MM*"),IF(COUNTIF(K48,"*TR*"),IF(G48>5,F48,""),""),"")) | AG48: =IF(ISBLANK(I48),"",IF(COUNTIF(I48,"*BOMBE_75MM*"),IF(COUNTIF(K48,"*\*"),IF(AND(G48<=3,G48>=2),F48,""),""),"")) | AH48: =IF(ISBLANK(I48),"",IF(COUNTIF(I48,"*BOMBE_75MM*"),IF(COUNTIF(K48,"*\*"),IF(AND(G48<=7,G48>=4),F48,""),""),"")) | AJ48: =IF(ISBLANK(I48),"",IF(COUNTIF(I48,"*BOMBE_100MM*"),IF(G48=1,F48,""),"")) | AK48: =IF(ISBLANK(I48),"",IF(COUNTIF(I48,"*BOMBE_100MM*"),IF(COUNTIF(K48,"*TR*"),IF(G48<=5,F48,F48*2),""),"")) | AL48: =IF(ISBLANK(I48),"",IF(COUNTIF(I48,"*BOMBE_100MM*"),IF(COUNTIF(K48,"*\*"),IF(AND(G48<=3,G48>=2),F48,""),""),"")) | AM48: =IF(ISBLANK(I48),"",IF(COUNTIF(I48,"*BOMBE_100MM*"),IF(COUNTIF(K48,"*\*"),IF(AND(G48<=5,G48>=4),F48,""),""),"")) | AO48: =IF(ISBLANK(I48),"",IF(COUNTIF(I48,"*BOMBE_125MM*"),IF(G48=1,F48,""),"")) | AP48: =IF(ISBLANK(I48),"",IF(COUNTIF(I48,"*BOMBE_125MM*"),IF(COUNTIF(K48,"*TR*"),IF(G48<=5,F48,""),""),"")) | AQ48: =IF(ISBLANK(I48),"",IF(COUNTIF(I48,"*BOMBE_125MM*"),IF(COUNTIF(K48,"*\*"),IF(AND(G48<=3,G48>=2),F48,""),""),"")) | AS48: =IF(ISBLANK(I48),"",IF(COUNTIF(I48,"*BOMBE_150MM*"),IF(G48=1,F48,""),"")) | AT48: =IF(ISBLANK(I48),"",IF(COUNTIF(I48,"*BOMBE_150MM*"),IF(COUNTIF(K48,"*TR*"),IF(G48<=4,F48,""),""),"")) | AU48: =IF(ISBLANK(I48),"",IF(COUNTIF(I48,"*BOMBE_150MM*"),IF(COUNTIF(K48,"*\*"),IF(AND(G48<=3,G48>=2),F48,""),""),"")) | AW48: =IF(ISBLANK(I48),"",IF(COUNTIF(I48,"*BOMBE_200MM*"),F48*G48,"")) | AY48: =IF(ISBLANK(I48),"",IF(COUNTIF(I48,"*BOMBE_*"),F48*20,F48*15)) | AZ48: =IF(ISBLANK(I48),"",IF(COUNTIF(I48,"*BOMBE_*"),F48*15,F48*10)) | BA48: =IF(ISBLANK(I48),"",IF(COUNTIF(I48,"*BOMBE_*"),F48*10,F48*5))
N49: =IF(ISBLANK(I49),"",IF(COUNTIF(I49,"*bombe*"),(G49-1)*SUMIF('base de donnée JCO '!C$3:C$10,K49,'base de donnée JCO '!D$3:D$10)+SUMIF(entete,L49,'base de donnée JCO '!D$14:D$20),SUMIFS('base de donnée JCO '!I$173:I$1080,'base de donnée JCO '!F$173:F$1080,I49,'base de donnée JCO '!G$173:G$1080,J49))) | O49: =IF(ISBLANK(I49),"",IF(ISBLANK(D49),D48+N49,D49+N49)) | S49: fen | V49: =W49*SUMIFS('base de donnée JCO '!H$173:H$1080,'base de donnée JCO '!F$173:F$1080,I49,'base de donnée JCO '!G$173:G$1080,J49) -> 0 | W49: =F49*G49 -> 0 | X49: =W49*SUMIFS('base de donnée JCO '!J$173:J$1080,'base de donnée JCO '!F$173:F$1080,I49,'base de donnée JCO '!G$173:G$1080,J49) -> 0 | Z49: =IF(ISBLANK(I49),"",IF(COUNTIF(I49,"*BOMBE_50MM*"),IF(COUNTIF(K49,"*TR*"),IF(G49>=6,F49*1,0.5*F49),""),"")) | AA49: =IF(ISBLANK(I49),"",IF(COUNTIF(I49,"*BOMBE_50MM*"),IF(COUNTIF(K49,"*\*"),IF(G49>1,F49*1,""),""),"")) | AB49: =IF(ISBLANK(I49),"",IF(COUNTIF(I49,"*BOMBE_50MM*"),IF(G49=1,F49,""),"")) | AD49: =IF(ISBLANK(I49),"",IF(COUNTIF(I49,"*BOMBE_75MM*"),IF(G49=1,F49,""),"")) | AE49: =IF(ISBLANK(I49),"",IF(COUNTIF(I49,"*BOMBE_75MM*"),IF(COUNTIF(K49,"*TR*"),IF(G49<=5,F49,""),""),"")) | AF49: =IF(ISBLANK(I49),"",IF(COUNTIF(I49,"*BOMBE_75MM*"),IF(COUNTIF(K49,"*TR*"),IF(G49>5,F49,""),""),"")) | AG49: =IF(ISBLANK(I49),"",IF(COUNTIF(I49,"*BOMBE_75MM*"),IF(COUNTIF(K49,"*\*"),IF(AND(G49<=3,G49>=2),F49,""),""),"")) | AH49: =IF(ISBLANK(I49),"",IF(COUNTIF(I49,"*BOMBE_75MM*"),IF(COUNTIF(K49,"*\*"),IF(AND(G49<=7,G49>=4),F49,""),""),"")) | AJ49: =IF(ISBLANK(I49),"",IF(COUNTIF(I49,"*BOMBE_100MM*"),IF(G49=1,F49,""),"")) | AK49: =IF(ISBLANK(I49),"",IF(COUNTIF(I49,"*BOMBE_100MM*"),IF(COUNTIF(K49,"*TR*"),IF(G49<=5,F49,F49*2),""),"")) | AL49: =IF(ISBLANK(I49),"",IF(COUNTIF(I49,"*BOMBE_100MM*"),IF(COUNTIF(K49,"*\*"),IF(AND(G49<=3,G49>=2),F49,""),""),"")) | AM49: =IF(ISBLANK(I49),"",IF(COUNTIF(I49,"*BOMBE_100MM*"),IF(COUNTIF(K49,"*\*"),IF(AND(G49<=5,G49>=4),F49,""),""),"")) | AO49: =IF(ISBLANK(I49),"",IF(COUNTIF(I49,"*BOMBE_125MM*"),IF(G49=1,F49,""),"")) | AP49: =IF(ISBLANK(I49),"",IF(COUNTIF(I49,"*BOMBE_125MM*"),IF(COUNTIF(K49,"*TR*"),IF(G49<=5,F49,""),""),"")) | AQ49: =IF(ISBLANK(I49),"",IF(COUNTIF(I49,"*BOMBE_125MM*"),IF(COUNTIF(K49,"*\*"),IF(AND(G49<=3,G49>=2),F49,""),""),"")) | AS49: =IF(ISBLANK(I49),"",IF(COUNTIF(I49,"*BOMBE_150MM*"),IF(G49=1,F49,""),"")) | AT49: =IF(ISBLANK(I49),"",IF(COUNTIF(I49,"*BOMBE_150MM*"),IF(COUNTIF(K49,"*TR*"),IF(G49<=4,F49,""),""),"")) | AU49: =IF(ISBLANK(I49),"",IF(COUNTIF(I49,"*BOMBE_150MM*"),IF(COUNTIF(K49,"*\*"),IF(AND(G49<=3,G49>=2),F49,""),""),"")) | AW49: =IF(ISBLANK(I49),"",IF(COUNTIF(I49,"*BOMBE_200MM*"),F49*G49,"")) | AY49: =IF(ISBLANK(I49),"",IF(COUNTIF(I49,"*BOMBE_*"),F49*20,F49*15)) | AZ49: =IF(ISBLANK(I49),"",IF(COUNTIF(I49,"*BOMBE_*"),F49*15,F49*10)) | BA49: =IF(ISBLANK(I49),"",IF(COUNTIF(I49,"*BOMBE_*"),F49*10,F49*5))
N50: =IF(ISBLANK(I50),"",IF(COUNTIF(I50,"*bombe*"),(G50-1)*SUMIF('base de donnée JCO '!C$3:C$10,K50,'base de donnée JCO '!D$3:D$10)+SUMIF(entete,L50,'base de donnée JCO '!D$14:D$20),SUMIFS('base de donnée JCO '!I$173:I$1080,'base de donnée JCO '!F$173:F$1080,I50,'base de donnée JCO '!G$173:G$1080,J50))) | O50: =IF(ISBLANK(I50),"",IF(ISBLANK(D50),D49+N50,D50+N50)) | V50: =W50*SUMIFS('base de donnée JCO '!H$173:H$1080,'base de donnée JCO '!F$173:F$1080,I50,'base de donnée JCO '!G$173:G$1080,J50) -> 0 | W50: =F50*G50 -> 0 | X50: =W50*SUMIFS('base de donnée JCO '!J$173:J$1080,'base de donnée JCO '!F$173:F$1080,I50,'base de donnée JCO '!G$173:G$1080,J50) -> 0 | Z50: =IF(ISBLANK(I50),"",IF(COUNTIF(I50,"*BOMBE_50MM*"),IF(COUNTIF(K50,"*TR*"),IF(G50>=6,F50*1,0.5*F50),""),"")) | AA50: =IF(ISBLANK(I50),"",IF(COUNTIF(I50,"*BOMBE_50MM*"),IF(COUNTIF(K50,"*\*"),IF(G50>1,F50*1,""),""),"")) | AB50: =IF(ISBLANK(I50),"",IF(COUNTIF(I50,"*BOMBE_50MM*"),IF(G50=1,F50,""),"")) | AD50: =IF(ISBLANK(I50),"",IF(COUNTIF(I50,"*BOMBE_75MM*"),IF(G50=1,F50,""),"")) | AE50: =IF(ISBLANK(I50),"",IF(COUNTIF(I50,"*BOMBE_75MM*"),IF(COUNTIF(K50,"*TR*"),IF(G50<=5,F50,""),""),"")) | AF50: =IF(ISBLANK(I50),"",IF(COUNTIF(I50,"*BOMBE_75MM*"),IF(COUNTIF(K50,"*TR*"),IF(G50>5,F50,""),""),"")) | AG50: =IF(ISBLANK(I50),"",IF(COUNTIF(I50,"*BOMBE_75MM*"),IF(COUNTIF(K50,"*\*"),IF(AND(G50<=3,G50>=2),F50,""),""),"")) | AH50: =IF(ISBLANK(I50),"",IF(COUNTIF(I50,"*BOMBE_75MM*"),IF(COUNTIF(K50,"*\*"),IF(AND(G50<=7,G50>=4),F50,""),""),"")) | AJ50: =IF(ISBLANK(I50),"",IF(COUNTIF(I50,"*BOMBE_100MM*"),IF(G50=1,F50,""),"")) | AK50: =IF(ISBLANK(I50),"",IF(COUNTIF(I50,"*BOMBE_100MM*"),IF(COUNTIF(K50,"*TR*"),IF(G50<=5,F50,F50*2),""),"")) | AL50: =IF(ISBLANK(I50),"",IF(COUNTIF(I50,"*BOMBE_100MM*"),IF(COUNTIF(K50,"*\*"),IF(AND(G50<=3,G50>=2),F50,""),""),"")) | AM50: =IF(ISBLANK(I50),"",IF(COUNTIF(I50,"*BOMBE_100MM*"),IF(COUNTIF(K50,"*\*"),IF(AND(G50<=5,G50>=4),F50,""),""),"")) | AO50: =IF(ISBLANK(I50),"",IF(COUNTIF(I50,"*BOMBE_125MM*"),IF(G50=1,F50,""),"")) | AP50: =IF(ISBLANK(I50),"",IF(COUNTIF(I50,"*BOMBE_125MM*"),IF(COUNTIF(K50,"*TR*"),IF(G50<=5,F50,""),""),"")) | AQ50: =IF(ISBLANK(I50),"",IF(COUNTIF(I50,"*BOMBE_125MM*"),IF(COUNTIF(K50,"*\*"),IF(AND(G50<=3,G50>=2),F50,""),""),"")) | AS50: =IF(ISBLANK(I50),"",IF(COUNTIF(I50,"*BOMBE_150MM*"),IF(G50=1,F50,""),"")) | AT50: =IF(ISBLANK(I50),"",IF(COUNTIF(I50,"*BOMBE_150MM*"),IF(COUNTIF(K50,"*TR*"),IF(G50<=4,F50,""),""),"")) | AU50: =IF(ISBLANK(I50),"",IF(COUNTIF(I50,"*BOMBE_150MM*"),IF(COUNTIF(K50,"*\*"),IF(AND(G50<=3,G50>=2),F50,""),""),"")) | AW50: =IF(ISBLANK(I50),"",IF(COUNTIF(I50,"*BOMBE_200MM*"),F50*G50,"")) | AY50: =IF(ISBLANK(I50),"",IF(COUNTIF(I50,"*BOMBE_*"),F50*20,F50*15)) | AZ50: =IF(ISBLANK(I50),"",IF(COUNTIF(I50,"*BOMBE_*"),F50*15,F50*10)) | BA50: =IF(ISBLANK(I50),"",IF(COUNTIF(I50,"*BOMBE_*"),F50*10,F50*5))
N51: =IF(ISBLANK(I51),"",IF(COUNTIF(I51,"*bombe*"),(G51-1)*SUMIF('base de donnée JCO '!C$3:C$10,K51,'base de donnée JCO '!D$3:D$10)+SUMIF(entete,L51,'base de donnée JCO '!D$14:D$20),SUMIFS('base de donnée JCO '!I$173:I$1080,'base de donnée JCO '!F$173:F$1080,I51,'base de donnée JCO '!G$173:G$1080,J51))) | O51: =IF(ISBLANK(I51),"",IF(ISBLANK(D51),D49+N51,D51+N51)) | Q51: fen | U51: fen | V51: =W51*SUMIFS('base de donnée JCO '!H$173:H$1080,'base de donnée JCO '!F$173:F$1080,I51,'base de donnée JCO '!G$173:G$1080,J51) -> 0 | W51: =F51*G51 -> 0 | X51: =W51*SUMIFS('base de donnée JCO '!J$173:J$1080,'base de donnée JCO '!F$173:F$1080,I51,'base de donnée JCO '!G$173:G$1080,J51) -> 0 | Z51: =IF(ISBLANK(I51),"",IF(COUNTIF(I51,"*BOMBE_50MM*"),IF(COUNTIF(K51,"*TR*"),IF(G51>=6,F51*1,0.5*F51),""),"")) | AA51: =IF(ISBLANK(I51),"",IF(COUNTIF(I51,"*BOMBE_50MM*"),IF(COUNTIF(K51,"*\*"),IF(G51>1,F51*1,""),""),"")) | AB51: =IF(ISBLANK(I51),"",IF(COUNTIF(I51,"*BOMBE_50MM*"),IF(G51=1,F51,""),"")) | AD51: =IF(ISBLANK(I51),"",IF(COUNTIF(I51,"*BOMBE_75MM*"),IF(G51=1,F51,""),"")) | AE51: =IF(ISBLANK(I51),"",IF(COUNTIF(I51,"*BOMBE_75MM*"),IF(COUNTIF(K51,"*TR*"),IF(G51<=5,F51,""),""),"")) | AF51: =IF(ISBLANK(I51),"",IF(COUNTIF(I51,"*BOMBE_75MM*"),IF(COUNTIF(K51,"*TR*"),IF(G51>5,F51,""),""),"")) | AG51: =IF(ISBLANK(I51),"",IF(COUNTIF(I51,"*BOMBE_75MM*"),IF(COUNTIF(K51,"*\*"),IF(AND(G51<=3,G51>=2),F51,""),""),"")) | AH51: =IF(ISBLANK(I51),"",IF(COUNTIF(I51,"*BOMBE_75MM*"),IF(COUNTIF(K51,"*\*"),IF(AND(G51<=7,G51>=4),F51,""),""),"")) | AJ51: =IF(ISBLANK(I51),"",IF(COUNTIF(I51,"*BOMBE_100MM*"),IF(G51=1,F51,""),"")) | AK51: =IF(ISBLANK(I51),"",IF(COUNTIF(I51,"*BOMBE_100MM*"),IF(COUNTIF(K51,"*TR*"),IF(G51<=5,F51,F51*2),""),"")) | AL51: =IF(ISBLANK(I51),"",IF(COUNTIF(I51,"*BOMBE_100MM*"),IF(COUNTIF(K51,"*\*"),IF(AND(G51<=3,G51>=2),F51,""),""),"")) | AM51: =IF(ISBLANK(I51),"",IF(COUNTIF(I51,"*BOMBE_100MM*"),IF(COUNTIF(K51,"*\*"),IF(AND(G51<=5,G51>=4),F51,""),""),"")) | AO51: =IF(ISBLANK(I51),"",IF(COUNTIF(I51,"*BOMBE_125MM*"),IF(G51=1,F51,""),"")) | AP51: =IF(ISBLANK(I51),"",IF(COUNTIF(I51,"*BOMBE_125MM*"),IF(COUNTIF(K51,"*TR*"),IF(G51<=5,F51,""),""),"")) | AQ51: =IF(ISBLANK(I51),"",IF(COUNTIF(I51,"*BOMBE_125MM*"),IF(COUNTIF(K51,"*\*"),IF(AND(G51<=3,G51>=2),F51,""),""),"")) | AS51: =IF(ISBLANK(I51),"",IF(COUNTIF(I51,"*BOMBE_150MM*"),IF(G51=1,F51,""),"")) | AT51: =IF(ISBLANK(I51),"",IF(COUNTIF(I51,"*BOMBE_150MM*"),IF(COUNTIF(K51,"*TR*"),IF(G51<=4,F51,""),""),"")) | AU51: =IF(ISBLANK(I51),"",IF(COUNTIF(I51,"*BOMBE_150MM*"),IF(COUNTIF(K51,"*\*"),IF(AND(G51<=3,G51>=2),F51,""),""),"")) | AW51: =IF(ISBLANK(I51),"",IF(COUNTIF(I51,"*BOMBE_200MM*"),F51*G51,"")) | AY51: =IF(ISBLANK(I51),"",IF(COUNTIF(I51,"*BOMBE_*"),F51*20,F51*15)) | AZ51: =IF(ISBLANK(I51),"",IF(COUNTIF(I51,"*BOMBE_*"),F51*15,F51*10)) | BA51: =IF(ISBLANK(I51),"",IF(COUNTIF(I51,"*BOMBE_*"),F51*10,F51*5))
N52: =IF(ISBLANK(I52),"",IF(COUNTIF(I52,"*bombe*"),(G52-1)*SUMIF('base de donnée JCO '!C$3:C$10,K52,'base de donnée JCO '!D$3:D$10)+SUMIF(entete,L52,'base de donnée JCO '!D$14:D$20),SUMIFS('base de donnée JCO '!I$173:I$1080,'base de donnée JCO '!F$173:F$1080,I52,'base de donnée JCO '!G$173:G$1080,J52))) | O52: =IF(ISBLANK(I52),"",IF(ISBLANK(D52),D51+N52,D52+N52)) | S52: \ / | V52: =W52*SUMIFS('base de donnée JCO '!H$173:H$1080,'base de donnée JCO '!F$173:F$1080,I52,'base de donnée JCO '!G$173:G$1080,J52) -> 0 | W52: =F52*G52 -> 0 | X52: =W52*SUMIFS('base de donnée JCO '!J$173:J$1080,'base de donnée JCO '!F$173:F$1080,I52,'base de donnée JCO '!G$173:G$1080,J52) -> 0 | Z52: =IF(ISBLANK(I52),"",IF(COUNTIF(I52,"*BOMBE_50MM*"),IF(COUNTIF(K52,"*TR*"),IF(G52>=6,F52*1,0.5*F52),""),"")) | AA52: =IF(ISBLANK(I52),"",IF(COUNTIF(I52,"*BOMBE_50MM*"),IF(COUNTIF(K52,"*\*"),IF(G52>1,F52*1,""),""),"")) | AB52: =IF(ISBLANK(I52),"",IF(COUNTIF(I52,"*BOMBE_50MM*"),IF(G52=1,F52,""),"")) | AD52: =IF(ISBLANK(I52),"",IF(COUNTIF(I52,"*BOMBE_75MM*"),IF(G52=1,F52,""),"")) | AE52: =IF(ISBLANK(I52),"",IF(COUNTIF(I52,"*BOMBE_75MM*"),IF(COUNTIF(K52,"*TR*"),IF(G52<=5,F52,""),""),"")) | AF52: =IF(ISBLANK(I52),"",IF(COUNTIF(I52,"*BOMBE_75MM*"),IF(COUNTIF(K52,"*TR*"),IF(G52>5,F52,""),""),"")) | AG52: =IF(ISBLANK(I52),"",IF(COUNTIF(I52,"*BOMBE_75MM*"),IF(COUNTIF(K52,"*\*"),IF(AND(G52<=3,G52>=2),F52,""),""),"")) | AH52: =IF(ISBLANK(I52),"",IF(COUNTIF(I52,"*BOMBE_75MM*"),IF(COUNTIF(K52,"*\*"),IF(AND(G52<=7,G52>=4),F52,""),""),"")) | AJ52: =IF(ISBLANK(I52),"",IF(COUNTIF(I52,"*BOMBE_100MM*"),IF(G52=1,F52,""),"")) | AK52: =IF(ISBLANK(I52),"",IF(COUNTIF(I52,"*BOMBE_100MM*"),IF(COUNTIF(K52,"*TR*"),IF(G52<=5,F52,F52*2),""),"")) | AL52: =IF(ISBLANK(I52),"",IF(COUNTIF(I52,"*BOMBE_100MM*"),IF(COUNTIF(K52,"*\*"),IF(AND(G52<=3,G52>=2),F52,""),""),"")) | AM52: =IF(ISBLANK(I52),"",IF(COUNTIF(I52,"*BOMBE_100MM*"),IF(COUNTIF(K52,"*\*"),IF(AND(G52<=5,G52>=4),F52,""),""),"")) | AO52: =IF(ISBLANK(I52),"",IF(COUNTIF(I52,"*BOMBE_125MM*"),IF(G52=1,F52,""),"")) | AP52: =IF(ISBLANK(I52),"",IF(COUNTIF(I52,"*BOMBE_125MM*"),IF(COUNTIF(K52,"*TR*"),IF(G52<=5,F52,""),""),"")) | AQ52: =IF(ISBLANK(I52),"",IF(COUNTIF(I52,"*BOMBE_125MM*"),IF(COUNTIF(K52,"*\*"),IF(AND(G52<=3,G52>=2),F52,""),""),"")) | AS52: =IF(ISBLANK(I52),"",IF(COUNTIF(I52,"*BOMBE_150MM*"),IF(G52=1,F52,""),"")) | AT52: =IF(ISBLANK(I52),"",IF(COUNTIF(I52,"*BOMBE_150MM*"),IF(COUNTIF(K52,"*TR*"),IF(G52<=4,F52,""),""),"")) | AU52: =IF(ISBLANK(I52),"",IF(COUNTIF(I52,"*BOMBE_150MM*"),IF(COUNTIF(K52,"*\*"),IF(AND(G52<=3,G52>=2),F52,""),""),"")) | AW52: =IF(ISBLANK(I52),"",IF(COUNTIF(I52,"*BOMBE_200MM*"),F52*G52,"")) | AY52: =IF(ISBLANK(I52),"",IF(COUNTIF(I52,"*BOMBE_*"),F52*20,F52*15)) | AZ52: =IF(ISBLANK(I52),"",IF(COUNTIF(I52,"*BOMBE_*"),F52*15,F52*10)) | BA52: =IF(ISBLANK(I52),"",IF(COUNTIF(I52,"*BOMBE_*"),F52*10,F52*5))
N53: =IF(ISBLANK(I53),"",IF(COUNTIF(I53,"*bombe*"),(G53-1)*SUMIF('base de donnée JCO '!C$3:C$10,K53,'base de donnée JCO '!D$3:D$10)+SUMIF(entete,L53,'base de donnée JCO '!D$14:D$20),SUMIFS('base de donnée JCO '!I$173:I$1080,'base de donnée JCO '!F$173:F$1080,I53,'base de donnée JCO '!G$173:G$1080,J53))) | O53: =IF(ISBLANK(I53),"",IF(ISBLANK(D53),D51+N53,D53+N53)) | S53: x | V53: =W53*SUMIFS('base de donnée JCO '!H$173:H$1080,'base de donnée JCO '!F$173:F$1080,I53,'base de donnée JCO '!G$173:G$1080,J53) -> 0 | W53: =F53*G53 -> 0 | X53: =W53*SUMIFS('base de donnée JCO '!J$173:J$1080,'base de donnée JCO '!F$173:F$1080,I53,'base de donnée JCO '!G$173:G$1080,J53) -> 0 | Z53: =IF(ISBLANK(I53),"",IF(COUNTIF(I53,"*BOMBE_50MM*"),IF(COUNTIF(K53,"*TR*"),IF(G53>=6,F53*1,0.5*F53),""),"")) | AA53: =IF(ISBLANK(I53),"",IF(COUNTIF(I53,"*BOMBE_50MM*"),IF(COUNTIF(K53,"*\*"),IF(G53>1,F53*1,""),""),"")) | AB53: =IF(ISBLANK(I53),"",IF(COUNTIF(I53,"*BOMBE_50MM*"),IF(G53=1,F53,""),"")) | AD53: =IF(ISBLANK(I53),"",IF(COUNTIF(I53,"*BOMBE_75MM*"),IF(G53=1,F53,""),"")) | AE53: =IF(ISBLANK(I53),"",IF(COUNTIF(I53,"*BOMBE_75MM*"),IF(COUNTIF(K53,"*TR*"),IF(G53<=5,F53,""),""),"")) | AF53: =IF(ISBLANK(I53),"",IF(COUNTIF(I53,"*BOMBE_75MM*"),IF(COUNTIF(K53,"*TR*"),IF(G53>5,F53,""),""),"")) | AG53: =IF(ISBLANK(I53),"",IF(COUNTIF(I53,"*BOMBE_75MM*"),IF(COUNTIF(K53,"*\*"),IF(AND(G53<=3,G53>=2),F53,""),""),"")) | AH53: =IF(ISBLANK(I53),"",IF(COUNTIF(I53,"*BOMBE_75MM*"),IF(COUNTIF(K53,"*\*"),IF(AND(G53<=7,G53>=4),F53,""),""),"")) | AJ53: =IF(ISBLANK(I53),"",IF(COUNTIF(I53,"*BOMBE_100MM*"),IF(G53=1,F53,""),"")) | AK53: =IF(ISBLANK(I53),"",IF(COUNTIF(I53,"*BOMBE_100MM*"),IF(COUNTIF(K53,"*TR*"),IF(G53<=5,F53,F53*2),""),"")) | AL53: =IF(ISBLANK(I53),"",IF(COUNTIF(I53,"*BOMBE_100MM*"),IF(COUNTIF(K53,"*\*"),IF(AND(G53<=3,G53>=2),F53,""),""),"")) | AM53: =IF(ISBLANK(I53),"",IF(COUNTIF(I53,"*BOMBE_100MM*"),IF(COUNTIF(K53,"*\*"),IF(AND(G53<=5,G53>=4),F53,""),""),"")) | AO53: =IF(ISBLANK(I53),"",IF(COUNTIF(I53,"*BOMBE_125MM*"),IF(G53=1,F53,""),"")) | AP53: =IF(ISBLANK(I53),"",IF(COUNTIF(I53,"*BOMBE_125MM*"),IF(COUNTIF(K53,"*TR*"),IF(G53<=5,F53,""),""),"")) | AQ53: =IF(ISBLANK(I53),"",IF(COUNTIF(I53,"*BOMBE_125MM*"),IF(COUNTIF(K53,"*\*"),IF(AND(G53<=3,G53>=2),F53,""),""),"")) | AS53: =IF(ISBLANK(I53),"",IF(COUNTIF(I53,"*BOMBE_150MM*"),IF(G53=1,F53,""),"")) | AT53: =IF(ISBLANK(I53),"",IF(COUNTIF(I53,"*BOMBE_150MM*"),IF(COUNTIF(K53,"*TR*"),IF(G53<=4,F53,""),""),"")) | AU53: =IF(ISBLANK(I53),"",IF(COUNTIF(I53,"*BOMBE_150MM*"),IF(COUNTIF(K53,"*\*"),IF(AND(G53<=3,G53>=2),F53,""),""),"")) | AW53: =IF(ISBLANK(I53),"",IF(COUNTIF(I53,"*BOMBE_200MM*"),F53*G53,"")) | AY53: =IF(ISBLANK(I53),"",IF(COUNTIF(I53,"*BOMBE_*"),F53*20,F53*15)) | AZ53: =IF(ISBLANK(I53),"",IF(COUNTIF(I53,"*BOMBE_*"),F53*15,F53*10)) | BA53: =IF(ISBLANK(I53),"",IF(COUNTIF(I53,"*BOMBE_*"),F53*10,F53*5))
N54: =IF(ISBLANK(I54),"",IF(COUNTIF(I54,"*bombe*"),(G54-1)*SUMIF('base de donnée JCO '!C$3:C$10,K54,'base de donnée JCO '!D$3:D$10)+SUMIF(entete,L54,'base de donnée JCO '!D$14:D$20),SUMIFS('base de donnée JCO '!I$173:I$1080,'base de donnée JCO '!F$173:F$1080,I54,'base de donnée JCO '!G$173:G$1080,J54))) | O54: =IF(ISBLANK(I54),"",IF(ISBLANK(D54),D52+N54,D54+N54)) | V54: =W54*SUMIFS('base de donnée JCO '!H$173:H$1080,'base de donnée JCO '!F$173:F$1080,I54,'base de donnée JCO '!G$173:G$1080,J54) -> 0 | W54: =F54*G54 -> 0 | X54: =W54*SUMIFS('base de donnée JCO '!J$173:J$1080,'base de donnée JCO '!F$173:F$1080,I54,'base de donnée JCO '!G$173:G$1080,J54) -> 0 | Z54: =IF(ISBLANK(I54),"",IF(COUNTIF(I54,"*BOMBE_50MM*"),IF(COUNTIF(K54,"*TR*"),IF(G54>=6,F54*1,0.5*F54),""),"")) | AA54: =IF(ISBLANK(I54),"",IF(COUNTIF(I54,"*BOMBE_50MM*"),IF(COUNTIF(K54,"*\*"),IF(G54>1,F54*1,""),""),"")) | AB54: =IF(ISBLANK(I54),"",IF(COUNTIF(I54,"*BOMBE_50MM*"),IF(G54=1,F54,""),"")) | AD54: =IF(ISBLANK(I54),"",IF(COUNTIF(I54,"*BOMBE_75MM*"),IF(G54=1,F54,""),"")) | AE54: =IF(ISBLANK(I54),"",IF(COUNTIF(I54,"*BOMBE_75MM*"),IF(COUNTIF(K54,"*TR*"),IF(G54<=5,F54,""),""),"")) | AF54: =IF(ISBLANK(I54),"",IF(COUNTIF(I54,"*BOMBE_75MM*"),IF(COUNTIF(K54,"*TR*"),IF(G54>5,F54,""),""),"")) | AG54: =IF(ISBLANK(I54),"",IF(COUNTIF(I54,"*BOMBE_75MM*"),IF(COUNTIF(K54,"*\*"),IF(AND(G54<=3,G54>=2),F54,""),""),"")) | AH54: =IF(ISBLANK(I54),"",IF(COUNTIF(I54,"*BOMBE_75MM*"),IF(COUNTIF(K54,"*\*"),IF(AND(G54<=7,G54>=4),F54,""),""),"")) | AJ54: =IF(ISBLANK(I54),"",IF(COUNTIF(I54,"*BOMBE_100MM*"),IF(G54=1,F54,""),"")) | AK54: =IF(ISBLANK(I54),"",IF(COUNTIF(I54,"*BOMBE_100MM*"),IF(COUNTIF(K54,"*TR*"),IF(G54<=5,F54,F54*2),""),"")) | AL54: =IF(ISBLANK(I54),"",IF(COUNTIF(I54,"*BOMBE_100MM*"),IF(COUNTIF(K54,"*\*"),IF(AND(G54<=3,G54>=2),F54,""),""),"")) | AM54: =IF(ISBLANK(I54),"",IF(COUNTIF(I54,"*BOMBE_100MM*"),IF(COUNTIF(K54,"*\*"),IF(AND(G54<=5,G54>=4),F54,""),""),"")) | AO54: =IF(ISBLANK(I54),"",IF(COUNTIF(I54,"*BOMBE_125MM*"),IF(G54=1,F54,""),"")) | AP54: =IF(ISBLANK(I54),"",IF(COUNTIF(I54,"*BOMBE_125MM*"),IF(COUNTIF(K54,"*TR*"),IF(G54<=5,F54,""),""),"")) | AQ54: =IF(ISBLANK(I54),"",IF(COUNTIF(I54,"*BOMBE_125MM*"),IF(COUNTIF(K54,"*\*"),IF(AND(G54<=3,G54>=2),F54,""),""),"")) | AS54: =IF(ISBLANK(I54),"",IF(COUNTIF(I54,"*BOMBE_150MM*"),IF(G54=1,F54,""),"")) | AT54: =IF(ISBLANK(I54),"",IF(COUNTIF(I54,"*BOMBE_150MM*"),IF(COUNTIF(K54,"*TR*"),IF(G54<=4,F54,""),""),"")) | AU54: =IF(ISBLANK(I54),"",IF(COUNTIF(I54,"*BOMBE_150MM*"),IF(COUNTIF(K54,"*\*"),IF(AND(G54<=3,G54>=2),F54,""),""),"")) | AW54: =IF(ISBLANK(I54),"",IF(COUNTIF(I54,"*BOMBE_200MM*"),F54*G54,"")) | AY54: =IF(ISBLANK(I54),"",IF(COUNTIF(I54,"*BOMBE_*"),F54*20,F54*15)) | AZ54: =IF(ISBLANK(I54),"",IF(COUNTIF(I54,"*BOMBE_*"),F54*15,F54*10)) | BA54: =IF(ISBLANK(I54),"",IF(COUNTIF(I54,"*BOMBE_*"),F54*10,F54*5))
N55: 0.00040509259 | O55: =IF(ISBLANK(I55),"",IF(ISBLANK(D55),D54+N55,D55+N55)) | Q55: fen | U55: fen | V55: =W55*SUMIFS('base de donnée JCO '!H$173:H$1080,'base de donnée JCO '!F$173:F$1080,I55,'base de donnée JCO '!G$173:G$1080,J55) -> 0 | W55: =F55*G55 -> 0 | X55: =W55*SUMIFS('base de donnée JCO '!J$173:J$1080,'base de donnée JCO '!F$173:F$1080,I55,'base de donnée JCO '!G$173:G$1080,J55) -> 0 | Z55: =IF(ISBLANK(I55),"",IF(COUNTIF(I55,"*BOMBE_50MM*"),IF(COUNTIF(K55,"*TR*"),IF(G55>=6,F55*1,0.5*F55),""),"")) | AA55: =IF(ISBLANK(I55),"",IF(COUNTIF(I55,"*BOMBE_50MM*"),IF(COUNTIF(K55,"*\*"),IF(G55>1,F55*1,""),""),"")) | AB55: =IF(ISBLANK(I55),"",IF(COUNTIF(I55,"*BOMBE_50MM*"),IF(G55=1,F55,""),"")) | AD55: =IF(ISBLANK(I55),"",IF(COUNTIF(I55,"*BOMBE_75MM*"),IF(G55=1,F55,""),"")) | AE55: =IF(ISBLANK(I55),"",IF(COUNTIF(I55,"*BOMBE_75MM*"),IF(COUNTIF(K55,"*TR*"),IF(G55<=5,F55,""),""),"")) | AF55: =IF(ISBLANK(I55),"",IF(COUNTIF(I55,"*BOMBE_75MM*"),IF(COUNTIF(K55,"*TR*"),IF(G55>5,F55,""),""),"")) | AG55: =IF(ISBLANK(I55),"",IF(COUNTIF(I55,"*BOMBE_75MM*"),IF(COUNTIF(K55,"*\*"),IF(AND(G55<=3,G55>=2),F55,""),""),"")) | AH55: =IF(ISBLANK(I55),"",IF(COUNTIF(I55,"*BOMBE_75MM*"),IF(COUNTIF(K55,"*\*"),IF(AND(G55<=7,G55>=4),F55,""),""),"")) | AJ55: =IF(ISBLANK(I55),"",IF(COUNTIF(I55,"*BOMBE_100MM*"),IF(G55=1,F55,""),"")) | AK55: =IF(ISBLANK(I55),"",IF(COUNTIF(I55,"*BOMBE_100MM*"),IF(COUNTIF(K55,"*TR*"),IF(G55<=5,F55,F55*2),""),"")) | AL55: =IF(ISBLANK(I55),"",IF(COUNTIF(I55,"*BOMBE_100MM*"),IF(COUNTIF(K55,"*\*"),IF(AND(G55<=3,G55>=2),F55,""),""),"")) | AM55: =IF(ISBLANK(I55),"",IF(COUNTIF(I55,"*BOMBE_100MM*"),IF(COUNTIF(K55,"*\*"),IF(AND(G55<=5,G55>=4),F55,""),""),"")) | AO55: =IF(ISBLANK(I55),"",IF(COUNTIF(I55,"*BOMBE_125MM*"),IF(G55=1,F55,""),"")) | AP55: =IF(ISBLANK(I55),"",IF(COUNTIF(I55,"*BOMBE_125MM*"),IF(COUNTIF(K55,"*TR*"),IF(G55<=5,F55,""),""),"")) | AQ55: =IF(ISBLANK(I55),"",IF(COUNTIF(I55,"*BOMBE_125MM*"),IF(COUNTIF(K55,"*\*"),IF(AND(G55<=3,G55>=2),F55,""),""),"")) | AS55: =IF(ISBLANK(I55),"",IF(COUNTIF(I55,"*BOMBE_150MM*"),IF(G55=1,F55,""),"")) | AT55: =IF(ISBLANK(I55),"",IF(COUNTIF(I55,"*BOMBE_150MM*"),IF(COUNTIF(K55,"*TR*"),IF(G55<=4,F55,""),""),"")) | AU55: =IF(ISBLANK(I55),"",IF(COUNTIF(I55,"*BOMBE_150MM*"),IF(COUNTIF(K55,"*\*"),IF(AND(G55<=3,G55>=2),F55,""),""),"")) | AW55: =IF(ISBLANK(I55),"",IF(COUNTIF(I55,"*BOMBE_200MM*"),F55*G55,"")) | AY55: =IF(ISBLANK(I55),"",IF(COUNTIF(I55,"*BOMBE_*"),F55*20,F55*15)) | AZ55: =IF(ISBLANK(I55),"",IF(COUNTIF(I55,"*BOMBE_*"),F55*15,F55*10)) | BA55: =IF(ISBLANK(I55),"",IF(COUNTIF(I55,"*BOMBE_*"),F55*10,F55*5))
N56: =IF(ISBLANK(I56),"",IF(COUNTIF(I56,"*bombe*"),(G56-1)*SUMIF('base de donnée JCO '!C$3:C$10,K56,'base de donnée JCO '!D$3:D$10)+SUMIF(entete,L56,'base de donnée JCO '!D$14:D$20),SUMIFS('base de donnée JCO '!I$173:I$1080,'base de donnée JCO '!F$173:F$1080,I56,'base de donnée JCO '!G$173:G$1080,J56))) | O56: =IF(ISBLANK(I56),"",IF(ISBLANK(D55),#REF!+N56,D56+N56)) | V56: =W56*SUMIFS('base de donnée JCO '!H$173:H$1080,'base de donnée JCO '!F$173:F$1080,I56,'base de donnée JCO '!G$173:G$1080,J56) -> 0 | W56: =F56*G56 -> 0 | X56: =W56*SUMIFS('base de donnée JCO '!J$173:J$1080,'base de donnée JCO '!F$173:F$1080,I56,'base de donnée JCO '!G$173:G$1080,J56) -> 0 | Z56: =IF(ISBLANK(I56),"",IF(COUNTIF(I56,"*BOMBE_50MM*"),IF(COUNTIF(K56,"*TR*"),IF(G56>=6,F56*1,0.5*F56),""),"")) | AA56: =IF(ISBLANK(I56),"",IF(COUNTIF(I56,"*BOMBE_50MM*"),IF(COUNTIF(K56,"*\*"),IF(G56>1,F56*1,""),""),"")) | AB56: =IF(ISBLANK(I56),"",IF(COUNTIF(I56,"*BOMBE_50MM*"),IF(G56=1,F56,""),"")) | AD56: =IF(ISBLANK(I56),"",IF(COUNTIF(I56,"*BOMBE_75MM*"),IF(G56=1,F56,""),"")) | AE56: =IF(ISBLANK(I56),"",IF(COUNTIF(I56,"*BOMBE_75MM*"),IF(COUNTIF(K56,"*TR*"),IF(G56<=5,F56,""),""),"")) | AF56: =IF(ISBLANK(I56),"",IF(COUNTIF(I56,"*BOMBE_75MM*"),IF(COUNTIF(K56,"*TR*"),IF(G56>5,F56,""),""),"")) | AG56: =IF(ISBLANK(I56),"",IF(COUNTIF(I56,"*BOMBE_75MM*"),IF(COUNTIF(K56,"*\*"),IF(AND(G56<=3,G56>=2),F56,""),""),"")) | AH56: =IF(ISBLANK(I56),"",IF(COUNTIF(I56,"*BOMBE_75MM*"),IF(COUNTIF(K56,"*\*"),IF(AND(G56<=7,G56>=4),F56,""),""),"")) | AJ56: =IF(ISBLANK(I56),"",IF(COUNTIF(I56,"*BOMBE_100MM*"),IF(G56=1,F56,""),"")) | AK56: =IF(ISBLANK(I56),"",IF(COUNTIF(I56,"*BOMBE_100MM*"),IF(COUNTIF(K56,"*TR*"),IF(G56<=5,F56,F56*2),""),"")) | AL56: =IF(ISBLANK(I56),"",IF(COUNTIF(I56,"*BOMBE_100MM*"),IF(COUNTIF(K56,"*\*"),IF(AND(G56<=3,G56>=2),F56,""),""),"")) | AM56: =IF(ISBLANK(I56),"",IF(COUNTIF(I56,"*BOMBE_100MM*"),IF(COUNTIF(K56,"*\*"),IF(AND(G56<=5,G56>=4),F56,""),""),"")) | AO56: =IF(ISBLANK(I56),"",IF(COUNTIF(I56,"*BOMBE_125MM*"),IF(G56=1,F56,""),"")) | AP56: =IF(ISBLANK(I56),"",IF(COUNTIF(I56,"*BOMBE_125MM*"),IF(COUNTIF(K56,"*TR*"),IF(G56<=5,F56,""),""),"")) | AQ56: =IF(ISBLANK(I56),"",IF(COUNTIF(I56,"*BOMBE_125MM*"),IF(COUNTIF(K56,"*\*"),IF(AND(G56<=3,G56>=2),F56,""),""),"")) | AS56: =IF(ISBLANK(I56),"",IF(COUNTIF(I56,"*BOMBE_150MM*"),IF(G56=1,F56,""),"")) | AT56: =IF(ISBLANK(I56),"",IF(COUNTIF(I56,"*BOMBE_150MM*"),IF(COUNTIF(K56,"*TR*"),IF(G56<=4,F56,""),""),"")) | AU56: =IF(ISBLANK(I56),"",IF(COUNTIF(I56,"*BOMBE_150MM*"),IF(COUNTIF(K56,"*\*"),IF(AND(G56<=3,G56>=2),F56,""),""),"")) | AW56: =IF(ISBLANK(I56),"",IF(COUNTIF(I56,"*BOMBE_200MM*"),F56*G56,"")) | AY56: =IF(ISBLANK(I56),"",IF(COUNTIF(I56,"*BOMBE_*"),F56*20,F56*15)) | AZ56: =IF(ISBLANK(I56),"",IF(COUNTIF(I56,"*BOMBE_*"),F56*15,F56*10)) | BA56: =IF(ISBLANK(I56),"",IF(COUNTIF(I56,"*BOMBE_*"),F56*10,F56*5))
N57: =IF(ISBLANK(I57),"",IF(COUNTIF(I57,"*bombe*"),(G57-1)*SUMIF('base de donnée JCO '!C$3:C$10,K57,'base de donnée JCO '!D$3:D$10)+SUMIF(entete,L57,'base de donnée JCO '!D$14:D$20),SUMIFS('base de donnée JCO '!I$173:I$1080,'base de donnée JCO '!F$173:F$1080,I57,'base de donnée JCO '!G$173:G$1080,J57))) | O57: =IF(ISBLANK(I57),"",IF(ISBLANK(D57),D56+N57,D57+N57)) | V57: =W57*SUMIFS('base de donnée JCO '!H$173:H$1080,'base de donnée JCO '!F$173:F$1080,I57,'base de donnée JCO '!G$173:G$1080,J57) -> 0 | W57: =F57*G57 -> 0 | X57: =W57*SUMIFS('base de donnée JCO '!J$173:J$1080,'base de donnée JCO '!F$173:F$1080,I57,'base de donnée JCO '!G$173:G$1080,J57) -> 0 | Z57: =IF(ISBLANK(I57),"",IF(COUNTIF(I57,"*BOMBE_50MM*"),IF(COUNTIF(K57,"*TR*"),IF(G57>=6,F57*1,0.5*F57),""),"")) | AA57: =IF(ISBLANK(I57),"",IF(COUNTIF(I57,"*BOMBE_50MM*"),IF(COUNTIF(K57,"*\*"),IF(G57>1,F57*1,""),""),"")) | AB57: =IF(ISBLANK(I57),"",IF(COUNTIF(I57,"*BOMBE_50MM*"),IF(G57=1,F57,""),"")) | AD57: =IF(ISBLANK(I57),"",IF(COUNTIF(I57,"*BOMBE_75MM*"),IF(G57=1,F57,""),"")) | AE57: =IF(ISBLANK(I57),"",IF(COUNTIF(I57,"*BOMBE_75MM*"),IF(COUNTIF(K57,"*TR*"),IF(G57<=5,F57,""),""),"")) | AF57: =IF(ISBLANK(I57),"",IF(COUNTIF(I57,"*BOMBE_75MM*"),IF(COUNTIF(K57,"*TR*"),IF(G57>5,F57,""),""),"")) | AG57: =IF(ISBLANK(I57),"",IF(COUNTIF(I57,"*BOMBE_75MM*"),IF(COUNTIF(K57,"*\*"),IF(AND(G57<=3,G57>=2),F57,""),""),"")) | AH57: =IF(ISBLANK(I57),"",IF(COUNTIF(I57,"*BOMBE_75MM*"),IF(COUNTIF(K57,"*\*"),IF(AND(G57<=7,G57>=4),F57,""),""),"")) | AJ57: =IF(ISBLANK(I57),"",IF(COUNTIF(I57,"*BOMBE_100MM*"),IF(G57=1,F57,""),"")) | AK57: =IF(ISBLANK(I57),"",IF(COUNTIF(I57,"*BOMBE_100MM*"),IF(COUNTIF(K57,"*TR*"),IF(G57<=5,F57,F57*2),""),"")) | AL57: =IF(ISBLANK(I57),"",IF(COUNTIF(I57,"*BOMBE_100MM*"),IF(COUNTIF(K57,"*\*"),IF(AND(G57<=3,G57>=2),F57,""),""),"")) | AM57: =IF(ISBLANK(I57),"",IF(COUNTIF(I57,"*BOMBE_100MM*"),IF(COUNTIF(K57,"*\*"),IF(AND(G57<=5,G57>=4),F57,""),""),"")) | AO57: =IF(ISBLANK(I57),"",IF(COUNTIF(I57,"*BOMBE_125MM*"),IF(G57=1,F57,""),"")) | AP57: =IF(ISBLANK(I57),"",IF(COUNTIF(I57,"*BOMBE_125MM*"),IF(COUNTIF(K57,"*TR*"),IF(G57<=5,F57,""),""),"")) | AQ57: =IF(ISBLANK(I57),"",IF(COUNTIF(I57,"*BOMBE_125MM*"),IF(COUNTIF(K57,"*\*"),IF(AND(G57<=3,G57>=2),F57,""),""),"")) | AS57: =IF(ISBLANK(I57),"",IF(COUNTIF(I57,"*BOMBE_150MM*"),IF(G57=1,F57,""),"")) | AT57: =IF(ISBLANK(I57),"",IF(COUNTIF(I57,"*BOMBE_150MM*"),IF(COUNTIF(K57,"*TR*"),IF(G57<=4,F57,""),""),"")) | AU57: =IF(ISBLANK(I57),"",IF(COUNTIF(I57,"*BOMBE_150MM*"),IF(COUNTIF(K57,"*\*"),IF(AND(G57<=3,G57>=2),F57,""),""),"")) | AW57: =IF(ISBLANK(I57),"",IF(COUNTIF(I57,"*BOMBE_200MM*"),F57*G57,"")) | AY57: =IF(ISBLANK(I57),"",IF(COUNTIF(I57,"*BOMBE_*"),F57*20,F57*15)) | AZ57: =IF(ISBLANK(I57),"",IF(COUNTIF(I57,"*BOMBE_*"),F57*15,F57*10)) | BA57: =IF(ISBLANK(I57),"",IF(COUNTIF(I57,"*BOMBE_*"),F57*10,F57*5))
N58: =IF(ISBLANK(I58),"",IF(COUNTIF(I58,"*bombe*"),(G58-1)*SUMIF('base de donnée JCO '!C$3:C$10,K58,'base de donnée JCO '!D$3:D$10)+SUMIF(entete,L58,'base de donnée JCO '!D$14:D$20),SUMIFS('base de donnée JCO '!I$173:I$1080,'base de donnée JCO '!F$173:F$1080,I58,'base de donnée JCO '!G$173:G$1080,J58))) | O58: =IF(ISBLANK(I58),"",IF(ISBLANK(D58),D56+N58,D58+N58)) | Q58: fen | U58: fen | V58: =W58*SUMIFS('base de donnée JCO '!H$173:H$1080,'base de donnée JCO '!F$173:F$1080,I58,'base de donnée JCO '!G$173:G$1080,J58) -> 0 | W58: =F58*G58 -> 0 | X58: =W58*SUMIFS('base de donnée JCO '!J$173:J$1080,'base de donnée JCO '!F$173:F$1080,I58,'base de donnée JCO '!G$173:G$1080,J58) -> 0 | Z58: =IF(ISBLANK(I58),"",IF(COUNTIF(I58,"*BOMBE_50MM*"),IF(COUNTIF(K58,"*TR*"),IF(G58>=6,F58*1,0.5*F58),""),"")) | AA58: =IF(ISBLANK(I58),"",IF(COUNTIF(I58,"*BOMBE_50MM*"),IF(COUNTIF(K58,"*\*"),IF(G58>1,F58*1,""),""),"")) | AB58: =IF(ISBLANK(I58),"",IF(COUNTIF(I58,"*BOMBE_50MM*"),IF(G58=1,F58,""),"")) | AD58: =IF(ISBLANK(I58),"",IF(COUNTIF(I58,"*BOMBE_75MM*"),IF(G58=1,F58,""),"")) | AE58: =IF(ISBLANK(I58),"",IF(COUNTIF(I58,"*BOMBE_75MM*"),IF(COUNTIF(K58,"*TR*"),IF(G58<=5,F58,""),""),"")) | AF58: =IF(ISBLANK(I58),"",IF(COUNTIF(I58,"*BOMBE_75MM*"),IF(COUNTIF(K58,"*TR*"),IF(G58>5,F58,""),""),"")) | AG58: =IF(ISBLANK(I58),"",IF(COUNTIF(I58,"*BOMBE_75MM*"),IF(COUNTIF(K58,"*\*"),IF(AND(G58<=3,G58>=2),F58,""),""),"")) | AH58: =IF(ISBLANK(I58),"",IF(COUNTIF(I58,"*BOMBE_75MM*"),IF(COUNTIF(K58,"*\*"),IF(AND(G58<=7,G58>=4),F58,""),""),"")) | AJ58: =IF(ISBLANK(I58),"",IF(COUNTIF(I58,"*BOMBE_100MM*"),IF(G58=1,F58,""),"")) | AK58: =IF(ISBLANK(I58),"",IF(COUNTIF(I58,"*BOMBE_100MM*"),IF(COUNTIF(K58,"*TR*"),IF(G58<=5,F58,F58*2),""),"")) | AL58: =IF(ISBLANK(I58),"",IF(COUNTIF(I58,"*BOMBE_100MM*"),IF(COUNTIF(K58,"*\*"),IF(AND(G58<=3,G58>=2),F58,""),""),"")) | AM58: =IF(ISBLANK(I58),"",IF(COUNTIF(I58,"*BOMBE_100MM*"),IF(COUNTIF(K58,"*\*"),IF(AND(G58<=5,G58>=4),F58,""),""),"")) | AO58: =IF(ISBLANK(I58),"",IF(COUNTIF(I58,"*BOMBE_125MM*"),IF(G58=1,F58,""),"")) | AP58: =IF(ISBLANK(I58),"",IF(COUNTIF(I58,"*BOMBE_125MM*"),IF(COUNTIF(K58,"*TR*"),IF(G58<=5,F58,""),""),"")) | AQ58: =IF(ISBLANK(I58),"",IF(COUNTIF(I58,"*BOMBE_125MM*"),IF(COUNTIF(K58,"*\*"),IF(AND(G58<=3,G58>=2),F58,""),""),"")) | AS58: =IF(ISBLANK(I58),"",IF(COUNTIF(I58,"*BOMBE_150MM*"),IF(G58=1,F58,""),"")) | AT58: =IF(ISBLANK(I58),"",IF(COUNTIF(I58,"*BOMBE_150MM*"),IF(COUNTIF(K58,"*TR*"),IF(G58<=4,F58,""),""),"")) | AU58: =IF(ISBLANK(I58),"",IF(COUNTIF(I58,"*BOMBE_150MM*"),IF(COUNTIF(K58,"*\*"),IF(AND(G58<=3,G58>=2),F58,""),""),"")) | AW58: =IF(ISBLANK(I58),"",IF(COUNTIF(I58,"*BOMBE_200MM*"),F58*G58,"")) | AY58: =IF(ISBLANK(I58),"",IF(COUNTIF(I58,"*BOMBE_*"),F58*20,F58*15)) | AZ58: =IF(ISBLANK(I58),"",IF(COUNTIF(I58,"*BOMBE_*"),F58*15,F58*10)) | BA58: =IF(ISBLANK(I58),"",IF(COUNTIF(I58,"*BOMBE_*"),F58*10,F58*5))
N59: =IF(ISBLANK(I59),"",IF(COUNTIF(I59,"*bombe*"),(G59-1)*SUMIF('base de donnée JCO '!C$3:C$10,K59,'base de donnée JCO '!D$3:D$10)+SUMIF(entete,L59,'base de donnée JCO '!D$14:D$20),SUMIFS('base de donnée JCO '!I$173:I$1080,'base de donnée JCO '!F$173:F$1080,I59,'base de donnée JCO '!G$173:G$1080,J59))) | O59: =IF(ISBLANK(I59),"",IF(ISBLANK(D59),#REF!+N59,D59+N59)) | V59: =W59*SUMIFS('base de donnée JCO '!H$173:H$1080,'base de donnée JCO '!F$173:F$1080,I59,'base de donnée JCO '!G$173:G$1080,J59) -> 0 | W59: =F59*G59 -> 0 | X59: =W59*SUMIFS('base de donnée JCO '!J$173:J$1080,'base de donnée JCO '!F$173:F$1080,I59,'base de donnée JCO '!G$173:G$1080,J59) -> 0 | Z59: =IF(ISBLANK(I59),"",IF(COUNTIF(I59,"*BOMBE_50MM*"),IF(COUNTIF(K59,"*TR*"),IF(G59>=6,F59*1,0.5*F59),""),"")) | AA59: =IF(ISBLANK(I59),"",IF(COUNTIF(I59,"*BOMBE_50MM*"),IF(COUNTIF(K59,"*\*"),IF(G59>1,F59*1,""),""),"")) | AB59: =IF(ISBLANK(I59),"",IF(COUNTIF(I59,"*BOMBE_50MM*"),IF(G59=1,F59,""),"")) | AD59: =IF(ISBLANK(I59),"",IF(COUNTIF(I59,"*BOMBE_75MM*"),IF(G59=1,F59,""),"")) | AE59: =IF(ISBLANK(I59),"",IF(COUNTIF(I59,"*BOMBE_75MM*"),IF(COUNTIF(K59,"*TR*"),IF(G59<=5,F59,""),""),"")) | AF59: =IF(ISBLANK(I59),"",IF(COUNTIF(I59,"*BOMBE_75MM*"),IF(COUNTIF(K59,"*TR*"),IF(G59>5,F59,""),""),"")) | AG59: =IF(ISBLANK(I59),"",IF(COUNTIF(I59,"*BOMBE_75MM*"),IF(COUNTIF(K59,"*\*"),IF(AND(G59<=3,G59>=2),F59,""),""),"")) | AH59: =IF(ISBLANK(I59),"",IF(COUNTIF(I59,"*BOMBE_75MM*"),IF(COUNTIF(K59,"*\*"),IF(AND(G59<=7,G59>=4),F59,""),""),"")) | AJ59: =IF(ISBLANK(I59),"",IF(COUNTIF(I59,"*BOMBE_100MM*"),IF(G59=1,F59,""),"")) | AK59: =IF(ISBLANK(I59),"",IF(COUNTIF(I59,"*BOMBE_100MM*"),IF(COUNTIF(K59,"*TR*"),IF(G59<=5,F59,F59*2),""),"")) | AL59: =IF(ISBLANK(I59),"",IF(COUNTIF(I59,"*BOMBE_100MM*"),IF(COUNTIF(K59,"*\*"),IF(AND(G59<=3,G59>=2),F59,""),""),"")) | AM59: =IF(ISBLANK(I59),"",IF(COUNTIF(I59,"*BOMBE_100MM*"),IF(COUNTIF(K59,"*\*"),IF(AND(G59<=5,G59>=4),F59,""),""),"")) | AO59: =IF(ISBLANK(I59),"",IF(COUNTIF(I59,"*BOMBE_125MM*"),IF(G59=1,F59,""),"")) | AP59: =IF(ISBLANK(I59),"",IF(COUNTIF(I59,"*BOMBE_125MM*"),IF(COUNTIF(K59,"*TR*"),IF(G59<=5,F59,""),""),"")) | AQ59: =IF(ISBLANK(I59),"",IF(COUNTIF(I59,"*BOMBE_125MM*"),IF(COUNTIF(K59,"*\*"),IF(AND(G59<=3,G59>=2),F59,""),""),"")) | AS59: =IF(ISBLANK(I59),"",IF(COUNTIF(I59,"*BOMBE_150MM*"),IF(G59=1,F59,""),"")) | AT59: =IF(ISBLANK(I59),"",IF(COUNTIF(I59,"*BOMBE_150MM*"),IF(COUNTIF(K59,"*TR*"),IF(G59<=4,F59,""),""),"")) | AU59: =IF(ISBLANK(I59),"",IF(COUNTIF(I59,"*BOMBE_150MM*"),IF(COUNTIF(K59,"*\*"),IF(AND(G59<=3,G59>=2),F59,""),""),"")) | AW59: =IF(ISBLANK(I59),"",IF(COUNTIF(I59,"*BOMBE_200MM*"),F59*G59,"")) | AY59: =IF(ISBLANK(I59),"",IF(COUNTIF(I59,"*BOMBE_*"),F59*20,F59*15)) | AZ59: =IF(ISBLANK(I59),"",IF(COUNTIF(I59,"*BOMBE_*"),F59*15,F59*10)) | BA59: =IF(ISBLANK(I59),"",IF(COUNTIF(I59,"*BOMBE_*"),F59*10,F59*5))
N60: =IF(ISBLANK(I60),"",IF(COUNTIF(I60,"*bombe*"),(G60-1)*SUMIF('base de donnée JCO '!C$3:C$10,K60,'base de donnée JCO '!D$3:D$10)+SUMIF(entete,L60,'base de donnée JCO '!D$14:D$20),SUMIFS('base de donnée JCO '!I$173:I$1080,'base de donnée JCO '!F$173:F$1080,I60,'base de donnée JCO '!G$173:G$1080,J60))) | O60: =IF(ISBLANK(I60),"",IF(ISBLANK(D60),D59+N60,D60+N60)) | S60: \ / | V60: =W60*SUMIFS('base de donnée JCO '!H$173:H$1080,'base de donnée JCO '!F$173:F$1080,I60,'base de donnée JCO '!G$173:G$1080,J60) -> 0 | W60: =F60*G60 -> 0 | X60: =W60*SUMIFS('base de donnée JCO '!J$173:J$1080,'base de donnée JCO '!F$173:F$1080,I60,'base de donnée JCO '!G$173:G$1080,J60) -> 0 | Z60: =IF(ISBLANK(I60),"",IF(COUNTIF(I60,"*BOMBE_50MM*"),IF(COUNTIF(K60,"*TR*"),IF(G60>=6,F60*1,0.5*F60),""),"")) | AA60: =IF(ISBLANK(I60),"",IF(COUNTIF(I60,"*BOMBE_50MM*"),IF(COUNTIF(K60,"*\*"),IF(G60>1,F60*1,""),""),"")) | AB60: =IF(ISBLANK(I60),"",IF(COUNTIF(I60,"*BOMBE_50MM*"),IF(G60=1,F60,""),"")) | AD60: =IF(ISBLANK(I60),"",IF(COUNTIF(I60,"*BOMBE_75MM*"),IF(G60=1,F60,""),"")) | AE60: =IF(ISBLANK(I60),"",IF(COUNTIF(I60,"*BOMBE_75MM*"),IF(COUNTIF(K60,"*TR*"),IF(G60<=5,F60,""),""),"")) | AF60: =IF(ISBLANK(I60),"",IF(COUNTIF(I60,"*BOMBE_75MM*"),IF(COUNTIF(K60,"*TR*"),IF(G60>5,F60,""),""),"")) | AG60: =IF(ISBLANK(I60),"",IF(COUNTIF(I60,"*BOMBE_75MM*"),IF(COUNTIF(K60,"*\*"),IF(AND(G60<=3,G60>=2),F60,""),""),"")) | AH60: =IF(ISBLANK(I60),"",IF(COUNTIF(I60,"*BOMBE_75MM*"),IF(COUNTIF(K60,"*\*"),IF(AND(G60<=7,G60>=4),F60,""),""),"")) | AJ60: =IF(ISBLANK(I60),"",IF(COUNTIF(I60,"*BOMBE_100MM*"),IF(G60=1,F60,""),"")) | AK60: =IF(ISBLANK(I60),"",IF(COUNTIF(I60,"*BOMBE_100MM*"),IF(COUNTIF(K60,"*TR*"),IF(G60<=5,F60,F60*2),""),"")) | AL60: =IF(ISBLANK(I60),"",IF(COUNTIF(I60,"*BOMBE_100MM*"),IF(COUNTIF(K60,"*\*"),IF(AND(G60<=3,G60>=2),F60,""),""),"")) | AM60: =IF(ISBLANK(I60),"",IF(COUNTIF(I60,"*BOMBE_100MM*"),IF(COUNTIF(K60,"*\*"),IF(AND(G60<=5,G60>=4),F60,""),""),"")) | AO60: =IF(ISBLANK(I60),"",IF(COUNTIF(I60,"*BOMBE_125MM*"),IF(G60=1,F60,""),"")) | AP60: =IF(ISBLANK(I60),"",IF(COUNTIF(I60,"*BOMBE_125MM*"),IF(COUNTIF(K60,"*TR*"),IF(G60<=5,F60,""),""),"")) | AQ60: =IF(ISBLANK(I60),"",IF(COUNTIF(I60,"*BOMBE_125MM*"),IF(COUNTIF(K60,"*\*"),IF(AND(G60<=3,G60>=2),F60,""),""),"")) | AS60: =IF(ISBLANK(I60),"",IF(COUNTIF(I60,"*BOMBE_150MM*"),IF(G60=1,F60,""),"")) | AT60: =IF(ISBLANK(I60),"",IF(COUNTIF(I60,"*BOMBE_150MM*"),IF(COUNTIF(K60,"*TR*"),IF(G60<=4,F60,""),""),"")) | AU60: =IF(ISBLANK(I60),"",IF(COUNTIF(I60,"*BOMBE_150MM*"),IF(COUNTIF(K60,"*\*"),IF(AND(G60<=3,G60>=2),F60,""),""),"")) | AW60: =IF(ISBLANK(I60),"",IF(COUNTIF(I60,"*BOMBE_200MM*"),F60*G60,"")) | AY60: =IF(ISBLANK(I60),"",IF(COUNTIF(I60,"*BOMBE_*"),F60*20,F60*15)) | AZ60: =IF(ISBLANK(I60),"",IF(COUNTIF(I60,"*BOMBE_*"),F60*15,F60*10)) | BA60: =IF(ISBLANK(I60),"",IF(COUNTIF(I60,"*BOMBE_*"),F60*10,F60*5))
N61: =IF(ISBLANK(I61),"",IF(COUNTIF(I61,"*bombe*"),(G61-1)*SUMIF('base de donnée JCO '!C$3:C$10,K61,'base de donnée JCO '!D$3:D$10)+SUMIF(entete,L61,'base de donnée JCO '!D$14:D$20),SUMIFS('base de donnée JCO '!I$173:I$1080,'base de donnée JCO '!F$173:F$1080,I61,'base de donnée JCO '!G$173:G$1080,J61))) | O61: =IF(ISBLANK(I61),"",IF(ISBLANK(D61),D60+N61,D61+N61)) | V61: =W61*SUMIFS('base de donnée JCO '!H$173:H$1080,'base de donnée JCO '!F$173:F$1080,I61,'base de donnée JCO '!G$173:G$1080,J61) -> 0 | W61: =F61*G61 -> 0 | X61: =W61*SUMIFS('base de donnée JCO '!J$173:J$1080,'base de donnée JCO '!F$173:F$1080,I61,'base de donnée JCO '!G$173:G$1080,J61) -> 0 | Z61: =IF(ISBLANK(I61),"",IF(COUNTIF(I61,"*BOMBE_50MM*"),IF(COUNTIF(K61,"*TR*"),IF(G61>=6,F61*1,0.5*F61),""),"")) | AA61: =IF(ISBLANK(I61),"",IF(COUNTIF(I61,"*BOMBE_50MM*"),IF(COUNTIF(K61,"*\*"),IF(G61>1,F61*1,""),""),"")) | AB61: =IF(ISBLANK(I61),"",IF(COUNTIF(I61,"*BOMBE_50MM*"),IF(G61=1,F61,""),"")) | AD61: =IF(ISBLANK(I61),"",IF(COUNTIF(I61,"*BOMBE_75MM*"),IF(G61=1,F61,""),"")) | AE61: =IF(ISBLANK(I61),"",IF(COUNTIF(I61,"*BOMBE_75MM*"),IF(COUNTIF(K61,"*TR*"),IF(G61<=5,F61,""),""),"")) | AF61: =IF(ISBLANK(I61),"",IF(COUNTIF(I61,"*BOMBE_75MM*"),IF(COUNTIF(K61,"*TR*"),IF(G61>5,F61,""),""),"")) | AG61: =IF(ISBLANK(I61),"",IF(COUNTIF(I61,"*BOMBE_75MM*"),IF(COUNTIF(K61,"*\*"),IF(AND(G61<=3,G61>=2),F61,""),""),"")) | AH61: =IF(ISBLANK(I61),"",IF(COUNTIF(I61,"*BOMBE_75MM*"),IF(COUNTIF(K61,"*\*"),IF(AND(G61<=7,G61>=4),F61,""),""),"")) | AJ61: =IF(ISBLANK(I61),"",IF(COUNTIF(I61,"*BOMBE_100MM*"),IF(G61=1,F61,""),"")) | AK61: =IF(ISBLANK(I61),"",IF(COUNTIF(I61,"*BOMBE_100MM*"),IF(COUNTIF(K61,"*TR*"),IF(G61<=5,F61,F61*2),""),"")) | AL61: =IF(ISBLANK(I61),"",IF(COUNTIF(I61,"*BOMBE_100MM*"),IF(COUNTIF(K61,"*\*"),IF(AND(G61<=3,G61>=2),F61,""),""),"")) | AM61: =IF(ISBLANK(I61),"",IF(COUNTIF(I61,"*BOMBE_100MM*"),IF(COUNTIF(K61,"*\*"),IF(AND(G61<=5,G61>=4),F61,""),""),"")) | AO61: =IF(ISBLANK(I61),"",IF(COUNTIF(I61,"*BOMBE_125MM*"),IF(G61=1,F61,""),"")) | AP61: =IF(ISBLANK(I61),"",IF(COUNTIF(I61,"*BOMBE_125MM*"),IF(COUNTIF(K61,"*TR*"),IF(G61<=5,F61,""),""),"")) | AQ61: =IF(ISBLANK(I61),"",IF(COUNTIF(I61,"*BOMBE_125MM*"),IF(COUNTIF(K61,"*\*"),IF(AND(G61<=3,G61>=2),F61,""),""),"")) | AS61: =IF(ISBLANK(I61),"",IF(COUNTIF(I61,"*BOMBE_150MM*"),IF(G61=1,F61,""),"")) | AT61: =IF(ISBLANK(I61),"",IF(COUNTIF(I61,"*BOMBE_150MM*"),IF(COUNTIF(K61,"*TR*"),IF(G61<=4,F61,""),""),"")) | AU61: =IF(ISBLANK(I61),"",IF(COUNTIF(I61,"*BOMBE_150MM*"),IF(COUNTIF(K61,"*\*"),IF(AND(G61<=3,G61>=2),F61,""),""),"")) | AW61: =IF(ISBLANK(I61),"",IF(COUNTIF(I61,"*BOMBE_200MM*"),F61*G61,"")) | AY61: =IF(ISBLANK(I61),"",IF(COUNTIF(I61,"*BOMBE_*"),F61*20,F61*15)) | AZ61: =IF(ISBLANK(I61),"",IF(COUNTIF(I61,"*BOMBE_*"),F61*15,F61*10)) | BA61: =IF(ISBLANK(I61),"",IF(COUNTIF(I61,"*BOMBE_*"),F61*10,F61*5))
N62: =IF(ISBLANK(I62),"",IF(COUNTIF(I62,"*bombe*"),(G62-1)*SUMIF('base de donnée JCO '!C$3:C$10,K62,'base de donnée JCO '!D$3:D$10)+SUMIF(entete,L62,'base de donnée JCO '!D$14:D$20),SUMIFS('base de donnée JCO '!I$173:I$1080,'base de donnée JCO '!F$173:F$1080,I62,'base de donnée JCO '!G$173:G$1080,J62))) | O62: =IF(ISBLANK(I62),"",IF(ISBLANK(D62),D61+N62,D62+N62)) | S62: \ /
N63: =IF(ISBLANK(I63),"",IF(COUNTIF(I63,"*bombe*"),(G63-1)*SUMIF('base de donnée JCO '!C$3:C$10,K63,'base de donnée JCO '!D$3:D$10)+SUMIF(entete,L63,'base de donnée JCO '!D$14:D$20),SUMIFS('base de donnée JCO '!I$173:I$1080,'base de donnée JCO '!F$173:F$1080,I63,'base de donnée JCO '!G$173:G$1080,J63))) | O63: =IF(ISBLANK(I63),"",IF(ISBLANK(D63),D62+N63,D63+N63)) | S63: X | V63: =W63*SUMIFS('base de donnée JCO '!H$173:H$1080,'base de donnée JCO '!F$173:F$1080,I63,'base de donnée JCO '!G$173:G$1080,J63) -> 0 | W63: =F63*G63 -> 0 | X63: =W63*SUMIFS('base de donnée JCO '!J$173:J$1080,'base de donnée JCO '!F$173:F$1080,I63,'base de donnée JCO '!G$173:G$1080,J63) -> 0 | Z63: =IF(ISBLANK(I63),"",IF(COUNTIF(I63,"*BOMBE_50MM*"),IF(COUNTIF(K63,"*TR*"),IF(G63>=6,F63*1,0.5*F63),""),"")) | AA63: =IF(ISBLANK(I63),"",IF(COUNTIF(I63,"*BOMBE_50MM*"),IF(COUNTIF(K63,"*\*"),IF(G63>1,F63*1,""),""),"")) | AB63: =IF(ISBLANK(I63),"",IF(COUNTIF(I63,"*BOMBE_50MM*"),IF(G63=1,F63,""),"")) | AD63: =IF(ISBLANK(I63),"",IF(COUNTIF(I63,"*BOMBE_75MM*"),IF(G63=1,F63,""),"")) | AE63: =IF(ISBLANK(I63),"",IF(COUNTIF(I63,"*BOMBE_75MM*"),IF(COUNTIF(K63,"*TR*"),IF(G63<=5,F63,""),""),"")) | AF63: =IF(ISBLANK(I63),"",IF(COUNTIF(I63,"*BOMBE_75MM*"),IF(COUNTIF(K63,"*TR*"),IF(G63>5,F63,""),""),"")) | AG63: =IF(ISBLANK(I63),"",IF(COUNTIF(I63,"*BOMBE_75MM*"),IF(COUNTIF(K63,"*\*"),IF(AND(G63<=3,G63>=2),F63,""),""),"")) | AH63: =IF(ISBLANK(I63),"",IF(COUNTIF(I63,"*BOMBE_75MM*"),IF(COUNTIF(K63,"*\*"),IF(AND(G63<=7,G63>=4),F63,""),""),"")) | AJ63: =IF(ISBLANK(I63),"",IF(COUNTIF(I63,"*BOMBE_100MM*"),IF(G63=1,F63,""),"")) | AK63: =IF(ISBLANK(I63),"",IF(COUNTIF(I63,"*BOMBE_100MM*"),IF(COUNTIF(K63,"*TR*"),IF(G63<=5,F63,F63*2),""),"")) | AL63: =IF(ISBLANK(I63),"",IF(COUNTIF(I63,"*BOMBE_100MM*"),IF(COUNTIF(K63,"*\*"),IF(AND(G63<=3,G63>=2),F63,""),""),"")) | AM63: =IF(ISBLANK(I63),"",IF(COUNTIF(I63,"*BOMBE_100MM*"),IF(COUNTIF(K63,"*\*"),IF(AND(G63<=5,G63>=4),F63,""),""),"")) | AO63: =IF(ISBLANK(I63),"",IF(COUNTIF(I63,"*BOMBE_125MM*"),IF(G63=1,F63,""),"")) | AP63: =IF(ISBLANK(I63),"",IF(COUNTIF(I63,"*BOMBE_125MM*"),IF(COUNTIF(K63,"*TR*"),IF(G63<=5,F63,""),""),"")) | AQ63: =IF(ISBLANK(I63),"",IF(COUNTIF(I63,"*BOMBE_125MM*"),IF(COUNTIF(K63,"*\*"),IF(AND(G63<=3,G63>=2),F63,""),""),"")) | AS63: =IF(ISBLANK(I63),"",IF(COUNTIF(I63,"*BOMBE_150MM*"),IF(G63=1,F63,""),"")) | AT63: =IF(ISBLANK(I63),"",IF(COUNTIF(I63,"*BOMBE_150MM*"),IF(COUNTIF(K63,"*TR*"),IF(G63<=4,F63,""),""),"")) | AU63: =IF(ISBLANK(I63),"",IF(COUNTIF(I63,"*BOMBE_150MM*"),IF(COUNTIF(K63,"*\*"),IF(AND(G63<=3,G63>=2),F63,""),""),"")) | AW63: =IF(ISBLANK(I63),"",IF(COUNTIF(I63,"*BOMBE_200MM*"),F63*G63,"")) | AY63: =IF(ISBLANK(I63),"",IF(COUNTIF(I63,"*BOMBE_*"),F63*20,F63*15)) | AZ63: =IF(ISBLANK(I63),"",IF(COUNTIF(I63,"*BOMBE_*"),F63*15,F63*10)) | BA63: =IF(ISBLANK(I63),"",IF(COUNTIF(I63,"*BOMBE_*"),F63*10,F63*5))
N64: =IF(ISBLANK(I64),"",IF(COUNTIF(I64,"*bombe*"),(G64-1)*SUMIF('base de donnée JCO '!C$3:C$10,K64,'base de donnée JCO '!D$3:D$10)+SUMIF(entete,L64,'base de donnée JCO '!D$14:D$20),SUMIFS('base de donnée JCO '!I$173:I$1080,'base de donnée JCO '!F$173:F$1080,I64,'base de donnée JCO '!G$173:G$1080,J64))) | O64: =IF(ISBLANK(I64),"",IF(ISBLANK(D64),D63+N64,D64+N64)) | V64: =W64*SUMIFS('base de donnée JCO '!H$173:H$1080,'base de donnée JCO '!F$173:F$1080,I64,'base de donnée JCO '!G$173:G$1080,J64) -> 0 | W64: =F64*G64 -> 0 | X64: =W64*SUMIFS('base de donnée JCO '!J$173:J$1080,'base de donnée JCO '!F$173:F$1080,I64,'base de donnée JCO '!G$173:G$1080,J64) -> 0 | Z64: =IF(ISBLANK(I64),"",IF(COUNTIF(I64,"*BOMBE_50MM*"),IF(COUNTIF(K64,"*TR*"),IF(G64>=6,F64*1,0.5*F64),""),"")) | AA64: =IF(ISBLANK(I64),"",IF(COUNTIF(I64,"*BOMBE_50MM*"),IF(COUNTIF(K64,"*\*"),IF(G64>1,F64*1,""),""),"")) | AB64: =IF(ISBLANK(I64),"",IF(COUNTIF(I64,"*BOMBE_50MM*"),IF(G64=1,F64,""),"")) | AD64: =IF(ISBLANK(I64),"",IF(COUNTIF(I64,"*BOMBE_75MM*"),IF(G64=1,F64,""),"")) | AE64: =IF(ISBLANK(I64),"",IF(COUNTIF(I64,"*BOMBE_75MM*"),IF(COUNTIF(K64,"*TR*"),IF(G64<=5,F64,""),""),"")) | AF64: =IF(ISBLANK(I64),"",IF(COUNTIF(I64,"*BOMBE_75MM*"),IF(COUNTIF(K64,"*TR*"),IF(G64>5,F64,""),""),"")) | AG64: =IF(ISBLANK(I64),"",IF(COUNTIF(I64,"*BOMBE_75MM*"),IF(COUNTIF(K64,"*\*"),IF(AND(G64<=3,G64>=2),F64,""),""),"")) | AH64: =IF(ISBLANK(I64),"",IF(COUNTIF(I64,"*BOMBE_75MM*"),IF(COUNTIF(K64,"*\*"),IF(AND(G64<=7,G64>=4),F64,""),""),"")) | AJ64: =IF(ISBLANK(I64),"",IF(COUNTIF(I64,"*BOMBE_100MM*"),IF(G64=1,F64,""),"")) | AK64: =IF(ISBLANK(I64),"",IF(COUNTIF(I64,"*BOMBE_100MM*"),IF(COUNTIF(K64,"*TR*"),IF(G64<=5,F64,F64*2),""),"")) | AL64: =IF(ISBLANK(I64),"",IF(COUNTIF(I64,"*BOMBE_100MM*"),IF(COUNTIF(K64,"*\*"),IF(AND(G64<=3,G64>=2),F64,""),""),"")) | AM64: =IF(ISBLANK(I64),"",IF(COUNTIF(I64,"*BOMBE_100MM*"),IF(COUNTIF(K64,"*\*"),IF(AND(G64<=5,G64>=4),F64,""),""),"")) | AO64: =IF(ISBLANK(I64),"",IF(COUNTIF(I64,"*BOMBE_125MM*"),IF(G64=1,F64,""),"")) | AP64: =IF(ISBLANK(I64),"",IF(COUNTIF(I64,"*BOMBE_125MM*"),IF(COUNTIF(K64,"*TR*"),IF(G64<=5,F64,""),""),"")) | AQ64: =IF(ISBLANK(I64),"",IF(COUNTIF(I64,"*BOMBE_125MM*"),IF(COUNTIF(K64,"*\*"),IF(AND(G64<=3,G64>=2),F64,""),""),"")) | AS64: =IF(ISBLANK(I64),"",IF(COUNTIF(I64,"*BOMBE_150MM*"),IF(G64=1,F64,""),"")) | AT64: =IF(ISBLANK(I64),"",IF(COUNTIF(I64,"*BOMBE_150MM*"),IF(COUNTIF(K64,"*TR*"),IF(G64<=4,F64,""),""),"")) | AU64: =IF(ISBLANK(I64),"",IF(COUNTIF(I64,"*BOMBE_150MM*"),IF(COUNTIF(K64,"*\*"),IF(AND(G64<=3,G64>=2),F64,""),""),"")) | AW64: =IF(ISBLANK(I64),"",IF(COUNTIF(I64,"*BOMBE_200MM*"),F64*G64,"")) | AY64: =IF(ISBLANK(I64),"",IF(COUNTIF(I64,"*BOMBE_*"),F64*20,F64*15)) | AZ64: =IF(ISBLANK(I64),"",IF(COUNTIF(I64,"*BOMBE_*"),F64*15,F64*10)) | BA64: =IF(ISBLANK(I64),"",IF(COUNTIF(I64,"*BOMBE_*"),F64*10,F64*5))
N65: =IF(ISBLANK(I65),"",IF(COUNTIF(I65,"*bombe*"),(G65-1)*SUMIF('base de donnée JCO '!C$3:C$10,K65,'base de donnée JCO '!D$3:D$10)+SUMIF(entete,L65,'base de donnée JCO '!D$14:D$20),SUMIFS('base de donnée JCO '!I$173:I$1080,'base de donnée JCO '!F$173:F$1080,I65,'base de donnée JCO '!G$173:G$1080,J65))) | O65: =IF(ISBLANK(I65),"",IF(ISBLANK(D65),D63+N65,D65+N65)) | Q65: \ I / | U65: \ I / | V65: =W65*SUMIFS('base de donnée JCO '!H$173:H$1080,'base de donnée JCO '!F$173:F$1080,I65,'base de donnée JCO '!G$173:G$1080,J65) -> 0 | W65: =F65*G65 -> 0 | X65: =W65*SUMIFS('base de donnée JCO '!J$173:J$1080,'base de donnée JCO '!F$173:F$1080,I65,'base de donnée JCO '!G$173:G$1080,J65) -> 0 | Z65: =IF(ISBLANK(I65),"",IF(COUNTIF(I65,"*BOMBE_50MM*"),IF(COUNTIF(K65,"*TR*"),IF(G65>=6,F65*1,0.5*F65),""),"")) | AA65: =IF(ISBLANK(I65),"",IF(COUNTIF(I65,"*BOMBE_50MM*"),IF(COUNTIF(K65,"*\*"),IF(G65>1,F65*1,""),""),"")) | AB65: =IF(ISBLANK(I65),"",IF(COUNTIF(I65,"*BOMBE_50MM*"),IF(G65=1,F65,""),"")) | AD65: =IF(ISBLANK(I65),"",IF(COUNTIF(I65,"*BOMBE_75MM*"),IF(G65=1,F65,""),"")) | AE65: =IF(ISBLANK(I65),"",IF(COUNTIF(I65,"*BOMBE_75MM*"),IF(COUNTIF(K65,"*TR*"),IF(G65<=5,F65,""),""),"")) | AF65: =IF(ISBLANK(I65),"",IF(COUNTIF(I65,"*BOMBE_75MM*"),IF(COUNTIF(K65,"*TR*"),IF(G65>5,F65,""),""),"")) | AG65: =IF(ISBLANK(I65),"",IF(COUNTIF(I65,"*BOMBE_75MM*"),IF(COUNTIF(K65,"*\*"),IF(AND(G65<=3,G65>=2),F65,""),""),"")) | AH65: =IF(ISBLANK(I65),"",IF(COUNTIF(I65,"*BOMBE_75MM*"),IF(COUNTIF(K65,"*\*"),IF(AND(G65<=7,G65>=4),F65,""),""),"")) | AJ65: =IF(ISBLANK(I65),"",IF(COUNTIF(I65,"*BOMBE_100MM*"),IF(G65=1,F65,""),"")) | AK65: =IF(ISBLANK(I65),"",IF(COUNTIF(I65,"*BOMBE_100MM*"),IF(COUNTIF(K65,"*TR*"),IF(G65<=5,F65,F65*2),""),"")) | AL65: =IF(ISBLANK(I65),"",IF(COUNTIF(I65,"*BOMBE_100MM*"),IF(COUNTIF(K65,"*\*"),IF(AND(G65<=3,G65>=2),F65,""),""),"")) | AM65: =IF(ISBLANK(I65),"",IF(COUNTIF(I65,"*BOMBE_100MM*"),IF(COUNTIF(K65,"*\*"),IF(AND(G65<=5,G65>=4),F65,""),""),"")) | AO65: =IF(ISBLANK(I65),"",IF(COUNTIF(I65,"*BOMBE_125MM*"),IF(G65=1,F65,""),"")) | AP65: =IF(ISBLANK(I65),"",IF(COUNTIF(I65,"*BOMBE_125MM*"),IF(COUNTIF(K65,"*TR*"),IF(G65<=5,F65,""),""),"")) | AQ65: =IF(ISBLANK(I65),"",IF(COUNTIF(I65,"*BOMBE_125MM*"),IF(COUNTIF(K65,"*\*"),IF(AND(G65<=3,G65>=2),F65,""),""),"")) | AS65: =IF(ISBLANK(I65),"",IF(COUNTIF(I65,"*BOMBE_150MM*"),IF(G65=1,F65,""),"")) | AT65: =IF(ISBLANK(I65),"",IF(COUNTIF(I65,"*BOMBE_150MM*"),IF(COUNTIF(K65,"*TR*"),IF(G65<=4,F65,""),""),"")) | AU65: =IF(ISBLANK(I65),"",IF(COUNTIF(I65,"*BOMBE_150MM*"),IF(COUNTIF(K65,"*\*"),IF(AND(G65<=3,G65>=2),F65,""),""),"")) | AW65: =IF(ISBLANK(I65),"",IF(COUNTIF(I65,"*BOMBE_200MM*"),F65*G65,"")) | AY65: =IF(ISBLANK(I65),"",IF(COUNTIF(I65,"*BOMBE_*"),F65*20,F65*15)) | AZ65: =IF(ISBLANK(I65),"",IF(COUNTIF(I65,"*BOMBE_*"),F65*15,F65*10)) | BA65: =IF(ISBLANK(I65),"",IF(COUNTIF(I65,"*BOMBE_*"),F65*10,F65*5))
A66: 21 | F66: 2 | G66: 2 | I66: chandelle_50mm | J66: pôt à feu argent clignotant CH | N66: =IF(ISBLANK(I66),"",IF(COUNTIF(I66,"*bombe*"),(G66-1)*SUMIF('base de donnée JCO '!C$3:C$10,K66,'base de donnée JCO '!D$3:D$10)+SUMIF(entete,L66,'base de donnée JCO '!D$14:D$20),SUMIFS('base de donnée JCO '!I$173:I$1080,'base de donnée JCO '!F$173:F$1080,I66,'base de donnée JCO '!G$173:G$1080,J66))) -> 0 | O66: =IF(ISBLANK(I66),"",IF(ISBLANK(D66),D65+N66,D66+N66)) -> 0 | Q66: \ / | U66: \ / | V66: =W66*SUMIFS('base de donnée JCO '!H$173:H$1080,'base de donnée JCO '!F$173:F$1080,I66,'base de donnée JCO '!G$173:G$1080,J66) -> 0 | W66: =F66*G66 -> 4 | X66: =W66*SUMIFS('base de donnée JCO '!J$173:J$1080,'base de donnée JCO '!F$173:F$1080,I66,'base de donnée JCO '!G$173:G$1080,J66) -> 0 | Z66: =IF(ISBLANK(I66),"",IF(COUNTIF(I66,"*BOMBE_50MM*"),IF(COUNTIF(K66,"*TR*"),IF(G66>=6,F66*1,0.5*F66),""),"")) | AA66: =IF(ISBLANK(I66),"",IF(COUNTIF(I66,"*BOMBE_50MM*"),IF(COUNTIF(K66,"*\*"),IF(G66>1,F66*1,""),""),"")) | AB66: =IF(ISBLANK(I66),"",IF(COUNTIF(I66,"*BOMBE_50MM*"),IF(G66=1,F66,""),"")) | AD66: =IF(ISBLANK(I66),"",IF(COUNTIF(I66,"*BOMBE_75MM*"),IF(G66=1,F66,""),"")) | AE66: =IF(ISBLANK(I66),"",IF(COUNTIF(I66,"*BOMBE_75MM*"),IF(COUNTIF(K66,"*TR*"),IF(G66<=5,F66,""),""),"")) | AF66: =IF(ISBLANK(I66),"",IF(COUNTIF(I66,"*BOMBE_75MM*"),IF(COUNTIF(K66,"*TR*"),IF(G66>5,F66,""),""),"")) | AG66: =IF(ISBLANK(I66),"",IF(COUNTIF(I66,"*BOMBE_75MM*"),IF(COUNTIF(K66,"*\*"),IF(AND(G66<=3,G66>=2),F66,""),""),"")) | AH66: =IF(ISBLANK(I66),"",IF(COUNTIF(I66,"*BOMBE_75MM*"),IF(COUNTIF(K66,"*\*"),IF(AND(G66<=7,G66>=4),F66,""),""),"")) | AJ66: =IF(ISBLANK(I66),"",IF(COUNTIF(I66,"*BOMBE_100MM*"),IF(G66=1,F66,""),"")) | AK66: =IF(ISBLANK(I66),"",IF(COUNTIF(I66,"*BOMBE_100MM*"),IF(COUNTIF(K66,"*TR*"),IF(G66<=5,F66,F66*2),""),"")) | AL66: =IF(ISBLANK(I66),"",IF(COUNTIF(I66,"*BOMBE_100MM*"),IF(COUNTIF(K66,"*\*"),IF(AND(G66<=3,G66>=2),F66,""),""),"")) | AM66: =IF(ISBLANK(I66),"",IF(COUNTIF(I66,"*BOMBE_100MM*"),IF(COUNTIF(K66,"*\*"),IF(AND(G66<=5,G66>=4),F66,""),""),"")) | AO66: =IF(ISBLANK(I66),"",IF(COUNTIF(I66,"*BOMBE_125MM*"),IF(G66=1,F66,""),"")) | AP66: =IF(ISBLANK(I66),"",IF(COUNTIF(I66,"*BOMBE_125MM*"),IF(COUNTIF(K66,"*TR*"),IF(G66<=5,F66,""),""),"")) | AQ66: =IF(ISBLANK(I66),"",IF(COUNTIF(I66,"*BOMBE_125MM*"),IF(COUNTIF(K66,"*\*"),IF(AND(G66<=3,G66>=2),F66,""),""),"")) | AS66: =IF(ISBLANK(I66),"",IF(COUNTIF(I66,"*BOMBE_150MM*"),IF(G66=1,F66,""),"")) | AT66: =IF(ISBLANK(I66),"",IF(COUNTIF(I66,"*BOMBE_150MM*"),IF(COUNTIF(K66,"*TR*"),IF(G66<=4,F66,""),""),"")) | AU66: =IF(ISBLANK(I66),"",IF(COUNTIF(I66,"*BOMBE_150MM*"),IF(COUNTIF(K66,"*\*"),IF(AND(G66<=3,G66>=2),F66,""),""),"")) | AW66: =IF(ISBLANK(I66),"",IF(COUNTIF(I66,"*BOMBE_200MM*"),F66*G66,"")) | AY66: =IF(ISBLANK(I66),"",IF(COUNTIF(I66,"*BOMBE_*"),F66*20,F66*15)) -> 30 | AZ66: =IF(ISBLANK(I66),"",IF(COUNTIF(I66,"*BOMBE_*"),F66*15,F66*10)) -> 20 | BA66: =IF(ISBLANK(I66),"",IF(COUNTIF(I66,"*BOMBE_*"),F66*10,F66*5)) -> 10
N67: =IF(ISBLANK(I67),"",IF(COUNTIF(I67,"*bombe*"),(G67-1)*SUMIF('base de donnée JCO '!C$3:C$10,K67,'base de donnée JCO '!D$3:D$10)+SUMIF(entete,L67,'base de donnée JCO '!D$14:D$20),SUMIFS('base de donnée JCO '!I$173:I$1080,'base de donnée JCO '!F$173:F$1080,I67,'base de donnée JCO '!G$173:G$1080,J67))) | O67: =IF(ISBLANK(I67),"",IF(ISBLANK(D67),D66+N67,D67+N67)) | V67: =W67*SUMIFS('base de donnée JCO '!H$173:H$1080,'base de donnée JCO '!F$173:F$1080,I67,'base de donnée JCO '!G$173:G$1080,J67) -> 0 | W67: =F67*G67 -> 0 | X67: =W67*SUMIFS('base de donnée JCO '!J$173:J$1080,'base de donnée JCO '!F$173:F$1080,I67,'base de donnée JCO '!G$173:G$1080,J67) -> 0 | Z67: =IF(ISBLANK(I67),"",IF(COUNTIF(I67,"*BOMBE_50MM*"),IF(COUNTIF(K67,"*TR*"),IF(G67>=6,F67*1,0.5*F67),""),"")) | AA67: =IF(ISBLANK(I67),"",IF(COUNTIF(I67,"*BOMBE_50MM*"),IF(COUNTIF(K67,"*\*"),IF(G67>1,F67*1,""),""),"")) | AB67: =IF(ISBLANK(I67),"",IF(COUNTIF(I67,"*BOMBE_50MM*"),IF(G67=1,F67,""),"")) | AD67: =IF(ISBLANK(I67),"",IF(COUNTIF(I67,"*BOMBE_75MM*"),IF(G67=1,F67,""),"")) | AE67: =IF(ISBLANK(I67),"",IF(COUNTIF(I67,"*BOMBE_75MM*"),IF(COUNTIF(K67,"*TR*"),IF(G67<=5,F67,""),""),"")) | AF67: =IF(ISBLANK(I67),"",IF(COUNTIF(I67,"*BOMBE_75MM*"),IF(COUNTIF(K67,"*TR*"),IF(G67>5,F67,""),""),"")) | AG67: =IF(ISBLANK(I67),"",IF(COUNTIF(I67,"*BOMBE_75MM*"),IF(COUNTIF(K67,"*\*"),IF(AND(G67<=3,G67>=2),F67,""),""),"")) | AH67: =IF(ISBLANK(I67),"",IF(COUNTIF(I67,"*BOMBE_75MM*"),IF(COUNTIF(K67,"*\*"),IF(AND(G67<=7,G67>=4),F67,""),""),"")) | AJ67: =IF(ISBLANK(I67),"",IF(COUNTIF(I67,"*BOMBE_100MM*"),IF(G67=1,F67,""),"")) | AK67: =IF(ISBLANK(I67),"",IF(COUNTIF(I67,"*BOMBE_100MM*"),IF(COUNTIF(K67,"*TR*"),IF(G67<=5,F67,F67*2),""),"")) | AL67: =IF(ISBLANK(I67),"",IF(COUNTIF(I67,"*BOMBE_100MM*"),IF(COUNTIF(K67,"*\*"),IF(AND(G67<=3,G67>=2),F67,""),""),"")) | AM67: =IF(ISBLANK(I67),"",IF(COUNTIF(I67,"*BOMBE_100MM*"),IF(COUNTIF(K67,"*\*"),IF(AND(G67<=5,G67>=4),F67,""),""),"")) | AO67: =IF(ISBLANK(I67),"",IF(COUNTIF(I67,"*BOMBE_125MM*"),IF(G67=1,F67,""),"")) | AP67: =IF(ISBLANK(I67),"",IF(COUNTIF(I67,"*BOMBE_125MM*"),IF(COUNTIF(K67,"*TR*"),IF(G67<=5,F67,""),""),"")) | AQ67: =IF(ISBLANK(I67),"",IF(COUNTIF(I67,"*BOMBE_125MM*"),IF(COUNTIF(K67,"*\*"),IF(AND(G67<=3,G67>=2),F67,""),""),"")) | AS67: =IF(ISBLANK(I67),"",IF(COUNTIF(I67,"*BOMBE_150MM*"),IF(G67=1,F67,""),"")) | AT67: =IF(ISBLANK(I67),"",IF(COUNTIF(I67,"*BOMBE_150MM*"),IF(COUNTIF(K67,"*TR*"),IF(G67<=4,F67,""),""),"")) | AU67: =IF(ISBLANK(I67),"",IF(COUNTIF(I67,"*BOMBE_150MM*"),IF(COUNTIF(K67,"*\*"),IF(AND(G67<=3,G67>=2),F67,""),""),"")) | AW67: =IF(ISBLANK(I67),"",IF(COUNTIF(I67,"*BOMBE_200MM*"),F67*G67,"")) | AY67: =IF(ISBLANK(I67),"",IF(COUNTIF(I67,"*BOMBE_*"),F67*20,F67*15)) | AZ67: =IF(ISBLANK(I67),"",IF(COUNTIF(I67,"*BOMBE_*"),F67*15,F67*10)) | BA67: =IF(ISBLANK(I67),"",IF(COUNTIF(I67,"*BOMBE_*"),F67*10,F67*5))
A68: 22 | D68: 0.0026388889 | F68: 2 | G68: 10 | I68: bombe_75mm | J68: strobo argent | K68: TR3 | N68: =IF(ISBLANK(I68),"",IF(COUNTIF(I68,"*bombe*"),(G68-1)*SUMIF('base de donnée JCO '!C$3:C$10,K68,'base de donnée JCO '!D$3:D$10)+SUMIF(entete,L68,'base de donnée JCO '!D$14:D$20),SUMIFS('base de donnée JCO '!I$173:I$1080,'base de donnée JCO '!F$173:F$1080,I68,'base de donnée JCO '!G$173:G$1080,J68))) -> 27.000312 | O68: =IF(ISBLANK(I68),"",IF(ISBLANK(D68),D66+N68,D68+N68)) -> 27.002951 | S68: \ / | V68: =W68*SUMIFS('base de donnée JCO '!H$173:H$1080,'base de donnée JCO '!F$173:F$1080,I68,'base de donnée JCO '!G$173:G$1080,J68) -> 0 | W68: =F68*G68 -> 20 | X68: =W68*SUMIFS('base de donnée JCO '!J$173:J$1080,'base de donnée JCO '!F$173:F$1080,I68,'base de donnée JCO '!G$173:G$1080,J68) -> 0 | Z68: =IF(ISBLANK(I68),"",IF(COUNTIF(I68,"*BOMBE_50MM*"),IF(COUNTIF(K68,"*TR*"),IF(G68>=6,F68*1,0.5*F68),""),"")) | AA68: =IF(ISBLANK(I68),"",IF(COUNTIF(I68,"*BOMBE_50MM*"),IF(COUNTIF(K68,"*\*"),IF(G68>1,F68*1,""),""),"")) | AB68: =IF(ISBLANK(I68),"",IF(COUNTIF(I68,"*BOMBE_50MM*"),IF(G68=1,F68,""),"")) | AD68: =IF(ISBLANK(I68),"",IF(COUNTIF(I68,"*BOMBE_75MM*"),IF(G68=1,F68,""),"")) | AE68: =IF(ISBLANK(I68),"",IF(COUNTIF(I68,"*BOMBE_75MM*"),IF(COUNTIF(K68,"*TR*"),IF(G68<=5,F68,""),""),"")) | AF68: =IF(ISBLANK(I68),"",IF(COUNTIF(I68,"*BOMBE_75MM*"),IF(COUNTIF(K68,"*TR*"),IF(G68>5,F68,""),""),"")) -> 2 | AG68: =IF(ISBLANK(I68),"",IF(COUNTIF(I68,"*BOMBE_75MM*"),IF(COUNTIF(K68,"*\*"),IF(AND(G68<=3,G68>=2),F68,""),""),"")) | AH68: =IF(ISBLANK(I68),"",IF(COUNTIF(I68,"*BOMBE_75MM*"),IF(COUNTIF(K68,"*\*"),IF(AND(G68<=7,G68>=4),F68,""),""),"")) | AJ68: =IF(ISBLANK(I68),"",IF(COUNTIF(I68,"*BOMBE_100MM*"),IF(G68=1,F68,""),"")) | AK68: =IF(ISBLANK(I68),"",IF(COUNTIF(I68,"*BOMBE_100MM*"),IF(COUNTIF(K68,"*TR*"),IF(G68<=5,F68,F68*2),""),"")) | AL68: =IF(ISBLANK(I68),"",IF(COUNTIF(I68,"*BOMBE_100MM*"),IF(COUNTIF(K68,"*\*"),IF(AND(G68<=3,G68>=2),F68,""),""),"")) | AM68: =IF(ISBLANK(I68),"",IF(COUNTIF(I68,"*BOMBE_100MM*"),IF(COUNTIF(K68,"*\*"),IF(AND(G68<=5,G68>=4),F68,""),""),"")) | AO68: =IF(ISBLANK(I68),"",IF(COUNTIF(I68,"*BOMBE_125MM*"),IF(G68=1,F68,""),"")) | AP68: =IF(ISBLANK(I68),"",IF(COUNTIF(I68,"*BOMBE_125MM*"),IF(COUNTIF(K68,"*TR*"),IF(G68<=5,F68,""),""),"")) | AQ68: =IF(ISBLANK(I68),"",IF(COUNTIF(I68,"*BOMBE_125MM*"),IF(COUNTIF(K68,"*\*"),IF(AND(G68<=3,G68>=2),F68,""),""),"")) | AS68: =IF(ISBLANK(I68),"",IF(COUNTIF(I68,"*BOMBE_150MM*"),IF(G68=1,F68,""),"")) | AT68: =IF(ISBLANK(I68),"",IF(COUNTIF(I68,"*BOMBE_150MM*"),IF(COUNTIF(K68,"*TR*"),IF(G68<=4,F68,""),""),"")) | AU68: =IF(ISBLANK(I68),"",IF(COUNTIF(I68,"*BOMBE_150MM*"),IF(COUNTIF(K68,"*\*"),IF(AND(G68<=3,G68>=2),F68,""),""),"")) | AW68: =IF(ISBLANK(I68),"",IF(COUNTIF(I68,"*BOMBE_200MM*"),F68*G68,"")) | AY68: =IF(ISBLANK(I68),"",IF(COUNTIF(I68,"*BOMBE_*"),F68*20,F68*15)) -> 40 | AZ68: =IF(ISBLANK(I68),"",IF(COUNTIF(I68,"*BOMBE_*"),F68*15,F68*10)) -> 30 | BA68: =IF(ISBLANK(I68),"",IF(COUNTIF(I68,"*BOMBE_*"),F68*10,F68*5)) -> 20
N69: =IF(ISBLANK(I69),"",IF(COUNTIF(I69,"*bombe*"),(G69-1)*SUMIF('base de donnée JCO '!C$3:C$10,K69,'base de donnée JCO '!D$3:D$10)+SUMIF(entete,L69,'base de donnée JCO '!D$14:D$20),SUMIFS('base de donnée JCO '!I$173:I$1080,'base de donnée JCO '!F$173:F$1080,I69,'base de donnée JCO '!G$173:G$1080,J69))) | O69: =IF(ISBLANK(I69),"",IF(ISBLANK(D69),D66+N69,D69+N69)) | V69: =W69*SUMIFS('base de donnée JCO '!H$173:H$1080,'base de donnée JCO '!F$173:F$1080,I69,'base de donnée JCO '!G$173:G$1080,J69) -> 0 | W69: =F69*G69 -> 0 | X69: =W69*SUMIFS('base de donnée JCO '!J$173:J$1080,'base de donnée JCO '!F$173:F$1080,I69,'base de donnée JCO '!G$173:G$1080,J69) -> 0 | Z69: =IF(ISBLANK(I69),"",IF(COUNTIF(I69,"*BOMBE_50MM*"),IF(COUNTIF(K69,"*TR*"),IF(G69>=6,F69*1,0.5*F69),""),"")) | AA69: =IF(ISBLANK(I69),"",IF(COUNTIF(I69,"*BOMBE_50MM*"),IF(COUNTIF(K69,"*\*"),IF(G69>1,F69*1,""),""),"")) | AB69: =IF(ISBLANK(I69),"",IF(COUNTIF(I69,"*BOMBE_50MM*"),IF(G69=1,F69,""),"")) | AD69: =IF(ISBLANK(I69),"",IF(COUNTIF(I69,"*BOMBE_75MM*"),IF(G69=1,F69,""),"")) | AE69: =IF(ISBLANK(I69),"",IF(COUNTIF(I69,"*BOMBE_75MM*"),IF(COUNTIF(K69,"*TR*"),IF(G69<=5,F69,""),""),"")) | AF69: =IF(ISBLANK(I69),"",IF(COUNTIF(I69,"*BOMBE_75MM*"),IF(COUNTIF(K69,"*TR*"),IF(G69>5,F69,""),""),"")) | AG69: =IF(ISBLANK(I69),"",IF(COUNTIF(I69,"*BOMBE_75MM*"),IF(COUNTIF(K69,"*\*"),IF(AND(G69<=3,G69>=2),F69,""),""),"")) | AH69: =IF(ISBLANK(I69),"",IF(COUNTIF(I69,"*BOMBE_75MM*"),IF(COUNTIF(K69,"*\*"),IF(AND(G69<=7,G69>=4),F69,""),""),"")) | AJ69: =IF(ISBLANK(I69),"",IF(COUNTIF(I69,"*BOMBE_100MM*"),IF(G69=1,F69,""),"")) | AK69: =IF(ISBLANK(I69),"",IF(COUNTIF(I69,"*BOMBE_100MM*"),IF(COUNTIF(K69,"*TR*"),IF(G69<=5,F69,F69*2),""),"")) | AL69: =IF(ISBLANK(I69),"",IF(COUNTIF(I69,"*BOMBE_100MM*"),IF(COUNTIF(K69,"*\*"),IF(AND(G69<=3,G69>=2),F69,""),""),"")) | AM69: =IF(ISBLANK(I69),"",IF(COUNTIF(I69,"*BOMBE_100MM*"),IF(COUNTIF(K69,"*\*"),IF(AND(G69<=5,G69>=4),F69,""),""),"")) | AO69: =IF(ISBLANK(I69),"",IF(COUNTIF(I69,"*BOMBE_125MM*"),IF(G69=1,F69,""),"")) | AP69: =IF(ISBLANK(I69),"",IF(COUNTIF(I69,"*BOMBE_125MM*"),IF(COUNTIF(K69,"*TR*"),IF(G69<=5,F69,""),""),"")) | AQ69: =IF(ISBLANK(I69),"",IF(COUNTIF(I69,"*BOMBE_125MM*"),IF(COUNTIF(K69,"*\*"),IF(AND(G69<=3,G69>=2),F69,""),""),"")) | AS69: =IF(ISBLANK(I69),"",IF(COUNTIF(I69,"*BOMBE_150MM*"),IF(G69=1,F69,""),"")) | AT69: =IF(ISBLANK(I69),"",IF(COUNTIF(I69,"*BOMBE_150MM*"),IF(COUNTIF(K69,"*TR*"),IF(G69<=4,F69,""),""),"")) | AU69: =IF(ISBLANK(I69),"",IF(COUNTIF(I69,"*BOMBE_150MM*"),IF(COUNTIF(K69,"*\*"),IF(AND(G69<=3,G69>=2),F69,""),""),"")) | AW69: =IF(ISBLANK(I69),"",IF(COUNTIF(I69,"*BOMBE_200MM*"),F69*G69,"")) | AY69: =IF(ISBLANK(I69),"",IF(COUNTIF(I69,"*BOMBE_*"),F69*20,F69*15)) | AZ69: =IF(ISBLANK(I69),"",IF(COUNTIF(I69,"*BOMBE_*"),F69*15,F69*10)) | BA69: =IF(ISBLANK(I69),"",IF(COUNTIF(I69,"*BOMBE_*"),F69*10,F69*5))
A70: 789 | F70: 5 | G70: 5 | I70: bombe_100mm | J70: Nautique Paillette argent | K70: TR5 | L70: 4''T | N70: =IF(ISBLANK(I70),"",IF(COUNTIF(I70,"*bombe*"),(G70-1)*SUMIF('base de donnée JCO '!C$3:C$10,K70,'base de donnée JCO '!D$3:D$10)+SUMIF(entete,L70,'base de donnée JCO '!D$14:D$20),SUMIFS('base de donnée JCO '!I$173:I$1080,'base de donnée JCO '!F$173:F$1080,I70,'base de donnée JCO '!G$173:G$1080,J70))) -> 22.000278 | O70: =IF(ISBLANK(I70),"",IF(ISBLANK(D70),D66+N70,D70+N70)) -> 22.000278 | V70: =W70*SUMIFS('base de donnée JCO '!H$173:H$1080,'base de donnée JCO '!F$173:F$1080,I70,'base de donnée JCO '!G$173:G$1080,J70) -> 0 | W70: =F70*G70 -> 25 | X70: =W70*SUMIFS('base de donnée JCO '!J$173:J$1080,'base de donnée JCO '!F$173:F$1080,I70,'base de donnée JCO '!G$173:G$1080,J70) -> 0 | Z70: =IF(ISBLANK(I70),"",IF(COUNTIF(I70,"*BOMBE_50MM*"),IF(COUNTIF(K70,"*TR*"),IF(G70>=6,F70*1,0.5*F70),""),"")) | AA70: =IF(ISBLANK(I70),"",IF(COUNTIF(I70,"*BOMBE_50MM*"),IF(COUNTIF(K70,"*\*"),IF(G70>1,F70*1,""),""),"")) | AB70: =IF(ISBLANK(I70),"",IF(COUNTIF(I70,"*BOMBE_50MM*"),IF(G70=1,F70,""),"")) | AD70: =IF(ISBLANK(I70),"",IF(COUNTIF(I70,"*BOMBE_75MM*"),IF(G70=1,F70,""),"")) | AE70: =IF(ISBLANK(I70),"",IF(COUNTIF(I70,"*BOMBE_75MM*"),IF(COUNTIF(K70,"*TR*"),IF(G70<=5,F70,""),""),"")) | AF70: =IF(ISBLANK(I70),"",IF(COUNTIF(I70,"*BOMBE_75MM*"),IF(COUNTIF(K70,"*TR*"),IF(G70>5,F70,""),""),"")) | AG70: =IF(ISBLANK(I70),"",IF(COUNTIF(I70,"*BOMBE_75MM*"),IF(COUNTIF(K70,"*\*"),IF(AND(G70<=3,G70>=2),F70,""),""),"")) | AH70: =IF(ISBLANK(I70),"",IF(COUNTIF(I70,"*BOMBE_75MM*"),IF(COUNTIF(K70,"*\*"),IF(AND(G70<=7,G70>=4),F70,""),""),"")) | AJ70: =IF(ISBLANK(I70),"",IF(COUNTIF(I70,"*BOMBE_100MM*"),IF(G70=1,F70,""),"")) | AK70: =IF(ISBLANK(I70),"",IF(COUNTIF(I70,"*BOMBE_100MM*"),IF(COUNTIF(K70,"*TR*"),IF(G70<=5,F70,F70*2),""),"")) -> 5 | AL70: =IF(ISBLANK(I70),"",IF(COUNTIF(I70,"*BOMBE_100MM*"),IF(COUNTIF(K70,"*\*"),IF(AND(G70<=3,G70>=2),F70,""),""),"")) | AM70: =IF(ISBLANK(I70),"",IF(COUNTIF(I70,"*BOMBE_100MM*"),IF(COUNTIF(K70,"*\*"),IF(AND(G70<=5,G70>=4),F70,""),""),"")) | AO70: =IF(ISBLANK(I70),"",IF(COUNTIF(I70,"*BOMBE_125MM*"),IF(G70=1,F70,""),"")) | AP70: =IF(ISBLANK(I70),"",IF(COUNTIF(I70,"*BOMBE_125MM*"),IF(COUNTIF(K70,"*TR*"),IF(G70<=5,F70,""),""),"")) | AQ70: =IF(ISBLANK(I70),"",IF(COUNTIF(I70,"*BOMBE_125MM*"),IF(COUNTIF(K70,"*\*"),IF(AND(G70<=3,G70>=2),F70,""),""),"")) | AS70: =IF(ISBLANK(I70),"",IF(COUNTIF(I70,"*BOMBE_150MM*"),IF(G70=1,F70,""),"")) | AT70: =IF(ISBLANK(I70),"",IF(COUNTIF(I70,"*BOMBE_150MM*"),IF(COUNTIF(K70,"*TR*"),IF(G70<=4,F70,""),""),"")) | AU70: =IF(ISBLANK(I70),"",IF(COUNTIF(I70,"*BOMBE_150MM*"),IF(COUNTIF(K70,"*\*"),IF(AND(G70<=3,G70>=2),F70,""),""),"")) | AW70: =IF(ISBLANK(I70),"",IF(COUNTIF(I70,"*BOMBE_200MM*"),F70*G70,"")) | AY70: =IF(ISBLANK(I70),"",IF(COUNTIF(I70,"*BOMBE_*"),F70*20,F70*15)) -> 100 | AZ70: =IF(ISBLANK(I70),"",IF(COUNTIF(I70,"*BOMBE_*"),F70*15,F70*10)) -> 75 | BA70: =IF(ISBLANK(I70),"",IF(COUNTIF(I70,"*BOMBE_*"),F70*10,F70*5)) -> 50
A71: 790 | F71: 1 | G71: 1 | I71: bombe_200mm | J71: sphérique palmier or, tronc palmier or | K71: I | N71: =IF(ISBLANK(I71),"",IF(COUNTIF(I71,"*bombe*"),(G71-1)*SUMIF('base de donnée JCO '!C$3:C$10,K71,'base de donnée JCO '!D$3:D$10)+SUMIF(entete,L71,'base de donnée JCO '!D$14:D$20),SUMIFS('base de donnée JCO '!I$173:I$1080,'base de donnée JCO '!F$173:F$1080,I71,'base de donnée JCO '!G$173:G$1080,J71))) -> 0 | O71: =IF(ISBLANK(I71),"",IF(ISBLANK(D71),D67+N71,D71+N71)) -> 0 | V71: =W71*SUMIFS('base de donnée JCO '!H$173:H$1080,'base de donnée JCO '!F$173:F$1080,I71,'base de donnée JCO '!G$173:G$1080,J71) -> 0 | W71: =F71*G71 -> 1 | X71: =W71*SUMIFS('base de donnée JCO '!J$173:J$1080,'base de donnée JCO '!F$173:F$1080,I71,'base de donnée JCO '!G$173:G$1080,J71) -> 0 | Z71: =IF(ISBLANK(I71),"",IF(COUNTIF(I71,"*BOMBE_50MM*"),IF(COUNTIF(K71,"*TR*"),IF(G71>=6,F71*1,0.5*F71),""),"")) | AA71: =IF(ISBLANK(I71),"",IF(COUNTIF(I71,"*BOMBE_50MM*"),IF(COUNTIF(K71,"*\*"),IF(G71>1,F71*1,""),""),"")) | AB71: =IF(ISBLANK(I71),"",IF(COUNTIF(I71,"*BOMBE_50MM*"),IF(G71=1,F71,""),"")) | AD71: =IF(ISBLANK(I71),"",IF(COUNTIF(I71,"*BOMBE_75MM*"),IF(G71=1,F71,""),"")) | AE71: =IF(ISBLANK(I71),"",IF(COUNTIF(I71,"*BOMBE_75MM*"),IF(COUNTIF(K71,"*TR*"),IF(G71<=5,F71,""),""),"")) | AF71: =IF(ISBLANK(I71),"",IF(COUNTIF(I71,"*BOMBE_75MM*"),IF(COUNTIF(K71,"*TR*"),IF(G71>5,F71,""),""),"")) | AG71: =IF(ISBLANK(I71),"",IF(COUNTIF(I71,"*BOMBE_75MM*"),IF(COUNTIF(K71,"*\*"),IF(AND(G71<=3,G71>=2),F71,""),""),"")) | AH71: =IF(ISBLANK(I71),"",IF(COUNTIF(I71,"*BOMBE_75MM*"),IF(COUNTIF(K71,"*\*"),IF(AND(G71<=7,G71>=4),F71,""),""),"")) | AJ71: =IF(ISBLANK(I71),"",IF(COUNTIF(I71,"*BOMBE_100MM*"),IF(G71=1,F71,""),"")) | AK71: =IF(ISBLANK(I71),"",IF(COUNTIF(I71,"*BOMBE_100MM*"),IF(COUNTIF(K71,"*TR*"),IF(G71<=5,F71,F71*2),""),"")) | AL71: =IF(ISBLANK(I71),"",IF(COUNTIF(I71,"*BOMBE_100MM*"),IF(COUNTIF(K71,"*\*"),IF(AND(G71<=3,G71>=2),F71,""),""),"")) | AM71: =IF(ISBLANK(I71),"",IF(COUNTIF(I71,"*BOMBE_100MM*"),IF(COUNTIF(K71,"*\*"),IF(AND(G71<=5,G71>=4),F71,""),""),"")) | AO71: =IF(ISBLANK(I71),"",IF(COUNTIF(I71,"*BOMBE_125MM*"),IF(G71=1,F71,""),"")) | AP71: =IF(ISBLANK(I71),"",IF(COUNTIF(I71,"*BOMBE_125MM*"),IF(COUNTIF(K71,"*TR*"),IF(G71<=5,F71,""),""),"")) | AQ71: =IF(ISBLANK(I71),"",IF(COUNTIF(I71,"*BOMBE_125MM*"),IF(COUNTIF(K71,"*\*"),IF(AND(G71<=3,G71>=2),F71,""),""),"")) | AS71: =IF(ISBLANK(I71),"",IF(COUNTIF(I71,"*BOMBE_150MM*"),IF(G71=1,F71,""),"")) | AT71: =IF(ISBLANK(I71),"",IF(COUNTIF(I71,"*BOMBE_150MM*"),IF(COUNTIF(K71,"*TR*"),IF(G71<=4,F71,""),""),"")) | AU71: =IF(ISBLANK(I71),"",IF(COUNTIF(I71,"*BOMBE_150MM*"),IF(COUNTIF(K71,"*\*"),IF(AND(G71<=3,G71>=2),F71,""),""),"")) | AW71: =IF(ISBLANK(I71),"",IF(COUNTIF(I71,"*BOMBE_200MM*"),F71*G71,"")) -> 1 | AY71: =IF(ISBLANK(I71),"",IF(COUNTIF(I71,"*BOMBE_*"),F71*20,F71*15)) -> 20 | AZ71: =IF(ISBLANK(I71),"",IF(COUNTIF(I71,"*BOMBE_*"),F71*15,F71*10)) -> 15 | BA71: =IF(ISBLANK(I71),"",IF(COUNTIF(I71,"*BOMBE_*"),F71*10,F71*5)) -> 10
A72: 23 | D72: 0.0028587963 | F72: 2 | G72: 5 | I72: bombe_75mm | J72: strobo argent | K72: TR2 | N72: =IF(ISBLANK(I72),"",IF(COUNTIF(I72,"*bombe*"),(G72-1)*SUMIF('base de donnée JCO '!C$3:C$10,K72,'base de donnée JCO '!D$3:D$10)+SUMIF(entete,L72,'base de donnée JCO '!D$14:D$20),SUMIFS('base de donnée JCO '!I$173:I$1080,'base de donnée JCO '!F$173:F$1080,I72,'base de donnée JCO '!G$173:G$1080,J72))) -> 8.0000926 | O72: =IF(ISBLANK(I72),"",IF(ISBLANK(D72),D67+N72,D72+N72)) -> 8.0029514 | S72: \ / | V72: =W72*SUMIFS('base de donnée JCO '!H$173:H$1080,'base de donnée JCO '!F$173:F$1080,I72,'base de donnée JCO '!G$173:G$1080,J72) -> 0 | W72: =F72*G72 -> 10 | X72: =W72*SUMIFS('base de donnée JCO '!J$173:J$1080,'base de donnée JCO '!F$173:F$1080,I72,'base de donnée JCO '!G$173:G$1080,J72) -> 0 | Z72: =IF(ISBLANK(I72),"",IF(COUNTIF(I72,"*BOMBE_50MM*"),IF(COUNTIF(K72,"*TR*"),IF(G72>=6,F72*1,0.5*F72),""),"")) | AA72: =IF(ISBLANK(I72),"",IF(COUNTIF(I72,"*BOMBE_50MM*"),IF(COUNTIF(K72,"*\*"),IF(G72>1,F72*1,""),""),"")) | AB72: =IF(ISBLANK(I72),"",IF(COUNTIF(I72,"*BOMBE_50MM*"),IF(G72=1,F72,""),"")) | AD72: =IF(ISBLANK(I72),"",IF(COUNTIF(I72,"*BOMBE_75MM*"),IF(G72=1,F72,""),"")) | AE72: =IF(ISBLANK(I72),"",IF(COUNTIF(I72,"*BOMBE_75MM*"),IF(COUNTIF(K72,"*TR*"),IF(G72<=5,F72,""),""),"")) -> 2 | AF72: =IF(ISBLANK(I72),"",IF(COUNTIF(I72,"*BOMBE_75MM*"),IF(COUNTIF(K72,"*TR*"),IF(G72>5,F72,""),""),"")) | AG72: =IF(ISBLANK(I72),"",IF(COUNTIF(I72,"*BOMBE_75MM*"),IF(COUNTIF(K72,"*\*"),IF(AND(G72<=3,G72>=2),F72,""),""),"")) | AH72: =IF(ISBLANK(I72),"",IF(COUNTIF(I72,"*BOMBE_75MM*"),IF(COUNTIF(K72,"*\*"),IF(AND(G72<=7,G72>=4),F72,""),""),"")) | AJ72: =IF(ISBLANK(I72),"",IF(COUNTIF(I72,"*BOMBE_100MM*"),IF(G72=1,F72,""),"")) | AK72: =IF(ISBLANK(I72),"",IF(COUNTIF(I72,"*BOMBE_100MM*"),IF(COUNTIF(K72,"*TR*"),IF(G72<=5,F72,F72*2),""),"")) | AL72: =IF(ISBLANK(I72),"",IF(COUNTIF(I72,"*BOMBE_100MM*"),IF(COUNTIF(K72,"*\*"),IF(AND(G72<=3,G72>=2),F72,""),""),"")) | AM72: =IF(ISBLANK(I72),"",IF(COUNTIF(I72,"*BOMBE_100MM*"),IF(COUNTIF(K72,"*\*"),IF(AND(G72<=5,G72>=4),F72,""),""),"")) | AO72: =IF(ISBLANK(I72),"",IF(COUNTIF(I72,"*BOMBE_125MM*"),IF(G72=1,F72,""),"")) | AP72: =IF(ISBLANK(I72),"",IF(COUNTIF(I72,"*BOMBE_125MM*"),IF(COUNTIF(K72,"*TR*"),IF(G72<=5,F72,""),""),"")) | AQ72: =IF(ISBLANK(I72),"",IF(COUNTIF(I72,"*BOMBE_125MM*"),IF(COUNTIF(K72,"*\*"),IF(AND(G72<=3,G72>=2),F72,""),""),"")) | AS72: =IF(ISBLANK(I72),"",IF(COUNTIF(I72,"*BOMBE_150MM*"),IF(G72=1,F72,""),"")) | AT72: =IF(ISBLANK(I72),"",IF(COUNTIF(I72,"*BOMBE_150MM*"),IF(COUNTIF(K72,"*TR*"),IF(G72<=4,F72,""),""),"")) | AU72: =IF(ISBLANK(I72),"",IF(COUNTIF(I72,"*BOMBE_150MM*"),IF(COUNTIF(K72,"*\*"),IF(AND(G72<=3,G72>=2),F72,""),""),"")) | AW72: =IF(ISBLANK(I72),"",IF(COUNTIF(I72,"*BOMBE_200MM*"),F72*G72,"")) | AY72: =IF(ISBLANK(I72),"",IF(COUNTIF(I72,"*BOMBE_*"),F72*20,F72*15)) -> 40 | AZ72: =IF(ISBLANK(I72),"",IF(COUNTIF(I72,"*BOMBE_*"),F72*15,F72*10)) -> 30 | BA72: =IF(ISBLANK(I72),"",IF(COUNTIF(I72,"*BOMBE_*"),F72*10,F72*5)) -> 20
A73: 23 | F73: 1 | G73: 5 | I73: bombe_100mm | J73: Nacre vert | K73: TR2 | N73: =IF(ISBLANK(I73),"",IF(COUNTIF(I73,"*bombe*"),(G73-1)*SUMIF('base de donnée JCO '!C$3:C$10,K73,'base de donnée JCO '!D$3:D$10)+SUMIF(entete,L73,'base de donnée JCO '!D$14:D$20),SUMIFS('base de donnée JCO '!I$173:I$1080,'base de donnée JCO '!F$173:F$1080,I73,'base de donnée JCO '!G$173:G$1080,J73))) -> 8.0000926 | O73: =IF(ISBLANK(I73),"",IF(ISBLANK(D73),D72+N73,D73+N73)) -> 8.0029514 | S73: X | V73: =W73*SUMIFS('base de donnée JCO '!H$173:H$1080,'base de donnée JCO '!F$173:F$1080,I73,'base de donnée JCO '!G$173:G$1080,J73) -> 0 | W73: =F73*G73 -> 5 | X73: =W73*SUMIFS('base de donnée JCO '!J$173:J$1080,'base de donnée JCO '!F$173:F$1080,I73,'base de donnée JCO '!G$173:G$1080,J73) -> 0 | Z73: =IF(ISBLANK(I73),"",IF(COUNTIF(I73,"*BOMBE_50MM*"),IF(COUNTIF(K73,"*TR*"),IF(G73>=6,F73*1,0.5*F73),""),"")) | AA73: =IF(ISBLANK(I73),"",IF(COUNTIF(I73,"*BOMBE_50MM*"),IF(COUNTIF(K73,"*\*"),IF(G73>1,F73*1,""),""),"")) | AB73: =IF(ISBLANK(I73),"",IF(COUNTIF(I73,"*BOMBE_50MM*"),IF(G73=1,F73,""),"")) | AD73: =IF(ISBLANK(I73),"",IF(COUNTIF(I73,"*BOMBE_75MM*"),IF(G73=1,F73,""),"")) | AE73: =IF(ISBLANK(I73),"",IF(COUNTIF(I73,"*BOMBE_75MM*"),IF(COUNTIF(K73,"*TR*"),IF(G73<=5,F73,""),""),"")) | AF73: =IF(ISBLANK(I73),"",IF(COUNTIF(I73,"*BOMBE_75MM*"),IF(COUNTIF(K73,"*TR*"),IF(G73>5,F73,""),""),"")) | AG73: =IF(ISBLANK(I73),"",IF(COUNTIF(I73,"*BOMBE_75MM*"),IF(COUNTIF(K73,"*\*"),IF(AND(G73<=3,G73>=2),F73,""),""),"")) | AH73: =IF(ISBLANK(I73),"",IF(COUNTIF(I73,"*BOMBE_75MM*"),IF(COUNTIF(K73,"*\*"),IF(AND(G73<=7,G73>=4),F73,""),""),"")) | AJ73: =IF(ISBLANK(I73),"",IF(COUNTIF(I73,"*BOMBE_100MM*"),IF(G73=1,F73,""),"")) | AK73: =IF(ISBLANK(I73),"",IF(COUNTIF(I73,"*BOMBE_100MM*"),IF(COUNTIF(K73,"*TR*"),IF(G73<=5,F73,F73*2),""),"")) -> 1 | AL73: =IF(ISBLANK(I73),"",IF(COUNTIF(I73,"*BOMBE_100MM*"),IF(COUNTIF(K73,"*\*"),IF(AND(G73<=3,G73>=2),F73,""),""),"")) | AM73: =IF(ISBLANK(I73),"",IF(COUNTIF(I73,"*BOMBE_100MM*"),IF(COUNTIF(K73,"*\*"),IF(AND(G73<=5,G73>=4),F73,""),""),"")) | AO73: =IF(ISBLANK(I73),"",IF(COUNTIF(I73,"*BOMBE_125MM*"),IF(G73=1,F73,""),"")) | AP73: =IF(ISBLANK(I73),"",IF(COUNTIF(I73,"*BOMBE_125MM*"),IF(COUNTIF(K73,"*TR*"),IF(G73<=5,F73,""),""),"")) | AQ73: =IF(ISBLANK(I73),"",IF(COUNTIF(I73,"*BOMBE_125MM*"),IF(COUNTIF(K73,"*\*"),IF(AND(G73<=3,G73>=2),F73,""),""),"")) | AS73: =IF(ISBLANK(I73),"",IF(COUNTIF(I73,"*BOMBE_150MM*"),IF(G73=1,F73,""),"")) | AT73: =IF(ISBLANK(I73),"",IF(COUNTIF(I73,"*BOMBE_150MM*"),IF(COUNTIF(K73,"*TR*"),IF(G73<=4,F73,""),""),"")) | AU73: =IF(ISBLANK(I73),"",IF(COUNTIF(I73,"*BOMBE_150MM*"),IF(COUNTIF(K73,"*\*"),IF(AND(G73<=3,G73>=2),F73,""),""),"")) | AW73: =IF(ISBLANK(I73),"",IF(COUNTIF(I73,"*BOMBE_200MM*"),F73*G73,"")) | AY73: =IF(ISBLANK(I73),"",IF(COUNTIF(I73,"*BOMBE_*"),F73*20,F73*15)) -> 20 | AZ73: =IF(ISBLANK(I73),"",IF(COUNTIF(I73,"*BOMBE_*"),F73*15,F73*10)) -> 15 | BA73: =IF(ISBLANK(I73),"",IF(COUNTIF(I73,"*BOMBE_*"),F73*10,F73*5)) -> 10
N74: =IF(ISBLANK(I74),"",IF(COUNTIF(I74,"*bombe*"),(G74-1)*SUMIF('base de donnée JCO '!C$3:C$10,K74,'base de donnée JCO '!D$3:D$10)+SUMIF(entete,L74,'base de donnée JCO '!D$14:D$20),SUMIFS('base de donnée JCO '!I$173:I$1080,'base de donnée JCO '!F$173:F$1080,I74,'base de donnée JCO '!G$173:G$1080,J74))) | O74: =IF(ISBLANK(I74),"",IF(ISBLANK(D74),D67+N74,D74+N74)) | V74: =W74*SUMIFS('base de donnée JCO '!H$173:H$1080,'base de donnée JCO '!F$173:F$1080,I74,'base de donnée JCO '!G$173:G$1080,J74) -> 0 | W74: =F74*G74 -> 0 | X74: =W74*SUMIFS('base de donnée JCO '!J$173:J$1080,'base de donnée JCO '!F$173:F$1080,I74,'base de donnée JCO '!G$173:G$1080,J74) -> 0 | Z74: =IF(ISBLANK(I74),"",IF(COUNTIF(I74,"*BOMBE_50MM*"),IF(COUNTIF(K74,"*TR*"),IF(G74>=6,F74*1,0.5*F74),""),"")) | AA74: =IF(ISBLANK(I74),"",IF(COUNTIF(I74,"*BOMBE_50MM*"),IF(COUNTIF(K74,"*\*"),IF(G74>1,F74*1,""),""),"")) | AB74: =IF(ISBLANK(I74),"",IF(COUNTIF(I74,"*BOMBE_50MM*"),IF(G74=1,F74,""),"")) | AD74: =IF(ISBLANK(I74),"",IF(COUNTIF(I74,"*BOMBE_75MM*"),IF(G74=1,F74,""),"")) | AE74: =IF(ISBLANK(I74),"",IF(COUNTIF(I74,"*BOMBE_75MM*"),IF(COUNTIF(K74,"*TR*"),IF(G74<=5,F74,""),""),"")) | AF74: =IF(ISBLANK(I74),"",IF(COUNTIF(I74,"*BOMBE_75MM*"),IF(COUNTIF(K74,"*TR*"),IF(G74>5,F74,""),""),"")) | AG74: =IF(ISBLANK(I74),"",IF(COUNTIF(I74,"*BOMBE_75MM*"),IF(COUNTIF(K74,"*\*"),IF(AND(G74<=3,G74>=2),F74,""),""),"")) | AH74: =IF(ISBLANK(I74),"",IF(COUNTIF(I74,"*BOMBE_75MM*"),IF(COUNTIF(K74,"*\*"),IF(AND(G74<=7,G74>=4),F74,""),""),"")) | AJ74: =IF(ISBLANK(I74),"",IF(COUNTIF(I74,"*BOMBE_100MM*"),IF(G74=1,F74,""),"")) | AK74: =IF(ISBLANK(I74),"",IF(COUNTIF(I74,"*BOMBE_100MM*"),IF(COUNTIF(K74,"*TR*"),IF(G74<=5,F74,F74*2),""),"")) | AL74: =IF(ISBLANK(I74),"",IF(COUNTIF(I74,"*BOMBE_100MM*"),IF(COUNTIF(K74,"*\*"),IF(AND(G74<=3,G74>=2),F74,""),""),"")) | AM74: =IF(ISBLANK(I74),"",IF(COUNTIF(I74,"*BOMBE_100MM*"),IF(COUNTIF(K74,"*\*"),IF(AND(G74<=5,G74>=4),F74,""),""),"")) | AO74: =IF(ISBLANK(I74),"",IF(COUNTIF(I74,"*BOMBE_125MM*"),IF(G74=1,F74,""),"")) | AP74: =IF(ISBLANK(I74),"",IF(COUNTIF(I74,"*BOMBE_125MM*"),IF(COUNTIF(K74,"*TR*"),IF(G74<=5,F74,""),""),"")) | AQ74: =IF(ISBLANK(I74),"",IF(COUNTIF(I74,"*BOMBE_125MM*"),IF(COUNTIF(K74,"*\*"),IF(AND(G74<=3,G74>=2),F74,""),""),"")) | AS74: =IF(ISBLANK(I74),"",IF(COUNTIF(I74,"*BOMBE_150MM*"),IF(G74=1,F74,""),"")) | AT74: =IF(ISBLANK(I74),"",IF(COUNTIF(I74,"*BOMBE_150MM*"),IF(COUNTIF(K74,"*TR*"),IF(G74<=4,F74,""),""),"")) | AU74: =IF(ISBLANK(I74),"",IF(COUNTIF(I74,"*BOMBE_150MM*"),IF(COUNTIF(K74,"*\*"),IF(AND(G74<=3,G74>=2),F74,""),""),"")) | AW74: =IF(ISBLANK(I74),"",IF(COUNTIF(I74,"*BOMBE_200MM*"),F74*G74,"")) | AY74: =IF(ISBLANK(I74),"",IF(COUNTIF(I74,"*BOMBE_*"),F74*20,F74*15)) | AZ74: =IF(ISBLANK(I74),"",IF(COUNTIF(I74,"*BOMBE_*"),F74*15,F74*10)) | BA74: =IF(ISBLANK(I74),"",IF(COUNTIF(I74,"*BOMBE_*"),F74*10,F74*5))
A75: 24 | D75: 0.0028935185 | F75: 2 | G75: 1 | I75: compact_36cps_30mm | J75: JCOQUICK bicolore clignotant | N75: =IF(ISBLANK(I75),"",IF(COUNTIF(I75,"*bombe*"),(G75-1)*SUMIF('base de donnée JCO '!C$3:C$10,K75,'base de donnée JCO '!D$3:D$10)+SUMIF(entete,L75,'base de donnée JCO '!D$14:D$20),SUMIFS('base de donnée JCO '!I$173:I$1080,'base de donnée JCO '!F$173:F$1080,I75,'base de donnée JCO '!G$173:G$1080,J75))) -> 0 | O75: =IF(ISBLANK(I75),"",IF(ISBLANK(D75),D71+N75,D75+N75)) -> 0.0028935185 | Q75: x | U75: x | V75: =W75*SUMIFS('base de donnée JCO '!H$173:H$1080,'base de donnée JCO '!F$173:F$1080,I75,'base de donnée JCO '!G$173:G$1080,J75) -> 0 | W75: =F75*G75 -> 2 | X75: =W75*SUMIFS('base de donnée JCO '!J$173:J$1080,'base de donnée JCO '!F$173:F$1080,I75,'base de donnée JCO '!G$173:G$1080,J75) -> 0 | Z75: =IF(ISBLANK(I75),"",IF(COUNTIF(I75,"*BOMBE_50MM*"),IF(COUNTIF(K75,"*TR*"),IF(G75>=6,F75*1,0.5*F75),""),"")) | AA75: =IF(ISBLANK(I75),"",IF(COUNTIF(I75,"*BOMBE_50MM*"),IF(COUNTIF(K75,"*\*"),IF(G75>1,F75*1,""),""),"")) | AB75: =IF(ISBLANK(I75),"",IF(COUNTIF(I75,"*BOMBE_50MM*"),IF(G75=1,F75,""),"")) | AD75: =IF(ISBLANK(I75),"",IF(COUNTIF(I75,"*BOMBE_75MM*"),IF(G75=1,F75,""),"")) | AE75: =IF(ISBLANK(I75),"",IF(COUNTIF(I75,"*BOMBE_75MM*"),IF(COUNTIF(K75,"*TR*"),IF(G75<=5,F75,""),""),"")) | AF75: =IF(ISBLANK(I75),"",IF(COUNTIF(I75,"*BOMBE_75MM*"),IF(COUNTIF(K75,"*TR*"),IF(G75>5,F75,""),""),"")) | AG75: =IF(ISBLANK(I75),"",IF(COUNTIF(I75,"*BOMBE_75MM*"),IF(COUNTIF(K75,"*\*"),IF(AND(G75<=3,G75>=2),F75,""),""),"")) | AH75: =IF(ISBLANK(I75),"",IF(COUNTIF(I75,"*BOMBE_75MM*"),IF(COUNTIF(K75,"*\*"),IF(AND(G75<=7,G75>=4),F75,""),""),"")) | AJ75: =IF(ISBLANK(I75),"",IF(COUNTIF(I75,"*BOMBE_100MM*"),IF(G75=1,F75,""),"")) | AK75: =IF(ISBLANK(I75),"",IF(COUNTIF(I75,"*BOMBE_100MM*"),IF(COUNTIF(K75,"*TR*"),IF(G75<=5,F75,F75*2),""),"")) | AL75: =IF(ISBLANK(I75),"",IF(COUNTIF(I75,"*BOMBE_100MM*"),IF(COUNTIF(K75,"*\*"),IF(AND(G75<=3,G75>=2),F75,""),""),"")) | AM75: =IF(ISBLANK(I75),"",IF(COUNTIF(I75,"*BOMBE_100MM*"),IF(COUNTIF(K75,"*\*"),IF(AND(G75<=5,G75>=4),F75,""),""),"")) | AO75: =IF(ISBLANK(I75),"",IF(COUNTIF(I75,"*BOMBE_125MM*"),IF(G75=1,F75,""),"")) | AP75: =IF(ISBLANK(I75),"",IF(COUNTIF(I75,"*BOMBE_125MM*"),IF(COUNTIF(K75,"*TR*"),IF(G75<=5,F75,""),""),"")) | AQ75: =IF(ISBLANK(I75),"",IF(COUNTIF(I75,"*BOMBE_125MM*"),IF(COUNTIF(K75,"*\*"),IF(AND(G75<=3,G75>=2),F75,""),""),"")) | AS75: =IF(ISBLANK(I75),"",IF(COUNTIF(I75,"*BOMBE_150MM*"),IF(G75=1,F75,""),"")) | AT75: =IF(ISBLANK(I75),"",IF(COUNTIF(I75,"*BOMBE_150MM*"),IF(COUNTIF(K75,"*TR*"),IF(G75<=4,F75,""),""),"")) | AU75: =IF(ISBLANK(I75),"",IF(COUNTIF(I75,"*BOMBE_150MM*"),IF(COUNTIF(K75,"*\*"),IF(AND(G75<=3,G75>=2),F75,""),""),"")) | AW75: =IF(ISBLANK(I75),"",IF(COUNTIF(I75,"*BOMBE_200MM*"),F75*G75,"")) | AY75: =IF(ISBLANK(I75),"",IF(COUNTIF(I75,"*BOMBE_*"),F75*20,F75*15)) -> 30 | AZ75: =IF(ISBLANK(I75),"",IF(COUNTIF(I75,"*BOMBE_*"),F75*15,F75*10)) -> 20 | BA75: =IF(ISBLANK(I75),"",IF(COUNTIF(I75,"*BOMBE_*"),F75*10,F75*5)) -> 10
N76: =IF(ISBLANK(I76),"",IF(COUNTIF(I76,"*bombe*"),(G76-1)*SUMIF('base de donnée JCO '!C$3:C$10,K76,'base de donnée JCO '!D$3:D$10)+SUMIF(entete,L76,'base de donnée JCO '!D$14:D$20),SUMIFS('base de donnée JCO '!I$173:I$1080,'base de donnée JCO '!F$173:F$1080,I76,'base de donnée JCO '!G$173:G$1080,J76))) | O76: =IF(ISBLANK(I76),"",IF(ISBLANK(D76),#REF!+N76,D76+N76)) | V76: =W76*SUMIFS('base de donnée JCO '!H$173:H$1080,'base de donnée JCO '!F$173:F$1080,I76,'base de donnée JCO '!G$173:G$1080,J76) -> 0 | W76: =F76*G76 -> 0 | X76: =W76*SUMIFS('base de donnée JCO '!J$173:J$1080,'base de donnée JCO '!F$173:F$1080,I76,'base de donnée JCO '!G$173:G$1080,J76) -> 0 | Z76: =IF(ISBLANK(I76),"",IF(COUNTIF(I76,"*BOMBE_50MM*"),IF(COUNTIF(K76,"*TR*"),IF(G76>=6,F76*1,0.5*F76),""),"")) | AA76: =IF(ISBLANK(I76),"",IF(COUNTIF(I76,"*BOMBE_50MM*"),IF(COUNTIF(K76,"*\*"),IF(G76>1,F76*1,""),""),"")) | AB76: =IF(ISBLANK(I76),"",IF(COUNTIF(I76,"*BOMBE_50MM*"),IF(G76=1,F76,""),"")) | AD76: =IF(ISBLANK(I76),"",IF(COUNTIF(I76,"*BOMBE_75MM*"),IF(G76=1,F76,""),"")) | AE76: =IF(ISBLANK(I76),"",IF(COUNTIF(I76,"*BOMBE_75MM*"),IF(COUNTIF(K76,"*TR*"),IF(G76<=5,F76,""),""),"")) | AF76: =IF(ISBLANK(I76),"",IF(COUNTIF(I76,"*BOMBE_75MM*"),IF(COUNTIF(K76,"*TR*"),IF(G76>5,F76,""),""),"")) | AG76: =IF(ISBLANK(I76),"",IF(COUNTIF(I76,"*BOMBE_75MM*"),IF(COUNTIF(K76,"*\*"),IF(AND(G76<=3,G76>=2),F76,""),""),"")) | AH76: =IF(ISBLANK(I76),"",IF(COUNTIF(I76,"*BOMBE_75MM*"),IF(COUNTIF(K76,"*\*"),IF(AND(G76<=7,G76>=4),F76,""),""),"")) | AJ76: =IF(ISBLANK(I76),"",IF(COUNTIF(I76,"*BOMBE_100MM*"),IF(G76=1,F76,""),"")) | AK76: =IF(ISBLANK(I76),"",IF(COUNTIF(I76,"*BOMBE_100MM*"),IF(COUNTIF(K76,"*TR*"),IF(G76<=5,F76,F76*2),""),"")) | AL76: =IF(ISBLANK(I76),"",IF(COUNTIF(I76,"*BOMBE_100MM*"),IF(COUNTIF(K76,"*\*"),IF(AND(G76<=3,G76>=2),F76,""),""),"")) | AM76: =IF(ISBLANK(I76),"",IF(COUNTIF(I76,"*BOMBE_100MM*"),IF(COUNTIF(K76,"*\*"),IF(AND(G76<=5,G76>=4),F76,""),""),"")) | AO76: =IF(ISBLANK(I76),"",IF(COUNTIF(I76,"*BOMBE_125MM*"),IF(G76=1,F76,""),"")) | AP76: =IF(ISBLANK(I76),"",IF(COUNTIF(I76,"*BOMBE_125MM*"),IF(COUNTIF(K76,"*TR*"),IF(G76<=5,F76,""),""),"")) | AQ76: =IF(ISBLANK(I76),"",IF(COUNTIF(I76,"*BOMBE_125MM*"),IF(COUNTIF(K76,"*\*"),IF(AND(G76<=3,G76>=2),F76,""),""),"")) | AS76: =IF(ISBLANK(I76),"",IF(COUNTIF(I76,"*BOMBE_150MM*"),IF(G76=1,F76,""),"")) | AT76: =IF(ISBLANK(I76),"",IF(COUNTIF(I76,"*BOMBE_150MM*"),IF(COUNTIF(K76,"*TR*"),IF(G76<=4,F76,""),""),"")) | AU76: =IF(ISBLANK(I76),"",IF(COUNTIF(I76,"*BOMBE_150MM*"),IF(COUNTIF(K76,"*\*"),IF(AND(G76<=3,G76>=2),F76,""),""),"")) | AW76: =IF(ISBLANK(I76),"",IF(COUNTIF(I76,"*BOMBE_200MM*"),F76*G76,"")) | AY76: =IF(ISBLANK(I76),"",IF(COUNTIF(I76,"*BOMBE_*"),F76*20,F76*15)) | AZ76: =IF(ISBLANK(I76),"",IF(COUNTIF(I76,"*BOMBE_*"),F76*15,F76*10)) | BA76: =IF(ISBLANK(I76),"",IF(COUNTIF(I76,"*BOMBE_*"),F76*10,F76*5))
A77: 25 | D77: 0.0029050926 | F77: 2 | G77: 5 | I77: bombe_75mm | J77: strobo argent | K77: TR1 | N77: =IF(ISBLANK(I77),"",IF(COUNTIF(I77,"*bombe*"),(G77-1)*SUMIF('base de donnée JCO '!C$3:C$10,K77,'base de donnée JCO '!D$3:D$10)+SUMIF(entete,L77,'base de donnée JCO '!D$14:D$20),SUMIFS('base de donnée JCO '!I$173:I$1080,'base de donnée JCO '!F$173:F$1080,I77,'base de donnée JCO '!G$173:G$1080,J77))) -> 4.0000463 | O77: =IF(ISBLANK(I77),"",IF(ISBLANK(D77),#REF!+N77,D77+N77)) -> 4.0029514 | S77: \ / | V77: =W77*SUMIFS('base de donnée JCO '!H$173:H$1080,'base de donnée JCO '!F$173:F$1080,I77,'base de donnée JCO '!G$173:G$1080,J77) -> 0 | W77: =F77*G77 -> 10 | X77: =W77*SUMIFS('base de donnée JCO '!J$173:J$1080,'base de donnée JCO '!F$173:F$1080,I77,'base de donnée JCO '!G$173:G$1080,J77) -> 0 | Z77: =IF(ISBLANK(I77),"",IF(COUNTIF(I77,"*BOMBE_50MM*"),IF(COUNTIF(K77,"*TR*"),IF(G77>=6,F77*1,0.5*F77),""),"")) | AA77: =IF(ISBLANK(I77),"",IF(COUNTIF(I77,"*BOMBE_50MM*"),IF(COUNTIF(K77,"*\*"),IF(G77>1,F77*1,""),""),"")) | AB77: =IF(ISBLANK(I77),"",IF(COUNTIF(I77,"*BOMBE_50MM*"),IF(G77=1,F77,""),"")) | AD77: =IF(ISBLANK(I77),"",IF(COUNTIF(I77,"*BOMBE_75MM*"),IF(G77=1,F77,""),"")) | AE77: =IF(ISBLANK(I77),"",IF(COUNTIF(I77,"*BOMBE_75MM*"),IF(COUNTIF(K77,"*TR*"),IF(G77<=5,F77,""),""),"")) -> 2 | AF77: =IF(ISBLANK(I77),"",IF(COUNTIF(I77,"*BOMBE_75MM*"),IF(COUNTIF(K77,"*TR*"),IF(G77>5,F77,""),""),"")) | AG77: =IF(ISBLANK(I77),"",IF(COUNTIF(I77,"*BOMBE_75MM*"),IF(COUNTIF(K77,"*\*"),IF(AND(G77<=3,G77>=2),F77,""),""),"")) | AH77: =IF(ISBLANK(I77),"",IF(COUNTIF(I77,"*BOMBE_75MM*"),IF(COUNTIF(K77,"*\*"),IF(AND(G77<=7,G77>=4),F77,""),""),"")) | AJ77: =IF(ISBLANK(I77),"",IF(COUNTIF(I77,"*BOMBE_100MM*"),IF(G77=1,F77,""),"")) | AK77: =IF(ISBLANK(I77),"",IF(COUNTIF(I77,"*BOMBE_100MM*"),IF(COUNTIF(K77,"*TR*"),IF(G77<=5,F77,F77*2),""),"")) | AL77: =IF(ISBLANK(I77),"",IF(COUNTIF(I77,"*BOMBE_100MM*"),IF(COUNTIF(K77,"*\*"),IF(AND(G77<=3,G77>=2),F77,""),""),"")) | AM77: =IF(ISBLANK(I77),"",IF(COUNTIF(I77,"*BOMBE_100MM*"),IF(COUNTIF(K77,"*\*"),IF(AND(G77<=5,G77>=4),F77,""),""),"")) | AO77: =IF(ISBLANK(I77),"",IF(COUNTIF(I77,"*BOMBE_125MM*"),IF(G77=1,F77,""),"")) | AP77: =IF(ISBLANK(I77),"",IF(COUNTIF(I77,"*BOMBE_125MM*"),IF(COUNTIF(K77,"*TR*"),IF(G77<=5,F77,""),""),"")) | AQ77: =IF(ISBLANK(I77),"",IF(COUNTIF(I77,"*BOMBE_125MM*"),IF(COUNTIF(K77,"*\*"),IF(AND(G77<=3,G77>=2),F77,""),""),"")) | AS77: =IF(ISBLANK(I77),"",IF(COUNTIF(I77,"*BOMBE_150MM*"),IF(G77=1,F77,""),"")) | AT77: =IF(ISBLANK(I77),"",IF(COUNTIF(I77,"*BOMBE_150MM*"),IF(COUNTIF(K77,"*TR*"),IF(G77<=4,F77,""),""),"")) | AU77: =IF(ISBLANK(I77),"",IF(COUNTIF(I77,"*BOMBE_150MM*"),IF(COUNTIF(K77,"*\*"),IF(AND(G77<=3,G77>=2),F77,""),""),"")) | AW77: =IF(ISBLANK(I77),"",IF(COUNTIF(I77,"*BOMBE_200MM*"),F77*G77,"")) | AY77: =IF(ISBLANK(I77),"",IF(COUNTIF(I77,"*BOMBE_*"),F77*20,F77*15)) -> 40 | AZ77: =IF(ISBLANK(I77),"",IF(COUNTIF(I77,"*BOMBE_*"),F77*15,F77*10)) -> 30 | BA77: =IF(ISBLANK(I77),"",IF(COUNTIF(I77,"*BOMBE_*"),F77*10,F77*5)) -> 20
A78: 25 | F78: 1 | G78: 5 | I78: bombe_100mm | J78: Nacre rouge | K78: TR1 | N78: =IF(ISBLANK(I78),"",IF(COUNTIF(I78,"*bombe*"),(G78-1)*SUMIF('base de donnée JCO '!C$3:C$10,K78,'base de donnée JCO '!D$3:D$10)+SUMIF(entete,L78,'base de donnée JCO '!D$14:D$20),SUMIFS('base de donnée JCO '!I$173:I$1080,'base de donnée JCO '!F$173:F$1080,I78,'base de donnée JCO '!G$173:G$1080,J78))) -> 4.0000463 | O78: =IF(ISBLANK(I78),"",IF(ISBLANK(D78),D77+N78,D78+N78)) -> 4.0029514 | S78: I | V78: =W78*SUMIFS('base de donnée JCO '!H$173:H$1080,'base de donnée JCO '!F$173:F$1080,I78,'base de donnée JCO '!G$173:G$1080,J78) -> 0 | W78: =F78*G78 -> 5 | X78: =W78*SUMIFS('base de donnée JCO '!J$173:J$1080,'base de donnée JCO '!F$173:F$1080,I78,'base de donnée JCO '!G$173:G$1080,J78) -> 0 | Z78: =IF(ISBLANK(I78),"",IF(COUNTIF(I78,"*BOMBE_50MM*"),IF(COUNTIF(K78,"*TR*"),IF(G78>=6,F78*1,0.5*F78),""),"")) | AA78: =IF(ISBLANK(I78),"",IF(COUNTIF(I78,"*BOMBE_50MM*"),IF(COUNTIF(K78,"*\*"),IF(G78>1,F78*1,""),""),"")) | AB78: =IF(ISBLANK(I78),"",IF(COUNTIF(I78,"*BOMBE_50MM*"),IF(G78=1,F78,""),"")) | AD78: =IF(ISBLANK(I78),"",IF(COUNTIF(I78,"*BOMBE_75MM*"),IF(G78=1,F78,""),"")) | AE78: =IF(ISBLANK(I78),"",IF(COUNTIF(I78,"*BOMBE_75MM*"),IF(COUNTIF(K78,"*TR*"),IF(G78<=5,F78,""),""),"")) | AF78: =IF(ISBLANK(I78),"",IF(COUNTIF(I78,"*BOMBE_75MM*"),IF(COUNTIF(K78,"*TR*"),IF(G78>5,F78,""),""),"")) | AG78: =IF(ISBLANK(I78),"",IF(COUNTIF(I78,"*BOMBE_75MM*"),IF(COUNTIF(K78,"*\*"),IF(AND(G78<=3,G78>=2),F78,""),""),"")) | AH78: =IF(ISBLANK(I78),"",IF(COUNTIF(I78,"*BOMBE_75MM*"),IF(COUNTIF(K78,"*\*"),IF(AND(G78<=7,G78>=4),F78,""),""),"")) | AJ78: =IF(ISBLANK(I78),"",IF(COUNTIF(I78,"*BOMBE_100MM*"),IF(G78=1,F78,""),"")) | AK78: =IF(ISBLANK(I78),"",IF(COUNTIF(I78,"*BOMBE_100MM*"),IF(COUNTIF(K78,"*TR*"),IF(G78<=5,F78,F78*2),""),"")) -> 1 | AL78: =IF(ISBLANK(I78),"",IF(COUNTIF(I78,"*BOMBE_100MM*"),IF(COUNTIF(K78,"*\*"),IF(AND(G78<=3,G78>=2),F78,""),""),"")) | AM78: =IF(ISBLANK(I78),"",IF(COUNTIF(I78,"*BOMBE_100MM*"),IF(COUNTIF(K78,"*\*"),IF(AND(G78<=5,G78>=4),F78,""),""),"")) | AO78: =IF(ISBLANK(I78),"",IF(COUNTIF(I78,"*BOMBE_125MM*"),IF(G78=1,F78,""),"")) | AP78: =IF(ISBLANK(I78),"",IF(COUNTIF(I78,"*BOMBE_125MM*"),IF(COUNTIF(K78,"*TR*"),IF(G78<=5,F78,""),""),"")) | AQ78: =IF(ISBLANK(I78),"",IF(COUNTIF(I78,"*BOMBE_125MM*"),IF(COUNTIF(K78,"*\*"),IF(AND(G78<=3,G78>=2),F78,""),""),"")) | AS78: =IF(ISBLANK(I78),"",IF(COUNTIF(I78,"*BOMBE_150MM*"),IF(G78=1,F78,""),"")) | AT78: =IF(ISBLANK(I78),"",IF(COUNTIF(I78,"*BOMBE_150MM*"),IF(COUNTIF(K78,"*TR*"),IF(G78<=4,F78,""),""),"")) | AU78: =IF(ISBLANK(I78),"",IF(COUNTIF(I78,"*BOMBE_150MM*"),IF(COUNTIF(K78,"*\*"),IF(AND(G78<=3,G78>=2),F78,""),""),"")) | AW78: =IF(ISBLANK(I78),"",IF(COUNTIF(I78,"*BOMBE_200MM*"),F78*G78,"")) | AY78: =IF(ISBLANK(I78),"",IF(COUNTIF(I78,"*BOMBE_*"),F78*20,F78*15)) -> 20 | AZ78: =IF(ISBLANK(I78),"",IF(COUNTIF(I78,"*BOMBE_*"),F78*15,F78*10)) -> 15 | BA78: =IF(ISBLANK(I78),"",IF(COUNTIF(I78,"*BOMBE_*"),F78*10,F78*5)) -> 10
N79: =IF(ISBLANK(I79),"",IF(COUNTIF(I79,"*bombe*"),(G79-1)*SUMIF('base de donnée JCO '!C$3:C$10,K79,'base de donnée JCO '!D$3:D$10)+SUMIF(entete,L79,'base de donnée JCO '!D$14:D$20),SUMIFS('base de donnée JCO '!I$173:I$1080,'base de donnée JCO '!F$173:F$1080,I79,'base de donnée JCO '!G$173:G$1080,J79))) | O79: =IF(ISBLANK(I79),"",IF(ISBLANK(D79),#REF!+N79,D79+N79)) | V79: =W79*SUMIFS('base de donnée JCO '!H$173:H$1080,'base de donnée JCO '!F$173:F$1080,I79,'base de donnée JCO '!G$173:G$1080,J79) -> 0 | W79: =F79*G79 -> 0 | X79: =W79*SUMIFS('base de donnée JCO '!J$173:J$1080,'base de donnée JCO '!F$173:F$1080,I79,'base de donnée JCO '!G$173:G$1080,J79) -> 0 | Z79: =IF(ISBLANK(I79),"",IF(COUNTIF(I79,"*BOMBE_50MM*"),IF(COUNTIF(K79,"*TR*"),IF(G79>=6,F79*1,0.5*F79),""),"")) | AA79: =IF(ISBLANK(I79),"",IF(COUNTIF(I79,"*BOMBE_50MM*"),IF(COUNTIF(K79,"*\*"),IF(G79>1,F79*1,""),""),"")) | AB79: =IF(ISBLANK(I79),"",IF(COUNTIF(I79,"*BOMBE_50MM*"),IF(G79=1,F79,""),"")) | AD79: =IF(ISBLANK(I79),"",IF(COUNTIF(I79,"*BOMBE_75MM*"),IF(G79=1,F79,""),"")) | AE79: =IF(ISBLANK(I79),"",IF(COUNTIF(I79,"*BOMBE_75MM*"),IF(COUNTIF(K79,"*TR*"),IF(G79<=5,F79,""),""),"")) | AF79: =IF(ISBLANK(I79),"",IF(COUNTIF(I79,"*BOMBE_75MM*"),IF(COUNTIF(K79,"*TR*"),IF(G79>5,F79,""),""),"")) | AG79: =IF(ISBLANK(I79),"",IF(COUNTIF(I79,"*BOMBE_75MM*"),IF(COUNTIF(K79,"*\*"),IF(AND(G79<=3,G79>=2),F79,""),""),"")) | AH79: =IF(ISBLANK(I79),"",IF(COUNTIF(I79,"*BOMBE_75MM*"),IF(COUNTIF(K79,"*\*"),IF(AND(G79<=7,G79>=4),F79,""),""),"")) | AJ79: =IF(ISBLANK(I79),"",IF(COUNTIF(I79,"*BOMBE_100MM*"),IF(G79=1,F79,""),"")) | AK79: =IF(ISBLANK(I79),"",IF(COUNTIF(I79,"*BOMBE_100MM*"),IF(COUNTIF(K79,"*TR*"),IF(G79<=5,F79,F79*2),""),"")) | AL79: =IF(ISBLANK(I79),"",IF(COUNTIF(I79,"*BOMBE_100MM*"),IF(COUNTIF(K79,"*\*"),IF(AND(G79<=3,G79>=2),F79,""),""),"")) | AM79: =IF(ISBLANK(I79),"",IF(COUNTIF(I79,"*BOMBE_100MM*"),IF(COUNTIF(K79,"*\*"),IF(AND(G79<=5,G79>=4),F79,""),""),"")) | AO79: =IF(ISBLANK(I79),"",IF(COUNTIF(I79,"*BOMBE_125MM*"),IF(G79=1,F79,""),"")) | AP79: =IF(ISBLANK(I79),"",IF(COUNTIF(I79,"*BOMBE_125MM*"),IF(COUNTIF(K79,"*TR*"),IF(G79<=5,F79,""),""),"")) | AQ79: =IF(ISBLANK(I79),"",IF(COUNTIF(I79,"*BOMBE_125MM*"),IF(COUNTIF(K79,"*\*"),IF(AND(G79<=3,G79>=2),F79,""),""),"")) | AS79: =IF(ISBLANK(I79),"",IF(COUNTIF(I79,"*BOMBE_150MM*"),IF(G79=1,F79,""),"")) | AT79: =IF(ISBLANK(I79),"",IF(COUNTIF(I79,"*BOMBE_150MM*"),IF(COUNTIF(K79,"*TR*"),IF(G79<=4,F79,""),""),"")) | AU79: =IF(ISBLANK(I79),"",IF(COUNTIF(I79,"*BOMBE_150MM*"),IF(COUNTIF(K79,"*\*"),IF(AND(G79<=3,G79>=2),F79,""),""),"")) | AW79: =IF(ISBLANK(I79),"",IF(COUNTIF(I79,"*BOMBE_200MM*"),F79*G79,"")) | AY79: =IF(ISBLANK(I79),"",IF(COUNTIF(I79,"*BOMBE_*"),F79*20,F79*15)) | AZ79: =IF(ISBLANK(I79),"",IF(COUNTIF(I79,"*BOMBE_*"),F79*15,F79*10)) | BA79: =IF(ISBLANK(I79),"",IF(COUNTIF(I79,"*BOMBE_*"),F79*10,F79*5))
A80: 26 | D80: 0.002974537 | F80: 1 | G80: 5 | I80: bombe_100mm | J80: Nacre blanc | K80: \ I / | S80: \ I / | V80: =W80*SUMIFS('base de donnée JCO '!H$173:H$1080,'base de donnée JCO '!F$173:F$1080,I80,'base de donnée JCO '!G$173:G$1080,J80) -> 0 | W80: =F80*G80 -> 5 | X80: =W80*SUMIFS('base de donnée JCO '!J$173:J$1080,'base de donnée JCO '!F$173:F$1080,I80,'base de donnée JCO '!G$173:G$1080,J80) -> 0 | Z80: =IF(ISBLANK(I80),"",IF(COUNTIF(I80,"*BOMBE_50MM*"),IF(COUNTIF(K80,"*TR*"),IF(G80>=6,F80*1,0.5*F80),""),"")) | AA80: =IF(ISBLANK(I80),"",IF(COUNTIF(I80,"*BOMBE_50MM*"),IF(COUNTIF(K80,"*\*"),IF(G80>1,F80*1,""),""),"")) | AB80: =IF(ISBLANK(I80),"",IF(COUNTIF(I80,"*BOMBE_50MM*"),IF(G80=1,F80,""),"")) | AD80: =IF(ISBLANK(I80),"",IF(COUNTIF(I80,"*BOMBE_75MM*"),IF(G80=1,F80,""),"")) | AE80: =IF(ISBLANK(I80),"",IF(COUNTIF(I80,"*BOMBE_75MM*"),IF(COUNTIF(K80,"*TR*"),IF(G80<=5,F80,""),""),"")) | AF80: =IF(ISBLANK(I80),"",IF(COUNTIF(I80,"*BOMBE_75MM*"),IF(COUNTIF(K80,"*TR*"),IF(G80>5,F80,""),""),"")) | AG80: =IF(ISBLANK(I80),"",IF(COUNTIF(I80,"*BOMBE_75MM*"),IF(COUNTIF(K80,"*\*"),IF(AND(G80<=3,G80>=2),F80,""),""),"")) | AH80: =IF(ISBLANK(I80),"",IF(COUNTIF(I80,"*BOMBE_75MM*"),IF(COUNTIF(K80,"*\*"),IF(AND(G80<=7,G80>=4),F80,""),""),"")) | AJ80: =IF(ISBLANK(I80),"",IF(COUNTIF(I80,"*BOMBE_100MM*"),IF(G80=1,F80,""),"")) | AK80: =IF(ISBLANK(I80),"",IF(COUNTIF(I80,"*BOMBE_100MM*"),IF(COUNTIF(K80,"*TR*"),IF(G80<=5,F80,F80*2),""),"")) | AL80: =IF(ISBLANK(I80),"",IF(COUNTIF(I80,"*BOMBE_100MM*"),IF(COUNTIF(K80,"*\*"),IF(AND(G80<=3,G80>=2),F80,""),""),"")) | AM80: =IF(ISBLANK(I80),"",IF(COUNTIF(I80,"*BOMBE_100MM*"),IF(COUNTIF(K80,"*\*"),IF(AND(G80<=5,G80>=4),F80,""),""),"")) -> 1 | AO80: =IF(ISBLANK(I80),"",IF(COUNTIF(I80,"*BOMBE_125MM*"),IF(G80=1,F80,""),"")) | AP80: =IF(ISBLANK(I80),"",IF(COUNTIF(I80,"*BOMBE_125MM*"),IF(COUNTIF(K80,"*TR*"),IF(G80<=5,F80,""),""),"")) | AQ80: =IF(ISBLANK(I80),"",IF(COUNTIF(I80,"*BOMBE_125MM*"),IF(COUNTIF(K80,"*\*"),IF(AND(G80<=3,G80>=2),F80,""),""),"")) | AS80: =IF(ISBLANK(I80),"",IF(COUNTIF(I80,"*BOMBE_150MM*"),IF(G80=1,F80,""),"")) | AT80: =IF(ISBLANK(I80),"",IF(COUNTIF(I80,"*BOMBE_150MM*"),IF(COUNTIF(K80,"*TR*"),IF(G80<=4,F80,""),""),"")) | AU80: =IF(ISBLANK(I80),"",IF(COUNTIF(I80,"*BOMBE_150MM*"),IF(COUNTIF(K80,"*\*"),IF(AND(G80<=3,G80>=2),F80,""),""),"")) | AW80: =IF(ISBLANK(I80),"",IF(COUNTIF(I80,"*BOMBE_200MM*"),F80*G80,"")) | AY80: =IF(ISBLANK(I80),"",IF(COUNTIF(I80,"*BOMBE_*"),F80*20,F80*15)) -> 20 | AZ80: =IF(ISBLANK(I80),"",IF(COUNTIF(I80,"*BOMBE_*"),F80*15,F80*10)) -> 15 | BA80: =IF(ISBLANK(I80),"",IF(COUNTIF(I80,"*BOMBE_*"),F80*10,F80*5)) -> 10
A81: 26 | F81: 1 | G81: 3 | I81: bombe_125mm | J81: ZARA Bouquet magnésium rouge(ROSE clig) | K81: \ I / | S81: \ I / | V81: =W81*SUMIFS('base de donnée JCO '!H$173:H$1080,'base de donnée JCO '!F$173:F$1080,I81,'base de donnée JCO '!G$173:G$1080,J81) -> 0 | W81: =F81*G81 -> 3 | X81: =W81*SUMIFS('base de donnée JCO '!J$173:J$1080,'base de donnée JCO '!F$173:F$1080,I81,'base de donnée JCO '!G$173:G$1080,J81) -> 0 | Z81: =IF(ISBLANK(I81),"",IF(COUNTIF(I81,"*BOMBE_50MM*"),IF(COUNTIF(K81,"*TR*"),IF(G81>=6,F81*1,0.5*F81),""),"")) | AA81: =IF(ISBLANK(I81),"",IF(COUNTIF(I81,"*BOMBE_50MM*"),IF(COUNTIF(K81,"*\*"),IF(G81>1,F81*1,""),""),"")) | AB81: =IF(ISBLANK(I81),"",IF(COUNTIF(I81,"*BOMBE_50MM*"),IF(G81=1,F81,""),"")) | AD81: =IF(ISBLANK(I81),"",IF(COUNTIF(I81,"*BOMBE_75MM*"),IF(G81=1,F81,""),"")) | AE81: =IF(ISBLANK(I81),"",IF(COUNTIF(I81,"*BOMBE_75MM*"),IF(COUNTIF(K81,"*TR*"),IF(G81<=5,F81,""),""),"")) | AF81: =IF(ISBLANK(I81),"",IF(COUNTIF(I81,"*BOMBE_75MM*"),IF(COUNTIF(K81,"*TR*"),IF(G81>5,F81,""),""),"")) | AG81: =IF(ISBLANK(I81),"",IF(COUNTIF(I81,"*BOMBE_75MM*"),IF(COUNTIF(K81,"*\*"),IF(AND(G81<=3,G81>=2),F81,""),""),"")) | AH81: =IF(ISBLANK(I81),"",IF(COUNTIF(I81,"*BOMBE_75MM*"),IF(COUNTIF(K81,"*\*"),IF(AND(G81<=7,G81>=4),F81,""),""),"")) | AJ81: =IF(ISBLANK(I81),"",IF(COUNTIF(I81,"*BOMBE_100MM*"),IF(G81=1,F81,""),"")) | AK81: =IF(ISBLANK(I81),"",IF(COUNTIF(I81,"*BOMBE_100MM*"),IF(COUNTIF(K81,"*TR*"),IF(G81<=5,F81,F81*2),""),"")) | AL81: =IF(ISBLANK(I81),"",IF(COUNTIF(I81,"*BOMBE_100MM*"),IF(COUNTIF(K81,"*\*"),IF(AND(G81<=3,G81>=2),F81,""),""),"")) | AM81: =IF(ISBLANK(I81),"",IF(COUNTIF(I81,"*BOMBE_100MM*"),IF(COUNTIF(K81,"*\*"),IF(AND(G81<=5,G81>=4),F81,""),""),"")) | AO81: =IF(ISBLANK(I81),"",IF(COUNTIF(I81,"*BOMBE_125MM*"),IF(G81=1,F81,""),"")) | AP81: =IF(ISBLANK(I81),"",IF(COUNTIF(I81,"*BOMBE_125MM*"),IF(COUNTIF(K81,"*TR*"),IF(G81<=5,F81,""),""),"")) | AQ81: =IF(ISBLANK(I81),"",IF(COUNTIF(I81,"*BOMBE_125MM*"),IF(COUNTIF(K81,"*\*"),IF(AND(G81<=3,G81>=2),F81,""),""),"")) -> 1 | AS81: =IF(ISBLANK(I81),"",IF(COUNTIF(I81,"*BOMBE_150MM*"),IF(G81=1,F81,""),"")) | AT81: =IF(ISBLANK(I81),"",IF(COUNTIF(I81,"*BOMBE_150MM*"),IF(COUNTIF(K81,"*TR*"),IF(G81<=4,F81,""),""),"")) | AU81: =IF(ISBLANK(I81),"",IF(COUNTIF(I81,"*BOMBE_150MM*"),IF(COUNTIF(K81,"*\*"),IF(AND(G81<=3,G81>=2),F81,""),""),"")) | AW81: =IF(ISBLANK(I81),"",IF(COUNTIF(I81,"*BOMBE_200MM*"),F81*G81,"")) | AY81: =IF(ISBLANK(I81),"",IF(COUNTIF(I81,"*BOMBE_*"),F81*20,F81*15)) -> 20 | AZ81: =IF(ISBLANK(I81),"",IF(COUNTIF(I81,"*BOMBE_*"),F81*15,F81*10)) -> 15 | BA81: =IF(ISBLANK(I81),"",IF(COUNTIF(I81,"*BOMBE_*"),F81*10,F81*5)) -> 10
N82: =IF(ISBLANK(I82),"",IF(COUNTIF(I82,"*bombe*"),(G82-1)*SUMIF('base de donnée JCO '!C$3:C$10,K82,'base de donnée JCO '!D$3:D$10)+SUMIF(entete,L82,'base de donnée JCO '!D$14:D$20),SUMIFS('base de donnée JCO '!I$173:I$1080,'base de donnée JCO '!F$173:F$1080,I82,'base de donnée JCO '!G$173:G$1080,J82))) | O82: =IF(ISBLANK(I82),"",IF(ISBLANK(D82),#REF!+N82,D82+N82)) | V82: =W82*SUMIFS('base de donnée JCO '!H$173:H$1080,'base de donnée JCO '!F$173:F$1080,I82,'base de donnée JCO '!G$173:G$1080,J82) -> 0 | W82: =F82*G82 -> 0 | X82: =W82*SUMIFS('base de donnée JCO '!J$173:J$1080,'base de donnée JCO '!F$173:F$1080,I82,'base de donnée JCO '!G$173:G$1080,J82) -> 0 | Z82: =IF(ISBLANK(I82),"",IF(COUNTIF(I82,"*BOMBE_50MM*"),IF(COUNTIF(K82,"*TR*"),IF(G82>=6,F82*1,0.5*F82),""),"")) | AA82: =IF(ISBLANK(I82),"",IF(COUNTIF(I82,"*BOMBE_50MM*"),IF(COUNTIF(K82,"*\*"),IF(G82>1,F82*1,""),""),"")) | AB82: =IF(ISBLANK(I82),"",IF(COUNTIF(I82,"*BOMBE_50MM*"),IF(G82=1,F82,""),"")) | AD82: =IF(ISBLANK(I82),"",IF(COUNTIF(I82,"*BOMBE_75MM*"),IF(G82=1,F82,""),"")) | AE82: =IF(ISBLANK(I82),"",IF(COUNTIF(I82,"*BOMBE_75MM*"),IF(COUNTIF(K82,"*TR*"),IF(G82<=5,F82,""),""),"")) | AF82: =IF(ISBLANK(I82),"",IF(COUNTIF(I82,"*BOMBE_75MM*"),IF(COUNTIF(K82,"*TR*"),IF(G82>5,F82,""),""),"")) | AG82: =IF(ISBLANK(I82),"",IF(COUNTIF(I82,"*BOMBE_75MM*"),IF(COUNTIF(K82,"*\*"),IF(AND(G82<=3,G82>=2),F82,""),""),"")) | AH82: =IF(ISBLANK(I82),"",IF(COUNTIF(I82,"*BOMBE_75MM*"),IF(COUNTIF(K82,"*\*"),IF(AND(G82<=7,G82>=4),F82,""),""),"")) | AJ82: =IF(ISBLANK(I82),"",IF(COUNTIF(I82,"*BOMBE_100MM*"),IF(G82=1,F82,""),"")) | AK82: =IF(ISBLANK(I82),"",IF(COUNTIF(I82,"*BOMBE_100MM*"),IF(COUNTIF(K82,"*TR*"),IF(G82<=5,F82,F82*2),""),"")) | AL82: =IF(ISBLANK(I82),"",IF(COUNTIF(I82,"*BOMBE_100MM*"),IF(COUNTIF(K82,"*\*"),IF(AND(G82<=3,G82>=2),F82,""),""),"")) | AM82: =IF(ISBLANK(I82),"",IF(COUNTIF(I82,"*BOMBE_100MM*"),IF(COUNTIF(K82,"*\*"),IF(AND(G82<=5,G82>=4),F82,""),""),"")) | AO82: =IF(ISBLANK(I82),"",IF(COUNTIF(I82,"*BOMBE_125MM*"),IF(G82=1,F82,""),"")) | AP82: =IF(ISBLANK(I82),"",IF(COUNTIF(I82,"*BOMBE_125MM*"),IF(COUNTIF(K82,"*TR*"),IF(G82<=5,F82,""),""),"")) | AQ82: =IF(ISBLANK(I82),"",IF(COUNTIF(I82,"*BOMBE_125MM*"),IF(COUNTIF(K82,"*\*"),IF(AND(G82<=3,G82>=2),F82,""),""),"")) | AS82: =IF(ISBLANK(I82),"",IF(COUNTIF(I82,"*BOMBE_150MM*"),IF(G82=1,F82,""),"")) | AT82: =IF(ISBLANK(I82),"",IF(COUNTIF(I82,"*BOMBE_150MM*"),IF(COUNTIF(K82,"*TR*"),IF(G82<=4,F82,""),""),"")) | AU82: =IF(ISBLANK(I82),"",IF(COUNTIF(I82,"*BOMBE_150MM*"),IF(COUNTIF(K82,"*\*"),IF(AND(G82<=3,G82>=2),F82,""),""),"")) | AW82: =IF(ISBLANK(I82),"",IF(COUNTIF(I82,"*BOMBE_200MM*"),F82*G82,"")) | AY82: =IF(ISBLANK(I82),"",IF(COUNTIF(I82,"*BOMBE_*"),F82*20,F82*15)) | AZ82: =IF(ISBLANK(I82),"",IF(COUNTIF(I82,"*BOMBE_*"),F82*15,F82*10)) | BA82: =IF(ISBLANK(I82),"",IF(COUNTIF(I82,"*BOMBE_*"),F82*10,F82*5))
I83: Musique 3 | V83: =W83*SUMIFS('base de donnée JCO '!H$173:H$1080,'base de donnée JCO '!F$173:F$1080,I83,'base de donnée JCO '!G$173:G$1080,J83) -> 0 | W83: =F83*G83 -> 0 | X83: =W83*SUMIFS('base de donnée JCO '!J$173:J$1080,'base de donnée JCO '!F$173:F$1080,I83,'base de donnée JCO '!G$173:G$1080,J83) -> 0 | Z83: =IF(ISBLANK(I83),"",IF(COUNTIF(I83,"*BOMBE_50MM*"),IF(COUNTIF(K83,"*TR*"),IF(G83>=6,F83*1,0.5*F83),""),"")) | AA83: =IF(ISBLANK(I83),"",IF(COUNTIF(I83,"*BOMBE_50MM*"),IF(COUNTIF(K83,"*\*"),IF(G83>1,F83*1,""),""),"")) | AB83: =IF(ISBLANK(I83),"",IF(COUNTIF(I83,"*BOMBE_50MM*"),IF(G83=1,F83,""),"")) | AD83: =IF(ISBLANK(I83),"",IF(COUNTIF(I83,"*BOMBE_75MM*"),IF(G83=1,F83,""),"")) | AE83: =IF(ISBLANK(I83),"",IF(COUNTIF(I83,"*BOMBE_75MM*"),IF(COUNTIF(K83,"*TR*"),IF(G83<=5,F83,""),""),"")) | AF83: =IF(ISBLANK(I83),"",IF(COUNTIF(I83,"*BOMBE_75MM*"),IF(COUNTIF(K83,"*TR*"),IF(G83>5,F83,""),""),"")) | AG83: =IF(ISBLANK(I83),"",IF(COUNTIF(I83,"*BOMBE_75MM*"),IF(COUNTIF(K83,"*\*"),IF(AND(G83<=3,G83>=2),F83,""),""),"")) | AH83: =IF(ISBLANK(I83),"",IF(COUNTIF(I83,"*BOMBE_75MM*"),IF(COUNTIF(K83,"*\*"),IF(AND(G83<=7,G83>=4),F83,""),""),"")) | AJ83: =IF(ISBLANK(I83),"",IF(COUNTIF(I83,"*BOMBE_100MM*"),IF(G83=1,F83,""),"")) | AK83: =IF(ISBLANK(I83),"",IF(COUNTIF(I83,"*BOMBE_100MM*"),IF(COUNTIF(K83,"*TR*"),IF(G83<=5,F83,F83*2),""),"")) | AL83: =IF(ISBLANK(I83),"",IF(COUNTIF(I83,"*BOMBE_100MM*"),IF(COUNTIF(K83,"*\*"),IF(AND(G83<=3,G83>=2),F83,""),""),"")) | AM83: =IF(ISBLANK(I83),"",IF(COUNTIF(I83,"*BOMBE_100MM*"),IF(COUNTIF(K83,"*\*"),IF(AND(G83<=5,G83>=4),F83,""),""),"")) | AO83: =IF(ISBLANK(I83),"",IF(COUNTIF(I83,"*BOMBE_125MM*"),IF(G83=1,F83,""),"")) | AP83: =IF(ISBLANK(I83),"",IF(COUNTIF(I83,"*BOMBE_125MM*"),IF(COUNTIF(K83,"*TR*"),IF(G83<=5,F83,""),""),"")) | AQ83: =IF(ISBLANK(I83),"",IF(COUNTIF(I83,"*BOMBE_125MM*"),IF(COUNTIF(K83,"*\*"),IF(AND(G83<=3,G83>=2),F83,""),""),"")) | AS83: =IF(ISBLANK(I83),"",IF(COUNTIF(I83,"*BOMBE_150MM*"),IF(G83=1,F83,""),"")) | AT83: =IF(ISBLANK(I83),"",IF(COUNTIF(I83,"*BOMBE_150MM*"),IF(COUNTIF(K83,"*TR*"),IF(G83<=4,F83,""),""),"")) | AU83: =IF(ISBLANK(I83),"",IF(COUNTIF(I83,"*BOMBE_150MM*"),IF(COUNTIF(K83,"*\*"),IF(AND(G83<=3,G83>=2),F83,""),""),"")) | AW83: =IF(ISBLANK(I83),"",IF(COUNTIF(I83,"*BOMBE_200MM*"),F83*G83,"")) | AY83: =IF(ISBLANK(I83),"",IF(COUNTIF(I83,"*BOMBE_*"),F83*20,F83*15)) -> 0 | AZ83: =IF(ISBLANK(I83),"",IF(COUNTIF(I83,"*BOMBE_*"),F83*15,F83*10)) -> 0 | BA83: =IF(ISBLANK(I83),"",IF(COUNTIF(I83,"*BOMBE_*"),F83*10,F83*5)) -> 0
A84: 27 | D84: 0.0030671296 | F84: 1 | G84: 1 | I84: pyroshow | J84: 100 cps 30mm OLA bleu et or | N84: =IF(ISBLANK(I84),"",IF(COUNTIF(I84,"*bombe*"),(G84-1)*SUMIF('base de donnée JCO '!C$3:C$10,K84,'base de donnée JCO '!D$3:D$10)+SUMIF(entete,L84,'base de donnée JCO '!D$14:D$20),SUMIFS('base de donnée JCO '!I$173:I$1080,'base de donnée JCO '!F$173:F$1080,I84,'base de donnée JCO '!G$173:G$1080,J84))) -> 0 | O84: =IF(ISBLANK(I84),"",IF(ISBLANK(D84),D83+N84,D84+N84)) -> 0.0030671296 | S84: fen | V84: =W84*SUMIFS('base de donnée JCO '!H$173:H$1080,'base de donnée JCO '!F$173:F$1080,I84,'base de donnée JCO '!G$173:G$1080,J84) -> 0 | W84: =F84*G84 -> 1 | X84: =W84*SUMIFS('base de donnée JCO '!J$173:J$1080,'base de donnée JCO '!F$173:F$1080,I84,'base de donnée JCO '!G$173:G$1080,J84) -> 0 | Z84: =IF(ISBLANK(I84),"",IF(COUNTIF(I84,"*BOMBE_50MM*"),IF(COUNTIF(K84,"*TR*"),IF(G84>=6,F84*1,0.5*F84),""),"")) | AA84: =IF(ISBLANK(I84),"",IF(COUNTIF(I84,"*BOMBE_50MM*"),IF(COUNTIF(K84,"*\*"),IF(G84>1,F84*1,""),""),"")) | AB84: =IF(ISBLANK(I84),"",IF(COUNTIF(I84,"*BOMBE_50MM*"),IF(G84=1,F84,""),"")) | AD84: =IF(ISBLANK(I84),"",IF(COUNTIF(I84,"*BOMBE_75MM*"),IF(G84=1,F84,""),"")) | AE84: =IF(ISBLANK(I84),"",IF(COUNTIF(I84,"*BOMBE_75MM*"),IF(COUNTIF(K84,"*TR*"),IF(G84<=5,F84,""),""),"")) | AF84: =IF(ISBLANK(I84),"",IF(COUNTIF(I84,"*BOMBE_75MM*"),IF(COUNTIF(K84,"*TR*"),IF(G84>5,F84,""),""),"")) | AG84: =IF(ISBLANK(I84),"",IF(COUNTIF(I84,"*BOMBE_75MM*"),IF(COUNTIF(K84,"*\*"),IF(AND(G84<=3,G84>=2),F84,""),""),"")) | AH84: =IF(ISBLANK(I84),"",IF(COUNTIF(I84,"*BOMBE_75MM*"),IF(COUNTIF(K84,"*\*"),IF(AND(G84<=7,G84>=4),F84,""),""),"")) | AJ84: =IF(ISBLANK(I84),"",IF(COUNTIF(I84,"*BOMBE_100MM*"),IF(G84=1,F84,""),"")) | AK84: =IF(ISBLANK(I84),"",IF(COUNTIF(I84,"*BOMBE_100MM*"),IF(COUNTIF(K84,"*TR*"),IF(G84<=5,F84,F84*2),""),"")) | AL84: =IF(ISBLANK(I84),"",IF(COUNTIF(I84,"*BOMBE_100MM*"),IF(COUNTIF(K84,"*\*"),IF(AND(G84<=3,G84>=2),F84,""),""),"")) | AM84: =IF(ISBLANK(I84),"",IF(COUNTIF(I84,"*BOMBE_100MM*"),IF(COUNTIF(K84,"*\*"),IF(AND(G84<=5,G84>=4),F84,""),""),"")) | AO84: =IF(ISBLANK(I84),"",IF(COUNTIF(I84,"*BOMBE_125MM*"),IF(G84=1,F84,""),"")) | AP84: =IF(ISBLANK(I84),"",IF(COUNTIF(I84,"*BOMBE_125MM*"),IF(COUNTIF(K84,"*TR*"),IF(G84<=5,F84,""),""),"")) | AQ84: =IF(ISBLANK(I84),"",IF(COUNTIF(I84,"*BOMBE_125MM*"),IF(COUNTIF(K84,"*\*"),IF(AND(G84<=3,G84>=2),F84,""),""),"")) | AS84: =IF(ISBLANK(I84),"",IF(COUNTIF(I84,"*BOMBE_150MM*"),IF(G84=1,F84,""),"")) | AT84: =IF(ISBLANK(I84),"",IF(COUNTIF(I84,"*BOMBE_150MM*"),IF(COUNTIF(K84,"*TR*"),IF(G84<=4,F84,""),""),"")) | AU84: =IF(ISBLANK(I84),"",IF(COUNTIF(I84,"*BOMBE_150MM*"),IF(COUNTIF(K84,"*\*"),IF(AND(G84<=3,G84>=2),F84,""),""),"")) | AW84: =IF(ISBLANK(I84),"",IF(COUNTIF(I84,"*BOMBE_200MM*"),F84*G84,"")) | AY84: =IF(ISBLANK(I84),"",IF(COUNTIF(I84,"*BOMBE_*"),F84*20,F84*15)) -> 15 | AZ84: =IF(ISBLANK(I84),"",IF(COUNTIF(I84,"*BOMBE_*"),F84*15,F84*10)) -> 10 | BA84: =IF(ISBLANK(I84),"",IF(COUNTIF(I84,"*BOMBE_*"),F84*10,F84*5)) -> 5
