Workbook
Name bengale_lance_décor: 'base de donnée JCO '!$AI$5:$AI$18
Name bombe_100mm: 'base de donnée JCO '!$H$5:$H$155
Name bombe_125mm: 'base de donnée JCO '!$I$5:$I$88
Name bombe_150mm: 'base de donnée JCO '!$J$5:$J$79
Name bombe_200mm: 'base de donnée JCO '!$K$5:$K$15
Name bombe_50mm: 'base de donnée JCO '!$F$5:$F$18
Name bombe_75mm: 'base de donnée JCO '!$G$5:$G$134
Name botte_de_chandelles: 'base de donnée JCO '!$M$5:$M$35
Name chandelle_20mm: 'base de donnée JCO '!$N$5:$N$9
Name chandelle_25mm: 'base de donnée JCO '!$O$5:$O$17
Name chandelle_30mm: 'base de donnée JCO '!$P$5:$P$40
Name chandelle_40mm: 'base de donnée JCO '!$Q$5:$Q$18
Name chandelle_45mm: 'base de donnée JCO '!$R$5:$R$24
Name chandelle_50mm: 'base de donnée JCO '!$S$5:$S$11
Name compact_19cps_30mm: 'base de donnée JCO '!$U$5:$U$29
Name compact_21cps_30mm: 'base de donnée JCO '!$V$5:$V$25
Name compact_25cps_30mm: 'base de donnée JCO '!$W$5:$W$7
Name compact_36cps_30mm: 'base de donnée JCO '!$X$5:$X$34
Name compact_49cps_30mm: 'base de donnée JCO '!$Y$5:$Y$30
Name compact_divers: 'base de donnée JCO '!$Z$5:$Z$42
Name entete: 'base de donnée JCO '!$C$14:$C$20
Name Fontaine_jet: 'base de donnée JCO '!$AH$5:$AH$24
Name incli: 'base de donnée JCO '!$C$24:$C$29
Name mono_coup_20mm: 'base de donnée JCO '!$AD$5:$AD$13
Name mono_coup_30mm: 'base de donnée JCO '!$AE$5:$AE$29
Name mono_coup_45mm: 'base de donnée JCO '!$AF$5:$AF$32
Name pyroshow: 'base de donnée JCO '!$AA$5:$AA$22
Name rangée_30mm: 'base de donnée JCO '!$AB$5:$AB$33
Name régie: 'base de donnée JCO '!$C$37:$C$39
Name TR: 'base de donnée JCO '!$C$3:$C$13
Name type: 'base de donnée JCO '!$F$4:$AI$4
Name TYPE_PRODUITS: stat!#REF!
Name TYPE_PRODUITS: 'plan de tir'!#REF!

Sheet plan de tir
A3: Ville: | I3: DS MAX :
A7: Thème: | I7: Calibre MAX :
A11: Date: | I11: Durée :
A14: LIGNE | B14: SEQ | D14: TIME | F14: Poste | G14: QTE | I14: PYROTECHNIE | N14: Durée | O14: Fin | Q14: Implantation
A16: 1 | D16: 2.3148148e-05 | F16: 8 | G16: 1 | I16: bengale_lance_décor | J16: Bengale rouge 1 min | N16: =IF(ISBLANK(I16),"",IF(COUNTIF(I16,"*bombe*"),(G16-1)*SUMIF('base de donnée JCO '!C$3:C$10,K16,'base de donnée JCO '!D$3:D$10)+SUMIF(entete,L16,'base de donnée JCO '!D$14:D$20),SUMIFS('base de donnée JCO '!I$173:I$1080,'base de donnée JCO '!F$173:F$1080,I16,'base de donnée JCO '!G$173:G$1080,J16))) -> 0 | O16: =IF(ISBLANK(I16),"",IF(ISBLANK(D16),#REF!+N16,D16+N16)) -> 2.3148148e-05
I17: Musique 1
A18: 2 | D18: 0.0006712963 | F18: 1 | G18: 2 | I18: bombe_75mm | J18: Z/cyl marron d'air titan | K18: \ / | N18: =IF(ISBLANK(I18),"",IF(COUNTIF(I18,"*bombe*"),(G18-1)*SUMIF('base de donnée JCO '!C$3:C$10,K18,'base de donnée JCO '!D$3:D$10)+SUMIF(entete,L18,'base de donnée JCO '!D$14:D$20),SUMIFS('base de donnée JCO '!I$173:I$1080,'base de donnée JCO '!F$173:F$1080,I18,'base de donnée JCO '!G$173:G$1080,J18))) -> 0 | O18: =IF(ISBLANK(I18),"",IF(ISBLANK(D18),D17+N18,D18+N18)) -> 0.0006712963
N19: =IF(ISBLANK(I19),"",IF(COUNTIF(I19,"*bombe*"),(G19-1)*SUMIF('base de donnée JCO '!C$3:C$10,K19,'base de donnée JCO '!D$3:D$10)+SUMIF(entete,L19,'base de donnée JCO '!D$14:D$20),SUMIFS('base de donnée JCO '!I$173:I$1080,'base de donnée JCO '!F$173:F$1080,I19,'base de donnée JCO '!G$173:G$1080,J19))) | O19: =IF(ISBLANK(I19),"",IF(ISBLANK(D19),D18+N19,D19+N19))
A20: 3 | D20: 0.00072916667 | F20: 1 | G20: 1 | I20: compact_49cps_30mm | J20: Pyroventail finition or ( ola com ) | N20: =IF(ISBLANK(I20),"",IF(COUNTIF(I20,"*bombe*"),(G20-1)*SUMIF('base de donnée JCO '!C$3:C$10,K20,'base de donnée JCO '!D$3:D$10)+SUMIF(entete,L20,'base de donnée JCO '!D$14:D$20),SUMIFS('base de donnée JCO '!I$173:I$1080,'base de donnée JCO '!F$173:F$1080,I20,'base de donnée JCO '!G$173:G$1080,J20))) -> 0 | O20: =IF(ISBLANK(I20),"",IF(ISBLANK(D20),D19+N20,D20+N20)) -> 0.00072916667 | S20: fen
N21: =IF(ISBLANK(I21),"",IF(COUNTIF(I21,"*bombe*"),(G21-1)*SUMIF('base de donnée JCO '!C$3:C$10,K21,'base de donnée JCO '!D$3:D$10)+SUMIF(entete,L21,'base de donnée JCO '!D$14:D$20),SUMIFS('base de donnée JCO '!I$173:I$1080,'base de donnée JCO '!F$173:F$1080,I21,'base de donnée JCO '!G$173:G$1080,J21))) | O21: =IF(ISBLANK(I21),"",IF(ISBLANK(D21),#REF!+N21,D21+N21))
A22: 4 | D22: 0.00081018519 | F22: 2 | G22: 1 | I22: compact_36cps_30mm | J22: JCOPACK Rouge vif | N22: =IF(ISBLANK(I22),"",IF(COUNTIF(I22,"*bombe*"),(G22-1)*SUMIF('base de donnée JCO '!C$3:C$10,K22,'base de donnée JCO '!D$3:D$10)+SUMIF(entete,L22,'base de donnée JCO '!D$14:D$20),SUMIFS('base de donnée JCO '!I$173:I$1080,'base de donnée JCO '!F$173:F$1080,I22,'base de donnée JCO '!G$173:G$1080,J22))) -> 0 | O22: =IF(ISBLANK(I22),"",IF(ISBLANK(D22),D21+N22,D22+N22)) -> 0.00081018519 | Q22: X | U22: X
A23: 4 | F23: 1 | G23: 10 | I23: bombe_75mm | J23: color Ass + trainée ( série ) | K23: TR6 | N23: =IF(ISBLANK(I23),"",IF(COUNTIF(I23,"*bombe*"),(G23-1)*SUMIF('base de donnée JCO '!C$3:C$10,K23,'base de donnée JCO '!D$3:D$10)+SUMIF(entete,L23,'base de donnée JCO '!D$14:D$20),SUMIFS('base de donnée JCO '!I$173:I$1080,'base de donnée JCO '!F$173:F$1080,I23,'base de donnée JCO '!G$173:G$1080,J23))) -> 54.000625 | O23: =IF(ISBLANK(I23),"",IF(ISBLANK(D23),D22+N23,D23+N23)) -> 54.001435 | S23: x
A24: 4 | F24: 1 | G24: 10 | I24: bombe_75mm | J24: color Ass + trainée ( série ) | K24: TR6 | N24: =IF(ISBLANK(I24),"",IF(COUNTIF(I24,"*bombe*"),(G24-1)*SUMIF('base de donnée JCO '!C$3:C$10,K24,'base de donnée JCO '!D$3:D$10)+SUMIF(entete,L24,'base de donnée JCO '!D$14:D$20),SUMIFS('base de donnée JCO '!I$173:I$1080,'base de donnée JCO '!F$173:F$1080,I24,'base de donnée JCO '!G$173:G$1080,J24))) -> 54.000625 | O24: =IF(ISBLANK(I24),"",IF(ISBLANK(D24),D22+N24,D24+N24)) -> 54.001435 | S24: x
N25: =IF(ISBLANK(I25),"",IF(COUNTIF(I25,"*bombe*"),(G25-1)*SUMIF('base de donnée JCO '!C$3:C$10,K25,'base de donnée JCO '!D$3:D$10)+SUMIF(entete,L25,'base de donnée JCO '!D$14:D$20),SUMIFS('base de donnée JCO '!I$173:I$1080,'base de donnée JCO '!F$173:F$1080,I25,'base de donnée JCO '!G$173:G$1080,J25))) | O25: =IF(ISBLANK(I25),"",IF(ISBLANK(D25),#REF!+N25,D25+N25))
A26: 5 | D26: 0.00085648148 | F26: 2 | G26: 2 | I26: chandelle_40mm | J26: crossettes vertes | N26: =IF(ISBLANK(I26),"",IF(COUNTIF(I26,"*bombe*"),(G26-1)*SUMIF('base de donnée JCO '!C$3:C$10,K26,'base de donnée JCO '!D$3:D$10)+SUMIF(entete,L26,'base de donnée JCO '!D$14:D$20),SUMIFS('base de donnée JCO '!I$173:I$1080,'base de donnée JCO '!F$173:F$1080,I26,'base de donnée JCO '!G$173:G$1080,J26))) -> 0 | O26: =IF(ISBLANK(I26),"",IF(ISBLANK(D26),#REF!+N26,D26+N26)) -> 0.00085648148 | Q26: \ / | U26: \ /
N27: =IF(ISBLANK(I27),"",IF(COUNTIF(I27,"*bombe*"),(G27-1)*SUMIF('base de donnée JCO '!C$3:C$10,K27,'base de donnée JCO '!D$3:D$10)+SUMIF(entete,L27,'base de donnée JCO '!D$14:D$20),SUMIFS('base de donnée JCO '!I$173:I$1080,'base de donnée JCO '!F$173:F$1080,I27,'base de donnée JCO '!G$173:G$1080,J27))) | O27: =IF(ISBLANK(I27),"",IF(ISBLANK(D27),#REF!+N27,D27+N27))
A28: 6 | D28: 0.0011689815 | F28: 2 | G28: 1 | I28: compact_36cps_30mm | J28: JCOPACK Croustillant Dahlia et palme craq | N28: =IF(ISBLANK(I28),"",IF(COUNTIF(I28,"*bombe*"),(G28-1)*SUMIF('base de donnée JCO '!C$3:C$10,K28,'base de donnée JCO '!D$3:D$10)+SUMIF(entete,L28,'base de donnée JCO '!D$14:D$20),SUMIFS('base de donnée JCO '!I$173:I$1080,'base de donnée JCO '!F$173:F$1080,I28,'base de donnée JCO '!G$173:G$1080,J28))) -> 0 | O28: =IF(ISBLANK(I28),"",IF(ISBLANK(D28),D27+N28,D28+N28)) -> 0.0011689815 | Q28: X | U28: X
A29: 6 | F29: 1 | G29: 5 | I29: bombe_75mm | J29: Cylindrique Chine coul et détos | K29: TR3 | N29: =IF(ISBLANK(I29),"",IF(COUNTIF(I29,"*bombe*"),(G29-1)*SUMIF('base de donnée JCO '!C$3:C$10,K29,'base de donnée JCO '!D$3:D$10)+SUMIF(entete,L29,'base de donnée JCO '!D$14:D$20),SUMIFS('base de donnée JCO '!I$173:I$1080,'base de donnée JCO '!F$173:F$1080,I29,'base de donnée JCO '!G$173:G$1080,J29))) -> 12.000139 | O29: =IF(ISBLANK(I29),"",IF(ISBLANK(D29),D28+N29,D29+N29)) -> 12.001308 | S29: X
N30: =IF(ISBLANK(I30),"",IF(COUNTIF(I30,"*bombe*"),(G30-1)*SUMIF('base de donnée JCO '!C$3:C$10,K30,'base de donnée JCO '!D$3:D$10)+SUMIF(entete,L30,'base de donnée JCO '!D$14:D$20),SUMIFS('base de donnée JCO '!I$173:I$1080,'base de donnée JCO '!F$173:F$1080,I30,'base de donnée JCO '!G$173:G$1080,J30))) | O30: =IF(ISBLANK(I30),"",IF(ISBLANK(D30),D28+N30,D30+N30))
A31: 7 | D31: 0.0012152778 | F31: 1 | G31: 4 | I31: chandelle_40mm | J31: crossettes craquelantes | N31: =IF(ISBLANK(I31),"",IF(COUNTIF(I31,"*bombe*"),(G31-1)*SUMIF('base de donnée JCO '!C$3:C$10,K31,'base de donnée JCO '!D$3:D$10)+SUMIF(entete,L31,'base de donnée JCO '!D$14:D$20),SUMIFS('base de donnée JCO '!I$173:I$1080,'base de donnée JCO '!F$173:F$1080,I31,'base de donnée JCO '!G$173:G$1080,J31))) -> 0 | O31: =IF(ISBLANK(I31),"",IF(ISBLANK(D31),#REF!+N31,D31+N31)) -> 0.0012152778 | S31: fen
N32: =IF(ISBLANK(I32),"",IF(COUNTIF(I32,"*bombe*"),(G32-1)*SUMIF('base de donnée JCO '!C$3:C$10,K32,'base de donnée JCO '!D$3:D$10)+SUMIF(entete,L32,'base de donnée JCO '!D$14:D$20),SUMIFS('base de donnée JCO '!I$173:I$1080,'base de donnée JCO '!F$173:F$1080,I32,'base de donnée JCO '!G$173:G$1080,J32))) | O32: =IF(ISBLANK(I32),"",IF(ISBLANK(D32),D31+N32,D32+N32))
A33: 8 | D33: 0.0013425926 | F33: 1 | G33: 5 | I33: bombe_75mm | J33: Cylindrique Chine coul et détos | K33: TR2 | N33: =IF(ISBLANK(I33),"",IF(COUNTIF(I33,"*bombe*"),(G33-1)*SUMIF('base de donnée JCO '!C$3:C$10,K33,'base de donnée JCO '!D$3:D$10)+SUMIF(entete,L33,'base de donnée JCO '!D$14:D$20),SUMIFS('base de donnée JCO '!I$173:I$1080,'base de donnée JCO '!F$173:F$1080,I33,'base de donnée JCO '!G$173:G$1080,J33))) -> 8.0000926 | O33: =IF(ISBLANK(I33),"",IF(ISBLANK(D33),D31+N33,D33+N33)) -> 8.0014352 | S33: X
N34: =IF(ISBLANK(I34),"",IF(COUNTIF(I34,"*bombe*"),(G34-1)*SUMIF('base de donnée JCO '!C$3:C$10,K34,'base de donnée JCO '!D$3:D$10)+SUMIF(entete,L34,'base de donnée JCO '!D$14:D$20),SUMIFS('base de donnée JCO '!I$173:I$1080,'base de donnée JCO '!F$173:F$1080,I34,'base de donnée JCO '!G$173:G$1080,J34))) | O34: =IF(ISBLANK(I34),"",IF(ISBLANK(D34),D32+N34,D34+N34))
A35: 9 | D35: 0.0014814815 | F35: 2 | G35: 7 | I35: bombe_100mm | J35: crossette rouge et craq | K35: TR3 | N35: =IF(ISBLANK(I35),"",IF(COUNTIF(I35,"*bombe*"),(G35-1)*SUMIF('base de donnée JCO '!C$3:C$10,K35,'base de donnée JCO '!D$3:D$10)+SUMIF(entete,L35,'base de donnée JCO '!D$14:D$20),SUMIFS('base de donnée JCO '!I$173:I$1080,'base de donnée JCO '!F$173:F$1080,I35,'base de donnée JCO '!G$173:G$1080,J35))) -> 18.000208 | O35: =IF(ISBLANK(I35),"",IF(ISBLANK(D35),#REF!+N35,D35+N35)) -> 18.00169 | S35: \ /
A36: 9 | F36: 1 | G36: 4 | I36: bombe_125mm | J36: crossette rouge et craq | K36: TR6 | N36: =IF(ISBLANK(I36),"",IF(COUNTIF(I36,"*bombe*"),(G36-1)*SUMIF('base de donnée JCO '!C$3:C$10,K36,'base de donnée JCO '!D$3:D$10)+SUMIF(entete,L36,'base de donnée JCO '!D$14:D$20),SUMIFS('base de donnée JCO '!I$173:I$1080,'base de donnée JCO '!F$173:F$1080,I36,'base de donnée JCO '!G$173:G$1080,J36))) -> 18.000208 | O36: =IF(ISBLANK(I36),"",IF(ISBLANK(D36),D35+N36,D36+N36)) -> 18.00169 | S36: X
N37: =IF(ISBLANK(I37),"",IF(COUNTIF(I37,"*bombe*"),(G37-1)*SUMIF('base de donnée JCO '!C$3:C$10,K37,'base de donnée JCO '!D$3:D$10)+SUMIF(entete,L37,'base de donnée JCO '!D$14:D$20),SUMIFS('base de donnée JCO '!I$173:I$1080,'base de donnée JCO '!F$173:F$1080,I37,'base de donnée JCO '!G$173:G$1080,J37))) | O37: =IF(ISBLANK(I37),"",IF(ISBLANK(D37),#REF!+N37,D37+N37))
A38: 10 | D38: 0.0015162037 | F38: 2 | G38: 1 | I38: pyroshow | J38: 65 cps 30mm OLA gerbe frisson et bleu | N38: =IF(ISBLANK(I38),"",IF(COUNTIF(I38,"*bombe*"),(G38-1)*SUMIF('base de donnée JCO '!C$3:C$10,K38,'base de donnée JCO '!D$3:D$10)+SUMIF(entete,L38,'base de donnée JCO '!D$14:D$20),SUMIFS('base de donnée JCO '!I$173:I$1080,'base de donnée JCO '!F$173:F$1080,I38,'base de donnée JCO '!G$173:G$1080,J38))) -> 0 | O38: =IF(ISBLANK(I38),"",IF(ISBLANK(D38),D37+N38,D38+N38)) -> 0.0015162037 | Q38: fen | U38: fen
N39: =IF(ISBLANK(I39),"",IF(COUNTIF(I39,"*bombe*"),(G39-1)*SUMIF('base de donnée JCO '!C$3:C$10,K39,'base de donnée JCO '!D$3:D$10)+SUMIF(entete,L39,'base de donnée JCO '!D$14:D$20),SUMIFS('base de donnée JCO '!I$173:I$1080,'base de donnée JCO '!F$173:F$1080,I39,'base de donnée JCO '!G$173:G$1080,J39))) | O39: =IF(ISBLANK(I39),"",IF(ISBLANK(D39),D37+N39,D39+N39))
A40: 11 | D40: 0.0015509259 | F40: 2 | G40: 5 | I40: bombe_100mm | J40: crossette rouge et craq | K40: TR3 | N40: =IF(ISBLANK(I40),"",IF(COUNTIF(I40,"*bombe*"),(G40-1)*SUMIF('base de donnée JCO '!C$3:C$10,K40,'base de donnée JCO '!D$3:D$10)+SUMIF(entete,L40,'base de donnée JCO '!D$14:D$20),SUMIFS('base de donnée JCO '!I$173:I$1080,'base de donnée JCO '!F$173:F$1080,I40,'base de donnée JCO '!G$173:G$1080,J40))) -> 12.000139 | O40: =IF(ISBLANK(I40),"",IF(ISBLANK(D40),D39+N40,D40+N40)) -> 12.00169 | S40: \ /
N41: =IF(ISBLANK(I41),"",IF(COUNTIF(I41,"*bombe*"),(G41-1)*SUMIF('base de donnée JCO '!C$3:C$10,K41,'base de donnée JCO '!D$3:D$10)+SUMIF(entete,L41,'base de donnée JCO '!D$14:D$20),SUMIFS('base de donnée JCO '!I$173:I$1080,'base de donnée JCO '!F$173:F$1080,I41,'base de donnée JCO '!G$173:G$1080,J41))) | O41: =IF(ISBLANK(I41),"",IF(ISBLANK(D41),D40+N41,D41+N41))
A42: 12 | D42: 0.001712963 | F42: 1 | G42: 2 | I42: bombe_150mm | J42: ZARA sph clig blanc/8bqtschevblanc | K42: \ / | S42: \ /
N43: =IF(ISBLANK(I43),"",IF(COUNTIF(I43,"*bombe*"),(G43-1)*SUMIF('base de donnée JCO '!C$3:C$10,K43,'base de donnée JCO '!D$3:D$10)+SUMIF(entete,L43,'base de donnée JCO '!D$14:D$20),SUMIFS('base de donnée JCO '!I$173:I$1080,'base de donnée JCO '!F$173:F$1080,I43,'base de donnée JCO '!G$173:G$1080,J43))) | O43: =IF(ISBLANK(I43),"",IF(ISBLANK(D43),D42+N43,D43+N43))
A44: 13 | D44: 0.0017824074 | F44: 3 | G44: 5 | I44: bombe_100mm | J44: queue de cheval argent | K44: TR2 | N44: =IF(ISBLANK(I44),"",IF(COUNTIF(I44,"*bombe*"),(G44-1)*SUMIF('base de donnée JCO '!C$3:C$10,K44,'base de donnée JCO '!D$3:D$10)+SUMIF(entete,L44,'base de donnée JCO '!D$14:D$20),SUMIFS('base de donnée JCO '!I$173:I$1080,'base de donnée JCO '!F$173:F$1080,I44,'base de donnée JCO '!G$173:G$1080,J44))) -> 8.0000926 | O44: =IF(ISBLANK(I44),"",IF(ISBLANK(D44),D43+N44,D44+N44)) -> 8.001875 | S44: \ I /
N45: =IF(ISBLANK(I45),"",IF(COUNTIF(I45,"*bombe*"),(G45-1)*SUMIF('base de donnée JCO '!C$3:C$10,K45,'base de donnée JCO '!D$3:D$10)+SUMIF(entete,L45,'base de donnée JCO '!D$14:D$20),SUMIFS('base de donnée JCO '!I$173:I$1080,'base de donnée JCO '!F$173:F$1080,I45,'base de donnée JCO '!G$173:G$1080,J45))) | O45: =IF(ISBLANK(I45),"",IF(ISBLANK(D45),D43+N45,D45+N45))
A46: 14 | D46: 0.0018287037 | F46: 4 | G46: 5 | I46: bombe_75mm | J46: queue de cheval blanc clig | K46: TR1 | N46: =IF(ISBLANK(I46),"",IF(COUNTIF(I46,"*bombe*"),(G46-1)*SUMIF('base de donnée JCO '!C$3:C$10,K46,'base de donnée JCO '!D$3:D$10)+SUMIF(entete,L46,'base de donnée JCO '!D$14:D$20),SUMIFS('base de donnée JCO '!I$173:I$1080,'base de donnée JCO '!F$173:F$1080,I46,'base de donnée JCO '!G$173:G$1080,J46))) -> 4.0000463 | O46: =IF(ISBLANK(I46),"",IF(ISBLANK(D46),D45+N46,D46+N46)) -> 4.001875 | R46: \ | S46: \ / | T46: /
N47: =IF(ISBLANK(I47),"",IF(COUNTIF(I47,"*bombe*"),(G47-1)*SUMIF('base de donnée JCO '!C$3:C$10,K47,'base de donnée JCO '!D$3:D$10)+SUMIF(entete,L47,'base de donnée JCO '!D$14:D$20),SUMIFS('base de donnée JCO '!I$173:I$1080,'base de donnée JCO '!F$173:F$1080,I47,'base de donnée JCO '!G$173:G$1080,J47))) | O47: =IF(ISBLANK(I47),"",IF(ISBLANK(D47),D46+N47,D47+N47))
I48: Musique 2
A49: 15 | D49: 0.0019328704 | F49: 1 | G49: 1 | I49: pyroshow | J49: 182 cps 19 mm cross violet /citron JW4446 | N49: =IF(ISBLANK(I49),"",IF(COUNTIF(I49,"*bombe*"),(G49-1)*SUMIF('base de donnée JCO '!C$3:C$10,K49,'base de donnée JCO '!D$3:D$10)+SUMIF(entete,L49,'base de donnée JCO '!D$14:D$20),SUMIFS('base de donnée JCO '!I$173:I$1080,'base de donnée JCO '!F$173:F$1080,I49,'base de donnée JCO '!G$173:G$1080,J49))) -> 0 | O49: =IF(ISBLANK(I49),"",IF(ISBLANK(D49),D48+N49,D49+N49)) -> 0.0019328704 | S49: fen
N50: =IF(ISBLANK(I50),"",IF(COUNTIF(I50,"*bombe*"),(G50-1)*SUMIF('base de donnée JCO '!C$3:C$10,K50,'base de donnée JCO '!D$3:D$10)+SUMIF(entete,L50,'base de donnée JCO '!D$14:D$20),SUMIFS('base de donnée JCO '!I$173:I$1080,'base de donnée JCO '!F$173:F$1080,I50,'base de donnée JCO '!G$173:G$1080,J50))) | O50: =IF(ISBLANK(I50),"",IF(ISBLANK(D50),D49+N50,D50+N50))
A51: 16 | D51: 0.0020138889 | F51: 2 | G51: 1 | I51: compact_25cps_30mm | J51: PYROVENTYS volcan et bouquet argent et rouge | N51: =IF(ISBLANK(I51),"",IF(COUNTIF(I51,"*bombe*"),(G51-1)*SUMIF('base de donnée JCO '!C$3:C$10,K51,'base de donnée JCO '!D$3:D$10)+SUMIF(entete,L51,'base de donnée JCO '!D$14:D$20),SUMIFS('base de donnée JCO '!I$173:I$1080,'base de donnée JCO '!F$173:F$1080,I51,'base de donnée JCO '!G$173:G$1080,J51))) -> 0 | O51: =IF(ISBLANK(I51),"",IF(ISBLANK(D51),D49+N51,D51+N51)) -> 0.0020138889 | Q51: fen | U51: fen
A52: 16 | F52: 2 | G52: 10 | I52: bombe_75mm | J52: color strobe special | K52: TR5 | N52: =IF(ISBLANK(I52),"",IF(COUNTIF(I52,"*bombe*"),(G52-1)*SUMIF('base de donnée JCO '!C$3:C$10,K52,'base de donnée JCO '!D$3:D$10)+SUMIF(entete,L52,'base de donnée JCO '!D$14:D$20),SUMIFS('base de donnée JCO '!I$173:I$1080,'base de donnée JCO '!F$173:F$1080,I52,'base de donnée JCO '!G$173:G$1080,J52))) -> 45.000521 | O52: =IF(ISBLANK(I52),"",IF(ISBLANK(D52),D51+N52,D52+N52)) -> 45.002535 | S52: \ /
A53: 16 | F53: 1 | G53: 10 | I53: bombe_100mm | J53: corolle de perles nacrées | K53: TR5 | L53: 2''T | N53: =IF(ISBLANK(I53),"",IF(COUNTIF(I53,"*bombe*"),(G53-1)*SUMIF('base de donnée JCO '!C$3:C$10,K53,'base de donnée JCO '!D$3:D$10)+SUMIF(entete,L53,'base de donnée JCO '!D$14:D$20),SUMIFS('base de donnée JCO '!I$173:I$1080,'base de donnée JCO '!F$173:F$1080,I53,'base de donnée JCO '!G$173:G$1080,J53))) -> 47.000544 | O53: =IF(ISBLANK(I53),"",IF(ISBLANK(D53),D51+N53,D53+N53)) -> 47.002558 | S53: x
N54: =IF(ISBLANK(I54),"",IF(COUNTIF(I54,"*bombe*"),(G54-1)*SUMIF('base de donnée JCO '!C$3:C$10,K54,'base de donnée JCO '!D$3:D$10)+SUMIF(entete,L54,'base de donnée JCO '!D$14:D$20),SUMIFS('base de donnée JCO '!I$173:I$1080,'base de donnée JCO '!F$173:F$1080,I54,'base de donnée JCO '!G$173:G$1080,J54))) | O54: =IF(ISBLANK(I54),"",IF(ISBLANK(D54),D52+N54,D54+N54))
A55: 17 | D55: 0.0022106481 | F55: 2 | G55: 1 | I55: pyroshow | J55: 100 cps 30 mm onduline arg craquant | N55: 0.00040509259 | O55: =IF(ISBLANK(I55),"",IF(ISBLANK(D55),D54+N55,D55+N55)) -> 0.0026157407 | Q55: fen | U55: fen
N56: =IF(ISBLANK(I56),"",IF(COUNTIF(I56,"*bombe*"),(G56-1)*SUMIF('base de donnée JCO '!C$3:C$10,K56,'base de donnée JCO '!D$3:D$10)+SUMIF(entete,L56,'base de donnée JCO '!D$14:D$20),SUMIFS('base de donnée JCO '!I$173:I$1080,'base de donnée JCO '!F$173:F$1080,I56,'base de donnée JCO '!G$173:G$1080,J56))) | O56: =IF(ISBLANK(I56),"",IF(ISBLANK(D56),#REF!+N56,D56+N56))
N57: =IF(ISBLANK(I57),"",IF(COUNTIF(I57,"*bombe*"),(G57-1)*SUMIF('base de donnée JCO '!C$3:C$10,K57,'base de donnée JCO '!D$3:D$10)+SUMIF(entete,L57,'base de donnée JCO '!D$14:D$20),SUMIFS('base de donnée JCO '!I$173:I$1080,'base de donnée JCO '!F$173:F$1080,I57,'base de donnée JCO '!G$173:G$1080,J57))) | O57: =IF(ISBLANK(I57),"",IF(ISBLANK(D57),D56+N57,D57+N57))
A58: 18 | D58: 0.0023032407 | F58: 2 | G58: 3 | I58: chandelle_30mm | J58: Zara bouquet vert clig | N58: =IF(ISBLANK(I58),"",IF(COUNTIF(I58,"*bombe*"),(G58-1)*SUMIF('base de donnée JCO '!C$3:C$10,K58,'base de donnée JCO '!D$3:D$10)+SUMIF(entete,L58,'base de donnée JCO '!D$14:D$20),SUMIFS('base de donnée JCO '!I$173:I$1080,'base de donnée JCO '!F$173:F$1080,I58,'base de donnée JCO '!G$173:G$1080,J58))) -> 0 | O58: =IF(ISBLANK(I58),"",IF(ISBLANK(D58),D56+N58,D58+N58)) -> 0.0023032407 | Q58: fen | U58: fen
N59: =IF(ISBLANK(I59),"",IF(COUNTIF(I59,"*bombe*"),(G59-1)*SUMIF('base de donnée JCO '!C$3:C$10,K59,'base de donnée JCO '!D$3:D$10)+SUMIF(entete,L59,'base de donnée JCO '!D$14:D$20),SUMIFS('base de donnée JCO '!I$173:I$1080,'base de donnée JCO '!F$173:F$1080,I59,'base de donnée JCO '!G$173:G$1080,J59))) | O59: =IF(ISBLANK(I59),"",IF(ISBLANK(D59),#REF!+N59,D59+N59))
A60: 19 | D60: 0.0023726852 | F60: 2 | G60: 5 | I60: bombe_100mm | J60: corolle de perles nacrées | K60: TR4 | N60: =IF(ISBLANK(I60),"",IF(COUNTIF(I60,"*bombe*"),(G60-1)*SUMIF('base de donnée JCO '!C$3:C$10,K60,'base de donnée JCO '!D$3:D$10)+SUMIF(entete,L60,'base de donnée JCO '!D$14:D$20),SUMIFS('base de donnée JCO '!I$173:I$1080,'base de donnée JCO '!F$173:F$1080,I60,'base de donnée JCO '!G$173:G$1080,J60))) -> 16.000185 | O60: =IF(ISBLANK(I60),"",IF(ISBLANK(D60),D59+N60,D60+N60)) -> 16.002558 | S60: \ /
N61: =IF(ISBLANK(I61),"",IF(COUNTIF(I61,"*bombe*"),(G61-1)*SUMIF('base de donnée JCO '!C$3:C$10,K61,'base de donnée JCO '!D$3:D$10)+SUMIF(entete,L61,'base de donnée JCO '!D$14:D$20),SUMIFS('base de donnée JCO '!I$173:I$1080,'base de donnée JCO '!F$173:F$1080,I61,'base de donnée JCO '!G$173:G$1080,J61))) | O61: =IF(ISBLANK(I61),"",IF(ISBLANK(D61),D60+N61,D61+N61))
A62: 20 | D62: 0.0025694444 | F62: 2 | G62: 9 | I62: bombe_75mm | J62: strobo argent | K62: TR3 | N62: =IF(ISBLANK(I62),"",IF(COUNTIF(I62,"*bombe*"),(G62-1)*SUMIF('base de donnée JCO '!C$3:C$10,K62,'base de donnée JCO '!D$3:D$10)+SUMIF(entete,L62,'base de donnée JCO '!D$14:D$20),SUMIFS('base de donnée JCO '!I$173:I$1080,'base de donnée JCO '!F$173:F$1080,I62,'base de donnée JCO '!G$173:G$1080,J62))) -> 24.000278 | O62: =IF(ISBLANK(I62),"",IF(ISBLANK(D62),D61+N62,D62+N62)) -> 24.002847 | S62: \ /
A63: 20 | F63: 1 | G63: 5 | I63: bombe_100mm | J63: Z/sph Cligno Rose | K63: TR5 | N63: =IF(ISBLANK(I63),"",IF(COUNTIF(I63,"*bombe*"),(G63-1)*SUMIF('base de donnée JCO '!C$3:C$10,K63,'base de donnée JCO '!D$3:D$10)+SUMIF(entete,L63,'base de donnée JCO '!D$14:D$20),SUMIFS('base de donnée JCO '!I$173:I$1080,'base de donnée JCO '!F$173:F$1080,I63,'base de donnée JCO '!G$173:G$1080,J63))) -> 20.000231 | O63: =IF(ISBLANK(I63),"",IF(ISBLANK(D63),D62+N63,D63+N63)) -> 20.002801 | S63: X
N64: =IF(ISBLANK(I64),"",IF(COUNTIF(I64,"*bombe*"),(G64-1)*SUMIF('base de donnée JCO '!C$3:C$10,K64,'base de donnée JCO '!D$3:D$10)+SUMIF(entete,L64,'base de donnée JCO '!D$14:D$20),SUMIFS('base de donnée JCO '!I$173:I$1080,'base de donnée JCO '!F$173:F$1080,I64,'base de donnée JCO '!G$173:G$1080,J64))) | O64: =IF(ISBLANK(I64),"",IF(ISBLANK(D64),D63+N64,D64+N64))
A65: 21 | D65: 0.0026041667 | F65: 2 | G65: 3 | I65: chandelle_30mm | J65: Zara bouquet rose clig | N65: =IF(ISBLANK(I65),"",IF(COUNTIF(I65,"*bombe*"),(G65-1)*SUMIF('base de donnée JCO '!C$3:C$10,K65,'base de donnée JCO '!D$3:D$10)+SUMIF(entete,L65,'base de donnée JCO '!D$14:D$20),SUMIFS('base de donnée JCO '!I$173:I$1080,'base de donnée JCO '!F$173:F$1080,I65,'base de donnée JCO '!G$173:G$1080,J65))) -> 0 | O65: =IF(ISBLANK(I65),"",IF(ISBLANK(D65),D63+N65,D65+N65)) -> 0.0026041667 | Q65: \ I / | U65: \ I /
A66: 21 | F66: 2 | G66: 2 | I66: chandelle_50mm | J66: pôt à feu argent clignotant CH | N66: =IF(ISBLANK(I66),"",IF(COUNTIF(I66,"*bombe*"),(G66-1)*SUMIF('base de donnée JCO '!C$3:C$10,K66,'base de donnée JCO '!D$3:D$10)+SUMIF(entete,L66,'base de donnée JCO '!D$14:D$20),SUMIFS('base de donnée JCO '!I$173:I$1080,'base de donnée JCO '!F$173:F$1080,I66,'base de donnée JCO '!G$173:G$1080,J66))) -> 0 | O66: =IF(ISBLANK(I66),"",IF(ISBLANK(D66),D65+N66,D66+N66)) -> 0.0026041667 | Q66: \ / | U66: \ /
N67: =IF(ISBLANK(I67),"",IF(COUNTIF(I67,"*bombe*"),(G67-1)*SUMIF('base de donnée JCO '!C$3:C$10,K67,'base de donnée JCO '!D$3:D$10)+SUMIF(entete,L67,'base de donnée JCO '!D$14:D$20),SUMIFS('base de donnée JCO '!I$173:I$1080,'base de donnée JCO '!F$173:F$1080,I67,'base de donnée JCO '!G$173:G$1080,J67))) | O67: =IF(ISBLANK(I67),"",IF(ISBLANK(D67),D66+N67,D67+N67))
A68: 22 | D68: 0.0026388889 | F68: 2 | G68: 10 | I68: bombe_75mm | J68: strobo argent | K68: TR3 | N68: =IF(ISBLANK(I68),"",IF(COUNTIF(I68,"*bombe*"),(G68-1)*SUMIF('base de donnée JCO '!C$3:C$10,K68,'base de donnée JCO '!D$3:D$10)+SUMIF(entete,L68,'base de donnée JCO '!D$14:D$20),SUMIFS('base de donnée JCO '!I$173:I$1080,'base de donnée JCO '!F$173:F$1080,I68,'base de donnée JCO '!G$173:G$1080,J68))) -> 27.000312 | O68: =IF(ISBLANK(I68),"",IF(ISBLANK(D68),D66+N68,D68+N68)) -> 27.002951 | S68: \ /
N69: =IF(ISBLANK(I69),"",IF(COUNTIF(I69,"*bombe*"),(G69-1)*SUMIF('base de donnée JCO '!C$3:C$10,K69,'base de donnée JCO '!D$3:D$10)+SUMIF(entete,L69,'base de donnée JCO '!D$14:D$20),SUMIFS('base de donnée JCO '!I$173:I$1080,'base de donnée JCO '!F$173:F$1080,I69,'base de donnée JCO '!G$173:G$1080,J69))) | O69: =IF(ISBLANK(I69),"",IF(ISBLANK(D69),D67+N69,D69+N69))
A70: 23 | D70: 0.0028587963 | F70: 2 | G70: 5 | I70: bombe_75mm | J70: strobo argent | K70: TR2 | N70: =IF(ISBLANK(I70),"",IF(COUNTIF(I70,"*bombe*"),(G70-1)*SUMIF('base de donnée JCO '!C$3:C$10,K70,'base de donnée JCO '!D$3:D$10)+SUMIF(entete,L70,'base de donnée JCO '!D$14:D$20),SUMIFS('base de donnée JCO '!I$173:I$1080,'base de donnée JCO '!F$173:F$1080,I70,'base de donnée JCO '!G$173:G$1080,J70))) -> 8.0000926 | O70: =IF(ISBLANK(I70),"",IF(ISBLANK(D70),D67+N70,D70+N70)) -> 8.0029514 | S70: \ /
A71: 23 | F71: 1 | G71: 5 | I71: bombe_100mm | J71: Nacre vert | K71: TR2 | N71: =IF(ISBLANK(I71),"",IF(COUNTIF(I71,"*bombe*"),(G71-1)*SUMIF('base de donnée JCO '!C$3:C$10,K71,'base de donnée JCO '!D$3:D$10)+SUMIF(entete,L71,'base de donnée JCO '!D$14:D$20),SUMIFS('base de donnée JCO '!I$173:I$1080,'base de donnée JCO '!F$173:F$1080,I71,'base de donnée JCO '!G$173:G$1080,J71))) -> 8.0000926 | O71: =IF(ISBLANK(I71),"",IF(ISBLANK(D71),D70+N71,D71+N71)) -> 8.0029514 | S71: X
N72: =IF(ISBLANK(I72),"",IF(COUNTIF(I72,"*bombe*"),(G72-1)*SUMIF('base de donnée JCO '!C$3:C$10,K72,'base de donnée JCO '!D$3:D$10)+SUMIF(entete,L72,'base de donnée JCO '!D$14:D$20),SUMIFS('base de donnée JCO '!I$173:I$1080,'base de donnée JCO '!F$173:F$1080,I72,'base de donnée JCO '!G$173:G$1080,J72))) | O72: =IF(ISBLANK(I72),"",IF(ISBLANK(D72),D67+N72,D72+N72))
A73: 24 | D73: 0.0028935185 | F73: 2 | G73: 1 | I73: compact_36cps_30mm | J73: JCOQUICK bicolore clignotant | N73: =IF(ISBLANK(I73),"",IF(COUNTIF(I73,"*bombe*"),(G73-1)*SUMIF('base de donnée JCO '!C$3:C$10,K73,'base de donnée JCO '!D$3:D$10)+SUMIF(entete,L73,'base de donnée JCO '!D$14:D$20),SUMIFS('base de donnée JCO '!I$173:I$1080,'base de donnée JCO '!F$173:F$1080,I73,'base de donnée JCO '!G$173:G$1080,J73))) -> 0 | O73: =IF(ISBLANK(I73),"",IF(ISBLANK(D73),D69+N73,D73+N73)) -> 0.0028935185 | Q73: x | U73: x
N74: =IF(ISBLANK(I74),"",IF(COUNTIF(I74,"*bombe*"),(G74-1)*SUMIF('base de donnée JCO '!C$3:C$10,K74,'base de donnée JCO '!D$3:D$10)+SUMIF(entete,L74,'base de donnée JCO '!D$14:D$20),SUMIFS('base de donnée JCO '!I$173:I$1080,'base de donnée JCO '!F$173:F$1080,I74,'base de donnée JCO '!G$173:G$1080,J74))) | O74: =IF(ISBLANK(I74),"",IF(ISBLANK(D74),#REF!+N74,D74+N74))
A75: 25 | D75: 0.0029050926 | F75: 2 | G75: 5 | I75: bombe_75mm | J75: strobo argent | K75: TR1 | N75: =IF(ISBLANK(I75),"",IF(COUNTIF(I75,"*bombe*"),(G75-1)*SUMIF('base de donnée JCO '!C$3:C$10,K75,'base de donnée JCO '!D$3:D$10)+SUMIF(entete,L75,'base de donnée JCO '!D$14:D$20),SUMIFS('base de donnée JCO '!I$173:I$1080,'base de donnée JCO '!F$173:F$1080,I75,'base de donnée JCO '!G$173:G$1080,J75))) -> 4.0000463 | O75: =IF(ISBLANK(I75),"",IF(ISBLANK(D75),#REF!+N75,D75+N75)) -> 4.0029514 | S75: \ /
A76: 25 | F76: 1 | G76: 5 | I76: bombe_100mm | J76: Nacre rouge | K76: TR1 | N76: =IF(ISBLANK(I76),"",IF(COUNTIF(I76,"*bombe*"),(G76-1)*SUMIF('base de donnée JCO '!C$3:C$10,K76,'base de donnée JCO '!D$3:D$10)+SUMIF(entete,L76,'base de donnée JCO '!D$14:D$20),SUMIFS('base de donnée JCO '!I$173:I$1080,'base de donnée JCO '!F$173:F$1080,I76,'base de donnée JCO '!G$173:G$1080,J76))) -> 4.0000463 | O76: =IF(ISBLANK(I76),"",IF(ISBLANK(D76),D75+N76,D76+N76)) -> 4.0029514 | S76: I
N77: =IF(ISBLANK(I77),"",IF(COUNTIF(I77,"*bombe*"),(G77-1)*SUMIF('base de donnée JCO '!C$3:C$10,K77,'base de donnée JCO '!D$3:D$10)+SUMIF(entete,L77,'base de donnée JCO '!D$14:D$20),SUMIFS('base de donnée JCO '!I$173:I$1080,'base de donnée JCO '!F$173:F$1080,I77,'base de donnée JCO '!G$173:G$1080,J77))) | O77: =IF(ISBLANK(I77),"",IF(ISBLANK(D77),#REF!+N77,D77+N77))
A78: 26 | D78: 0.002974537 | F78: 1 | G78: 5 | I78: bombe_100mm | J78: Nacre blanc | K78: \ I / | S78: \ I /
A79: 26 | F79: 1 | G79: 3 | I79: bombe_125mm | J79: ZARA Bouquet magnésium rouge(ROSE clig) | K79: \ I / | S79: \ I /
N80: =IF(ISBLANK(I80),"",IF(COUNTIF(I80,"*bombe*"),(G80-1)*SUMIF('base de donnée JCO '!C$3:C$10,K80,'base de donnée JCO '!D$3:D$10)+SUMIF(entete,L80,'base de donnée JCO '!D$14:D$20),SUMIFS('base de donnée JCO '!I$173:I$1080,'base de donnée JCO '!F$173:F$1080,I80,'base de donnée JCO '!G$173:G$1080,J80))) | O80: =IF(ISBLANK(I80),"",IF(ISBLANK(D80),#REF!+N80,D80+N80))
N81: =IF(ISBLANK(I81),"",IF(COUNTIF(I81,"*bombe*"),(G81-1)*SUMIF('base de donnée JCO '!C$3:C$10,K81,'base de donnée JCO '!D$3:D$10)+SUMIF(entete,L81,'base de donnée JCO '!D$14:D$20),SUMIFS('base de donnée JCO '!I$173:I$1080,'base de donnée JCO '!F$173:F$1080,I81,'base de donnée JCO '!G$173:G$1080,J81))) | O81: =IF(ISBLANK(I81),"",IF(ISBLANK(D81),#REF!+N81,D81+N81))
N82: =IF(ISBLANK(I82),"",IF(COUNTIF(I82,"*bombe*"),(G82-1)*SUMIF('base de donnée JCO '!C$3:C$10,K82,'base de donnée JCO '!D$3:D$10)+SUMIF(entete,L82,'base de donnée JCO '!D$14:D$20),SUMIFS('base de donnée JCO '!I$173:I$1080,'base de donnée JCO '!F$173:F$1080,I82,'base de donnée JCO '!G$173:G$1080,J82))) | O82: =IF(ISBLANK(I82),"",IF(ISBLANK(D82),D81+N82,D82+N82))
N83: =IF(ISBLANK(I83),"",IF(COUNTIF(I83,"*bombe*"),(G83-1)*SUMIF('base de donnée JCO '!C$3:C$10,K83,'base de donnée JCO '!D$3:D$10)+SUMIF(entete,L83,'base de donnée JCO '!D$14:D$20),SUMIFS('base de donnée JCO '!I$173:I$1080,'base de donnée JCO '!F$173:F$1080,I83,'base de donnée JCO '!G$173:G$1080,J83))) | O83: =IF(ISBLANK(I83),"",IF(ISBLANK(D83),D82+N83,D83+N83))
N84: =IF(ISBLANK(I84),"",IF(COUNTIF(I84,"*bombe*"),(G84-1)*SUMIF('base de donnée JCO '!C$3:C$10,K84,'base de donnée JCO '!D$3:D$10)+SUMIF(entete,L84,'base de donnée JCO '!D$14:D$20),SUMIFS('base de donnée JCO '!I$173:I$1080,'base de donnée JCO '!F$173:F$1080,I84,'base de donnée JCO '!G$173:G$1080,J84))) | O84: =IF(ISBLANK(I84),"",IF(ISBLANK(D84),D83+N84,D84+N84))
N85: =IF(ISBLANK(I85),"",IF(COUNTIF(I85,"*bombe*"),(G85-1)*SUMIF('base de donnée JCO '!C$3:C$10,K85,'base de donnée JCO '!D$3:D$10)+SUMIF(entete,L85,'base de donnée JCO '!D$14:D$20),SUMIFS('base de donnée JCO '!I$173:I$1080,'base de donnée JCO '!F$173:F$1080,I85,'base de donnée JCO '!G$173:G$1080,J85))) | O85: =IF(ISBLANK(I85),"",IF(ISBLANK(D85),D84+N85,D85+N85))
N86: =IF(ISBLANK(I86),"",IF(COUNTIF(I86,"*bombe*"),(G86-1)*SUMIF('base de donnée JCO '!C$3:C$10,K86,'base de donnée JCO '!D$3:D$10)+SUMIF(entete,L86,'base de donnée JCO '!D$14:D$20),SUMIFS('base de donnée JCO '!I$173:I$1080,'base de donnée JCO '!F$173:F$1080,I86,'base de donnée JCO '!G$173:G$1080,J86))) | O86: =IF(ISBLANK(I86),"",IF(ISBLANK(D86),D85+N86,D86+N86))
N87: =IF(ISBLANK(I87),"",IF(COUNTIF(I87,"*bombe*"),(G87-1)*SUMIF('base de donnée JCO '!C$3:C$10,K87,'base de donnée JCO '!D$3:D$10)+SUMIF(entete,L87,'base de donnée JCO '!D$14:D$20),SUMIFS('base de donnée JCO '!I$173:I$1080,'base de donnée JCO '!F$173:F$1080,I87,'base de donnée JCO '!G$173:G$1080,J87))) | O87: =IF(ISBLANK(I87),"",IF(ISBLANK(D87),D86+N87,D87+N87))
N88: =IF(ISBLANK(I88),"",IF(COUNTIF(I88,"*bombe*"),(G88-1)*SUMIF('base de donnée JCO '!C$3:C$10,K88,'base de donnée JCO '!D$3:D$10)+SUMIF(entete,L88,'base de donnée JCO '!D$14:D$20),SUMIFS('base de donnée JCO '!I$173:I$1080,'base de donnée JCO '!F$173:F$1080,I88,'base de donnée JCO '!G$173:G$1080,J88))) | O88: =IF(ISBLANK(I88),"",IF(ISBLANK(D88),D87+N88,D88+N88))
N89: =IF(ISBLANK(I89),"",IF(COUNTIF(I89,"*bombe*"),(G89-1)*SUMIF('base de donnée JCO '!C$3:C$10,K89,'base de donnée JCO '!D$3:D$10)+SUMIF(entete,L89,'base de donnée JCO '!D$14:D$20),SUMIFS('base de donnée JCO '!I$173:I$1080,'base de donnée JCO '!F$173:F$1080,I89,'base de donnée JCO '!G$173:G$1080,J89))) | O89: =IF(ISBLANK(I89),"",IF(ISBLANK(D89),D88+N89,D89+N89))
N90: =IF(ISBLANK(I90),"",IF(COUNTIF(I90,"*bombe*"),(G90-1)*SUMIF('base de donnée JCO '!C$3:C$10,K90,'base de donnée JCO '!D$3:D$10)+SUMIF(entete,L90,'base de donnée JCO '!D$14:D$20),SUMIFS('base de donnée JCO '!I$173:I$1080,'base de donnée JCO '!F$173:F$1080,I90,'base de donnée JCO '!G$173:G$1080,J90))) | O90: =IF(ISBLANK(I90),"",IF(ISBLANK(D90),D89+N90,D90+N90))
N91: =IF(ISBLANK(I91),"",IF(COUNTIF(I91,"*bombe*"),(G91-1)*SUMIF('base de donnée JCO '!C$3:C$10,K91,'base de donnée JCO '!D$3:D$10)+SUMIF(entete,L91,'base de donnée JCO '!D$14:D$20),SUMIFS('base de donnée JCO '!I$173:I$1080,'base de donnée JCO '!F$173:F$1080,I91,'base de donnée JCO '!G$173:G$1080,J91))) | O91: =IF(ISBLANK(I91),"",IF(ISBLANK(D91),D90+N91,D91+N91))
N92: =IF(ISBLANK(I92),"",IF(COUNTIF(I92,"*bombe*"),(G92-1)*SUMIF('base de donnée JCO '!C$3:C$10,K92,'base de donnée JCO '!D$3:D$10)+SUMIF(entete,L92,'base de donnée JCO '!D$14:D$20),SUMIFS('base de donnée JCO '!I$173:I$1080,'base de donnée JCO '!F$173:F$1080,I92,'base de donnée JCO '!G$173:G$1080,J92))) | O92: =IF(ISBLANK(I92),"",IF(ISBLANK(D92),D91+N92,D92+N92))
N93: =IF(ISBLANK(I93),"",IF(COUNTIF(I93,"*bombe*"),(G93-1)*SUMIF('base de donnée JCO '!C$3:C$10,K93,'base de donnée JCO '!D$3:D$10)+SUMIF(entete,L93,'base de donnée JCO '!D$14:D$20),SUMIFS('base de donnée JCO '!I$173:I$1080,'base de donnée JCO '!F$173:F$1080,I93,'base de donnée JCO '!G$173:G$1080,J93))) | O93: =IF(ISBLANK(I93),"",IF(ISBLANK(D93),D92+N93,D93+N93))
... N770: =IF(ISBLANK(I770),"",IF(COUNTIF(I770,"*bombe*"),(G770-1)*SUMIF('base de donnée JCO '!C$3:C$10,K770,'base de donnée JCO '!D$3:D$10)+SUMIF(entete,L770,'base de donnée JCO '!D$14:D$20),SUMIFS('base de donnée JCO '!I$173:I$1080,'base de donnée JCO '!F$173:F$1080,I770,'base de donnée JCO '!G$173:G$1080,J770))) | O770: =IF(ISBLANK(I770),"",IF(ISBLANK(D770),D769+N770,D770+N770))

Sheet sortie par type
A7: LIGNE | B7: POSTE | C7: QTE | D7: Designation | F7: Montage
D9: =D11 -> bengale_lance_décor
A11: ='plan de tir'!A16 -> 1 | B11: ='plan de tir'!F16 -> 8 | C11: ='plan de tir'!G16 -> 1 | D11: ='plan de tir'!I16 -> bengale_lance_décor | E11: ='plan de tir'!J16 -> Bengale rouge 1 min
D13: =D15 -> bombe_100mm
A15: ='plan de tir'!A35 -> 9 | B15: ='plan de tir'!F35 -> 2 | C15: ='plan de tir'!G35 -> 7 | D15: ='plan de tir'!I35 -> bombe_100mm | E15: ='plan de tir'!J35 -> crossette rouge et craq | F15: ='plan de tir'!K35 -> TR3
A16: ='plan de tir'!A40 -> 11 | B16: ='plan de tir'!F40 -> 2 | C16: ='plan de tir'!G40 -> 5 | D16: ='plan de tir'!I40 -> bombe_100mm | E16: ='plan de tir'!J40 -> crossette rouge et craq | F16: ='plan de tir'!K40 -> TR3
A17: ='plan de tir'!A44 -> 13 | B17: ='plan de tir'!F44 -> 3 | C17: ='plan de tir'!G44 -> 5 | D17: ='plan de tir'!I44 -> bombe_100mm | E17: ='plan de tir'!J44 -> queue de cheval argent | F17: ='plan de tir'!K44 -> TR2
A18: ='plan de tir'!A53 -> 16 | B18: ='plan de tir'!F53 -> 1 | C18: ='plan de tir'!G53 -> 10 | D18: ='plan de tir'!I53 -> bombe_100mm | E18: ='plan de tir'!J53 -> corolle de perles nacrées | F18: ='plan de tir'!K53 -> TR5 | G18: ='plan de tir'!L53 -> 2''T
A19: ='plan de tir'!A60 -> 19 | B19: ='plan de tir'!F60 -> 2 | C19: ='plan de tir'!G60 -> 5 | D19: ='plan de tir'!I60 -> bombe_100mm | E19: ='plan de tir'!J60 -> corolle de perles nacrées | F19: ='plan de tir'!K60 -> TR4
A20: ='plan de tir'!A63 -> 20 | B20: ='plan de tir'!F63 -> 1 | C20: ='plan de tir'!G63 -> 5 | D20: ='plan de tir'!I63 -> bombe_100mm | E20: ='plan de tir'!J63 -> Z/sph Cligno Rose | F20: ='plan de tir'!K63 -> TR5
A21: ='plan de tir'!A71 -> 23 | B21: ='plan de tir'!F71 -> 1 | C21: ='plan de tir'!G71 -> 5 | D21: ='plan de tir'!I71 -> bombe_100mm | E21: ='plan de tir'!J71 -> Nacre vert | F21: ='plan de tir'!K71 -> TR2
A22: ='plan de tir'!A76 -> 25 | B22: ='plan de tir'!F76 -> 1 | C22: ='plan de tir'!G76 -> 5 | D22: ='plan de tir'!I76 -> bombe_100mm | E22: ='plan de tir'!J76 -> Nacre rouge | F22: ='plan de tir'!K76 -> TR1
A23: ='plan de tir'!A78 -> 26 | B23: ='plan de tir'!F78 -> 1 | C23: ='plan de tir'!G78 -> 5 | D23: ='plan de tir'!I78 -> bombe_100mm | E23: ='plan de tir'!J78 -> Nacre blanc | F23: ='plan de tir'!K78 -> \ I /
D25: =D27 -> bombe_125mm
A27: ='plan de tir'!A36 -> 9 | B27: ='plan de tir'!F36 -> 1 | C27: ='plan de tir'!G36 -> 4 | D27: ='plan de tir'!I36 -> bombe_125mm | E27: ='plan de tir'!J36 -> crossette rouge et craq | F27: ='plan de tir'!K36 -> TR6
A28: ='plan de tir'!A79 -> 26 | B28: ='plan de tir'!F79 -> 1 | C28: ='plan de tir'!G79 -> 3 | D28: ='plan de tir'!I79 -> bombe_125mm | E28: ='plan de tir'!J79 -> ZARA Bouquet magnésium rouge(ROSE clig) | F28: ='plan de tir'!K79 -> \ I /
D30: =D32 -> bombe_150mm
A32: ='plan de tir'!A42 -> 12 | B32: ='plan de tir'!F42 -> 1 | C32: ='plan de tir'!G42 -> 2 | D32: ='plan de tir'!I42 -> bombe_150mm | E32: ='plan de tir'!J42 -> ZARA sph clig blanc/8bqtschevblanc | F32: ='plan de tir'!K42 -> \ /
D34: =D36 -> bombe_75mm
A36: ='plan de tir'!A18 -> 2 | B36: ='plan de tir'!F18 -> 1 | C36: ='plan de tir'!G18 -> 2 | D36: ='plan de tir'!I18 -> bombe_75mm | E36: ='plan de tir'!J18 -> Z/cyl marron d'air titan | F36: ='plan de tir'!K18 -> \ /
A37: ='plan de tir'!A23 -> 4 | B37: ='plan de tir'!F23 -> 1 | C37: ='plan de tir'!G23 -> 10 | D37: ='plan de tir'!I23 -> bombe_75mm | E37: ='plan de tir'!J23 -> color Ass + trainée ( série ) | F37: ='plan de tir'!K23 -> TR6
A38: ='plan de tir'!A24 -> 4 | B38: ='plan de tir'!F24 -> 1 | C38: ='plan de tir'!G24 -> 10 | D38: ='plan de tir'!I24 -> bombe_75mm | E38: ='plan de tir'!J24 -> color Ass + trainée ( série ) | F38: ='plan de tir'!K24 -> TR6
A39: ='plan de tir'!A29 -> 6 | B39: ='plan de tir'!F29 -> 1 | C39: ='plan de tir'!G29 -> 5 | D39: ='plan de tir'!I29 -> bombe_75mm | E39: ='plan de tir'!J29 -> Cylindrique Chine coul et détos | F39: ='plan de tir'!K29 -> TR3
A40: ='plan de tir'!A33 -> 8 | B40: ='plan de tir'!F33 -> 1 | C40: ='plan de tir'!G33 -> 5 | D40: ='plan de tir'!I33 -> bombe_75mm | E40: ='plan de tir'!J33 -> Cylindrique Chine coul et détos | F40: ='plan de tir'!K33 -> TR2
A41: ='plan de tir'!A46 -> 14 | B41: ='plan de tir'!F46 -> 4 | C41: ='plan de tir'!G46 -> 5 | D41: ='plan de tir'!I46 -> bombe_75mm | E41: ='plan de tir'!J46 -> queue de cheval blanc clig | F41: ='plan de tir'!K46 -> TR1
A42: ='plan de tir'!A52 -> 16 | B42: ='plan de tir'!F52 -> 2 | C42: ='plan de tir'!G52 -> 10 | D42: ='plan de tir'!I52 -> bombe_75mm | E42: ='plan de tir'!J52 -> color strobe special | F42: ='plan de tir'!K52 -> TR5
A43: ='plan de tir'!A62 -> 20 | B43: ='plan de tir'!F62 -> 2 | C43: ='plan de tir'!G62 -> 9 | D43: ='plan de tir'!I62 -> bombe_75mm | E43: ='plan de tir'!J62 -> strobo argent | F43: ='plan de tir'!K62 -> TR3
A44: ='plan de tir'!A68 -> 22 | B44: ='plan de tir'!F68 -> 2 | C44: ='plan de tir'!G68 -> 10 | D44: ='plan de tir'!I68 -> bombe_75mm | E44: ='plan de tir'!J68 -> strobo argent | F44: ='plan de tir'!K68 -> TR3
A45: ='plan de tir'!A70 -> 23 | B45: ='plan de tir'!F70 -> 2 | C45: ='plan de tir'!G70 -> 5 | D45: ='plan de tir'!I70 -> bombe_75mm | E45: ='plan de tir'!J70 -> strobo argent | F45: ='plan de tir'!K70 -> TR2
A46: ='plan de tir'!A75 -> 25 | B46: ='plan de tir'!F75 -> 2 | C46: ='plan de tir'!G75 -> 5 | D46: ='plan de tir'!I75 -> bombe_75mm | E46: ='plan de tir'!J75 -> strobo argent | F46: ='plan de tir'!K75 -> TR1
D48: =D50 -> chandelle_30mm
A50: ='plan de tir'!A58 -> 18 | B50: ='plan de tir'!F58 -> 2 | C50: ='plan de tir'!G58 -> 3 | D50: ='plan de tir'!I58 -> chandelle_30mm | E50: ='plan de tir'!J58 -> Zara bouquet vert clig
A51: ='plan de tir'!A65 -> 21 | B51: ='plan de tir'!F65 -> 2 | C51: ='plan de tir'!G65 -> 3 | D51: ='plan de tir'!I65 -> chandelle_30mm | E51: ='plan de tir'!J65 -> Zara bouquet rose clig
D53: =D55 -> chandelle_40mm
A55: ='plan de tir'!A26 -> 5 | B55: ='plan de tir'!F26 -> 2 | C55: ='plan de tir'!G26 -> 2 | D55: ='plan de tir'!I26 -> chandelle_40mm | E55: ='plan de tir'!J26 -> crossettes vertes
A56: ='plan de tir'!A31 -> 7 | B56: ='plan de tir'!F31 -> 1 | C56: ='plan de tir'!G31 -> 4 | D56: ='plan de tir'!I31 -> chandelle_40mm | E56: ='plan de tir'!J31 -> crossettes craquelantes
D58: =D60 -> chandelle_50mm
A60: ='plan de tir'!A66 -> 21 | B60: ='plan de tir'!F66 -> 2 | C60: ='plan de tir'!G66 -> 2 | D60: ='plan de tir'!I66 -> chandelle_50mm | E60: ='plan de tir'!J66 -> pôt à feu argent clignotant CH
D62: =D64 -> compact_25cps_30mm
A64: ='plan de tir'!A51 -> 16 | B64: ='plan de tir'!F51 -> 2 | C64: ='plan de tir'!G51 -> 1 | D64: ='plan de tir'!I51 -> compact_25cps_30mm | E64: ='plan de tir'!J51 -> PYROVENTYS volcan et bouquet argent et rouge
D66: =D68 -> compact_36cps_30mm
A68: ='plan de tir'!A22 -> 4 | B68: ='plan de tir'!F22 -> 2 | C68: ='plan de tir'!G22 -> 1 | D68: ='plan de tir'!I22 -> compact_36cps_30mm | E68: ='plan de tir'!J22 -> JCOPACK Rouge vif
A69: ='plan de tir'!A28 -> 6 | B69: ='plan de tir'!F28 -> 2 | C69: ='plan de tir'!G28 -> 1 | D69: ='plan de tir'!I28 -> compact_36cps_30mm | E69: ='plan de tir'!J28 -> JCOPACK Croustillant Dahlia et palme craq
A70: ='plan de tir'!A73 -> 24 | B70: ='plan de tir'!F73 -> 2 | C70: ='plan de tir'!G73 -> 1 | D70: ='plan de tir'!I73 -> compact_36cps_30mm | E70: ='plan de tir'!J73 -> JCOQUICK bicolore clignotant
D72: =D74 -> compact_49cps_30mm
A74: ='plan de tir'!A20 -> 3 | B74: ='plan de tir'!F20 -> 1 | C74: ='plan de tir'!G20 -> 1 | D74: ='plan de tir'!I20 -> compact_49cps_30mm | E74: ='plan de tir'!J20 -> Pyroventail finition or ( ola com )
D76: =D78 -> pyroshow
A78: ='plan de tir'!A38 -> 10 | B78: ='plan de tir'!F38 -> 2 | C78: ='plan de tir'!G38 -> 1 | D78: ='plan de tir'!I38 -> pyroshow | E78: ='plan de tir'!J38 -> 65 cps 30mm OLA gerbe frisson et bleu
A79: ='plan de tir'!A49 -> 15 | B79: ='plan de tir'!F49 -> 1 | C79: ='plan de tir'!G49 -> 1 | D79: ='plan de tir'!I49 -> pyroshow | E79: ='plan de tir'!J49 -> 182 cps 19 mm cross violet /citron JW4446
A80: ='plan de tir'!A55 -> 17 | B80: ='plan de tir'!F55 -> 2 | C80: ='plan de tir'!G55 -> 1 | D80: ='plan de tir'!I55 -> pyroshow | E80: ='plan de tir'!J55 -> 100 cps 30 mm onduline arg craquant

Sheet stat
A3: Ville: | C3: ='plan de tir'!C3:G3 -> 0 | I3: DS MAX : | J3: ='plan de tir'!J3 -> 0
A7: Thème: | C7: ='plan de tir'!C7:G7 -> 0 | I7: Calibre MAX : | J7: ='plan de tir'!J7 -> 0
A11: Date: | C11: ='plan de tir'!C11:G11 -> 0 | I11: Durée : | J11: ='plan de tir'!J11 -> 0
Z14: =IF(ISBLANK(I14),"",IF(COUNTIF(I14,"*BOMBE_50MM*"),IF(COUNTIF(K14,"*TR*"),IF(G14>=6,F14*1,0.5*F14),"")))
A15: Type régie: | E15: Régie trad | J15: RECAPE GENERALE Pyro | Z15: =IF(ISBLANK(I15),"",IF(COUNTIF(I15,"*BOMBE_50MM*"),IF(COUNTIF(K15,"*TR*"),IF(G15>=6,F15*1,0.5*F15),"")))
Z16: =IF(ISBLANK(I16),"",IF(COUNTIF(I16,"*BOMBE_50MM*"),IF(COUNTIF(K16,"*TR*"),IF(G16>=6,F16*1,0.5*F16),"")))
A17: Qte fil : | E17: =IF(ISBLANK(E15),"",IF(COUNTIF(E15,"*trad*"),SUM('plan de tir'!#REF!),IF(COUNTIF(E15,"*V40*"),SUM('plan de tir'!#REF!),SUM('plan de tir'!#REF!)))) -> #REF! | G17: m | J17: bombe_50mm | L17: =SUMIF('plan de tir'!I$16:I$770,J17,'plan de tir'!#REF!) -> #REF! | Z17: =IF(ISBLANK(I17),"",IF(COUNTIF(I17,"*BOMBE_50MM*"),IF(COUNTIF(K17,"*TR*"),IF(G17>=6,F17*1,0.5*F17),"")))
A18: Nbr bobine 250 m : | E18: =IF(ISBLANK(E17),"",ROUNDUP((E17/250),0)) -> #REF! | J18: bombe_75mm | L18: =SUMIF('plan de tir'!I$16:I$770,J18,'plan de tir'!#REF!) -> #REF! | Z18: =IF(ISBLANK(I18),"",IF(COUNTIF(I18,"*BOMBE_50MM*"),IF(COUNTIF(K18,"*TR*"),IF(E18>=6,F18*1,0.5*F18),"")))
J19: bombe_100mm | L19: =SUMIF('plan de tir'!I$16:I$770,J19,'plan de tir'!#REF!) -> #REF! | Z19: =IF(ISBLANK(I19),"",IF(COUNTIF(I19,"*BOMBE_50MM*"),IF(COUNTIF(K19,"*TR*"),IF(G19>=6,F19*1,0.5*F19),"")))
J20: bombe_125mm | L20: =SUMIF('plan de tir'!I$16:I$770,J20,'plan de tir'!#REF!) -> #REF! | Z20: =IF(ISBLANK(I20),"",IF(COUNTIF(I20,"*BOMBE_50MM*"),IF(COUNTIF(K20,"*TR*"),IF(G20>=6,F20*1,0.5*F20),"")))
J21: bombe_150mm | L21: =SUMIF('plan de tir'!I$16:I$770,J21,'plan de tir'!#REF!) -> #REF! | Z21: =IF(ISBLANK(I21),"",IF(COUNTIF(I21,"*BOMBE_50MM*"),IF(COUNTIF(K21,"*TR*"),IF(G21>=6,F21*1,0.5*F21),"")))
J22: bombe_200mm | L22: =SUMIF('plan de tir'!I$16:I$770,J22,'plan de tir'!#REF!) -> #REF! | Z22: =IF(ISBLANK(I22),"",IF(COUNTIF(I22,"*BOMBE_50MM*"),IF(COUNTIF(K22,"*TR*"),IF(G22>=6,F22*1,0.5*F22),"")))
Z23: =IF(ISBLANK(I23),"",IF(COUNTIF(I23,"*BOMBE_50MM*"),IF(COUNTIF(K23,"*TR*"),IF(G23>=6,F23*1,0.5*F23),"")))
J24: botte_de_chandelles | L24: =SUMIF('plan de tir'!I$16:I$770,J24,'plan de tir'!#REF!) -> #REF! | Z24: =IF(ISBLANK(I24),"",IF(COUNTIF(I24,"*BOMBE_50MM*"),IF(COUNTIF(K24,"*TR*"),IF(G24>=6,F24*1,0.5*F24),"")))
J25: chandelle_20mm | L25: =SUMIF('plan de tir'!I$16:I$770,J25,'plan de tir'!#REF!) -> #REF!
J26: chandelle_25mm | L26: =SUMIF('plan de tir'!I$16:I$770,J26,'plan de tir'!#REF!) -> #REF! | Z26: =IF(ISBLANK(I26),"",IF(COUNTIF(I26,"*BOMBE_50MM*"),IF(COUNTIF(K26,"*TR*"),IF(G26>=6,F26*1,0.5*F26),"")))
J27: chandelle_30mm | L27: =SUMIF('plan de tir'!I$16:I$770,J27,'plan de tir'!#REF!) -> #REF! | Z27: =IF(ISBLANK(I27),"",IF(COUNTIF(I27,"*BOMBE_50MM*"),IF(COUNTIF(K27,"*TR*"),IF(G27>=6,F27*1,0.5*F27),"")))
J28: chandelle_40mm | L28: =SUMIF('plan de tir'!I$16:I$770,J28,'plan de tir'!#REF!) -> #REF! | Z28: =IF(ISBLANK(I28),"",IF(COUNTIF(I28,"*BOMBE_50MM*"),IF(COUNTIF(K28,"*TR*"),IF(G28>=6,F28*1,0.5*F28),"")))
J29: chandelle_45mm | L29: =SUMIF('plan de tir'!I$16:I$770,J29,'plan de tir'!#REF!) -> #REF! | Z29: =IF(ISBLANK(I29),"",IF(COUNTIF(I29,"*BOMBE_50MM*"),IF(COUNTIF(K29,"*TR*"),IF(G29>=6,F29*1,0.5*F29),"")))
J30: chandelle_50mm | L30: =SUMIF('plan de tir'!I$16:I$770,J30,'plan de tir'!#REF!) -> #REF! | Z30: =IF(ISBLANK(I30),"",IF(COUNTIF(I30,"*BOMBE_50MM*"),IF(COUNTIF(K30,"*TR*"),IF(G30>=6,F30*1,0.5*F30),"")))
Z31: =IF(ISBLANK(I31),"",IF(COUNTIF(I31,"*BOMBE_50MM*"),IF(COUNTIF(K31,"*TR*"),IF(G31>=6,F31*1,0.5*F31),"")))
J32: compact_19cps_30mm | L32: =SUMIF('plan de tir'!I$16:I$770,J32,'plan de tir'!#REF!) -> #REF! | Z32: =IF(ISBLANK(I32),"",IF(COUNTIF(I32,"*BOMBE_50MM*"),IF(COUNTIF(K32,"*TR*"),IF(G32>=6,F32*1,0.5*F32),"")))
J33: compact_21cps_30mm | L33: =SUMIF('plan de tir'!I$16:I$770,J33,'plan de tir'!#REF!) -> #REF! | Z33: =IF(ISBLANK(I33),"",IF(COUNTIF(I33,"*BOMBE_50MM*"),IF(COUNTIF(K33,"*TR*"),IF(G33>=6,F33*1,0.5*F33),"")))
J34: compact_25cps_30mm | L34: =SUMIF('plan de tir'!I$16:I$770,J34,'plan de tir'!#REF!) -> #REF! | Z34: =IF(ISBLANK(I34),"",IF(COUNTIF(I34,"*BOMBE_50MM*"),IF(COUNTIF(K34,"*TR*"),IF(G34>=6,F34*1,0.5*F34),"")))
J35: compact_36cps_30mm | L35: =SUMIF('plan de tir'!I$16:I$770,J35,'plan de tir'!#REF!) -> #REF! | Z35: =IF(ISBLANK(I35),"",IF(COUNTIF(I35,"*BOMBE_50MM*"),IF(COUNTIF(K35,"*TR*"),IF(G35>=6,F35*1,0.5*F35),"")))
J36: compact_49cps_30mm | L36: =SUMIF('plan de tir'!I$16:I$770,J36,'plan de tir'!#REF!) -> #REF! | Z36: =IF(ISBLANK(I36),"",IF(COUNTIF(I36,"*BOMBE_50MM*"),IF(COUNTIF(K36,"*TR*"),IF(G36>=6,F36*1,0.5*F36),"")))
J37: compact_divers | L37: =SUMIF('plan de tir'!I$16:I$770,J37,'plan de tir'!#REF!) -> #REF! | Z37: =IF(ISBLANK(I37),"",IF(COUNTIF(I37,"*BOMBE_50MM*"),IF(COUNTIF(K37,"*TR*"),IF(G37>=6,F37*1,0.5*F37),"")))
J38: pyroshow | L38: =SUMIF('plan de tir'!I$16:I$770,J38,'plan de tir'!#REF!) -> #REF! | Z38: =IF(ISBLANK(I38),"",IF(COUNTIF(I38,"*BOMBE_50MM*"),IF(COUNTIF(K38,"*TR*"),IF(G38>=6,F38*1,0.5*F38),"")))
J39: rangée_30mm | L39: =SUMIF('plan de tir'!I$16:I$770,J39,'plan de tir'!#REF!) -> #REF! | Z39: =IF(ISBLANK(I39),"",IF(COUNTIF(I39,"*BOMBE_50MM*"),IF(COUNTIF(K39,"*TR*"),IF(G39>=6,F39*1,0.5*F39),"")))
Z40: =IF(ISBLANK(I40),"",IF(COUNTIF(I40,"*BOMBE_50MM*"),IF(COUNTIF(K40,"*TR*"),IF(G40>=6,F40*1,0.5*F40),"")))
J41: mono_coup_20mm | L41: =SUMIF('plan de tir'!I$16:I$770,J41,'plan de tir'!#REF!) -> #REF! | Z41: =IF(ISBLANK(I41),"",IF(COUNTIF(I41,"*BOMBE_50MM*"),IF(COUNTIF(K41,"*TR*"),IF(G41>=6,F41*1,0.5*F41),"")))
J42: mono_coup_30mm | L42: =SUMIF('plan de tir'!I$16:I$770,J42,'plan de tir'!#REF!) -> #REF! | Z42: =IF(ISBLANK(I42),"",IF(COUNTIF(I42,"*BOMBE_50MM*"),IF(COUNTIF(K42,"*TR*"),IF(G42>=6,F42*1,0.5*F42),"")))
J43: mono_coup_45mm | L43: =SUMIF('plan de tir'!I$16:I$770,J43,'plan de tir'!#REF!) -> #REF! | Z43: =IF(ISBLANK(I43),"",IF(COUNTIF(I43,"*BOMBE_50MM*"),IF(COUNTIF(K43,"*TR*"),IF(G43>=6,F43*1,0.5*F43),"")))
Z44: =IF(ISBLANK(I44),"",IF(COUNTIF(I44,"*BOMBE_50MM*"),IF(COUNTIF(K44,"*TR*"),IF(G44>=6,F44*1,0.5*F44),"")))
J45: Fontaine_jet | L45: =SUMIF('plan de tir'!I$16:I$770,J45,'plan de tir'!#REF!) -> #REF! | Z45: =IF(ISBLANK(I45),"",IF(COUNTIF(I45,"*BOMBE_50MM*"),IF(COUNTIF(K45,"*TR*"),IF(G45>=6,F45*1,0.5*F45),"")))
J46: bengale_lance_décor | L46: =SUMIF('plan de tir'!I$16:I$66,J46,'plan de tir'!#REF!) -> #REF! | Z46: =IF(ISBLANK(I46),"",IF(COUNTIF(I46,"*BOMBE_50MM*"),IF(COUNTIF(K46,"*TR*"),IF(G46>=6,F46*1,0.5*F46),"")))
Z47: =IF(ISBLANK(I47),"",IF(COUNTIF(I47,"*BOMBE_50MM*"),IF(COUNTIF(K47,"*TR*"),IF(G47>=6,F47*1,0.5*F47),"")))
Z48: =IF(ISBLANK(I48),"",IF(COUNTIF(I48,"*BOMBE_50MM*"),IF(COUNTIF(K48,"*TR*"),IF(G48>=6,F48*1,0.5*F48),"")))
J49: Prix total : | K49: =SUM('plan de tir'!#REF!) -> #REF! | L49: euros | Z49: =IF(ISBLANK(I49),"",IF(COUNTIF(I49,"*BOMBE_50MM*"),IF(COUNTIF(K49,"*TR*"),IF(G49>=6,F49*1,0.5*F49),"")))
Z50: =IF(ISBLANK(I50),"",IF(COUNTIF(I50,"*BOMBE_50MM*"),IF(COUNTIF(K50,"*TR*"),IF(G50>=6,F50*1,0.5*F50),"")))
Z51: =IF(ISBLANK(I51),"",IF(COUNTIF(I51,"*BOMBE_50MM*"),IF(COUNTIF(K51,"*TR*"),IF(G51>=6,F51*1,0.5*F51),"")))
Z52: =IF(ISBLANK(I52),"",IF(COUNTIF(I52,"*BOMBE_50MM*"),IF(COUNTIF(K52,"*TR*"),IF(G52>=6,F52*1,0.5*F52),"")))
J53: Matière Active : | K53: =SUM('plan de tir'!#REF!) -> #REF! | L53: kg | Z53: =IF(ISBLANK(I53),"",IF(COUNTIF(I53,"*BOMBE_50MM*"),IF(COUNTIF(K53,"*TR*"),IF(G53>=6,F53*1,0.5*F53),"")))
Z54: =IF(ISBLANK(I54),"",IF(COUNTIF(I54,"*BOMBE_50MM*"),IF(COUNTIF(K54,"*TR*"),IF(G54>=6,F54*1,0.5*F54),"")))
W55: lége | X55: lourd | Z55: légé | AA55: lourd
J56: RECAPE GENERALE Mortiers
J58: Mortiers UNI 50 mm | L58: =SUM('plan de tir'!#REF!) -> #REF! | W58: 0.5 | X58: 0.5 | Z58: =L58*W58 -> #REF! | AA58: =L58*X58 -> #REF!
J59: caisse de 10 b 50 mm | L59: =SUM('plan de tir'!#REF!) -> #REF! | W59: 5.6 | X59: 5.6 | Z59: =L59*W59 -> #REF! | AA59: =L59*X59 -> #REF!
J60: envolée de 5 b 50 mm | L60: =SUM('plan de tir'!#REF!) -> #REF! | W60: 4.7 | X60: 4.7 | Z60: =L60*W60 -> #REF! | AA60: =L60*X60 -> #REF!
Z61: =L61*W61 -> 0 | AA61: =L61*X61 -> 0
J62: Mortiers UNI 75 mm | L62: =SUM('plan de tir'!#REF!) -> #REF! | W62: 0.8 | X62: 0.8 | Z62: =L62*W62 -> #REF! | AA62: =L62*X62 -> #REF!
J63: caisse de 5 b 75 mm | L63: =SUM('plan de tir'!#REF!) -> #REF! | W63: 6 | X63: 6 | Z63: =L63*W63 -> #REF! | AA63: =L63*X63 -> #REF!
J64: caisse de 10 b 75 mm | L64: =SUM('plan de tir'!#REF!) -> #REF! | W64: 9 | X64: 12.5 | Z64: =L64*W64 -> #REF! | AA64: =L64*X64 -> #REF!
J65: envolée de 3 b 75 mm | L65: =SUM('plan de tir'!#REF!) -> #REF! | W65: 7 | X65: 7 | Z65: =L65*W65 -> #REF! | AA65: =L65*X65 -> #REF!
J66: envolée de 7 b 75 mm | L66: =SUM('plan de tir'!#REF!) -> #REF! | W66: 8 | X66: 8 | Z66: =L66*W66 -> #REF! | AA66: =L66*X66 -> #REF!
Z67: =L67*W67 -> 0 | AA67: =L67*X67 -> 0
J68: Mortiers UNI 100 mm | L68: =SUM('plan de tir'!#REF!) -> #REF! | W68: 1.8 | X68: 1.8 | Z68: =L68*W68 -> #REF! | AA68: =L68*X68 -> #REF!
J69: caisse de 5 b 100 mm | L69: =SUM('plan de tir'!#REF!) -> #REF! | W69: 8.6 | X69: 14.2 | Z69: =L69*W69 -> #REF! | AA69: =L69*X69 -> #REF!
J70: envolée de 3 b 100 mm | L70: =SUM('plan de tir'!#REF!) -> #REF! | W70: 11 | X70: 11 | Z70: =L70*W70 -> #REF! | AA70: =L70*X70 -> #REF!
J71: envolée de 5 b 100 mm | L71: =SUM('plan de tir'!#REF!) -> #REF! | W71: 11 | X71: 11 | Z71: =L71*W71 -> #REF! | AA71: =L71*X71 -> #REF!
Z72: =L72*W72 -> 0 | AA72: =L72*X72 -> 0
J73: Mortiers UNI 125 mm | L73: =SUM('plan de tir'!#REF!) -> #REF! | W73: 2.8 | X73: 2.8 | Z73: =L73*W73 -> #REF! | AA73: =L73*X73 -> #REF!
J74: caisse de 5 b 125 mm | L74: =SUM('plan de tir'!#REF!) -> #REF! | W74: 14.5 | X74: 25 | Z74: =L74*W74 -> #REF! | AA74: =L74*X74 -> #REF!
J75: envolée de 3 b 125 mm | L75: =SUM('plan de tir'!#REF!) -> #REF! | W75: 18 | X75: 18 | Z75: =L75*W75 -> #REF! | AA75: =L75*X75 -> #REF!
O76: Type mortiers: | R76: mortiers légé | Z76: =L76*W76 -> 0 | AA76: =L76*X76 -> 0
J77: Mortiers UNI 150 mm | L77: =SUM('plan de tir'!#REF!) -> #REF! | W77: 4.2 | X77: 4.2 | Z77: =L77*W77 -> #REF! | AA77: =L77*X77 -> #REF!
J78: caisse de 4 b 150 mm | L78: =SUM('plan de tir'!#REF!) -> #REF! | O78: Poids mortiers | W78: 20 | X78: 29 | Z78: =L78*W78 -> #REF! | AA78: =L78*X78 -> #REF!
J79: envolée de 3 b 150 mm | L79: =SUM('plan de tir'!#REF!) -> #REF! | W79: 22.5 | X79: 22.5 | Z79: =L79*W79 -> #REF! | AA79: =L79*X79 -> #REF!
P80: =IF(COUNTIF(R76,"*mortiers légé*"),SUM(Z58:Z81),SUM(AA58:AA81)) -> #REF! | T80: kg | Z80: =L80*W80 -> 0 | AA80: =L80*X80 -> 0
J81: Mortiers UNI 200 mm | L81: =SUM('plan de tir'!#REF!) -> #REF! | W81: 12 | X81: 12 | Z81: =L81*W81 -> #REF! | AA81: =L81*X81 -> #REF!
Z82: =IF(ISBLANK(I82),"",IF(COUNTIF(I82,"*BOMBE_50MM*"),IF(COUNTIF(K82,"*TR*"),IF(G82>=6,F82*1,0.5*F82),"")))

Sheet base de donnée JCO 
C3: TR1 | D3: 1.0000116
C4: TR2 | D4: 2.0000231 | F4: bombe_50mm | G4: bombe_75mm | H4: bombe_100mm | I4: bombe_125mm | J4: bombe_150mm | K4: bombe_200mm | M4: botte_de_chandelles | N4: chandelle_20mm | O4: chandelle_25mm | P4: chandelle_30mm | Q4: chandelle_40mm | R4: chandelle_45mm | S4: chandelle_50mm | U4: compact_19cps_30mm | V4: compact_21cps_30mm | W4: compact_25cps_30mm | X4: compact_36cps_30mm | Y4: compact_49cps_30mm | Z4: compact_divers | AA4: pyroshow | AB4: rangée_30mm | AD4: mono_coup_20mm | AE4: mono_coup_30mm | AF4: mono_coup_45mm | AH4: Fontaine_jet | AI4: bengale_lance_décor
C5: TR3 | D5: 3.0000347 | F5: fleur argent | G5: Planète bleu | H5: Phénomène bleu | I5: ZARA Bouquet magnésium jaune | J5: fleur bleu | K5: kamuro | M5: Barrage 6 Asc argent clig et comète de coul | N5: comètes blanches zara | O5: comètes argent | P5: 8 coups bouquet multicolore | Q5: crossettes argent * | R5: Perico PAF rouge et detos | S5: pôt à feu bleu CH | U5: fleurs bleues et palme centrale | V5: TRIOPACK bicolore blanc clignotant et étoiles rouges | W5: PYROVENTYS volcan et bouquet argent et rouge | X5: JCOPACK DIEU RA | Y5: Pyroventail croustillant multicolore | Z5: 3 x 5 cps 25 mm assorted titawhirl UP | AA5: 100 cps 30mm DUO volcan et bouquet | AB5: 5 serpentins /pôt à feu rge cligno UP | AD5: pôt à feu mag rouge ATPM | AE5: 1 départ traçant or ATPM | AF5: fushia + or PIRICO | AH5: Fontaine progress OR | AI5: lance décor cligno blanc ZARA
C6: TR4 | D6: 4.0000463 | F6: fleur rouge | G6: Planète rouge | H6: Phénomène rouge | I6: ZARA Bouquet magnésium violet | J6: fleur rouge | K6: multicolore | M6: 4 Délicate verte | N6: comètes frissonnant or craq zara | O6: comètes bleues | P6: 8 coups bouquet argent | Q6: crossettes bleues | R6: Perico Paf bleu et ronflement vert | S6: pôt à feu argent clignotant CH | U6: fleurs or pétillantes | V6: TRIOPACK bicolore bleu et jaunes | W6: PYROVENTYS volcan et bouquet or et bleu | X6: JCOPACK Doudou Filament de coul | Y6: Pyroventail pluie d'étoiles rouges et perles bleues | Z6: 3 x 5 cps 25 mm assorted bombette UP | AA6: 100 cps 30mm OLA bleu et or | AB6: 5 serpentins /pôt à feu vert cligno UP | AD6: pôt à feu mag vert ATPM | AE6: 1 départ traçant argent ATPM | AF6: bleu + jaune tremo PIRICO | AH6: Fontaine progress CRAQ ARG | AI6: Lance de décor argent 9 mm UP
C7: TR5 | D7: 5.0000579 | F7: fleur verte | G7: Planète vert | H7: Phénomène vert | I7: ZARA Bouquet magnésium rouge | J7: fleur verte | K7: saule pleureur | M7: 4 Délicate argent | N7: comètes or pointe citron zara | O7: comètes citron | P7: 8 coups bouquet or | Q7: crossettes orange * | S7: pôt à feu or CH | U7: fleurs verts, violets avec ascension bleue | V7: TRIOPACK bicolore vert clignotant et violettes | W7: PYROVENTYS doudou rge et vert | X7: JCOPACK Doudou OR | Z7: 3 x 5 cps 25 mm bombette craquant UP | AA7: 100 cps 30mm OLA pluie blanche clignotante | AB7: 9 serpentins / com bleu UP | AD7: pôt à feu mag arg/rouge ATPM | AF7: vert + crépitant PIRICO | AI7: Lance de décor bleu 9 mm UP
C8: TR6 | D8: 6.0000694 | F8: fleur bleu | G8: Planète jaune | H8: Phénomène jaune | I8: ZARA Bouquet magnésium vert | J8: fleur jaune | K8: sphérique blanc, tronc blanc | M8: 4 Délicate jaune | O8: comètes jaunes | P8: 8 coups bouquet violet et vert | Q8: crossettes craquelantes | R8: 453 looping alternance détos et bouquets | S8: serpentins foizons | U8: fleurs violets et palme centrale | V8: TRIOPACK bouquet marodeur et craquelant | X8: JCOPACK Doudou VERT et BLEU | Y8: Pyroventail argent craquant | AA8: 108 coups parade pyrotechnique | AB8: 9 serpentins / com violet UP | AD8: pôt à feu mag bleu/jaune ATPM | AE8: com plamier or / bleu ZARA | AF8: 2 niveaux rge et bleu PIRICO | AH8: Jet 16 mm filière dorée | AI8: Lance de décor jaune 9 mm UP
C9: TR7 | D9: 7.000081 | F9: fleur blanche | G9: Planète violet | H9: Phénomène violet | I9: ZARA Bouquet magnésium bleu | J9: fleur violet | K9: sphérique magnésium bleu, tronc blanc | M9: 4 Délicate orange | O9: comètes or | Q9: crossettes jaunes | R9: 454 serpentine | S9: sifflements tintouin | U9: bouquet fleur argent (dieura) | V9: TRIOPACK bouquet pluie d'or / pot à feu or | X9: JCOPACK Combiné | Y9: Pyroventail bleu azur | Z9: 16 cps 25 mm bancastars assortis UP | AA9: 65 cps 30mm OLA gerbe frisson et bleu | AD9: pôt à feu mag violet/bleu ATPM | AE9: com 2 coul rose cligno ZARA | AF9: pôt à feu vert PIRICO | AH9: Jet 16 mm gerbes titanium blanc | AI9: Lance de décor rouge 9 mm UP
C10: TR8 | D10: 8.0000926 | F10: saule pleureur | G10: Planète multicolore | H10: Phénomène multicolore | I10: fleur rouge | J10: Phénomène rouge | K10: sphérique magnésium jaune | M10: 4 Délicate rouge | O10: comètes orange | P10: Zara bouquet blanc clig | Q10: crossettes rouges | R10: Zara 8 coups Ronflement rouge | U10: bouquet fleur bleu azur | V10: TRIOPACK caméléon bleu à rouge | X10: JCOPACK Marodeur Paf craq et bqt craq | Y10: Pyroventail couronnement royal ( ola craq ) | Z10: 16 cps 25 mm bancastars bleu UP | AB10: 13 cps pôt à feu / détos jw1019 | AD10: pôt à feu blanc scint ATPM | AE10: com cracker ZARA | AF10: pôt à feu orange PIRICO | AI10: Lance de décor vert 9 mm UP
C11: I | F11: cligno et craq | I11: fleur verte | J11: Phénomène bleu | K11: sphérique palmier argent, tronc blanc | M11: 4 Délicate violet | O11: comètes pluie d'étoiles rouge | P11: Zara bouquet rose clig | Q11: crossettes vertes | R11: Zara 8 coups serpentins argent | U11: bouquet fleur bonheur | V11: TRIOPACK cocardien bleu, blanc, rouge | X11: JCOPACK Croustillant Dahlia et palme craq | Y11: Pyroventail dieu râ | Z11: 16 cps 25 mm titawhirl ass UP | AA11: 100 cps 20 mm Symphonie sifflet | AB11: 13 cps pôt à feu or jw1000 | AD11: pôt à feu mag jaune ATPM | AF11: pôt à feu vert/ snake PIRICO | AH11: Jet 21 mm à gerbes filière dorée | AI11: Lance de décor violet 9 mm UP
C12: \ / | F12: marron d'air | G12: Phénomène bleu | H12: Phénomène bleu + Trainée | I12: fleur jaune | J12: Phénomène vert | K12: sphérique palmier or, tronc palmier or | M12: 4 Délicate clig arg | O12: comètes pluie d'étoiles verte | P12: Zara bouquet vert clig | R12: Zara 8 PAF rouge et sifflet titanium | U12: bouquet fleur cocotier argent | V12: TRIOPACK crossette craquelante / pot à feu craquelant | X12: JCOPACK Junglerie | Y12: Pyroventail finition or ( or / coul ) | Z12: 16 cps 25 mm titawhirl violet UP | AA12: 182 cps 19 mm cross violet /citron JW4446 | AB12: 13 cps pôt à feu bleu / or jw1018 | AD12: pôt à feu mag orange ATPM | AE12: flash rouge ZARA | AH12: Jet 21 mm à gerbes titanium blanc/Z
C13: \ I / | G13: Phénomène rouge | H13: Phénomène rouge + Trainée | I13: fleur violet | J13: Phénomène jaune | M13: 4 Délicate craq | O13: comètes rouges | P13: Zara bouquet bleu | Q13: gerbes clignotante argent | R13: Zara 8 PAF argent et sifflet rouge | U13: bouquet fleur combiné (rge et bleu ) | V13: TRIOPACK crossette paillette argentée | X13: JCOPACK blanc éblouissant queue clig arg | Y13: Pyroventail flambée dorée (doudou) | Z13: 16 cps 25 mm titawhirl rouge UP | AA13: 96 cps 30mm ola cross craquelante JW2112 | AB13: 19 cps Z pôt à feu rge/ rge cligno jw1020 | AD13: pôt à feu or scint ATPM | AE13: flash vert ZARA | AF13: pôt à feu rose cligno / palm ZARA | AH13: Jet titanium Igual | AI13: Flamme pot 100 mm jaune UP
C14: 2''T | D14: 2.0000231 | F14: pastel citron | G14: Phénomène vert | H14: Phénomène vert + Trainée | I14: Phénomène rouge | J14: Phénomène violet | M14: 4 sifflets | O14: comètes vertes | P14: Zara bouquet jaune | Q14: étoiles filantes or | R14: Zara 6 bouquets 2 couleurs(QueueBC) | U14: bouquet fleur fleuri (serp+fil rge ) | V14: TRIOPACK crossette rouge avec trainée | X14: JCOPACK Bleu azur | Y14: Pyroventail fleurs coloris assortis | AA14: 300 cps 20 mm craq et sifflet JW7004 | AB14: 19 cps Z pôt à feu bleu/ or jw1021 | AF14: pôt à feu vert / palm ZARA | AH14: .Jet argent instantanés 28 mm/UP**** | AI14: Flamme pot 100 mm violet UP
C15: 3''T | D15: 2.0000347 | F15: pastel orange | G15: Phénomène jaune | H15: Phénomène jaune + Trainée | I15: Phénomène bleu | M15: 4 effets sonores titan | P15: Zara bouquet rouge | Q15: torsade rouge et cligno | R15: Zara 8 PAF étoiles filantes arg chgt rouge | U15: bouquet fleur lumineux (vert / violet) | V15: TRIOPACK crossette verte avec trainée | X15: JCOPACK Rouge vif | Y15: Pyroventail fleurs craquelantes | Z15: 300 cps 25 mm crazy sifflets jw31 | AA15: 120 cps 30mm ola dieu râ craquelant JW6003 | AE15: pôt à feu vert cligno ZARA | AF15: pôt à feu violet / palm ZARA | AH15: UP/ jet instantané red
C16: 4''T | D16: 2.0000463 | F16: pastel mauve | G16: Phénomène violet | H16: Phénomène violet + Trainée | I16: Phénomène vert | J16: jaune et bleu | M16: 4 perle or | P16: Zara bouquet violet | U16: bouquet fleur lumineux (rge et tail ) | V16: TRIOPACK frisson de couleurs et pot à feu | X16: JCOPACK Pluie d'argent | Y16: Pyroventail incorrigible rouges | Z16: 160 cps 12 mm révolution jw4086 | AA16: 114 cps 30mm variantes de tir JW6366 | AB16: 2 x 7 cps dieura | AE16: pôt à feu bleu (écriture) ZARA | AF16: pôt à feu bleu /rouge ZARA ( retombé) | AH16: UP/ jet instantané vert | AI16: Bengale rouge 1 min
C17: 5''T | D17: 2.0000579 | H17: Phénomène multicolore + Trainée | I17: Phénomène jaune | J17: vert et rouge | M17: 4 Etoile filante vert et violet | P17: Zara bouquet palmier argent | R17: Zara 8 PAF jaune + Bqt Jaune | U17: bouquet fleur multicolore | V17: TRIOPACK multicolore / pot à feu blanc clignotant | X17: JCOPACK Oulala | Y17: Pyroventail incorrigible vertes | Z17: 16 cps 19 mm mars jw07 | AA17: 100 cps 30mm ola doudou bleu et argent JW447 | AE17: pôt à feu rouge (écriture) ZARA | AF17: pôt à feu mag multicolore ZARA | AH17: UP/ jet instantané violet | AI17: Bengale strob blanc 1 min
C18: 6''T | D18: 2.0000694 | F18: color Ass ( série ) | G18: Phénomène bleu + Trainée | I18: Phénomène violet | J18: Evolution bleu à rouge cligno | M18: 4 Etoile filante argent | P18: Zara bouquet palmier or | R18: Zara 8 PAF bleu + Bqt bleu | U18: bouquet fleur d'or craq | V18: TRIOPACK pluie d'argent / pot à feu argent | X18: JCOPACK Pétillant | Y18: Pyroventail incorrigible argent | Z18: 25 cps 20 mm uran jw04 | AA18: 100 cps 30 mm onduline arg/violet | AB18: 7 cps argent et pot à feu rouge clignotant | AE18: pôt à feu vert cligno UP | AF18: pôt à feu cligno blanc ZARA | AH18: JETS blanches**** courentin | AI18: Bengale strob blanc 2 min
C19: 8''T | D19: 2.0000926 | G19: Phénomène rouge + Trainée | H19: Fleur bleu | J19: 3 coul a chgt | M19: 3 Bazzoka bleu | R19: Zara 8 PAF viol + Bqt viol | U19: bouquet fleur oulala | V19: TRIOPACK plume blanche clignotante | X19: JCOPACK Ascens Colorées | Y19: Pyroventail filament éblouissant | Z19: 25 cps 20 mm pluton jw05 | AA19: 100 cps 30 mm onduline arg craquant | AB19: 7 cps clignotantes rouges et pot à feu bleu | AF19: pôt à feu mag rouge ZARA
C20: 10''T | D20: 2.0001157 | G20: Phénomène vert + Trainée | H20: Fleur rouge | I20: jaune et bleu | J20: ZARA Bouquet magnésium bleu et rouge | M20: 3 Bazzoka multicolore | P20: Zara 8 bombettes flash rouge | R20: Zara 8 PAF vert + Bqt vert | U20: bouquet fleur pétillant or | V20: TRIOPACK plume d'or | X20: JCOPACK Fugueur rouge chgt bleu | Y20: Pyroventail filament vert | Z20: 25 cps 23 mm wenus jw08 | AA20: 100 cps 30 mm ola dieura | AB20: 7 cps or clignotant et pot à feu vert clignotant | AE20: marron DE TERRE avec infla | AH20: Jet 1 cascade individuel 1MN 30 SEC
G21: Phénomène jaune + Trainée | H21: Fleur vert | I21: vert et rouge | J21: ZARA Bouquet magnésium rouge et bleu | M21: 3 Bazzoka rouges | P21: Zara 8 bombettes flash verte | R21: Zara 8 PAF rouge + Bqt rouge | U21: bouquet fleur pulsatilla | V21: TRIOPACK unicolore rouge | X21: JCOPACK Pulsatilla dahlia et pistil clig | Y21: Pyroventail filament multico | Z21: 19 cps 25 mm imagine jw12 | AF21: trainée rouge ZARA | AH21: Jet cascade blanche 1 minute Brezac
G22: Phénomène violet + Trainée | H22: Fleur jaune | I22: Evolution bleu à rouge cligno | M22: 3 Bazzoka orange | R22: Zara 8 PAF vert cligno + Bqt viol | U22: doudou (vert et rouge) | V22: TRIOPACK unicolore vert | X22: JCOPACK Tricolore Paf et BQT | Y22: Pyroventail lum or (queue or ) | Z22: 19 cps 30 mm Pine craq jw28 | AB22: 13 cps rouge et pot à feu bleu | AE22: PAF BLEU | AF22: trainée verte ZARA
G23: Phénomène multicolore + Trainée | H23: Fleur violet | I23: 3 coul a chgt | J23: Bqt bleu + palme argent | M23: 3 Bazzoka argent scintillant | P23: 10 comètes multicolore ZARA | R23: Zara 8 PAF blanc cligno + Bqt rouge | U23: combiné (filament) | V23: TRIOPACK unicolore violet | X23: JCOPACK Vantard asc craq et bqt craq | Y23: Pyroventail lum or ( G or cligno ) | Z23: 100 cps 20 mm nemezis jw2026 | AB23: 13 cps violet et pot à feu vert | AE23: PAF arg craq | AF23: com cascade blanche ZARA | AH23: UP/ jet FROID Argent 20"
C24: I | J24: Bqt vert + palme argent | M24: 3 Bazzoka or scintillant | P24: 10 comètes Palme argent & Cracker ZARA | R24: Zara 8 PAF fris or + Bqt bleu | U24: bonheur (cross violet et citron) | X24: JCOPACK Miauleurs sifflante et craq | Y24: Pyroventail lum rouge ( G rge cligno ) | Z24: 36 cps 25 mm episode XIII jw6011 | AB24: 13 cps Ola argent / rouge et pot à feu bleu | AE24: PAF or et clig | AH24: UP/ jet FROID Or 20"
C25: \ | G25: Z/sph mag bleu | H25: Z/sph mag bleu | I25: Bqt bleu + palme argent | J25: Bqt rouge + palme argent | M25: 3 Bazzoka violet | P25: 10 comètes Palme argent à pointe rose ZARA | U25: coffret de 4 compacts 1 ALL | X25: JCOPACK Bicolore orange violet et vert clig | Y25: Pyroventail rouge ondulant ( cross) | Z25: 35 cps 25 mm exclusive collection trio jw2000 | AB25: 13 cps Ola argent / vert et pot à feu vert clignotant | AE25: PAF poussière or et bleu | AF25: étoiles filantes ZARA
C26: / | G26: Z/sph mag jaune | H26: Z/sph mag jaune | I26: Bqt vert + palme argent | J26: Bqt violet + palme argent | M26: 3 Bazzoka vert | P26: 10 comètes blanc éblouissant Igual | U26: coffret de 4 compacts 2 ALL | X26: JCOPACK clignoteur dahlia de coul | Y26: Pyroventail fleurs coloris assortis ( bleu / blanc / rouge ) | Z26: 25 cps 30 mm bqt craquant jw59 | AB26: 13 cps Ola or / bleu et pot à feu blanc clignotant | AF26: pôt à feu sifflet ZARA
C27: \ / | G27: Z/sph mag rouge | H27: Z/sph mag rouge | I27: Bqt rouge + palme argent | M27: 3 Bazzoka CRAQ | P27: 10 comètes Kamuro Igual | U27: coffret de 4 compacts 4 ALL | X27: JCOPACK Tapageur détos | Y27: Pyroventail finition or ( ola com ) | Z27: 25 cps 30 mm bqt cligno jw56 | AB27: 13 cps pots à feu rainbow | AE27: Mono coup Scarpatto Paf bleu écriture | AF27: pôt à feu trace blanc et tir ZARA
C28: \ I / | G28: Z/sph mag verte | H28: Z/sph mag vert | I28: Bqt violet + palme argent | J28: pluie scintillante | P28: 10 comètes Rouge Luso | Y28: Pyroventail argent craquant (détos) | Z28: 100 cps 25 mm master jw416 | AB28: 13 cps serpentins et vert clignotant | AE28: Mono coup Scarpatto Paf rouge écriture | AF28: bombette mag bleu ZARA
C29: X | G29: Z/sph mag violette | H29: Z/sph mag violet | J29: saule pleureur et clig | M29: 6 Chandelles 12 mm délicate ROUGE | P29: 10 comètes cascade blanche ZARA | X29: JCOQUICK bicolore clignotant | Y29: Pyroventail petit papier | Z29: 80 cps 20 mm com rouge / craq jw2880 | AE29: Mono coup Scarpatto Paf blanc écriture | AF29: bombette mag violet ZARA
I30: pluie scintillante | J30: saule pleureur et bleu | M30: 6 Chandelles 12 mm délicate BLEU | X30: JCOQUICK croustillant | Z30: 35 cps 25 mm Hot stars ola bqt DP0020 | AB30: 4 x 7 cps pôt à feu 3 niveaux / détos | AF30: bombette mag jaune ZARA
G31: BQT Bicolore jaune et bleu | H31: BQT Bicolore jaune et bleu | I31: saule pleureur et clig | J31: Pluie d'or + rubis | M31: 6 Chandelles 12 mm délicate Blanc clignotant | P31: Parente PAF bleu + comète or et bleu | X31: JCOQUICK fugueur rouge/bleu | Z31: 50 cps 30 mm serpentins / vert cligno jw80 | AB31: 2 x 13 cps titanium salute / tail | AF31: bombette mag rouge ZARA
G32: 3 Coul à chgt 2015 | H32: BQT Bicolore violet et argent | I32: saule pleureur et bleu | J32: Pluie d'or + trainée or | M32: 6 Chandelles 12 mm délicate Muticolore | P32: Parente PAF or + comète clig arg | X32: JCOQUICK marodeur craq | Z32: 25 cps 30 mm malachit filament jw4059 | AF32: bombette mag vert ZARA
H33: 3 Coul à chgt 2015 | I33: Pluie d'or + rubis | J33: ZARA Saule pleureur tita + tronc | M33: 6 Chandelles 12 mm délicate Or et bleu | P33: Parente PAF rouge + comète rouge et pail arg | X33: JCOQUICK pétillant or | Z33: 36 cps 50 mm papillon vert/ rouge JW7003
G34: Bouquet bleu + Palme | H34: Phénomène multicolore 2015 | I34: Saphir et paillettes d'or + étoiles filantes | M34: 6 Chandelles 20 mm Vivace de couleurs | P34: Parente PAF viol + comète arg et violet | X34: JCOQUICK pluie d’argent | Z34: 64 cps 37mm Queue blanc clignotant JW7002
G35: Bouquet jaune + Palme | H35: Z/sph Tronc + bqt tricolore | I35: Pluie d'or + trainée or | J35: arain'air | M35: 10 Chandelles 14 mmSerpentin rouge et vert | Z35: 100 cps 30mm sifflet
G36: Bouquet orange + Palme | H36: 1/ITAL SPH multicolore | I36: ZARA Saule pleureur tita + tronc saul pleureur titan | J36: Pluie d'argent + trainée argent | P36: 10 pôt à feu Rouge Igual | Z36: NAUTIQUE 30 mm Flamme BLANCHE
C37: Régie trad | G37: Bouquet vert + Palme | I37: ZARA Fris or à ptes bleu | J37: ZARA araig pointe rouge+ centre clignotant | P37: 10 pôt à feu vert Igual | Z37: NAUTIQUE 30 mm Flamme ROUGE
C38: Régie V40 | G38: Bouquet violet + Palme | H38: Bouquet bleu + Palme | P38: 10 pôt à feu bleu Igual | Z38: NAUTIQUE 30 mm provencal argent
C39: Régie XL3 | H39: Bouquet jaune + Palme | I39: arain'air | J39: blanc clig
G40: or et bleu | H40: Bouquet orange + Palme | I40: Pluie d'argent + trainée argent | J40: ZARA rose clig | P40: pôt à feu kamuro ATPM | Z40: Comp fumigène jour bleu + détos 35 cps
G41: or et vert | H41: Bouquet vert + Palme | I41: ZARA araig palm blanc pointe rouge+ centre clignotant | J41: Strobo vert | Z41: Comp fumigène jour rouge + détos 35 cps
G42: saule pleureur clig | H42: Bouquet violet + Palme | Z42: Comp fumigène jour vert + détos 35 cps
G43: saule pleureur | I43: blanc clig | J43: Dragonnaire craquante avec trainée
G44: saule pleureur | H44: or et bleu | I44: ZARA vert clig | J44: Dragonnaire et mosaïque rubis
G45: Pluie vert cligno + trainée verte | H45: or et vert | I45: ZARA Bouquet magnésium rouge(ROSE clig) | J45: 4 Effets
G46: Pluie rouge cligno + trainée verte | H46: saule pleureur | I46: Strobo blanc | J46: Clignotante et craquelante
G47: Pluie d'or + traine d'or | H47: saule pleureur F4 | I47: Strobo vert | J47: bouquet dragonaire
G48: Z/sph araig paillete or et bleu | H48: Pluie cligno argent + Trainée | I48: comète d'étoiles (dahlia multicolore + pistil clig arg) | J48: craq et sifflet (bqt arg + détos+pistil bleu)
G49: I/ tronc palm kamuro | H49: Pluie d'or + trainée or | I49: comète d'étoiles (dahlia rouge + pistil clig or)
H50: Igual/ T palmier kamu cour kamuro | I50: Dahlia muticolore | J50: crossette palm arg (cross blanc clig)
G51: coconut argent + trainée 2015 | J51: crossette rouge
G52: Pluie d'argent + trainée | H52: coconut argent + trainée 2015 | I52: Dragonnaire craquante avec trainée | J52: crossette verte
G53: Z/sph araig casc blanche | H53: Pluie d'argent + trainée argent | I53: craq et sifflet (bqt arg + détos+pistil bleu) | J53: crossette rouge et craq
G54: Z/sph cascade blanche | H54: Violette et plumes d'argent | J54: crossette rouge(multi)
I55: crossette palm arg (cross blanc clig) | J55: crossette rouge(jaune)
G56: bicolore bleu et cligno blanc | H56: pastel bleu & cœur clignotant | I56: crossette rouge | J56: crossette rouge(2 coul )
G57: bicolore violet et cligno vert | H57: pastel mauve & cœur clignotant | I57: crossette verte | J57: Corolle blanc cligno et fleurs rouges
G58: Evolution bleu à rouge cligno | H58: pastel orange & cœur clignotant | I58: crossette rouge et craq | J58: Corolle rouge cligno et fleurs blanches
G59: Bicolore rouge et clignotant blanc | H59: pastel rouge & cœur clignotant | I59: Corolle blanc cligno et fleurs rouges | J59: Etoile argent et mosaïque saphir
G60: rouge clignotant | H60: bicolore bleu et cligno blanc | I60: Corolle rouge cligno et fleurs blanches | J60: ZARA sph paillette argent/Craqcross
G61: red strobe special | H61: Evolution bleu à rouge cligno | I61: Etoile argent et mosaïque saphir
G62: color strobe special | H62: red special strobe | I62: ZARA crossette argent + craquelante | J62: fleur éphémère
G63: strobo argent | H63: color special strobe | J63: Machaon
G64: strobo vert | H64: Nacre rouge | I64: anneau et bouquet (violet et vert) | J64: Nœud Papillon
G65: strobo muticolore | H65: Nacre vert | I65: anneau rouge | J65: dessinant papillon
G66: Z/sph mag ROSE CLIGNOTANT | H66: Nacre blanc | I66: anneau bleu | J66: Anneau et 5 titanium
H67: strobo vert | I67: anneau argent | J67: 4 Anneaux de couleurs
G68: clignotante et craquelante + Trainée | H68: strobo blanc | I68: Fleur éphémère | J68: 3Anneaux
G69: clignotante et craquelante JCO | H69: corolle de perles nacrées | I69: 4 Anneaux de couleurs | J69: fleur arg&cross bleue
G70: clignotante et craquelante 2015 | H70: Z/sph Cligno Rose | I70: Méduse tricolore en 3D | J70: ZARA sph Figure
I71: Motifs Ass | J71: Motifs Ass
G72: crossette jaune | H72: clignotante et craquelante + Trainée | I72: Filament vert | J72: étoile filante rouge(jau)/wind
G73: crossette rouge | H73: clignotante et craquelante JCO | I73: Filament rouge
G74: crossette vert | H74: clignotante et craquelante 2015 | I74: Filament jaune | J74: ZARA sph farfalle/Bleu
G75: crossette jaune | I75: Filament argent (cligno) | J75: ZARA sph farfalle/VERT
G76: crossette orange | H76: crossette jaune | I76: Filament Craq sinomax | J76: Couronne fleurie à cœur azur
G77: crossette étoilée verte | H77: crossette rouge | I77: etoile filante argent (doudou)
G78: crossette étoilée rouge | H78: crossette vert | J78: ZARA 8 BB Palmier arg craq (succ )
H79: crossette violet | I79: ZARA Papillon et bleu | J79: ZARA sph clig blanc/8bqtschevblanc
G80: Filament rouge | H80: crossette violet et craq | I80: ZARA Papillon et rouge
G81: Filament vert | H81: crossette rouge et craq
G82: Filament rouge et vert | H82: crossette rouge et cœur craq 2015 | I82: ZARA relampagos flashes rouges
G83: Filament blanc clig | H83: Corolle blanc cligno et fleurs rouges | I83: ZARA 8 marrons titan 30 mm
H84: Corolle rouge cligno et fleurs blanches
G85: queue de cheval blanc clig | H85: Corolle bleu azur et fleurs rouges | I85: ZARA PAF 8 BOMBETTES 45 mm argent
G86: queue de cheval or | H86: Z/crossette arg Craq
I87: Nautique Kamuro
G88: Sourire 2016 | H88: Filament rouge | I88: Nautique Paillette argent
G89: anneau bleu et jaune | H89: Filament vert
G90: anneau argent | H90: Filament bleu
G91: anneau bleu | H91: Filament rouge et vert
G92: anneau rouge | H92: Filament argent
G93: bqt rouge & bleu anneau arg | H93: Filament Craq Sinomax
G94: bqt vert & violet + fleur anneau
G95: fleur anneau & cœur bleu | H95: queue de cheval argent
G96: anneau argent & cœur clig rouge | H96: queue de cheval or
H97: Z/cyl queue de cheval et etoiles filante rouge
G98: Cylindrique Chine PAF clig or et bleu
G99: Cylindrique Chine PAF pous d'or et bleu | H99: INCORRIGIBLE /cross jaune craquant(jau)
G100: Cylindrique Chine PAF BLANC ARG | H100: INCORRIGIBLE/cross rouge craquant (jau)
G101: Cylindrique Chine PAF bleu | H101: DOUDOU Multicolore (jau)
G102: Cylindrique Chine PAF Multicolore
...
