Workbook

Sheet Agenda
B1: 1
B2: 1
A6: =Divers!G1 -> Materiel 1
B7: =Divers!A15 -> 42370 | C7: =B7+1 -> 42371 | D7: =C7+1 -> 42372 | E7: =D7+1 -> 42373 | F7: =E7+1 -> 42374 | G7: =F7+1 -> 42375 | H7: =G7+1 -> 42376 | I7: =H7+1 -> 42377 | J7: =I7+1 -> 42378 | ... AF7: =AE7+1 -> 42400
A8: =Divers!F1 -> Utilisateur 1
A9: =Divers!F2 -> Utilisateur 2
A10: =Divers!F3 -> Utilisateur 3
A11: =Divers!F4 -> Utilisateur 4
A12: =Divers!F5 -> Utilisateur 5
A13: =Divers!F6 -> Utilisateur 6
A14: =Divers!F7 -> Utilisateur 7
A15: =Divers!H1 -> Total:
A16: =Divers!H2 -> Manquant:
A20: =Divers!G2 -> Materiel 2
B21: =Divers!A15 -> 42370 | C21: =B21+1 -> 42371 | D21: =C21+1 -> 42372 | E21: =D21+1 -> 42373 | F21: =E21+1 -> 42374 | G21: =F21+1 -> 42375 | H21: =G21+1 -> 42376 | I21: =H21+1 -> 42377 | J21: =I21+1 -> 42378 | ... AF21: =AE21+1 -> 42400
A22: =Divers!F1 -> Utilisateur 1
A23: =Divers!F2 -> Utilisateur 2
A24: =Divers!F3 -> Utilisateur 3
A25: =Divers!F4 -> Utilisateur 4
A26: =Divers!F5 -> Utilisateur 5
A27: =Divers!F6 -> Utilisateur 6
A28: =Divers!F7 -> Utilisateur 7
A29: =Divers!H1 -> Total:
A30: =Divers!H2 -> Manquant:

Sheet Agenda global
B1: 1
B2: 1
B6: =Divers!A15 -> 42370 | C6: =B6+1 -> 42371 | D6: =C6+1 -> 42372 | E6: =D6+1 -> 42373 | F6: =E6+1 -> 42374 | G6: =F6+1 -> 42375 | H6: =G6+1 -> 42376 | I6: =H6+1 -> 42377 | J6: =I6+1 -> 42378 | ... AF6: =AE6+1 -> 42400
A7: =Divers!G1 -> Materiel 1
A8: =Divers!G2 -> Materiel 2
A9: =Divers!G3 -> Materiel 3
A10: =Divers!G4 -> Materiel 4
A11: =Divers!G5 -> Materiel 5
A12: =Divers!G6 -> Materiel 6
A13: =Divers!G7 -> Materiel 7
A14: =Divers!G8 -> Materiel 8
A15: =Divers!G9 -> Materiel 9
A16: =Divers!G10 -> Materiel 10

Sheet Activité
A1: Sortie | B1: Rentrée | C1: Utilisateurs: | D1: Client: | E1: Materiel 1 | F1: Materiel 2 | G1: Materiel 3 | H1: Materiel 4 | I1: Materiel 5 | J1: Materiel 6 | K1: Materiel 7 | L1: Materiel 8 | M1: Materiel 9 | N1: Materiel 10
A2: 42374 | B2: 42374 | C2: =Divers!F1 -> Utilisateur 1 | E2: 1 | F2: 1 | G2: 0 | H2: 2 | I2: 1 | J2: 1 | K2: 0 | L2: 0 | M2: 0 | N2: 0
A3: 42377 | B3: 42377 | C3: =Divers!F1 -> Utilisateur 1 | E3: 1 | F3: 1 | G3: 1 | H3: 3 | I3: 1 | J3: 0 | K3: 1 | L3: 2 | M3: 0 | N3: 1
A4: 42383 | B4: 42384 | C4: =Divers!F1 -> Utilisateur 1 | E4: 1 | F4: 1 | G4: 0 | H4: 2 | I4: 1 | J4: 0 | K4: 1 | L4: 0 | M4: 1 | N4: 1
A5: 42377 | B5: 42378 | C5: =Divers!F2 -> Utilisateur 2 | E5: 2 | F5: 2 | G5: 1 | H5: 3 | I5: 2 | J5: 1 | K5: 1 | L5: 1 | M5: 1 | N5: 1
A6: 42384 | B6: 42385 | C6: =Divers!F2 -> Utilisateur 2 | E6: 1 | F6: 1 | G6: 1 | H6: 3 | I6: 1 | J6: 0 | K6: 1 | L6: 2 | M6: 0 | N6: 1
A7: 42386 | B7: 42433 | C7: =Divers!F2 -> Utilisateur 2 | E7: 1 | F7: 1 | G7: 0 | H7: 2 | I7: 1 | J7: 0 | K7: 1 | L7: 0 | M7: 1 | N7: 1

Sheet Inventaire matériel
A1: Materiel | B1: Quantité | C1: Prix d'achat | D1: Prix de loc
A2: =Divers!G1 -> Materiel 1 | B2: 2
A3: =Divers!G2 -> Materiel 2 | B3: 3
A4: =Divers!G3 -> Materiel 3 | B4: 5
A5: =Divers!G4 -> Materiel 4 | B5: 7
A6: =Divers!G5 -> Materiel 5 | B6: 5
A7: =Divers!G6 -> Materiel 6 | B7: 10
A8: =Divers!G7 -> Materiel 7 | B8: 4
A9: =Divers!G8 -> Materiel 8 | B9: 8
A10: =Divers!G9 -> Materiel 9 | B10: 6
A11: =Divers!G10 -> Materiel 10 | B11: 5

Sheet Divers
A1: JANVIER | B1: 2016 | D1: Entrée | F1: Utilisateur 1 | G1: Materiel 1 | H1: Total:
A2: FÉVRIER | B2: =B1+1 -> 2017 | D2: Sortie | F2: Utilisateur 2 | G2: Materiel 2 | H2: Manquant:
A3: MARS | B3: =B2+1 -> 2018 | F3: Utilisateur 3 | G3: Materiel 3
A4: AVRIL | B4: =B3+1 -> 2019 | F4: Utilisateur 4 | G4: Materiel 4
A5: MAI | B5: =B4+1 -> 2020 | F5: Utilisateur 5 | G5: Materiel 5
A6: JUIN | B6: =B5+1 -> 2021 | F6: Utilisateur 6 | G6: Materiel 6
A7: JUILLET | B7: =B6+1 -> 2022 | F7: Utilisateur 7 | G7: Materiel 7
A8: AOÛT | B8: =B7+1 -> 2023 | G8: Materiel 8
A9: SEPTEMBRE | B9: =B8+1 -> 2024 | G9: Materiel 9
A10: OCTOBRE | B10: =B9+1 -> 2025 | G10: Materiel 10
A11: NOVEMBRE | B11: =B10+1 -> 2026 | G11: Materiel 11
A12: DÉCEMBRE | B12: =B11+1 -> 2027 | G12: Materiel 12
G13: Materiel 13
G14: Materiel 14
A15: =DATE(Agenda!B2+2015,Agenda!B1,1) -> 42370
