Workbook

Sheet Suivi 
A1: Date analyse | B1: Catégorie | C1: Code article
A2: 43468 | B2: PF | C2: G651208
A3: 43468 | B3: PF | C3: G061196
A4: 43474 | B4: PF | C4: G651208
A5: 43474 | B5: MP | C5: 7403031246
A6: 43474 | B6: MP | C6: 7403036995
A7: 43474 | B7: PF | C7: G061353
A8: 43474 | B8: VRAC | C8: 6300300025
A9: 43476 | B9: PF | C9: 7421040893
A10: 43476 | B10: VRAC | C10: 6890196770
A11: 43476 | B11: MP | C11: 7403037475
A12: 43476 | B12: VRAC | C12: 6300300025
A13: 43480 | B13: VRAC | C13: 6900003772
A14: 43480 | B14: VRAC | C14: 6900002030
A15: 43481 | B15: PF | C15: G041759
A16: 43481 | B16: MP | C16: 7403031910
A17: 43482 | B17: MP | C17: 7403037461
A18: 43482 | B18: MP | C18: 7403042829
A19: 43483 | B19: MP | C19: 7403031835
A20: 43483 | B20: MP | C20: 7403039551
A21: 43487 | B21: MP | C21: 7403046985
A22: 43488 | B22: MP | C22: 7403031897
A23: 43488 | B23: MP | C23: 7403036635
A24: 43489 | B24: MP | C24: 7403036914
A25: 43489 | B25: PF | C25: G553798
A26: 43490 | B26: PF | C26: G061352
A27: 43490 | B27: PF | C27: G643010
A28: 43490 | B28: PF | C28: G061275
A29: 43494 | B29: MP | C29: 7403037227
A30: 43494 | B30: VRAC | C30: 6900003002
A31: 43494 | B31: MP | C31: 7403000516
A32: 43494 | B32: MP | C32: 7403049820
A33: 43495 | B33: VRAC | C33: 6900005990
A34: 43495 | B34: VRAC | C34: 6900005990
A35: 43496 | B35: VRAC | C35: 6900002475
A36: 43501 | B36: PF | C36: G651177
A37: 43501 | B37: MP | C37: 7403038813
A38: 43501 | B38: PF | C38: G651208
A39: 43502 | B39: VRAC | C39: 6300300025
A40: 43502 | B40: VRAC | C40: 6300300012
...

Sheet Feuil4
A1: Étiquettes de lignes | E1: Étiquettes de lignes
A2: MP | E2: MP
A3: 6751935320 | E3: 6751935320
A4: 7403000433 | B4: MP | C4: =COUNTA(A3:A46) -> 44 | E4: 7403000433 | G4: MP | H4: =COUNTA(E3:E46) -> 44
A5: 7403000516 | B5: PF | C5: =COUNTA(A48:A87) -> 40 | E5: 7403000516 | G5: PF | H5: =COUNTA(E48:E87) -> 40
A6: 7403020939 | B6: VRAC | C6: =COUNTA(A89:A105) -> 17 | E6: 7403020939 | G6: VRAC | H6: =COUNTA(E89:E105) -> 17
A7: 7403020991 | E7: 7403020991
A8: 7403025959 | E8: 7403025959
A9: 7403026329 | E9: 7403026329
A10: 7403031246 | E10: 7403031246
A11: 7403031835 | E11: 7403031835
A12: 7403031897 | E12: 7403031897
A13: 7403031900 | E13: 7403031900
A14: 7403031901 | E14: 7403031901
A15: 7403031903 | E15: 7403031903
A16: 7403031904 | E16: 7403031904
A17: 7403031905 | E17: 7403031905
A18: 7403031910 | E18: 7403031910
... A46: 8910520000 | E46: 8910520000
A47: PF | E47: PF
A48: 7421035813 | E48: 7421035813
A49: 7421040204 | E49: 7421040204
A50: 7421040893 | E50: 7421040893
A51: 7421040901 | E51: 7421040901
A52: FF71 | E52: FF71
A53: G041759 | E53: G041759
A54: G042027 | E54: G042027
A55: G042029 | E55: G042029
A56: G042078 | E56: G042078
A57: G042115 | E57: G042115
A58: G042320 | E58: G042320
A59: G042808 | E59: G042808
A60: G042879 | E60: G042879
A61: G060387 | E61: G060387
A62: G060885 | E62: G060885
A63: G060967 | E63: G060967
... A88: VRAC | E88: VRAC
A89: 6300300012 | E89: 6300300012
A90: 6300300025 | E90: 6300300025
A91: 6300300168 | E91: 6300300168
...

Sheet Feuil2
A1: Catégorie | B1: Code article
A2: =IF('Suivi '!B2="","",'Suivi '!B2) -> PF | B2: =IF('Suivi '!C2="","",'Suivi '!C2) -> G651208
A3: =IF('Suivi '!B3="","",'Suivi '!B3) -> PF | B3: =IF('Suivi '!C3="","",'Suivi '!C3) -> G061196
A4: =IF('Suivi '!B4="","",'Suivi '!B4) -> PF | B4: =IF('Suivi '!C4="","",'Suivi '!C4) -> G651208
A5: =IF('Suivi '!B5="","",'Suivi '!B5) -> MP | B5: =IF('Suivi '!C5="","",'Suivi '!C5) -> 7403031246
A6: =IF('Suivi '!B6="","",'Suivi '!B6) -> MP | B6: =IF('Suivi '!C6="","",'Suivi '!C6) -> 7403036995
A7: =IF('Suivi '!B7="","",'Suivi '!B7) -> PF | B7: =IF('Suivi '!C7="","",'Suivi '!C7) -> G061353
A8: =IF('Suivi '!B8="","",'Suivi '!B8) -> VRAC | B8: =IF('Suivi '!C8="","",'Suivi '!C8) -> 6300300025
A9: =IF('Suivi '!B9="","",'Suivi '!B9) -> PF | B9: =IF('Suivi '!C9="","",'Suivi '!C9) -> 7421040893
A10: =IF('Suivi '!B10="","",'Suivi '!B10) -> VRAC | B10: =IF('Suivi '!C10="","",'Suivi '!C10) -> 6890196770
A11: =IF('Suivi '!B11="","",'Suivi '!B11) -> MP | B11: =IF('Suivi '!C11="","",'Suivi '!C11) -> 7403037475
A12: =IF('Suivi '!B12="","",'Suivi '!B12) -> VRAC | B12: =IF('Suivi '!C12="","",'Suivi '!C12) -> 6300300025
A13: =IF('Suivi '!B13="","",'Suivi '!B13) -> VRAC | B13: =IF('Suivi '!C13="","",'Suivi '!C13) -> 6900003772
... A1400: =IF('Suivi '!B1400="","",'Suivi '!B1400) | B1400: =IF('Suivi '!C1400="","",'Suivi '!C1400)
