Workbook

Sheet Tableau de bord
A1: Marque | B1: Modèle | C1: Carrosserie | D1: N° immatriculation | E1: Véhicule utilisable
A2: =IF('Base de données véhicule'!B2="","",'Base de données véhicule'!B2) -> Opel | B2: =IF('Base de données véhicule'!C2="","",'Base de données véhicule'!C2) -> Astra | C2: =IF('Base de données véhicule'!D2="","",'Base de données véhicule'!D2) -> Coupé | D2: =IF('Base de données véhicule'!A2="","",'Base de données véhicule'!A2) -> 111 | E2: {=IF(D2<>"",IF(SUM((Réparation!$D$2:$D$20=D2)*(IF(Réparation!$G$2:$G$20="Oui",1,(Réparation!$I$2:$I$20<>""))))=SUMPRODUCT(--(Réparation!$D$2:$D$7=D2)),"Oui","Non"),"")} -> Oui
A3: =IF('Base de données véhicule'!B3="","",'Base de données véhicule'!B3) -> Audi | B3: =IF('Base de données véhicule'!C3="","",'Base de données véhicule'!C3) -> A4 | C3: =IF('Base de données véhicule'!D3="","",'Base de données véhicule'!D3) -> Break | D3: =IF('Base de données véhicule'!A3="","",'Base de données véhicule'!A3) -> 222 | E3: {=IF(D3<>"",IF(SUM((Réparation!$D$2:$D$20=D3)*(IF(Réparation!$G$2:$G$20="Oui",1,(Réparation!$I$2:$I$20<>""))))=SUMPRODUCT(--(Réparation!$D$2:$D$7=D3)),"Oui","Non"),"")} -> Oui
A4: =IF('Base de données véhicule'!B4="","",'Base de données véhicule'!B4) -> BMW | B4: =IF('Base de données véhicule'!C4="","",'Base de données véhicule'!C4) -> M235i | C4: =IF('Base de données véhicule'!D4="","",'Base de données véhicule'!D4) -> Coupé | D4: =IF('Base de données véhicule'!A4="","",'Base de données véhicule'!A4) -> 333 | E4: {=IF(D4<>"",IF(SUM((Réparation!$D$2:$D$20=D4)*(IF(Réparation!$G$2:$G$20="Oui",1,(Réparation!$I$2:$I$20<>""))))=SUMPRODUCT(--(Réparation!$D$2:$D$7=D4)),"Oui","Non"),"")} -> Oui
A5: =IF('Base de données véhicule'!B5="","",'Base de données véhicule'!B5) -> Renault | B5: =IF('Base de données véhicule'!C5="","",'Base de données véhicule'!C5) -> Clio | C5: =IF('Base de données véhicule'!D5="","",'Base de données véhicule'!D5) -> Citadine | D5: =IF('Base de données véhicule'!A5="","",'Base de données véhicule'!A5) -> 444 | E5: {=IF(D5<>"",IF(SUM((Réparation!$D$2:$D$20=D5)*(IF(Réparation!$G$2:$G$20="Oui",1,(Réparation!$I$2:$I$20<>""))))=SUMPRODUCT(--(Réparation!$D$2:$D$7=D5)),"Oui","Non"),"")} -> Oui
A6: =IF('Base de données véhicule'!B6="","",'Base de données véhicule'!B6) | B6: =IF('Base de données véhicule'!C6="","",'Base de données véhicule'!C6) | C6: =IF('Base de données véhicule'!D6="","",'Base de données véhicule'!D6) | D6: =IF('Base de données véhicule'!A6="","",'Base de données véhicule'!A6) | E6: {=IF(D6<>"",IF(SUM((Réparation!$D$2:$D$20=D6)*(IF(Réparation!$G$2:$G$20="Oui",1,(Réparation!$I$2:$I$20<>""))))=SUMPRODUCT(--(Réparation!$D$2:$D$7=D6)),"Oui","Non"),"")}
A7: =IF('Base de données véhicule'!B7="","",'Base de données véhicule'!B7) | B7: =IF('Base de données véhicule'!C7="","",'Base de données véhicule'!C7) | C7: =IF('Base de données véhicule'!D7="","",'Base de données véhicule'!D7) | D7: =IF('Base de données véhicule'!A7="","",'Base de données véhicule'!A7) | E7: {=IF(D7<>"",IF(SUM((Réparation!$D$2:$D$20=D7)*(IF(Réparation!$G$2:$G$20="Oui",1,(Réparation!$I$2:$I$20<>""))))=SUMPRODUCT(--(Réparation!$D$2:$D$7=D7)),"Oui","Non"),"")}
A8: =IF('Base de données véhicule'!B8="","",'Base de données véhicule'!B8) | B8: =IF('Base de données véhicule'!C8="","",'Base de données véhicule'!C8) | C8: =IF('Base de données véhicule'!D8="","",'Base de données véhicule'!D8) | D8: =IF('Base de données véhicule'!A8="","",'Base de données véhicule'!A8) | E8: {=IF(D8<>"",IF(SUM((Réparation!$D$2:$D$20=D8)*(IF(Réparation!$G$2:$G$20="Oui",1,(Réparation!$I$2:$I$20<>""))))=SUMPRODUCT(--(Réparation!$D$2:$D$7=D8)),"Oui","Non"),"")}
A9: =IF('Base de données véhicule'!B9="","",'Base de données véhicule'!B9) | B9: =IF('Base de données véhicule'!C9="","",'Base de données véhicule'!C9) | C9: =IF('Base de données véhicule'!D9="","",'Base de données véhicule'!D9) | D9: =IF('Base de données véhicule'!A9="","",'Base de données véhicule'!A9) | E9: {=IF(D9<>"",IF(SUM((Réparation!$D$2:$D$20=D9)*(IF(Réparation!$G$2:$G$20="Oui",1,(Réparation!$I$2:$I$20<>""))))=SUMPRODUCT(--(Réparation!$D$2:$D$7=D9)),"Oui","Non"),"")}
A10: =IF('Base de données véhicule'!B10="","",'Base de données véhicule'!B10) | B10: =IF('Base de données véhicule'!C10="","",'Base de données véhicule'!C10) | C10: =IF('Base de données véhicule'!D10="","",'Base de données véhicule'!D10) | D10: =IF('Base de données véhicule'!A10="","",'Base de données véhicule'!A10) | E10: {=IF(D10<>"",IF(SUM((Réparation!$D$2:$D$20=D10)*(IF(Réparation!$G$2:$G$20="Oui",1,(Réparation!$I$2:$I$20<>""))))=SUMPRODUCT(--(Réparation!$D$2:$D$7=D10)),"Oui","Non"),"")}
A11: =IF('Base de données véhicule'!B11="","",'Base de données véhicule'!B11) | B11: =IF('Base de données véhicule'!C11="","",'Base de données véhicule'!C11) | C11: =IF('Base de données véhicule'!D11="","",'Base de données véhicule'!D11) | D11: =IF('Base de données véhicule'!A11="","",'Base de données véhicule'!A11) | E11: {=IF(D11<>"",IF(SUM((Réparation!$D$2:$D$20=D11)*(IF(Réparation!$G$2:$G$20="Oui",1,(Réparation!$I$2:$I$20<>""))))=SUMPRODUCT(--(Réparation!$D$2:$D$7=D11)),"Oui","Non"),"")}
A12: =IF('Base de données véhicule'!B12="","",'Base de données véhicule'!B12) | B12: =IF('Base de données véhicule'!C12="","",'Base de données véhicule'!C12) | C12: =IF('Base de données véhicule'!D12="","",'Base de données véhicule'!D12) | D12: =IF('Base de données véhicule'!A12="","",'Base de données véhicule'!A12) | E12: {=IF(D12<>"",IF(SUM((Réparation!$D$2:$D$20=D12)*(IF(Réparation!$G$2:$G$20="Oui",1,(Réparation!$I$2:$I$20<>""))))=SUMPRODUCT(--(Réparation!$D$2:$D$7=D12)),"Oui","Non"),"")}
A13: =IF('Base de données véhicule'!B13="","",'Base de données véhicule'!B13) | B13: =IF('Base de données véhicule'!C13="","",'Base de données véhicule'!C13) | C13: =IF('Base de données véhicule'!D13="","",'Base de données véhicule'!D13) | D13: =IF('Base de données véhicule'!A13="","",'Base de données véhicule'!A13) | E13: {=IF(D13<>"",IF(SUM((Réparation!$D$2:$D$20=D13)*(IF(Réparation!$G$2:$G$20="Oui",1,(Réparation!$I$2:$I$20<>""))))=SUMPRODUCT(--(Réparation!$D$2:$D$7=D13)),"Oui","Non"),"")}
... A20: =IF('Base de données véhicule'!B20="","",'Base de données véhicule'!B20) | B20: =IF('Base de données véhicule'!C20="","",'Base de données véhicule'!C20) | C20: =IF('Base de données véhicule'!D20="","",'Base de données véhicule'!D20) | D20: =IF('Base de données véhicule'!A20="","",'Base de données véhicule'!A20) | E20: {=IF(D20<>"",IF(SUM((Réparation!$D$2:$D$20=D20)*(IF(Réparation!$G$2:$G$20="Oui",1,(Réparation!$I$2:$I$20<>""))))=SUMPRODUCT(--(Réparation!$D$2:$D$7=D20)),"Oui","Non"),"")}
A21: =IF('Base de données véhicule'!B21="","",'Base de données véhicule'!B21) | B21: =IF('Base de données véhicule'!C21="","",'Base de données véhicule'!C21) | C21: =IF('Base de données véhicule'!D21="","",'Base de données véhicule'!D21) | D21: =IF('Base de données véhicule'!A21="","",'Base de données véhicule'!A21)
A22: =IF('Base de données véhicule'!B22="","",'Base de données véhicule'!B22) | B22: =IF('Base de données véhicule'!C22="","",'Base de données véhicule'!C22) | C22: =IF('Base de données véhicule'!D22="","",'Base de données véhicule'!D22) | D22: =IF('Base de données véhicule'!A22="","",'Base de données véhicule'!A22)
A23: =IF('Base de données véhicule'!B23="","",'Base de données véhicule'!B23) | B23: =IF('Base de données véhicule'!C23="","",'Base de données véhicule'!C23) | C23: =IF('Base de données véhicule'!D23="","",'Base de données véhicule'!D23) | D23: =IF('Base de données véhicule'!A23="","",'Base de données véhicule'!A23)
A24: =IF('Base de données véhicule'!B24="","",'Base de données véhicule'!B24) | B24: =IF('Base de données véhicule'!C24="","",'Base de données véhicule'!C24) | C24: =IF('Base de données véhicule'!D24="","",'Base de données véhicule'!D24) | D24: =IF('Base de données véhicule'!A24="","",'Base de données véhicule'!A24)
A25: =IF('Base de données véhicule'!B25="","",'Base de données véhicule'!B25) | B25: =IF('Base de données véhicule'!C25="","",'Base de données véhicule'!C25) | C25: =IF('Base de données véhicule'!D25="","",'Base de données véhicule'!D25) | D25: =IF('Base de données véhicule'!A25="","",'Base de données véhicule'!A25)
A26: =IF('Base de données véhicule'!B26="","",'Base de données véhicule'!B26) | B26: =IF('Base de données véhicule'!C26="","",'Base de données véhicule'!C26) | C26: =IF('Base de données véhicule'!D26="","",'Base de données véhicule'!D26) | D26: =IF('Base de données véhicule'!A26="","",'Base de données véhicule'!A26)
A27: =IF('Base de données véhicule'!B27="","",'Base de données véhicule'!B27) | B27: =IF('Base de données véhicule'!C27="","",'Base de données véhicule'!C27) | C27: =IF('Base de données véhicule'!D27="","",'Base de données véhicule'!D27) | D27: =IF('Base de données véhicule'!A27="","",'Base de données véhicule'!A27)
A28: =IF('Base de données véhicule'!B28="","",'Base de données véhicule'!B28) | B28: =IF('Base de données véhicule'!C28="","",'Base de données véhicule'!C28) | C28: =IF('Base de données véhicule'!D28="","",'Base de données véhicule'!D28) | D28: =IF('Base de données véhicule'!A28="","",'Base de données véhicule'!A28)
A29: =IF('Base de données véhicule'!B29="","",'Base de données véhicule'!B29) | B29: =IF('Base de données véhicule'!C29="","",'Base de données véhicule'!C29) | C29: =IF('Base de données véhicule'!D29="","",'Base de données véhicule'!D29) | D29: =IF('Base de données véhicule'!A29="","",'Base de données véhicule'!A29)
A30: =IF('Base de données véhicule'!B30="","",'Base de données véhicule'!B30) | B30: =IF('Base de données véhicule'!C30="","",'Base de données véhicule'!C30) | C30: =IF('Base de données véhicule'!D30="","",'Base de données véhicule'!D30) | D30: =IF('Base de données véhicule'!A30="","",'Base de données véhicule'!A30)
A31: =IF('Base de données véhicule'!B31="","",'Base de données véhicule'!B31) | B31: =IF('Base de données véhicule'!C31="","",'Base de données véhicule'!C31) | C31: =IF('Base de données véhicule'!D31="","",'Base de données véhicule'!D31) | D31: =IF('Base de données véhicule'!A31="","",'Base de données véhicule'!A31)
A32: =IF('Base de données véhicule'!B32="","",'Base de données véhicule'!B32) | B32: =IF('Base de données véhicule'!C32="","",'Base de données véhicule'!C32) | C32: =IF('Base de données véhicule'!D32="","",'Base de données véhicule'!D32) | D32: =IF('Base de données véhicule'!A32="","",'Base de données véhicule'!A32)
... A40: =IF('Base de données véhicule'!B40="","",'Base de données véhicule'!B40) | B40: =IF('Base de données véhicule'!C40="","",'Base de données véhicule'!C40) | C40: =IF('Base de données véhicule'!D40="","",'Base de données véhicule'!D40) | D40: =IF('Base de données véhicule'!A40="","",'Base de données véhicule'!A40)

Sheet Réparation
A1: Marque | B1: Modèle | C1: Carrosserie | D1: N° immatriculation | E1: Elément défectueux | F1: Défectuosité | G1: Véhicule utilisable | H1: Annoncé le | I1: Réparé le
A2: =IF(D2="","",VLOOKUP(D2,'Base de données véhicule'!A$2:D$20,2,FALSE)) -> Opel | B2: =IF(D2="","",VLOOKUP(D2,'Base de données véhicule'!A$2:D$20,3,FALSE)) -> Astra | C2: =IF(D2="","",VLOOKUP(D2,'Base de données véhicule'!A$2:D$20,4,FALSE)) -> Coupé | D2: 111 | E2: Climatisation | F2: Marche par intermitance | G2: Oui | H2: 42814
A3: =IF(D3="","",VLOOKUP(D3,'Base de données véhicule'!A$2:D$20,2,FALSE)) -> Audi | B3: =IF(D3="","",VLOOKUP(D3,'Base de données véhicule'!A$2:D$20,3,FALSE)) -> A4 | C3: =IF(D3="","",VLOOKUP(D3,'Base de données véhicule'!A$2:D$20,4,FALSE)) -> Break | D3: 222 | E3: Turbo | F3: Cassé | G3: Non | H3: 42814 | I3: 42816
A4: =IF(D4="","",VLOOKUP(D4,'Base de données véhicule'!A$2:D$20,2,FALSE)) -> BMW | B4: =IF(D4="","",VLOOKUP(D4,'Base de données véhicule'!A$2:D$20,3,FALSE)) -> M235i | C4: =IF(D4="","",VLOOKUP(D4,'Base de données véhicule'!A$2:D$20,4,FALSE)) -> Coupé | D4: 333 | E4: Pneu AG | F4: Crévé | G4: Non | H4: 42815 | I4: 42817
A5: =IF(D5="","",VLOOKUP(D5,'Base de données véhicule'!A$2:D$20,2,FALSE)) -> Renault | B5: =IF(D5="","",VLOOKUP(D5,'Base de données véhicule'!A$2:D$20,3,FALSE)) -> Clio | C5: =IF(D5="","",VLOOKUP(D5,'Base de données véhicule'!A$2:D$20,4,FALSE)) -> Citadine | D5: 444 | E5: Moteur | F5: Fait des ratés | G5: Non | H5: 42815 | I5: 42823
A6: =IF(D6="","",VLOOKUP(D6,'Base de données véhicule'!A$2:D$20,2,FALSE)) -> Opel | B6: =IF(D6="","",VLOOKUP(D6,'Base de données véhicule'!A$2:D$20,3,FALSE)) -> Astra | C6: =IF(D6="","",VLOOKUP(D6,'Base de données véhicule'!A$2:D$20,4,FALSE)) -> Coupé | D6: 111 | E6: Ampoule Stop G | F6: Ne fonctionne pas | G6: Oui | H6: 42814 | I6: 42814
A7: =IF(D7="","",VLOOKUP(D7,'Base de données véhicule'!A$2:D$20,2,FALSE)) -> Audi | B7: =IF(D7="","",VLOOKUP(D7,'Base de données véhicule'!A$2:D$20,3,FALSE)) -> A4 | C7: =IF(D7="","",VLOOKUP(D7,'Base de données véhicule'!A$2:D$20,4,FALSE)) -> Break | D7: 222 | E7: Echappement | F7: Fumée dans l'habitacle | G7: Non | H7: 42817 | I7: 42823
A8: =IF(D8="","",VLOOKUP(D8,'Base de données véhicule'!A$2:D$20,2,FALSE)) -> Opel | B8: =IF(D8="","",VLOOKUP(D8,'Base de données véhicule'!A$2:D$20,3,FALSE)) -> Astra | C8: =IF(D8="","",VLOOKUP(D8,'Base de données véhicule'!A$2:D$20,4,FALSE)) -> Coupé | D8: 111 | E8: Moteur | F8: Fuite huile | G8: Non | H8: 42823 | J8: {=(SUM((D2:D7=111)*(IF(G2:G7="oui",1,(I2:I7<>""))))=SUMPRODUCT(--(D2:D7=111)))*1} -> 1
A9: =IF(D9="","",VLOOKUP(D9,'Base de données véhicule'!A$2:D$20,2,FALSE)) | B9: =IF(D9="","",VLOOKUP(D9,'Base de données véhicule'!A$2:D$20,3,FALSE)) | C9: =IF(D9="","",VLOOKUP(D9,'Base de données véhicule'!A$2:D$20,4,FALSE))
A10: =IF(D10="","",VLOOKUP(D10,'Base de données véhicule'!A$2:D$20,2,FALSE)) | B10: =IF(D10="","",VLOOKUP(D10,'Base de données véhicule'!A$2:D$20,3,FALSE)) | C10: =IF(D10="","",VLOOKUP(D10,'Base de données véhicule'!A$2:D$20,4,FALSE))
A11: =IF(D11="","",VLOOKUP(D11,'Base de données véhicule'!A$2:D$20,2,FALSE)) | B11: =IF(D11="","",VLOOKUP(D11,'Base de données véhicule'!A$2:D$20,3,FALSE)) | C11: =IF(D11="","",VLOOKUP(D11,'Base de données véhicule'!A$2:D$20,4,FALSE))
A12: =IF(D12="","",VLOOKUP(D12,'Base de données véhicule'!A$2:D$20,2,FALSE)) | B12: =IF(D12="","",VLOOKUP(D12,'Base de données véhicule'!A$2:D$20,3,FALSE)) | C12: =IF(D12="","",VLOOKUP(D12,'Base de données véhicule'!A$2:D$20,4,FALSE))
A13: =IF(D13="","",VLOOKUP(D13,'Base de données véhicule'!A$2:D$20,2,FALSE)) | B13: =IF(D13="","",VLOOKUP(D13,'Base de données véhicule'!A$2:D$20,3,FALSE)) | C13: =IF(D13="","",VLOOKUP(D13,'Base de données véhicule'!A$2:D$20,4,FALSE))
A14: =IF(D14="","",VLOOKUP(D14,'Base de données véhicule'!A$2:D$20,2,FALSE)) | B14: =IF(D14="","",VLOOKUP(D14,'Base de données véhicule'!A$2:D$20,3,FALSE)) | C14: =IF(D14="","",VLOOKUP(D14,'Base de données véhicule'!A$2:D$20,4,FALSE))
A15: =IF(D15="","",VLOOKUP(D15,'Base de données véhicule'!A$2:D$20,2,FALSE)) | B15: =IF(D15="","",VLOOKUP(D15,'Base de données véhicule'!A$2:D$20,3,FALSE)) | C15: =IF(D15="","",VLOOKUP(D15,'Base de données véhicule'!A$2:D$20,4,FALSE))
A16: =IF(D16="","",VLOOKUP(D16,'Base de données véhicule'!A$2:D$20,2,FALSE)) | B16: =IF(D16="","",VLOOKUP(D16,'Base de données véhicule'!A$2:D$20,3,FALSE)) | C16: =IF(D16="","",VLOOKUP(D16,'Base de données véhicule'!A$2:D$20,4,FALSE))
A17: =IF(D17="","",VLOOKUP(D17,'Base de données véhicule'!A$2:D$20,2,FALSE)) | B17: =IF(D17="","",VLOOKUP(D17,'Base de données véhicule'!A$2:D$20,3,FALSE)) | C17: =IF(D17="","",VLOOKUP(D17,'Base de données véhicule'!A$2:D$20,4,FALSE))
A18: =IF(D18="","",VLOOKUP(D18,'Base de données véhicule'!A$2:D$20,2,FALSE)) | B18: =IF(D18="","",VLOOKUP(D18,'Base de données véhicule'!A$2:D$20,3,FALSE)) | C18: =IF(D18="","",VLOOKUP(D18,'Base de données véhicule'!A$2:D$20,4,FALSE))
A19: =IF(D19="","",VLOOKUP(D19,'Base de données véhicule'!A$2:D$20,2,FALSE)) | B19: =IF(D19="","",VLOOKUP(D19,'Base de données véhicule'!A$2:D$20,3,FALSE)) | C19: =IF(D19="","",VLOOKUP(D19,'Base de données véhicule'!A$2:D$20,4,FALSE))
A20: =IF(D20="","",VLOOKUP(D20,'Base de données véhicule'!A$2:D$20,2,FALSE)) | B20: =IF(D20="","",VLOOKUP(D20,'Base de données véhicule'!A$2:D$20,3,FALSE)) | C20: =IF(D20="","",VLOOKUP(D20,'Base de données véhicule'!A$2:D$20,4,FALSE))

Sheet Base de données véhicule
A1: N° immatriculation | B1: Marque | C1: Modèle | D1: Carrosserie | E1: Couleur | F1: Moteur | G1: Carburant
A2: 111 | B2: Opel | C2: Astra | D2: Coupé | E2: Bleu | F2: 2.0 Turbo | G2: Essence
A3: 222 | B3: Audi | C3: A4 | D3: Break | E3: Noir | F3: 1.9 TDI | G3: Diesel
A4: 333 | B4: BMW | C4: M235i | D4: Coupé | E4: Bleu | F4: 3.0 Turbo | G4: Essence
A5: 444 | B5: Renault | C5: Clio | D5: Citadine | E5: Jaune | F5: 2.0 | G5: Essence
