Workbook

Sheet Méthodo
B4: Nom des feuilles | C4: Sources | D4: Mise à jour | E4: Commentaires | F4: Code couleur | G4: Date
B5: Relances Hors Groupe | D5: auto | E5: Calcul tx d'intérêt légal: somme due*nb de jours de retard*tx î légal / 36500
B6: Mettre en place prélèvement | C6: Relances.xlsx | D6: auto | E6: Recense les clients où mise en place prélèvement
B7: Relances Groupe | D7: auto
B8: Avoirs | C8: Relances.xlsx | D8: auto | E8: Avoirs que Patricia doit déduire avant relance
B9: Factures réglées | C9: Relances.xlsx | D9: auto | E9: Recense toutes les factures payées après relance

Sheet Relances HG
A1: Date du jour | B1: =TODAY() -> 42817 | J1: Taux d'intérêt légal | L1: 0.009
J2: Majoration | K2: -40
A6: Code client | B6: Libellé | C6: Client bloqué | D6: Téléphone | E6: Mail | F6: Prélèvement | G6: Actions effectuées | H6: Retour | I6: Actions en attente | J6: Motif non-paiement | K6: Numéro facture | L6: Nb factures | M6: Date facture | N6: Délai paiement | O6: Nb de jours de retard | P6: Frais de recouvrement | Q6: Majoration | R6: Solde client avant relance | S6: Etat | T6: Nouveau solde | U6: Nouvel état | V6: Nouveau solde2 | W6: Nouvel état 2 | X6: Nouveau montant
A7: TIE113275 | C7: oui | G7: envoi avis de paiement, bien reçu | I7: Patricia??? | J7: réglé | K7: 150306614 | L7: 1 | M7: 42064 | O7: =$B$1-Tableau2[[#This Row],[Date facture]] -> 753 | P7: =IFERROR((Tableau2[[#This Row],[Solde client avant relance]]*Tableau2[[#This Row],[Nb de jours de retard]]*$L$1)/36500,"") -> -0.008364489 | Q7: =$K$2*Tableau2[[#This Row],[Nb factures]] -> -40 | R7: -45.05 | S7: Réglé | T7: -45.05 | U7: En cours | V7: =VLOOKUP(Tableau2[[#This Row],[Code client]],extraction!A1:I374,9,0) -> -45.05 | W7: Avis de paiement | X7: =IFERROR(Tableau2[[#This Row],[Solde client avant relance]]+Tableau2[[#This Row],[Frais de recouvrement]]+Tableau2[[#This Row],[Majoration]],"") -> -85.058364
A8: TIE313725 | C8: débloqué | G8: avis de paiement reçu | I8: à vérifier par patricia | J8: déjà réglé | O8: =$B$1-Tableau2[[#This Row],[Date facture]] -> 42817 | P8: =IFERROR((Tableau2[[#This Row],[Solde client avant relance]]*Tableau2[[#This Row],[Nb de jours de retard]]*$L$1)/36500,"") -> -0.82412754 | Q8: =$K$2*Tableau2[[#This Row],[Nb factures]] -> 0 | R8: -78.06 | S8: Réglé | T8: -336.79 | U8: En cours | V8: =VLOOKUP(Tableau2[[#This Row],[Code client]],extraction!A97:I470,9,0) -> -78.06 | W8: Avis de paiement | X8: =IFERROR(Tableau2[[#This Row],[Solde client avant relance]]+Tableau2[[#This Row],[Frais de recouvrement]]+Tableau2[[#This Row],[Majoration]],"") -> -78.884128
A9: TIE355683 | C9: débloqué | G9: envoi avis paiement, bien reçu | I9: à vérifier | J9: réglé | O9: =$B$1-Tableau2[[#This Row],[Date facture]] -> 42817 | P9: =IFERROR((Tableau2[[#This Row],[Solde client avant relance]]*Tableau2[[#This Row],[Nb de jours de retard]]*$L$1)/36500,"") -> -0.3538913 | Q9: =$K$2*Tableau2[[#This Row],[Nb factures]] -> 0 | R9: -33.52 | S9: Réglé | T9: -33.52 | U9: Réglé | V9: =VLOOKUP(Tableau2[[#This Row],[Code client]],extraction!A98:I471,9,0) -> -33.52 | W9: Avis de paiement | X9: =IFERROR(Tableau2[[#This Row],[Solde client avant relance]]+Tableau2[[#This Row],[Frais de recouvrement]]+Tableau2[[#This Row],[Majoration]],"") -> -33.873891
A10: TIE356465 | C10: débloqué | G10: avis de paiement envoyé | O10: =$B$1-Tableau2[[#This Row],[Date facture]] -> 42817 | P10: =IFERROR((Tableau2[[#This Row],[Solde client avant relance]]*Tableau2[[#This Row],[Nb de jours de retard]]*$L$1)/36500,"") -> -0.84080857 | Q10: =$K$2*Tableau2[[#This Row],[Nb factures]] -> 0 | R10: -79.64 | S10: Réglé | T10: -79.64 | U10: Réglé | V10: =VLOOKUP(Tableau2[[#This Row],[Code client]],extraction!A99:I472,9,0) -> -79.64 | W10: Avis de paiement | X10: =IFERROR(Tableau2[[#This Row],[Solde client avant relance]]+Tableau2[[#This Row],[Frais de recouvrement]]+Tableau2[[#This Row],[Majoration]],"") -> -80.480809
A11: TIE112823 | C11: oui | O11: =$B$1-Tableau2[[#This Row],[Date facture]] -> 42817 | P11: =IFERROR((Tableau2[[#This Row],[Solde client avant relance]]*Tableau2[[#This Row],[Nb de jours de retard]]*$L$1)/36500,"") -> -0.23205641 | Q11: =$K$2*Tableau2[[#This Row],[Nb factures]] -> 0 | R11: -21.98 | X11: =IFERROR(Tableau2[[#This Row],[Solde client avant relance]]+Tableau2[[#This Row],[Frais de recouvrement]]+Tableau2[[#This Row],[Majoration]],"") -> -22.212056
A12: TIE160518 | C12: oui | O12: =$B$1-Tableau2[[#This Row],[Date facture]] -> 42817 | P12: =IFERROR((Tableau2[[#This Row],[Solde client avant relance]]*Tableau2[[#This Row],[Nb de jours de retard]]*$L$1)/36500,"") -> -0.35927569 | Q12: =$K$2*Tableau2[[#This Row],[Nb factures]] -> 0 | R12: -34.03 | X12: =IFERROR(Tableau2[[#This Row],[Solde client avant relance]]+Tableau2[[#This Row],[Frais de recouvrement]]+Tableau2[[#This Row],[Majoration]],"") -> -34.389276
A13: TIE200276 | C13: oui | O13: =$B$1-Tableau2[[#This Row],[Date facture]] -> 42817 | P13: =IFERROR((Tableau2[[#This Row],[Solde client avant relance]]*Tableau2[[#This Row],[Nb de jours de retard]]*$L$1)/36500,"") -> -0.59555514 | Q13: =$K$2*Tableau2[[#This Row],[Nb factures]] -> 0 | R13: -56.41 | X13: =IFERROR(Tableau2[[#This Row],[Solde client avant relance]]+Tableau2[[#This Row],[Frais de recouvrement]]+Tableau2[[#This Row],[Majoration]],"") -> -57.005555
A14: TIE2041 | I14: voir avec patrcia | O14: =$B$1-Tableau2[[#This Row],[Date facture]] -> 42817 | P14: =IFERROR((Tableau2[[#This Row],[Solde client avant relance]]*Tableau2[[#This Row],[Nb de jours de retard]]*$L$1)/36500,"") -> -44.699998 | Q14: =$K$2*Tableau2[[#This Row],[Nb factures]] -> 0 | R14: -4233.91 | S14: En cours | X14: =IFERROR(Tableau2[[#This Row],[Solde client avant relance]]+Tableau2[[#This Row],[Frais de recouvrement]]+Tableau2[[#This Row],[Majoration]],"") -> -4278.61
A15: TIE245591 | C15: oui | O15: =$B$1-Tableau2[[#This Row],[Date facture]] -> 42817 | P15: =IFERROR((Tableau2[[#This Row],[Solde client avant relance]]*Tableau2[[#This Row],[Nb de jours de retard]]*$L$1)/36500,"") -> -0.35927569 | Q15: =$K$2*Tableau2[[#This Row],[Nb factures]] -> 0 | R15: -34.03 | X15: =IFERROR(Tableau2[[#This Row],[Solde client avant relance]]+Tableau2[[#This Row],[Frais de recouvrement]]+Tableau2[[#This Row],[Majoration]],"") -> -34.389276
A16: TIE253708 | C16: oui | G16: le 17/03/17, mail indiquant que Crédit Mutuel qui paye la facture | H16: le 20/03/17, mail du SAV | I16: en attente de savoir qui paye | O16: =$B$1-Tableau2[[#This Row],[Date facture]] -> 42817 | P16: =IFERROR((Tableau2[[#This Row],[Solde client avant relance]]*Tableau2[[#This Row],[Nb de jours de retard]]*$L$1)/36500,"") -> -9.8148881 | Q16: =$K$2*Tableau2[[#This Row],[Nb factures]] -> 0 | R16: -929.65 | S16: En attente de paiement | X16: =IFERROR(Tableau2[[#This Row],[Solde client avant relance]]+Tableau2[[#This Row],[Frais de recouvrement]]+Tableau2[[#This Row],[Majoration]],"") -> -939.46489
A17: TIE256937 | C17: oui | O17: =$B$1-Tableau2[[#This Row],[Date facture]] -> 42817 | P17: =IFERROR((Tableau2[[#This Row],[Solde client avant relance]]*Tableau2[[#This Row],[Nb de jours de retard]]*$L$1)/36500,"") -> -0.35294112 | Q17: =$K$2*Tableau2[[#This Row],[Nb factures]] -> 0 | R17: -33.43 | X17: =IFERROR(Tableau2[[#This Row],[Solde client avant relance]]+Tableau2[[#This Row],[Frais de recouvrement]]+Tableau2[[#This Row],[Majoration]],"") -> -33.782941
A18: TIE270392 | C18: oui | O18: =$B$1-Tableau2[[#This Row],[Date facture]] -> 42817 | P18: =IFERROR((Tableau2[[#This Row],[Solde client avant relance]]*Tableau2[[#This Row],[Nb de jours de retard]]*$L$1)/36500,"") -> -1.04721 | Q18: =$K$2*Tableau2[[#This Row],[Nb factures]] -> 0 | R18: -99.19 | X18: =IFERROR(Tableau2[[#This Row],[Solde client avant relance]]+Tableau2[[#This Row],[Frais de recouvrement]]+Tableau2[[#This Row],[Majoration]],"") -> -100.23721
A19: TIE289510 | C19: oui | O19: =$B$1-Tableau2[[#This Row],[Date facture]] -> 42817 | P19: =IFERROR((Tableau2[[#This Row],[Solde client avant relance]]*Tableau2[[#This Row],[Nb de jours de retard]]*$L$1)/36500,"") -> -0.33224819 | Q19: =$K$2*Tableau2[[#This Row],[Nb factures]] -> 0 | R19: -31.47 | X19: =IFERROR(Tableau2[[#This Row],[Solde client avant relance]]+Tableau2[[#This Row],[Frais de recouvrement]]+Tableau2[[#This Row],[Majoration]],"") -> -31.802248
A20: TIE311332 | C20: oui | O20: =$B$1-Tableau2[[#This Row],[Date facture]] -> 42817 | P20: =IFERROR((Tableau2[[#This Row],[Solde client avant relance]]*Tableau2[[#This Row],[Nb de jours de retard]]*$L$1)/36500,"") -> -0.35294112 | Q20: =$K$2*Tableau2[[#This Row],[Nb factures]] -> 0 | R20: -33.43 | X20: =IFERROR(Tableau2[[#This Row],[Solde client avant relance]]+Tableau2[[#This Row],[Frais de recouvrement]]+Tableau2[[#This Row],[Majoration]],"") -> -33.782941
A21: TIE315467 | C21: oui | O21: =$B$1-Tableau2[[#This Row],[Date facture]] -> 42817 | P21: =IFERROR((Tableau2[[#This Row],[Solde client avant relance]]*Tableau2[[#This Row],[Nb de jours de retard]]*$L$1)/36500,"") -> -1.7866654 | Q21: =$K$2*Tableau2[[#This Row],[Nb factures]] -> 0 | R21: -169.23 | X21: =IFERROR(Tableau2[[#This Row],[Solde client avant relance]]+Tableau2[[#This Row],[Frais de recouvrement]]+Tableau2[[#This Row],[Majoration]],"") -> -171.01667
A22: TIE317260 | C22: oui | O22: =$B$1-Tableau2[[#This Row],[Date facture]] -> 42817 | P22: =IFERROR((Tableau2[[#This Row],[Solde client avant relance]]*Tableau2[[#This Row],[Nb de jours de retard]]*$L$1)/36500,"") -> -0.35294112 | Q22: =$K$2*Tableau2[[#This Row],[Nb factures]] -> 0 | R22: -33.43 | X22: =IFERROR(Tableau2[[#This Row],[Solde client avant relance]]+Tableau2[[#This Row],[Frais de recouvrement]]+Tableau2[[#This Row],[Majoration]],"") -> -33.782941
A23: TIE317556 | C23: oui | O23: =$B$1-Tableau2[[#This Row],[Date facture]] -> 42817 | P23: =IFERROR((Tableau2[[#This Row],[Solde client avant relance]]*Tableau2[[#This Row],[Nb de jours de retard]]*$L$1)/36500,"") -> -0.46611877 | Q23: =$K$2*Tableau2[[#This Row],[Nb factures]] -> 0 | R23: -44.15 | X23: =IFERROR(Tableau2[[#This Row],[Solde client avant relance]]+Tableau2[[#This Row],[Frais de recouvrement]]+Tableau2[[#This Row],[Majoration]],"") -> -44.616119
A24: TIE329059 | C24: oui | O24: =$B$1-Tableau2[[#This Row],[Date facture]] -> 42817 | P24: =IFERROR((Tableau2[[#This Row],[Solde client avant relance]]*Tableau2[[#This Row],[Nb de jours de retard]]*$L$1)/36500,"") -> -0.35294112 | Q24: =$K$2*Tableau2[[#This Row],[Nb factures]] -> 0 | R24: -33.43 | X24: =IFERROR(Tableau2[[#This Row],[Solde client avant relance]]+Tableau2[[#This Row],[Frais de recouvrement]]+Tableau2[[#This Row],[Majoration]],"") -> -33.782941
A25: TIE347067 | C25: oui | O25: =$B$1-Tableau2[[#This Row],[Date facture]] -> 42817 | P25: =IFERROR((Tableau2[[#This Row],[Solde client avant relance]]*Tableau2[[#This Row],[Nb de jours de retard]]*$L$1)/36500,"") -> -0.35294112 | Q25: =$K$2*Tableau2[[#This Row],[Nb factures]] -> 0 | R25: -33.43 | X25: =IFERROR(Tableau2[[#This Row],[Solde client avant relance]]+Tableau2[[#This Row],[Frais de recouvrement]]+Tableau2[[#This Row],[Majoration]],"") -> -33.782941
A26: TIE347138 | C26: oui | O26: =$B$1-Tableau2[[#This Row],[Date facture]] -> 42817 | P26: =IFERROR((Tableau2[[#This Row],[Solde client avant relance]]*Tableau2[[#This Row],[Nb de jours de retard]]*$L$1)/36500,"") -> -0.35294112 | Q26: =$K$2*Tableau2[[#This Row],[Nb factures]] -> 0 | R26: -33.43 | X26: =IFERROR(Tableau2[[#This Row],[Solde client avant relance]]+Tableau2[[#This Row],[Frais de recouvrement]]+Tableau2[[#This Row],[Majoration]],"") -> -33.782941
A27: TIE351040 | C27: oui | O27: =$B$1-Tableau2[[#This Row],[Date facture]] -> 42817 | P27: =IFERROR((Tableau2[[#This Row],[Solde client avant relance]]*Tableau2[[#This Row],[Nb de jours de retard]]*$L$1)/36500,"") -> -0.35294112 | Q27: =$K$2*Tableau2[[#This Row],[Nb factures]] -> 0 | R27: -33.43 | X27: =IFERROR(Tableau2[[#This Row],[Solde client avant relance]]+Tableau2[[#This Row],[Frais de recouvrement]]+Tableau2[[#This Row],[Majoration]],"") -> -33.782941
A28: TIE356754 | C28: oui | O28: =$B$1-Tableau2[[#This Row],[Date facture]] -> 42817 | P28: =IFERROR((Tableau2[[#This Row],[Solde client avant relance]]*Tableau2[[#This Row],[Nb de jours de retard]]*$L$1)/36500,"") -> -0.35294112 | Q28: =$K$2*Tableau2[[#This Row],[Nb factures]] -> 0 | R28: -33.43 | X28: =IFERROR(Tableau2[[#This Row],[Solde client avant relance]]+Tableau2[[#This Row],[Frais de recouvrement]]+Tableau2[[#This Row],[Majoration]],"") -> -33.782941
A29: TIE360513 | C29: oui | O29: =$B$1-Tableau2[[#This Row],[Date facture]] -> 42817 | P29: =IFERROR((Tableau2[[#This Row],[Solde client avant relance]]*Tableau2[[#This Row],[Nb de jours de retard]]*$L$1)/36500,"") -> -0.35294112 | Q29: =$K$2*Tableau2[[#This Row],[Nb factures]] -> 0 | R29: -33.43 | X29: =IFERROR(Tableau2[[#This Row],[Solde client avant relance]]+Tableau2[[#This Row],[Frais de recouvrement]]+Tableau2[[#This Row],[Majoration]],"") -> -33.782941
A30: TIE361294 | C30: oui | G30: envoi mail le 21/03/17 | O30: =$B$1-Tableau2[[#This Row],[Date facture]] -> 42817 | P30: =IFERROR((Tableau2[[#This Row],[Solde client avant relance]]*Tableau2[[#This Row],[Nb de jours de retard]]*$L$1)/36500,"") -> -0.30595972 | Q30: =$K$2*Tableau2[[#This Row],[Nb factures]] -> 0 | R30: -28.98 | S30: En attente de paiement | X30: =IFERROR(Tableau2[[#This Row],[Solde client avant relance]]+Tableau2[[#This Row],[Frais de recouvrement]]+Tableau2[[#This Row],[Majoration]],"") -> -29.28596
A31: TIE362766 | C31: oui | G31: envoi mail le 21/03/17 | O31: =$B$1-Tableau2[[#This Row],[Date facture]] -> 42817 | P31: =IFERROR((Tableau2[[#This Row],[Solde client avant relance]]*Tableau2[[#This Row],[Nb de jours de retard]]*$L$1)/36500,"") -> -0.20714043 | Q31: =$K$2*Tableau2[[#This Row],[Nb factures]] -> 0 | R31: -19.62 | S31: En attente de paiement | X31: =IFERROR(Tableau2[[#This Row],[Solde client avant relance]]+Tableau2[[#This Row],[Frais de recouvrement]]+Tableau2[[#This Row],[Majoration]],"") -> -19.82714
A32: TIE367821 | C32: oui | O32: =$B$1-Tableau2[[#This Row],[Date facture]] -> 42817 | P32: =IFERROR((Tableau2[[#This Row],[Solde client avant relance]]*Tableau2[[#This Row],[Nb de jours de retard]]*$L$1)/36500,"") -> -0.63609639 | Q32: =$K$2*Tableau2[[#This Row],[Nb factures]] -> 0 | R32: -60.25 | X32: =IFERROR(Tableau2[[#This Row],[Solde client avant relance]]+Tableau2[[#This Row],[Frais de recouvrement]]+Tableau2[[#This Row],[Majoration]],"") -> -60.886096
A33: TIE369675 | C33: oui | O33: =$B$1-Tableau2[[#This Row],[Date facture]] -> 42817 | P33: =IFERROR((Tableau2[[#This Row],[Solde client avant relance]]*Tableau2[[#This Row],[Nb de jours de retard]]*$L$1)/36500,"") -> -0.59555514 | Q33: =$K$2*Tableau2[[#This Row],[Nb factures]] -> 0 | R33: -56.41 | X33: =IFERROR(Tableau2[[#This Row],[Solde client avant relance]]+Tableau2[[#This Row],[Frais de recouvrement]]+Tableau2[[#This Row],[Majoration]],"") -> -57.005555
A34: TIE369682 | C34: oui | O34: =$B$1-Tableau2[[#This Row],[Date facture]] -> 42817 | P34: =IFERROR((Tableau2[[#This Row],[Solde client avant relance]]*Tableau2[[#This Row],[Nb de jours de retard]]*$L$1)/36500,"") -> -0.11201631 | Q34: =$K$2*Tableau2[[#This Row],[Nb factures]] -> 0 | R34: -10.61 | X34: =IFERROR(Tableau2[[#This Row],[Solde client avant relance]]+Tableau2[[#This Row],[Frais de recouvrement]]+Tableau2[[#This Row],[Majoration]],"") -> -10.722016
A35: TIE369759 | C35: oui | O35: =$B$1-Tableau2[[#This Row],[Date facture]] -> 42817 | P35: =IFERROR((Tableau2[[#This Row],[Solde client avant relance]]*Tableau2[[#This Row],[Nb de jours de retard]]*$L$1)/36500,"") -> -0.35294112 | Q35: =$K$2*Tableau2[[#This Row],[Nb factures]] -> 0 | R35: -33.43 | X35: =IFERROR(Tableau2[[#This Row],[Solde client avant relance]]+Tableau2[[#This Row],[Frais de recouvrement]]+Tableau2[[#This Row],[Majoration]],"") -> -33.782941
A36: TIE369968 | C36: oui | O36: =$B$1-Tableau2[[#This Row],[Date facture]] -> 42817 | P36: =IFERROR((Tableau2[[#This Row],[Solde client avant relance]]*Tableau2[[#This Row],[Nb de jours de retard]]*$L$1)/36500,"") -> -0.35294112 | Q36: =$K$2*Tableau2[[#This Row],[Nb factures]] -> 0 | R36: -33.43 | X36: =IFERROR(Tableau2[[#This Row],[Solde client avant relance]]+Tableau2[[#This Row],[Frais de recouvrement]]+Tableau2[[#This Row],[Majoration]],"") -> -33.782941
A37: TIE369973 | C37: oui | O37: =$B$1-Tableau2[[#This Row],[Date facture]] -> 42817 | P37: =IFERROR((Tableau2[[#This Row],[Solde client avant relance]]*Tableau2[[#This Row],[Nb de jours de retard]]*$L$1)/36500,"") -> -0.35294112 | Q37: =$K$2*Tableau2[[#This Row],[Nb factures]] -> 0 | R37: -33.43 | X37: =IFERROR(Tableau2[[#This Row],[Solde client avant relance]]+Tableau2[[#This Row],[Frais de recouvrement]]+Tableau2[[#This Row],[Majoration]],"") -> -33.782941
A38: TIE370000 | C38: oui | O38: =$B$1-Tableau2[[#This Row],[Date facture]] -> 42817 | P38: =IFERROR((Tableau2[[#This Row],[Solde client avant relance]]*Tableau2[[#This Row],[Nb de jours de retard]]*$L$1)/36500,"") -> -0.35294112 | Q38: =$K$2*Tableau2[[#This Row],[Nb factures]] -> 0 | R38: -33.43 | X38: =IFERROR(Tableau2[[#This Row],[Solde client avant relance]]+Tableau2[[#This Row],[Frais de recouvrement]]+Tableau2[[#This Row],[Majoration]],"") -> -33.782941
A39: TIE370105 | C39: oui | O39: =$B$1-Tableau2[[#This Row],[Date facture]] -> 42817 | P39: =IFERROR((Tableau2[[#This Row],[Solde client avant relance]]*Tableau2[[#This Row],[Nb de jours de retard]]*$L$1)/36500,"") -> -0.47593735 | Q39: =$K$2*Tableau2[[#This Row],[Nb factures]] -> 0 | R39: -45.08 | X39: =IFERROR(Tableau2[[#This Row],[Solde client avant relance]]+Tableau2[[#This Row],[Frais de recouvrement]]+Tableau2[[#This Row],[Majoration]],"") -> -45.555937
A40: TIE370199 | C40: oui | O40: =$B$1-Tableau2[[#This Row],[Date facture]] -> 42817 | P40: =IFERROR((Tableau2[[#This Row],[Solde client avant relance]]*Tableau2[[#This Row],[Nb de jours de retard]]*$L$1)/36500,"") -> -1.8086253 | Q40: =$K$2*Tableau2[[#This Row],[Nb factures]] -> 0 | R40: -171.31 | X40: =IFERROR(Tableau2[[#This Row],[Solde client avant relance]]+Tableau2[[#This Row],[Frais de recouvrement]]+Tableau2[[#This Row],[Majoration]],"") -> -173.11863
A41: TIE283248 | C41: oui | G41: envoyée par mail le 19, renvoi mail le 21/03/17 | H41: le 21/03/17 chèque envoyé le 20/02/17 | I41: à vérifier | O41: =$B$1-Tableau2[[#This Row],[Date facture]] -> 42817 | P41: =IFERROR((Tableau2[[#This Row],[Solde client avant relance]]*Tableau2[[#This Row],[Nb de jours de retard]]*$L$1)/36500,"") -> -0.47593735 | Q41: =$K$2*Tableau2[[#This Row],[Nb factures]] -> 0 | R41: -45.08 | S41: En attente de paiement | T41: -45.08 | U41: En cours | V41: =VLOOKUP(Tableau2[[#This Row],[Code client]],extraction!A26:I399,9,0) -> -45.08 | W41: Avis de paiement | X41: =IFERROR(Tableau2[[#This Row],[Solde client avant relance]]+Tableau2[[#This Row],[Frais de recouvrement]]+Tableau2[[#This Row],[Majoration]],"") -> -45.555937
A42: TIE360977 | C42: débloqué | J42: double facture | O42: =$B$1-Tableau2[[#This Row],[Date facture]] -> 42817 | P42: =IFERROR((Tableau2[[#This Row],[Solde client avant relance]]*Tableau2[[#This Row],[Nb de jours de retard]]*$L$1)/36500,"") -> -0.52513584 | Q42: =$K$2*Tableau2[[#This Row],[Nb factures]] -> 0 | R42: -49.74 | S42: Réglé | T42: -49.74 | U42: En cours | V42: =VLOOKUP(Tableau2[[#This Row],[Code client]],extraction!A100:I473,9,0) -> -49.74 | W42: Avis de paiement | X42: =IFERROR(Tableau2[[#This Row],[Solde client avant relance]]+Tableau2[[#This Row],[Frais de recouvrement]]+Tableau2[[#This Row],[Majoration]],"") -> -50.265136
A43: TIE362421 | C43: oui | G43: suite appel tel | I43: en attente de paiement, mail chez Patricia pour fiche fournisseurs | J43: était en litige | O43: =$B$1-Tableau2[[#This Row],[Date facture]] -> 42817 | P43: =IFERROR((Tableau2[[#This Row],[Solde client avant relance]]*Tableau2[[#This Row],[Nb de jours de retard]]*$L$1)/36500,"") -> -0.83500188 | Q43: =$K$2*Tableau2[[#This Row],[Nb factures]] -> 0 | R43: -79.09 | S43: En attente de paiement | T43: -79.09 | U43: En attente de paiement | V43: =VLOOKUP(Tableau2[[#This Row],[Code client]],extraction!A225:I598,9,0) -> -79.09 | W43: En attente de paiement | X43: =IFERROR(Tableau2[[#This Row],[Solde client avant relance]]+Tableau2[[#This Row],[Frais de recouvrement]]+Tableau2[[#This Row],[Majoration]],"") -> -79.925002
...

Sheet Mettre en place prélèvement
C5: Mise en place prélèvement
C6: Code client | E6: Libellé
I11: lorsque colonne prélevement écrit oui mettre code client et libellé ici

Sheet Relances G
A1: Date du jour | B1: =TODAY() -> 42817
A6: Code client | B6: Libellé | C6: Contact | D6: Actions effectuées | E6: Retour | F6: Actions en attente | G6: Motif non-paiement | H6: Numéro facture | I6: Nb factures | J6: Date facture | K6: Délai paiement | L6: Nb de jours de retard | M6: Solde client avant relance | N6: Etat | O6: Nouveau solde | P6: Nouvel etat | Q6: Nouveau solde2 | R6: Nouvel état
A7: BAN01105 | G7: mauvaise adresse de facturation | L7: =$B$1-Tableau26[[#This Row],[Date facture]] -> 42817 | M7: -4987.23 | N7: En attente de paiement | O7: -181.55 | P7: Réglées sauf celle de février | Q7: =IF(ISNA(VLOOKUP(Tableau26[[#This Row],[Code client]],extraction!A1:I376,9,0)),"réglé",VLOOKUP(Tableau26[[#This Row],[Code client]],extraction!A1:I376,9,0)) -> réglé | R7: Réglée
A8: BAN01268 | G8: mauvaise adresse de facturation | H8: 160306115 160411321 | L8: =$B$1-Tableau26[[#This Row],[Date facture]] -> 42817 | M8: -3800.34 | N8: En attente de paiement | O8: -3800.34 | Q8: =IF(ISNA(VLOOKUP(Tableau26[[#This Row],[Code client]],extraction!A2:I377,9,0)),"réglé",VLOOKUP(Tableau26[[#This Row],[Code client]],extraction!A2:I377,9,0)) -> -3800.34
A9: BAN01394 | H9: CELINE | L9: =$B$1-Tableau26[[#This Row],[Date facture]] -> 42817 | M9: -60313.38 | O9: -63354.69 | Q9: =IF(ISNA(VLOOKUP(Tableau26[[#This Row],[Code client]],extraction!A3:I378,9,0)),"réglé",VLOOKUP(Tableau26[[#This Row],[Code client]],extraction!A3:I378,9,0)) -> -55343.94
A10: BAN01636 | G10: déjà payée + pas reçues | L10: =$B$1-Tableau26[[#This Row],[Date facture]] -> 42817 | M10: -6670.89 | N10: En attente de paiement | O10: -13730.95 | Q10: =IF(ISNA(VLOOKUP(Tableau26[[#This Row],[Code client]],extraction!A4:I379,9,0)),"réglé",VLOOKUP(Tableau26[[#This Row],[Code client]],extraction!A4:I379,9,0)) -> -4750.64 | R10: En attente de paiement
A11: BAN01877 | L11: =$B$1-Tableau26[[#This Row],[Date facture]] -> 42817 | M11: -7784.45 | O11: -9256.09 | Q11: =IF(ISNA(VLOOKUP(Tableau26[[#This Row],[Code client]],extraction!A5:I380,9,0)),"réglé",VLOOKUP(Tableau26[[#This Row],[Code client]],extraction!A5:I380,9,0)) -> -6772.89
A12: BAN02039 | L12: =$B$1-Tableau26[[#This Row],[Date facture]] -> 42817 | M12: -3887.57 | N12: En attente de paiement | O12: -3887.57 | Q12: =IF(ISNA(VLOOKUP(Tableau26[[#This Row],[Code client]],extraction!A6:I381,9,0)),"réglé",VLOOKUP(Tableau26[[#This Row],[Code client]],extraction!A6:I381,9,0)) -> -3887.57 | R12: En attente de paiement
A13: BAN02045 | L13: =$B$1-Tableau26[[#This Row],[Date facture]] -> 42817 | M13: -4487.4 | O13: -6638.46 | Q13: =IF(ISNA(VLOOKUP(Tableau26[[#This Row],[Code client]],extraction!A7:I382,9,0)),"réglé",VLOOKUP(Tableau26[[#This Row],[Code client]],extraction!A7:I382,9,0)) -> -2557.45
A14: BAN02204 | L14: =$B$1-Tableau26[[#This Row],[Date facture]] -> 42817 | M14: -93046.29 | O14: -79657.36 | Q14: =IF(ISNA(VLOOKUP(Tableau26[[#This Row],[Code client]],extraction!A8:I383,9,0)),"réglé",VLOOKUP(Tableau26[[#This Row],[Code client]],extraction!A8:I383,9,0)) -> -44289.03
A15: BAN02224 | L15: =$B$1-Tableau26[[#This Row],[Date facture]] -> 42817 | M15: -2295.88 | N15: Factures de + 5ans | O15: -2295.88 | Q15: =IF(ISNA(VLOOKUP(Tableau26[[#This Row],[Code client]],extraction!A9:I384,9,0)),"réglé",VLOOKUP(Tableau26[[#This Row],[Code client]],extraction!A9:I384,9,0)) -> -2295.88
A16: BAN02272 | L16: =$B$1-Tableau26[[#This Row],[Date facture]] -> 42817 | M16: -5701.84 | O16: -5782.7 | Q16: =IF(ISNA(VLOOKUP(Tableau26[[#This Row],[Code client]],extraction!A10:I385,9,0)),"réglé",VLOOKUP(Tableau26[[#This Row],[Code client]],extraction!A10:I385,9,0)) -> -5701.84
A17: BAN02346 | L17: =$B$1-Tableau26[[#This Row],[Date facture]] -> 42817 | M17: -17076.16 | N17: En attente de paiement | O17: -5378.69 | P17: réglées en partie | Q17: =IF(ISNA(VLOOKUP(Tableau26[[#This Row],[Code client]],extraction!A11:I386,9,0)),"réglé",VLOOKUP(Tableau26[[#This Row],[Code client]],extraction!A11:I386,9,0)) -> réglé | R17: Réglée
A18: BAN02674 | L18: =$B$1-Tableau26[[#This Row],[Date facture]] -> 42817 | M18: -2150.87 | O18: -24387.34 | Q18: =IF(ISNA(VLOOKUP(Tableau26[[#This Row],[Code client]],extraction!A12:I387,9,0)),"réglé",VLOOKUP(Tableau26[[#This Row],[Code client]],extraction!A12:I387,9,0)) -> -2150.87
A19: BAN02804 | G19: pas reçu les factures dans leur service | L19: =$B$1-Tableau26[[#This Row],[Date facture]] -> 42817 | M19: -7759.71 | N19: En attente de paiement | O19: -9295.9 | Q19: =IF(ISNA(VLOOKUP(Tableau26[[#This Row],[Code client]],extraction!A13:I388,9,0)),"réglé",VLOOKUP(Tableau26[[#This Row],[Code client]],extraction!A13:I388,9,0)) -> -5772.37 | R19: En attente de paiement
A20: BAN10096 | G20: pensait être en prélèvement direct | L20: =$B$1-Tableau26[[#This Row],[Date facture]] -> 42817 | M20: -4934.62 | N20: En attente de paiement | O20: -52.54 | P20: réglées | Q20: =IF(ISNA(VLOOKUP(Tableau26[[#This Row],[Code client]],extraction!A14:I389,9,0)),"réglé",VLOOKUP(Tableau26[[#This Row],[Code client]],extraction!A14:I389,9,0)) -> réglé | R20: Réglée
A21: GUI1027800111 | G21: problème d'imputation | L21: =$B$1-Tableau26[[#This Row],[Date facture]] -> 42817 | M21: -12771.94 | N21: En attente de paiement | O21: -14933.12 | P21: facture de 2011 à mettre en perte | Q21: =IF(ISNA(VLOOKUP(Tableau26[[#This Row],[Code client]],extraction!A15:I390,9,0)),"réglé",VLOOKUP(Tableau26[[#This Row],[Code client]],extraction!A15:I390,9,0)) -> -12771.94 | R21: En attente de paiement
A22: GUI1615900350 | H22: CELINE | L22: =$B$1-Tableau26[[#This Row],[Date facture]] -> 42817 | M22: -100290.73 | N22: Factures de + 5ans | O22: -50966.64 | Q22: =IF(ISNA(VLOOKUP(Tableau26[[#This Row],[Code client]],extraction!A16:I391,9,0)),"réglé",VLOOKUP(Tableau26[[#This Row],[Code client]],extraction!A16:I391,9,0)) -> -45516.4
A23: SCT20S000001 | H23: CELINE | L23: =$B$1-Tableau26[[#This Row],[Date facture]] -> 42817 | M23: -22193.52 | N23: Factures de + 5ans | O23: -22193.52 | Q23: =IF(ISNA(VLOOKUP(Tableau26[[#This Row],[Code client]],extraction!A17:I392,9,0)),"réglé",VLOOKUP(Tableau26[[#This Row],[Code client]],extraction!A17:I392,9,0)) -> -22193.52
A24: TIE100032 | L24: =$B$1-Tableau26[[#This Row],[Date facture]] -> 42817 | M24: -3789.95 | O24: -4009.88 | Q24: =IF(ISNA(VLOOKUP(Tableau26[[#This Row],[Code client]],extraction!A18:I393,9,0)),"réglé",VLOOKUP(Tableau26[[#This Row],[Code client]],extraction!A18:I393,9,0)) -> -2549.36
A25: TIE100060 | G25: facturé au mauvais endroit | H25: 170106305 161006000 | L25: =$B$1-Tableau26[[#This Row],[Date facture]] -> 42817 | M25: -5514.11 | N25: En attente de paiement | O25: -5514.11 | Q25: =IF(ISNA(VLOOKUP(Tableau26[[#This Row],[Code client]],extraction!A19:I394,9,0)),"réglé",VLOOKUP(Tableau26[[#This Row],[Code client]],extraction!A19:I394,9,0)) -> -3905.22 | R25: En attente de paiement
A26: TIE101882 | L26: =$B$1-Tableau26[[#This Row],[Date facture]] -> 42817 | M26: -2015.67 | O26: -2015.67 | Q26: =IF(ISNA(VLOOKUP(Tableau26[[#This Row],[Code client]],extraction!A20:I395,9,0)),"réglé",VLOOKUP(Tableau26[[#This Row],[Code client]],extraction!A20:I395,9,0)) -> -2015.67
A27: TIE101883 | L27: =$B$1-Tableau26[[#This Row],[Date facture]] -> 42817 | M27: -1669.36 | O27: -1669.36 | Q27: =IF(ISNA(VLOOKUP(Tableau26[[#This Row],[Code client]],extraction!A21:I396,9,0)),"réglé",VLOOKUP(Tableau26[[#This Row],[Code client]],extraction!A21:I396,9,0)) -> -1669.36
A28: TIE101901 | L28: =$B$1-Tableau26[[#This Row],[Date facture]] -> 42817 | M28: -1222.77 | O28: -1222.77 | Q28: =IF(ISNA(VLOOKUP(Tableau26[[#This Row],[Code client]],extraction!A22:I397,9,0)),"réglé",VLOOKUP(Tableau26[[#This Row],[Code client]],extraction!A22:I397,9,0)) -> -1222.77
A29: TIE103111 | H29: CELINE JUNG | L29: =$B$1-Tableau26[[#This Row],[Date facture]] -> 42817 | M29: -5794.1 | O29: -5192.83 | Q29: =IF(ISNA(VLOOKUP(Tableau26[[#This Row],[Code client]],extraction!A23:I398,9,0)),"réglé",VLOOKUP(Tableau26[[#This Row],[Code client]],extraction!A23:I398,9,0)) -> -2962.22
A30: TIE111914 | H30: CELINE | L30: =$B$1-Tableau26[[#This Row],[Date facture]] -> 42817 | M30: -151690.55 | O30: -156755.29 | Q30: =IF(ISNA(VLOOKUP(Tableau26[[#This Row],[Code client]],extraction!A24:I399,9,0)),"réglé",VLOOKUP(Tableau26[[#This Row],[Code client]],extraction!A24:I399,9,0)) -> -150543.01
A31: TIE116342 | G31: payée + en litige | L31: =$B$1-Tableau26[[#This Row],[Date facture]] -> 42817 | M31: -20899.43 | N31: En attente de paiement | O31: -178.76 | P31: réglées | Q31: =IF(ISNA(VLOOKUP(Tableau26[[#This Row],[Code client]],extraction!A25:I400,9,0)),"réglé",VLOOKUP(Tableau26[[#This Row],[Code client]],extraction!A25:I400,9,0)) -> réglé | R31: Réglée
A32: TIE129051 | L32: =$B$1-Tableau26[[#This Row],[Date facture]] -> 42817 | M32: -1736.06 | O32: -1736.06 | Q32: =IF(ISNA(VLOOKUP(Tableau26[[#This Row],[Code client]],extraction!A26:I401,9,0)),"réglé",VLOOKUP(Tableau26[[#This Row],[Code client]],extraction!A26:I401,9,0)) -> -1736.06
A33: TIE129419 | L33: =$B$1-Tableau26[[#This Row],[Date facture]] -> 42817 | M33: -1200.04 | O33: -1200.04 | Q33: =IF(ISNA(VLOOKUP(Tableau26[[#This Row],[Code client]],extraction!A27:I402,9,0)),"réglé",VLOOKUP(Tableau26[[#This Row],[Code client]],extraction!A27:I402,9,0)) -> -1200.04
A34: TIE132180 | L34: =$B$1-Tableau26[[#This Row],[Date facture]] -> 42817 | M34: -7762.27 | N34: Factures de + 5ans | O34: -7762.27 | Q34: =IF(ISNA(VLOOKUP(Tableau26[[#This Row],[Code client]],extraction!A28:I403,9,0)),"réglé",VLOOKUP(Tableau26[[#This Row],[Code client]],extraction!A28:I403,9,0)) -> -7762.27
A35: TIE172633 | H35: CELINE JUNG | L35: =$B$1-Tableau26[[#This Row],[Date facture]] -> 42817 | M35: -998.64 | O35: -1132.24 | Q35: =IF(ISNA(VLOOKUP(Tableau26[[#This Row],[Code client]],extraction!A29:I404,9,0)),"réglé",VLOOKUP(Tableau26[[#This Row],[Code client]],extraction!A29:I404,9,0)) -> -998.64
A36: TIE199746 | L36: =$B$1-Tableau26[[#This Row],[Date facture]] -> 42817 | M36: -2258.14 | N36: En attente de paiement | O36: -2258.14 | Q36: =IF(ISNA(VLOOKUP(Tableau26[[#This Row],[Code client]],extraction!A30:I405,9,0)),"réglé",VLOOKUP(Tableau26[[#This Row],[Code client]],extraction!A30:I405,9,0)) -> -2258.14
A37: TIE246505 | L37: =$B$1-Tableau26[[#This Row],[Date facture]] -> 42817 | M37: -2403.23 | N37: Factures de + 5ans | O37: -2403.23 | Q37: =IF(ISNA(VLOOKUP(Tableau26[[#This Row],[Code client]],extraction!A31:I406,9,0)),"réglé",VLOOKUP(Tableau26[[#This Row],[Code client]],extraction!A31:I406,9,0)) -> -2403.23
A38: TIE261427 | L38: =$B$1-Tableau26[[#This Row],[Date facture]] -> 42817 | M38: -1020.76 | O38: -1020.76 | Q38: =IF(ISNA(VLOOKUP(Tableau26[[#This Row],[Code client]],extraction!A32:I407,9,0)),"réglé",VLOOKUP(Tableau26[[#This Row],[Code client]],extraction!A32:I407,9,0)) -> -1020.76 | R38: En cours
A39: TIE298728 | L39: =$B$1-Tableau26[[#This Row],[Date facture]] -> 42817 | M39: -1526.82 | O39: -1526.82 | Q39: =IF(ISNA(VLOOKUP(Tableau26[[#This Row],[Code client]],extraction!A33:I408,9,0)),"réglé",VLOOKUP(Tableau26[[#This Row],[Code client]],extraction!A33:I408,9,0)) -> -1252.58
A40: TIE366710 | L40: =$B$1-Tableau26[[#This Row],[Date facture]] -> 42817 | M40: -1980.72 | O40: -1980.72 | Q40: =IF(ISNA(VLOOKUP(Tableau26[[#This Row],[Code client]],extraction!A34:I409,9,0)),"réglé",VLOOKUP(Tableau26[[#This Row],[Code client]],extraction!A34:I409,9,0)) -> -1980.72
A41: BAN30066 | G41: paye plusieurs mois d'un coup | L41: =$B$1-Tableau26[[#This Row],[Date facture]] -> 42817 | M41: -816754.87 | N41: En attente de paiement | Q41: =IF(ISNA(VLOOKUP(Tableau26[[#This Row],[Code client]],extraction!A35:I410,9,0)),"réglé",VLOOKUP(Tableau26[[#This Row],[Code client]],extraction!A35:I410,9,0)) -> -227211.76 | R41: En attente de paiement
A42: BAN14690 | L42: =$B$1-Tableau26[[#This Row],[Date facture]] -> 42817 | M42: -18044.76 | N42: En attente de paiement | Q42: =IF(ISNA(VLOOKUP(Tableau26[[#This Row],[Code client]],extraction!A38:I413,9,0)),"réglé",VLOOKUP(Tableau26[[#This Row],[Code client]],extraction!A38:I413,9,0)) -> réglé | R42: Réglée
A43: TIE113244 | G43: pas reçu la facture | L43: =$B$1-Tableau26[[#This Row],[Date facture]] -> 42817 | M43: -8085.63 | N43: En attente de paiement | Q43: =IF(ISNA(VLOOKUP(Tableau26[[#This Row],[Code client]],extraction!A39:I414,9,0)),"réglé",VLOOKUP(Tableau26[[#This Row],[Code client]],extraction!A39:I414,9,0)) -> -107.58 | R43: Réglée
A44: TIE100023 | L44: =$B$1-Tableau26[[#This Row],[Date facture]] -> 42817 | M44: -410.12 | N44: En attente de paiement | Q44: =IF(ISNA(VLOOKUP(Tableau26[[#This Row],[Code client]],extraction!A40:I415,9,0)),"réglé",VLOOKUP(Tableau26[[#This Row],[Code client]],extraction!A40:I415,9,0)) -> -410.12
...

Sheet Avoirs
B2: Avoirs à déduire
B3: Code client | C3: Libellé
G6: Formule lorsque dans relances G dans Actions effectuees écrit AVOIRS afficher code client + libellé

Sheet Factures réglées
A2: Code client | B2: Libellé | C2: Client bloqué | D2: Téléphone / Contact | E2: Mail | F2: Actions effectuées | G2: Retour | H2: Actions en attente | I2: Motif non-paiement | J2: Etat

Sheet extraction
A1: Clients | B1: 2011 | C1: 2012 | D1: 2013 | E1: 2014 | F1: 2015 | G1: 2016 | H1: 2017 | I1: Total général | J1: relances HG | K1: relances G
A2: BAN01035 | F2: -422.18 | I2: -422.18 | J2: =VLOOKUP(extraction!A2,Tableau2[[Code client]:[Libellé]],1,0) -> #N/A | K2: =VLOOKUP(A2,Tableau26[[Code client]:[Libellé]],1,0) -> BAN01035
A3: BAN01052 | D3: -392.62 | E3: 4.9 | I3: -387.72 | J3: =VLOOKUP(extraction!A3,Tableau2[[Code client]:[Libellé]],1,0) -> #N/A | K3: =VLOOKUP(A3,Tableau26[[Code client]:[Libellé]],1,0) -> BAN01052
A4: BAN01077 | G4: -77.93 | H4: -22.38 | I4: -100.31 | J4: =VLOOKUP(extraction!A4,Tableau2[[Code client]:[Libellé]],1,0) -> #N/A | K4: =VLOOKUP(A4,Tableau26[[Code client]:[Libellé]],1,0) -> BAN01077
A5: BAN01087 | D5: -45.51 | I5: -45.51 | J5: =VLOOKUP(extraction!A5,Tableau2[[Code client]:[Libellé]],1,0) -> #N/A | K5: =VLOOKUP(A5,Tableau26[[Code client]:[Libellé]],1,0) -> BAN01087
A6: BAN01239 | E6: -161.59 | I6: -161.59 | J6: =VLOOKUP(extraction!A6,Tableau2[[Code client]:[Libellé]],1,0) -> #N/A | K6: =VLOOKUP(A6,Tableau26[[Code client]:[Libellé]],1,0) -> BAN01239
A7: BAN01268 | G7: -3800.34 | I7: -3800.34 | J7: =VLOOKUP(extraction!A7,Tableau2[[Code client]:[Libellé]],1,0) -> #N/A | K7: =VLOOKUP(A7,Tableau26[[Code client]:[Libellé]],1,0) -> BAN01268
A8: BAN01394 | C8: -938.97 | D8: -1261.13 | E8: -408.01 | F8: -1132.72 | G8: -43952.37 | H8: -7650.74 | I8: -55343.94 | J8: =VLOOKUP(extraction!A8,Tableau2[[Code client]:[Libellé]],1,0) -> #N/A | K8: =VLOOKUP(A8,Tableau26[[Code client]:[Libellé]],1,0) -> BAN01394
A9: BAN01568 | F9: -9.72 | I9: -9.72 | J9: =VLOOKUP(extraction!A9,Tableau2[[Code client]:[Libellé]],1,0) -> #N/A | K9: =VLOOKUP(A9,Tableau26[[Code client]:[Libellé]],1,0) -> BAN01568
A10: BAN01612 | G10: -45.04 | I10: -45.04 | J10: =VLOOKUP(extraction!A10,Tableau2[[Code client]:[Libellé]],1,0) -> #N/A | K10: =VLOOKUP(A10,Tableau26[[Code client]:[Libellé]],1,0) -> BAN01612
A11: BAN01628 | E11: -518.56 | I11: -518.56 | J11: =VLOOKUP(extraction!A11,Tableau2[[Code client]:[Libellé]],1,0) -> #N/A | K11: =VLOOKUP(A11,Tableau26[[Code client]:[Libellé]],1,0) -> BAN01628
A12: BAN01636 | F12: -251.3 | G12: -3714.54 | H12: -784.8 | I12: -4750.64 | J12: =VLOOKUP(extraction!A12,Tableau2[[Code client]:[Libellé]],1,0) -> #N/A | K12: =VLOOKUP(A12,Tableau26[[Code client]:[Libellé]],1,0) -> BAN01636
A13: BAN01659 | D13: -683.89 | I13: -683.89 | J13: =VLOOKUP(extraction!A13,Tableau2[[Code client]:[Libellé]],1,0) -> #N/A | K13: =VLOOKUP(A13,Tableau26[[Code client]:[Libellé]],1,0) -> BAN01659
A14: BAN01835 | E14: -172.8 | G14: -43.02 | I14: -215.82 | J14: =VLOOKUP(extraction!A14,Tableau2[[Code client]:[Libellé]],1,0) -> #N/A | K14: =VLOOKUP(A14,Tableau26[[Code client]:[Libellé]],1,0) -> BAN01835
A15: BAN01877 | D15: -443.72 | E15: -2740.26 | F15: -1392.58 | G15: -2196.33 | I15: -6772.89 | J15: =VLOOKUP(extraction!A15,Tableau2[[Code client]:[Libellé]],1,0) -> #N/A | K15: =VLOOKUP(A15,Tableau26[[Code client]:[Libellé]],1,0) -> BAN01877
A16: BAN01959 | G16: -943.78 | H16: -254.3 | I16: -1198.08 | J16: =VLOOKUP(extraction!A16,Tableau2[[Code client]:[Libellé]],1,0) -> #N/A | K16: =VLOOKUP(A16,Tableau26[[Code client]:[Libellé]],1,0) -> BAN01959
A17: BAN01994 | G17: -754.25 | I17: -754.25 | J17: =VLOOKUP(extraction!A17,Tableau2[[Code client]:[Libellé]],1,0) -> #N/A | K17: =VLOOKUP(A17,Tableau26[[Code client]:[Libellé]],1,0) -> BAN01994
A18: BAN02039 | D18: -4172.25 | E18: 284.68 | I18: -3887.57 | J18: =VLOOKUP(extraction!A18,Tableau2[[Code client]:[Libellé]],1,0) -> #N/A | K18: =VLOOKUP(A18,Tableau26[[Code client]:[Libellé]],1,0) -> BAN02039
A19: BAN02045 | D19: -2951.41 | E19: 393.96 | I19: -2557.45 | J19: =VLOOKUP(extraction!A19,Tableau2[[Code client]:[Libellé]],1,0) -> #N/A | K19: =VLOOKUP(A19,Tableau26[[Code client]:[Libellé]],1,0) -> BAN02045
A20: BAN02069 | E20: -133.52 | I20: -133.52 | J20: =VLOOKUP(extraction!A20,Tableau2[[Code client]:[Libellé]],1,0) -> #N/A | K20: =VLOOKUP(A20,Tableau26[[Code client]:[Libellé]],1,0) -> BAN02069
A21: BAN02127 | C21: -205.27 | I21: -205.27 | J21: =VLOOKUP(extraction!A21,Tableau2[[Code client]:[Libellé]],1,0) -> #N/A | K21: =VLOOKUP(A21,Tableau26[[Code client]:[Libellé]],1,0) -> BAN02127
A22: BAN02133 | C22: -652.53 | D22: -192.65 | I22: -845.18 | J22: =VLOOKUP(extraction!A22,Tableau2[[Code client]:[Libellé]],1,0) -> #N/A | K22: =VLOOKUP(A22,Tableau26[[Code client]:[Libellé]],1,0) -> BAN02133
A23: BAN02204 | E23: -2054.27 | F23: -8912.96 | G23: -29749.85 | H23: -3571.95 | I23: -44289.03 | J23: =VLOOKUP(extraction!A23,Tableau2[[Code client]:[Libellé]],1,0) -> #N/A | K23: =VLOOKUP(A23,Tableau26[[Code client]:[Libellé]],1,0) -> BAN02204
A24: BAN02224 | B24: -2295.88 | C24: ok | I24: -2295.88 | J24: =VLOOKUP(extraction!A24,Tableau2[[Code client]:[Libellé]],1,0) -> #N/A | K24: =VLOOKUP(A24,Tableau26[[Code client]:[Libellé]],1,0) -> BAN02224
A25: BAN02238 | F25: -776.46 | I25: -776.46 | J25: =VLOOKUP(extraction!A25,Tableau2[[Code client]:[Libellé]],1,0) -> #N/A | K25: =VLOOKUP(A25,Tableau26[[Code client]:[Libellé]],1,0) -> BAN02238
A26: BAN02240 | G26: -679.78 | I26: -679.78 | J26: =VLOOKUP(extraction!A26,Tableau2[[Code client]:[Libellé]],1,0) -> #N/A | K26: =VLOOKUP(A26,Tableau26[[Code client]:[Libellé]],1,0) -> BAN02240
A27: BAN02272 | E27: -1.9 | F27: -1408.74 | G27: -4855.61 | H27: 564.41 | I27: -5701.84 | J27: =VLOOKUP(extraction!A27,Tableau2[[Code client]:[Libellé]],1,0) -> #N/A | K27: =VLOOKUP(A27,Tableau26[[Code client]:[Libellé]],1,0) -> BAN02272
A28: BAN02347 | G28: -2186.29 | H28: -126.4 | I28: -2312.69 | J28: =VLOOKUP(extraction!A28,Tableau2[[Code client]:[Libellé]],1,0) -> #N/A | K28: =VLOOKUP(A28,Tableau26[[Code client]:[Libellé]],1,0) -> BAN02347
A29: BAN02631 | E29: 1002.72 | F29: 331.92 | G29: -181.08 | H29: -1276.85 | I29: -123.29 | J29: =VLOOKUP(extraction!A29,Tableau2[[Code client]:[Libellé]],1,0) -> #N/A | K29: =VLOOKUP(A29,Tableau26[[Code client]:[Libellé]],1,0) -> BAN02631
A30: BAN02659 | G30: -44.54 | H30: -1571.19 | I30: -1615.73 | J30: =VLOOKUP(extraction!A30,Tableau2[[Code client]:[Libellé]],1,0) -> #N/A | K30: =VLOOKUP(A30,Tableau26[[Code client]:[Libellé]],1,0) -> BAN02659
A31: BAN02674 | G31: -1331.34 | H31: -819.53 | I31: -2150.87 | J31: =VLOOKUP(extraction!A31,Tableau2[[Code client]:[Libellé]],1,0) -> #N/A | K31: =VLOOKUP(A31,Tableau26[[Code client]:[Libellé]],1,0) -> BAN02674
A32: BAN02684 | F32: -332.23 | I32: -332.23 | J32: =VLOOKUP(extraction!A32,Tableau2[[Code client]:[Libellé]],1,0) -> #N/A | K32: =VLOOKUP(A32,Tableau26[[Code client]:[Libellé]],1,0) -> BAN02684
A33: BAN02804 | G33: -5772.37 | I33: -5772.37 | J33: =VLOOKUP(extraction!A33,Tableau2[[Code client]:[Libellé]],1,0) -> #N/A | K33: =VLOOKUP(A33,Tableau26[[Code client]:[Libellé]],1,0) -> BAN02804
A34: BAN02809 | H34: -1057.55 | I34: -1057.55 | J34: =VLOOKUP(extraction!A34,Tableau2[[Code client]:[Libellé]],1,0) -> #N/A | K34: =VLOOKUP(A34,Tableau26[[Code client]:[Libellé]],1,0) -> BAN02809
A35: BAN13298 | F35: -238.37 | G35: -102.24 | I35: -340.61 | J35: =VLOOKUP(extraction!A35,Tableau2[[Code client]:[Libellé]],1,0) -> #N/A | K35: =VLOOKUP(A35,Tableau26[[Code client]:[Libellé]],1,0) -> BAN13298
A36: BAN14860 | C36: -81.33 | D36: -81.33 | I36: -162.66 | J36: =VLOOKUP(extraction!A36,Tableau2[[Code client]:[Libellé]],1,0) -> #N/A | K36: =VLOOKUP(A36,Tableau26[[Code client]:[Libellé]],1,0) -> BAN14860
A37: BAN16073 | E37: -57.24 | I37: -57.24 | J37: =VLOOKUP(extraction!A37,Tableau2[[Code client]:[Libellé]],1,0) -> #N/A | K37: =VLOOKUP(A37,Tableau26[[Code client]:[Libellé]],1,0) -> BAN16073
A38: BAN30066 | C38: -696.54 | E38: -9.9 | G38: -75129.17 | H38: -151376.15 | I38: -227211.76 | J38: =VLOOKUP(extraction!A38,Tableau2[[Code client]:[Libellé]],1,0) -> #N/A | K38: =VLOOKUP(A38,Tableau26[[Code client]:[Libellé]],1,0) -> BAN30066
A39: BAN30568 | E39: -117.2 | I39: -117.2 | J39: =VLOOKUP(extraction!A39,Tableau2[[Code client]:[Libellé]],1,0) -> #N/A | K39: =VLOOKUP(A39,Tableau26[[Code client]:[Libellé]],1,0) -> BAN30568
A40: BAN45539 | G40: -7.01 | H40: -169.01 | I40: -176.02 | J40: =VLOOKUP(extraction!A40,Tableau2[[Code client]:[Libellé]],1,0) -> #N/A | K40: =VLOOKUP(A40,Tableau26[[Code client]:[Libellé]],1,0) -> BAN45539
...
