Workbook

Sheet Sheet1
A1: Date | B1: Cooling Ice Rink Capacity Corrected | C1: Real Week | D1: Average Real Temperature | E1: Ponderation Cooling Capacity
A2: Seconde | B2: [kW] | K2: Week | L2: Real Temperature [°C] | M2: Coefficient
A3: 42716 | B3: 79.085752 | C3: 37 | D3: =LOOKUP(Sheet1!C3,Sheet1!$K$3:$K$31,Sheet1!$L$3:$L$31) -> 15.75 | E3: =LOOKUP(Sheet1!C3,Sheet1!$K$3:$K$31,Sheet1!$M$3:$M$31) -> 0.83431571 | K3: 37 | L3: 15.75 | M3: 0.83431571
A4: 42716.003 | B4: 70.300016 | C4: 37 | D4: =LOOKUP(Sheet1!C4,Sheet1!$K$3:$K$31,Sheet1!$L$3:$L$31) -> 15.75 | E4: =LOOKUP(Sheet1!C4,Sheet1!$K$3:$K$31,Sheet1!$M$3:$M$31) -> 0.83431571 | K4: 38 | L4: 13.4 | M4: 0.86748381
A5: 42716.007 | B5: 87.98117 | C5: 37 | D5: =LOOKUP(Sheet1!C5,Sheet1!$K$3:$K$31,Sheet1!$L$3:$L$31) -> 15.75 | E5: =LOOKUP(Sheet1!C5,Sheet1!$K$3:$K$31,Sheet1!$M$3:$M$31) -> 0.83431571 | K5: 39 | L5: 11.9 | M5: 0.87913376
A6: 42716.01 | B6: 66.151751 | C6: 37 | D6: =LOOKUP(Sheet1!C6,Sheet1!$K$3:$K$31,Sheet1!$L$3:$L$31) -> 15.75 | E6: =LOOKUP(Sheet1!C6,Sheet1!$K$3:$K$31,Sheet1!$M$3:$M$31) -> 0.83431571 | K6: 40 | L6: 11.985714 | M6: 0.87913376
A7: 42716.014 | B7: 57.967582 | C7: 37 | D7: =LOOKUP(Sheet1!C7,Sheet1!$K$3:$K$31,Sheet1!$L$3:$L$31) -> 15.75 | E7: =LOOKUP(Sheet1!C7,Sheet1!$K$3:$K$31,Sheet1!$M$3:$M$31) -> 0.83431571 | K7: 41 | L7: 7.1857143 | M7: 0.94241495
A8: 42716.017 | B8: 58.34184 | C8: 37 | D8: =LOOKUP(Sheet1!C8,Sheet1!$K$3:$K$31,Sheet1!$L$3:$L$31) -> 15.75 | E8: =LOOKUP(Sheet1!C8,Sheet1!$K$3:$K$31,Sheet1!$M$3:$M$31) -> 0.83431571 | K8: 42 | L8: 6.8571429 | M8: 0.94241495
A9: 42716.021 | B9: 56.304297 | C9: 37 | D9: =LOOKUP(Sheet1!C9,Sheet1!$K$3:$K$31,Sheet1!$L$3:$L$31) -> 15.75 | E9: =LOOKUP(Sheet1!C9,Sheet1!$K$3:$K$31,Sheet1!$M$3:$M$31) -> 0.83431571 | K9: 43 | L9: 6.6571429 | M9: 0.94241495
A10: 42716.024 | B10: 52.317594 | C10: 37 | D10: =LOOKUP(Sheet1!C10,Sheet1!$K$3:$K$31,Sheet1!$L$3:$L$31) -> 15.75 | E10: =LOOKUP(Sheet1!C10,Sheet1!$K$3:$K$31,Sheet1!$M$3:$M$31) -> 0.83431571 | K10: 44 | L10: 6 | M10: 0.95618038
A11: 42716.028 | B11: 38.143942 | C11: 37 | D11: =LOOKUP(Sheet1!C11,Sheet1!$K$3:$K$31,Sheet1!$L$3:$L$31) -> 15.75 | E11: =LOOKUP(Sheet1!C11,Sheet1!$K$3:$K$31,Sheet1!$M$3:$M$31) -> 0.83431571 | K11: 45 | L11: 1.7428571 | M11: 1.0155129
A12: 42716.031 | B12: 17.123043 | C12: 37 | D12: =LOOKUP(Sheet1!C12,Sheet1!$K$3:$K$31,Sheet1!$L$3:$L$31) -> 15.75 | E12: =LOOKUP(Sheet1!C12,Sheet1!$K$3:$K$31,Sheet1!$M$3:$M$31) -> 0.83431571 | K12: 46 | L12: -2.1 | M12: 1.0826959
A13: 42716.035 | B13: 31.933708 | C13: 37 | D13: =LOOKUP(Sheet1!C13,Sheet1!$K$3:$K$31,Sheet1!$L$3:$L$31) -> 15.75 | E13: =LOOKUP(Sheet1!C13,Sheet1!$K$3:$K$31,Sheet1!$M$3:$M$31) -> 0.83431571 | K13: 47 | L13: 1.5857143 | M13: 1.0155129
A14: 42716.038 | B14: 32.166295 | C14: 37 | D14: =LOOKUP(Sheet1!C14,Sheet1!$K$3:$K$31,Sheet1!$L$3:$L$31) -> 15.75 | E14: =LOOKUP(Sheet1!C14,Sheet1!$K$3:$K$31,Sheet1!$M$3:$M$31) -> 0.83431571 | K14: 48 | L14: 3.9 | M14: 0.98495392
... A31: 42716.097 | B31: 49.487263 | C31: 37 | D31: =LOOKUP(Sheet1!C31,Sheet1!$K$3:$K$31,Sheet1!$L$3:$L$31) -> 15.75 | E31: =LOOKUP(Sheet1!C31,Sheet1!$K$3:$K$31,Sheet1!$M$3:$M$31) -> 0.83431571 | K31: 12 | L31: -0.9 | M31: 1.0650804
A32: 42716.101 | B32: 61.772446 | C32: 37 | D32: =LOOKUP(Sheet1!C32,Sheet1!$K$3:$K$31,Sheet1!$L$3:$L$31) -> 15.75 | E32: =LOOKUP(Sheet1!C32,Sheet1!$K$3:$K$31,Sheet1!$M$3:$M$31) -> 0.83431571
A33: 42716.104 | B33: 63.047749 | C33: 37 | D33: =LOOKUP(Sheet1!C33,Sheet1!$K$3:$K$31,Sheet1!$L$3:$L$31) -> 15.75 | E33: =LOOKUP(Sheet1!C33,Sheet1!$K$3:$K$31,Sheet1!$M$3:$M$31) -> 0.83431571
A34: 42716.108 | B34: 63.415358 | C34: 37 | D34: =LOOKUP(Sheet1!C34,Sheet1!$K$3:$K$31,Sheet1!$L$3:$L$31) -> 15.75 | E34: =LOOKUP(Sheet1!C34,Sheet1!$K$3:$K$31,Sheet1!$M$3:$M$31) -> 0.83431571
A35: 42716.111 | B35: 63.932149 | C35: 37 | D35: =LOOKUP(Sheet1!C35,Sheet1!$K$3:$K$31,Sheet1!$L$3:$L$31) -> 15.75 | E35: =LOOKUP(Sheet1!C35,Sheet1!$K$3:$K$31,Sheet1!$M$3:$M$31) -> 0.83431571
A36: 42716.115 | B36: 64.066159 | C36: 37 | D36: =LOOKUP(Sheet1!C36,Sheet1!$K$3:$K$31,Sheet1!$L$3:$L$31) -> 15.75 | E36: =LOOKUP(Sheet1!C36,Sheet1!$K$3:$K$31,Sheet1!$M$3:$M$31) -> 0.83431571
A37: 42716.118 | B37: 63.521262 | C37: 37 | D37: =LOOKUP(Sheet1!C37,Sheet1!$K$3:$K$31,Sheet1!$L$3:$L$31) -> 15.75 | E37: =LOOKUP(Sheet1!C37,Sheet1!$K$3:$K$31,Sheet1!$M$3:$M$31) -> 0.83431571
A38: 42716.122 | B38: 63.801963 | C38: 37 | D38: =LOOKUP(Sheet1!C38,Sheet1!$K$3:$K$31,Sheet1!$L$3:$L$31) -> 15.75 | E38: =LOOKUP(Sheet1!C38,Sheet1!$K$3:$K$31,Sheet1!$M$3:$M$31) -> 0.83431571
A39: 42716.125 | B39: 64.404202 | C39: 37 | D39: =LOOKUP(Sheet1!C39,Sheet1!$K$3:$K$31,Sheet1!$L$3:$L$31) -> 15.75 | E39: =LOOKUP(Sheet1!C39,Sheet1!$K$3:$K$31,Sheet1!$M$3:$M$31) -> 0.83431571
A40: 42716.128 | B40: 64.153774 | C40: 37 | D40: =LOOKUP(Sheet1!C40,Sheet1!$K$3:$K$31,Sheet1!$L$3:$L$31) -> 15.75 | E40: =LOOKUP(Sheet1!C40,Sheet1!$K$3:$K$31,Sheet1!$M$3:$M$31) -> 0.83431571
A41: 42716.132 | B41: 62.968093 | C41: 37 | D41: =LOOKUP(Sheet1!C41,Sheet1!$K$3:$K$31,Sheet1!$L$3:$L$31) -> 15.75 | E41: =LOOKUP(Sheet1!C41,Sheet1!$K$3:$K$31,Sheet1!$M$3:$M$31) -> 0.83431571
A42: 42716.135 | B42: 62.37299 | C42: 37 | D42: =LOOKUP(Sheet1!C42,Sheet1!$K$3:$K$31,Sheet1!$L$3:$L$31) -> 15.75 | E42: =LOOKUP(Sheet1!C42,Sheet1!$K$3:$K$31,Sheet1!$M$3:$M$31) -> 0.83431571
A43: 42716.139 | B43: 62.583987 | C43: 37 | D43: =LOOKUP(Sheet1!C43,Sheet1!$K$3:$K$31,Sheet1!$L$3:$L$31) -> 15.75 | E43: =LOOKUP(Sheet1!C43,Sheet1!$K$3:$K$31,Sheet1!$M$3:$M$31) -> 0.83431571
... A2018: 42722.997 | B2018: 44.476509 | C2018: 37 | D2018: =LOOKUP(Sheet1!C2018,Sheet1!$K$3:$K$31,Sheet1!$L$3:$L$31) -> 15.75 | E2018: =LOOKUP(Sheet1!C2018,Sheet1!$K$3:$K$31,Sheet1!$M$3:$M$31) -> 0.83431571

Sheet Sheet2

Sheet Sheet3
