Workbook
Name absencedeux: ' 2017-2018'!$K$5:$K$60
Name absencedeux: Base!$I$5:$I$60
Name absencedeux: ' 2016-2017'!$I$5:$I$60
Name absencetrois: ' 2017-2018'!$P$4:$P$60
Name absencetrois: Base!$N$4:$N$60
Name absencetrois: ' 2016-2017'!$N$4:$N$60
Name absenceune: ' 2017-2018'!$F$4:$F$60
Name absenceune: Base!$D$4:$D$60
Name absenceune: ' 2016-2017'!$D$4:$D$60
Name Date1: ' 2017-2018'!$H$4:$H$60
Name Date1: Base!$F$4:$F$60
Name Date1: ' 2016-2017'!$F$4:$F$60
Name Date2: ' 2017-2018'!$M$4:$M$60
Name Date2: Base!$K$4:$K$60
Name Date2: ' 2016-2017'!$K$4:$K$60
Name Depart1: ' 2017-2018'!$D$4:$D$60
Name Depart1: Base!$B$4:$B$60
Name Depart1: ' 2016-2017'!$B$4:$B$60
Name Depart2: ' 2017-2018'!$I$4:$I$60
Name Depart2: Base!$G$4:$G$60
Name Depart2: ' 2016-2017'!$G$4:$G$60
Name Depart3: ' 2017-2018'!$N$4:$N$60
Name Depart3: Base!$L$4:$L$60
Name Depart3: ' 2016-2017'!$L$4:$L$60
Name entretien_retour_1: ' 2017-2018'!$F$3:$G$60
Name entretien_retour_1: Base!$D$3:$E$60
Name entretien_retour_1: ' 2016-2017'!$D$3:$E$60
Name Entretien1: ' 2017-2018'!$G$4:$G$60
Name Entretien1: Base!$E$4:$E$60
Name Entretien1: ' 2016-2017'!$E$4:$E$60
Name Entretien2: ' 2017-2018'!$L$4:$L$60
Name Entretien2: Base!$J$4:$J$60
Name Entretien2: ' 2016-2017'!$J$4:$J$60
Name Entretien3: ' 2017-2018'!$Q$4:$Q$60
Name Entretien3: Base!$O$4:$O$60
Name Entretien3: ' 2016-2017'!$O$4:$O$60
Name gestionabstrim1: ' 2017-2018'!$A$3:$AJ$60
Name gestionabstrim1: Base!$A$3:$AH$60
Name gestionabstrim1: ' 2016-2017'!$A$3:$AH$60
Name Retour1: ' 2017-2018'!$E$4:$E$60
Name Retour1: Base!$C$4:$C$60
Name Retour1: ' 2016-2017'!$C$4:$C$60
Name Retour2: ' 2017-2018'!$J$4:$J$60
Name Retour2: Base!$H$4:$H$60
Name Retour2: ' 2016-2017'!$H$4:$H$60
Name Retour3: ' 2017-2018'!$O$4:$O$60
Name Retour3: Base!$M$4:$M$60
Name Retour3: ' 2016-2017'!$M$4:$M$60

Sheet Base
F1: GESTION DES ABSENCES
A2: 1 | B2: 2 | C2: 3 | D2: 4 | E2: 5 | F2: 6 | G2: 7 | H2: 8 | I2: 9 | J2: 10 | K2: 11 | L2: 12 | M2: 13 | N2: 14 | O2: 15 | P2: 16 | Q2: 17 | R2: 18 | S2: 19 | T2: 20 | U2: 21 | V2: 22 | W2: 23 | X2: 24 | Y2: 25 | Z2: 26 | AA2: 27 | AB2: 28 | AC2: 29 | AD2: 30 | AE2: 31 | AF2: 32 | AG2: 33 | AH2: 34
B3: Absence 1 | D3: entretien retour 1 | F3: Date entretien | G3: Absence 2 | I3: entretien retour 2 | K3: Date entretien | L3: Absence 3 | N3: entretien retour 3 | P3: Date entretien | Q3: Absence 4 | U3: Entretien bilan ICUS | V3: Date bilan ICUS | W3: Absence 5 | Z3: entretien ICUS et RH | AB3: Date bilan ICUS RH | AC3: Absence 6 | AF3: entretien ICUS et RH | AH3: Date bilan ICUS RH
A4: NOM /Prénom | B4: Depart1 | C4: Retour1 | D4: 1 | E4: Entretien1 | F4: Date1 | G4: Depart2 | H4: Retour2 | I4: 2 | J4: Entretien2 | K4: Date2 | L4: Depart3 | M4: Retour3 | N4: 3 | O4: Entretien3 | P4: Date3 | Q4: Depart4 | R4: Retour4 | S4: 4 | U4: Entretien ICUS | V4: Date ICUS | W4: Depart5 | X4: Retour5 | Y4: 5 | Z4: 5 | AA4: EntretienICUSRH | AB4: DateICUSRH | AC4: Depart6 | AD4: Retour6 | AF4: 6 | AG4: EntretienICUSRH2 | AH4: DateICUSRH2
A5: Collaborateur 001 | B5: 42534 | C5: 42540 | D5: =COUNTIF(C5,"<>") -> 1 | E5: Effectué | F5: =IF(E5="Effectué",$A$66,"") -> 42810 | G5: 42809 | H5: 42809 | I5: =COUNTIF(H5,"<>") -> 1 | J5: Effectué | K5: =IF(J5="Effectué",$A$66,"") -> 42810 | L5: 43081 | M5: 43081 | N5: =COUNTIF(M5,"<>") -> 1 | O5: Effectué | P5: =IF(O5="Effectué",$A$66,"") -> 42810 | Q5: 43081 | R5: 43081 | S5: =COUNTIF(R5,"<>") -> 1 | T5: =D5+I5+N5+S5 -> 4 | U5: CARON Thierry | V5: =IF(U5<>"",$A$66,"") -> 42810 | W5: 43081 | X5: 43081 | Y5: =D5+I5+N5+S5+Z5 -> 5 | Z5: =COUNTIF(X5,"<>") -> 1 | AA5: Equipe Rhumaine 2 BUCHER Nicole | AB5: =IF(AA5<>"",$A$66,"") -> 42810 | AC5: 42806 | AD5: 42838 | AE5: =D5+I5+N5+S5+Z5+AF5 -> 6 | AF5: =COUNTIF(AD5,"<>") -> 1 | AG5: Equipe Rhumaine 1 CARON Thierry | AH5: =IF(AG5<>"",$A$66,"") -> 42810
A6: Collaborateur 002 | B6: 42806 | C6: 42807 | D6: =COUNTIF(C6,"<>") -> 1 | E6: Effectué | F6: =IF(E6="Effectué",$A$66,"") -> 42810 | G6: 42810 | H6: 42806 | I6: =COUNTIF(H6,"<>") -> 1 | K6: =IF(J6="Effectué",$A$66,"") | N6: =COUNTIF(M6,"<>") -> 0 | P6: =IF(O6="Effectué",$A$66,"") | S6: =COUNTIF(R6,"<>") -> 0 | T6: =D6+I6+N6+S6 -> 2 | V6: =IF(U6<>"",$A$66,"") | Z6: =COUNTIF(X6,"<>") -> 0 | AB6: =IF(AA6<>"",$A$66,"") | AF6: =COUNTIF(AD6,"<>") -> 0 | AH6: =IF(AG6<>"",$A$66,"")
A7: Collaborateur 003 | B7: 42807 | C7: 42808 | D7: =COUNTIF(C7,"<>") -> 1 | E7: A faire | F7: =IF(E7="Effectué",$A$66,"") | G7: 42811 | I7: =COUNTIF(H7,"<>") -> 0 | K7: =IF(J7="Effectué",$A$66,"") | N7: =COUNTIF(M7,"<>") -> 0 | P7: =IF(O7="Effectué",$A$66,"") | S7: =COUNTIF(R7,"<>") -> 0 | T7: =D7+I7+N7+S7 -> 1 | V7: =IF(U7<>"",$A$66,"") | Z7: =COUNTIF(X7,"<>") -> 0 | AB7: =IF(AA7<>"",$A$66,"") | AF7: =COUNTIF(AD7,"<>") -> 0 | AH7: =IF(AG7<>"",$A$66,"")
A8: Collaborateur 004 | B8: 42808 | C8: 42809 | D8: =COUNTIF(C8,"<>") -> 1 | E8: Effectué | F8: =IF(E8="Effectué",$A$66,"") -> 42810 | G8: 42812 | I8: =COUNTIF(H8,"<>") -> 0 | K8: =IF(J8="Effectué",$A$66,"") | N8: =COUNTIF(M8,"<>") -> 0 | P8: =IF(O8="Effectué",$A$66,"") | S8: =COUNTIF(R8,"<>") -> 0 | T8: =D8+I8+N8+S8 -> 1 | V8: =IF(U8<>"",$A$66,"") | Z8: =COUNTIF(X8,"<>") -> 0 | AB8: =IF(AA8<>"",$A$66,"") | AF8: =COUNTIF(AD8,"<>") -> 0 | AH8: =IF(AG8<>"",$A$66,"")
A9: Collaborateur 005 | B9: 42809 | C9: 42810 | D9: =COUNTIF(C9,"<>") -> 1 | E9: Effectué | F9: =IF(E9="Effectué",$A$66,"") -> 42810 | G9: 42813 | I9: =COUNTIF(H9,"<>") -> 0 | K9: =IF(J9="Effectué",$A$66,"") | N9: =COUNTIF(M9,"<>") -> 0 | P9: =IF(O9="Effectué",$A$66,"") | S9: =COUNTIF(R9,"<>") -> 0 | T9: =D9+I9+N9+S9 -> 1 | V9: =IF(U9<>"",$A$66,"") | Z9: =COUNTIF(X9,"<>") -> 0 | AB9: =IF(AA9<>"",$A$66,"") | AF9: =COUNTIF(AD9,"<>") -> 0 | AH9: =IF(AG9<>"",$A$66,"")
A10: Collaborateur 006 | B10: 42810 | C10: 42811 | D10: =COUNTIF(C10,"<>") -> 1 | E10: A faire | F10: =IF(E10="Effectué",$A$66,"") | G10: 42814 | I10: =COUNTIF(H10,"<>") -> 0 | K10: =IF(J10="Effectué",$A$66,"") | N10: =COUNTIF(M10,"<>") -> 0 | P10: =IF(O10="Effectué",$A$66,"") | S10: =COUNTIF(R10,"<>") -> 0 | T10: =D10+I10+N10+S10 -> 1 | V10: =IF(U10<>"",$A$66,"") | Z10: =COUNTIF(X10,"<>") -> 0 | AB10: =IF(AA10<>"",$A$66,"") | AF10: =COUNTIF(AD10,"<>") -> 0 | AH10: =IF(AG10<>"",$A$66,"")
A11: Collaborateur 007 | B11: 42811 | C11: 42812 | D11: =COUNTIF(C11,"<>") -> 1 | E11: A faire | F11: =IF(E11="Effectué",$A$66,"") | G11: 42815 | I11: =COUNTIF(H11,"<>") -> 0 | K11: =IF(J11="Effectué",$A$66,"") | N11: =COUNTIF(M11,"<>") -> 0 | P11: =IF(O11="Effectué",$A$66,"") | S11: =COUNTIF(R11,"<>") -> 0 | T11: =D11+I11+N11+S11 -> 1 | V11: =IF(U11<>"",$A$66,"") | Z11: =COUNTIF(X11,"<>") -> 0 | AB11: =IF(AA11<>"",$A$66,"") | AF11: =COUNTIF(AD11,"<>") -> 0 | AH11: =IF(AG11<>"",$A$66,"")
A12: Collaborateur 008 | B12: 42812 | C12: 42813 | D12: =COUNTIF(C12,"<>") -> 1 | E12: Effectué | F12: =IF(E12="Effectué",$A$66,"") -> 42810 | G12: 43081 | H12: 43081 | I12: =COUNTIF(H12,"<>") -> 1 | K12: =IF(J12="Effectué",$A$66,"") | L12: 43081 | M12: 43081 | N12: =COUNTIF(M12,"<>") -> 1 | O12: Effectué | P12: =IF(O12="Effectué",$A$66,"") -> 42810 | Q12: 43081 | R12: 43081 | S12: =COUNTIF(R12,"<>") -> 1 | T12: =D12+I12+N12+S12 -> 4 | U12: 43081 | V12: =IF(U12<>"",$A$66,"") -> 42810 | Z12: =COUNTIF(X12,"<>") -> 0 | AB12: =IF(AA12<>"",$A$66,"") | AF12: =COUNTIF(AD12,"<>") -> 0 | AH12: =IF(AG12<>"",$A$66,"")
A13: Collaborateur 009 | B13: 42813 | C13: 42814 | D13: =COUNTIF(C13,"<>") -> 1 | E13: A faire | F13: =IF(E13="Effectué",$A$66,"") | G13: 43082 | I13: =COUNTIF(H13,"<>") -> 0 | K13: =IF(J13="Effectué",$A$66,"") | N13: =COUNTIF(M13,"<>") -> 0 | P13: =IF(O13="Effectué",$A$66,"") | S13: =COUNTIF(R13,"<>") -> 0 | T13: =D13+I13+N13+S13 -> 1 | V13: =IF(U13<>"",$A$66,"") | Z13: =COUNTIF(X13,"<>") -> 0 | AB13: =IF(AA13<>"",$A$66,"") | AF13: =COUNTIF(AD13,"<>") -> 0 | AH13: =IF(AG13<>"",$A$66,"")
A14: Collaborateur 010 | B14: 42814 | C14: 42815 | D14: =COUNTIF(C14,"<>") -> 1 | E14: A faire | F14: =IF(E14="Effectué",$A$66,"") | G14: 43083 | I14: =COUNTIF(H14,"<>") -> 0 | K14: =IF(J14="Effectué",$A$66,"") | N14: =COUNTIF(M14,"<>") -> 0 | P14: =IF(O14="Effectué",$A$66,"") | S14: =COUNTIF(R14,"<>") -> 0 | T14: =D14+I14+N14+S14 -> 1 | V14: =IF(U14<>"",$A$66,"") | Z14: =COUNTIF(X14,"<>") -> 0 | AB14: =IF(AA14<>"",$A$66,"") | AF14: =COUNTIF(AD14,"<>") -> 0 | AH14: =IF(AG14<>"",$A$66,"")
A15: Collaborateur 011 | B15: 42815 | C15: 42816 | D15: =COUNTIF(C15,"<>") -> 1 | E15: Effectué | F15: =IF(E15="Effectué",$A$66,"") -> 42810 | G15: 43084 | I15: =COUNTIF(H15,"<>") -> 0 | K15: =IF(J15="Effectué",$A$66,"") | N15: =COUNTIF(M15,"<>") -> 0 | P15: =IF(O15="Effectué",$A$66,"") | S15: =COUNTIF(R15,"<>") -> 0 | T15: =D15+I15+N15+S15 -> 1 | V15: =IF(U15<>"",$A$66,"") | Z15: =COUNTIF(X15,"<>") -> 0 | AB15: =IF(AA15<>"",$A$66,"") | AF15: =COUNTIF(AD15,"<>") -> 0 | AH15: =IF(AG15<>"",$A$66,"")
A16: Collaborateur 012 | B16: 42816 | C16: 42817 | D16: =COUNTIF(C16,"<>") -> 1 | E16: A faire | F16: =IF(E16="Effectué",$A$66,"") | G16: 43085 | I16: =COUNTIF(H16,"<>") -> 0 | K16: =IF(J16="Effectué",$A$66,"") | N16: =COUNTIF(M16,"<>") -> 0 | P16: =IF(O16="Effectué",$A$66,"") | S16: =COUNTIF(R16,"<>") -> 0 | T16: =D16+I16+N16+S16 -> 1 | V16: =IF(U16<>"",$A$66,"") | Z16: =COUNTIF(X16,"<>") -> 0 | AB16: =IF(AA16<>"",$A$66,"") | AF16: =COUNTIF(AD16,"<>") -> 0 | AH16: =IF(AG16<>"",$A$66,"")
A17: Collaborateur 013 | B17: 42817 | C17: 42818 | D17: =COUNTIF(C17,"<>") -> 1 | E17: Effectué | F17: =IF(E17="Effectué",$A$66,"") -> 42810 | G17: 43086 | I17: =COUNTIF(H17,"<>") -> 0 | K17: =IF(J17="Effectué",$A$66,"") | N17: =COUNTIF(M17,"<>") -> 0 | P17: =IF(O17="Effectué",$A$66,"") | S17: =COUNTIF(R17,"<>") -> 0 | T17: =D17+I17+N17+S17 -> 1 | V17: =IF(U17<>"",$A$66,"") | Z17: =COUNTIF(X17,"<>") -> 0 | AB17: =IF(AA17<>"",$A$66,"") | AF17: =COUNTIF(AD17,"<>") -> 0 | AH17: =IF(AG17<>"",$A$66,"")
A18: Collaborateur 014 | B18: 42818 | C18: 42819 | D18: =COUNTIF(C18,"<>") -> 1 | E18: Effectué | F18: =IF(E18="Effectué",$A$66,"") -> 42810 | G18: 43087 | I18: =COUNTIF(H18,"<>") -> 0 | K18: =IF(J18="Effectué",$A$66,"") | N18: =COUNTIF(M18,"<>") -> 0 | P18: =IF(O18="Effectué",$A$66,"") | S18: =COUNTIF(R18,"<>") -> 0 | T18: =D18+I18+N18+S18 -> 1 | V18: =IF(U18<>"",$A$66,"") | Z18: =COUNTIF(X18,"<>") -> 0 | AB18: =IF(AA18<>"",$A$66,"") | AF18: =COUNTIF(AD18,"<>") -> 0 | AH18: =IF(AG18<>"",$A$66,"")
A19: Collaborateur 015 | B19: 42819 | C19: 42820 | D19: =COUNTIF(C19,"<>") -> 1 | E19: A faire | F19: =IF(E19="Effectué",$A$66,"") | G19: 43088 | I19: =COUNTIF(H19,"<>") -> 0 | K19: =IF(J19="Effectué",$A$66,"") | N19: =COUNTIF(M19,"<>") -> 0 | P19: =IF(O19="Effectué",$A$66,"") | S19: =COUNTIF(R19,"<>") -> 0 | T19: =D19+I19+N19+S19 -> 1 | V19: =IF(U19<>"",$A$66,"") | Z19: =COUNTIF(X19,"<>") -> 0 | AB19: =IF(AA19<>"",$A$66,"") | AF19: =COUNTIF(AD19,"<>") -> 0 | AH19: =IF(AG19<>"",$A$66,"")
A20: Collaborateur 016 | B20: 42820 | C20: 42821 | D20: =COUNTIF(C20,"<>") -> 1 | F20: =IF(E20="Effectué",$A$66,"") | G20: 43089 | I20: =COUNTIF(H20,"<>") -> 0 | K20: =IF(J20="Effectué",$A$66,"") | N20: =COUNTIF(M20,"<>") -> 0 | P20: =IF(O20="Effectué",$A$66,"") | S20: =COUNTIF(R20,"<>") -> 0 | T20: =D20+I20+N20+S20 -> 1 | V20: =IF(U20<>"",$A$66,"") | Z20: =COUNTIF(X20,"<>") -> 0 | AB20: =IF(AA20<>"",$A$66,"") | AF20: =COUNTIF(AD20,"<>") -> 0 | AH20: =IF(AG20<>"",$A$66,"")
A21: Collaborateur 017 | D21: =COUNTIF(C21,"<>") -> 0 | F21: =IF(E21="Effectué",$A$66,"") | G21: 43090 | I21: =COUNTIF(H21,"<>") -> 0 | K21: =IF(J21="Effectué",$A$66,"") | N21: =COUNTIF(M21,"<>") -> 0 | P21: =IF(O21="Effectué",$A$66,"") | S21: =COUNTIF(R21,"<>") -> 0 | T21: =D21+I21+N21+S21 -> 0 | V21: =IF(U21<>"",$A$66,"") | Z21: =COUNTIF(X21,"<>") -> 0 | AB21: =IF(AA21<>"",$A$66,"") | AF21: =COUNTIF(AD21,"<>") -> 0 | AH21: =IF(AG21<>"",$A$66,"")
A22: Collaborateur 018 | D22: =COUNTIF(C22,"<>") -> 0 | F22: =IF(E22="Effectué",$A$66,"") | G22: 43091 | I22: =COUNTIF(H22,"<>") -> 0 | K22: =IF(J22="Effectué",$A$66,"") | N22: =COUNTIF(M22,"<>") -> 0 | P22: =IF(O22="Effectué",$A$66,"") | S22: =COUNTIF(R22,"<>") -> 0 | T22: =D22+I22+N22+S22 -> 0 | V22: =IF(U22<>"",$A$66,"") | Z22: =COUNTIF(X22,"<>") -> 0 | AB22: =IF(AA22<>"",$A$66,"") | AF22: =COUNTIF(AD22,"<>") -> 0 | AH22: =IF(AG22<>"",$A$66,"")
A23: Collaborateur 019 | D23: =COUNTIF(C23,"<>") -> 0 | F23: =IF(E23="Effectué",$A$66,"") | G23: 43092 | I23: =COUNTIF(H23,"<>") -> 0 | K23: =IF(J23="Effectué",$A$66,"") | N23: =COUNTIF(M23,"<>") -> 0 | P23: =IF(O23="Effectué",$A$66,"") | S23: =COUNTIF(R23,"<>") -> 0 | T23: =D23+I23+N23+S23 -> 0 | V23: =IF(U23<>"",$A$66,"") | Z23: =COUNTIF(X23,"<>") -> 0 | AB23: =IF(AA23<>"",$A$66,"") | AF23: =COUNTIF(AD23,"<>") -> 0 | AH23: =IF(AG23<>"",$A$66,"")
A24: Collaborateur 020 | D24: =COUNTIF(C24,"<>") -> 0 | F24: =IF(E24="Effectué",$A$66,"") | G24: 43093 | I24: =COUNTIF(H24,"<>") -> 0 | K24: =IF(J24="Effectué",$A$66,"") | N24: =COUNTIF(M24,"<>") -> 0 | P24: =IF(O24="Effectué",$A$66,"") | S24: =COUNTIF(R24,"<>") -> 0 | T24: =D24+I24+N24+S24 -> 0 | V24: =IF(U24<>"",$A$66,"") | Z24: =COUNTIF(X24,"<>") -> 0 | AB24: =IF(AA24<>"",$A$66,"") | AF24: =COUNTIF(AD24,"<>") -> 0 | AH24: =IF(AG24<>"",$A$66,"")
A25: Collaborateur 021 | D25: =COUNTIF(C25,"<>") -> 0 | F25: =IF(E25="Effectué",$A$66,"") | G25: 43094 | I25: =COUNTIF(H25,"<>") -> 0 | K25: =IF(J25="Effectué",$A$66,"") | N25: =COUNTIF(M25,"<>") -> 0 | P25: =IF(O25="Effectué",$A$66,"") | S25: =COUNTIF(R25,"<>") -> 0 | T25: =D25+I25+N25+S25 -> 0 | V25: =IF(U25<>"",$A$66,"") | Z25: =COUNTIF(X25,"<>") -> 0 | AB25: =IF(AA25<>"",$A$66,"") | AF25: =COUNTIF(AD25,"<>") -> 0 | AH25: =IF(AG25<>"",$A$66,"")
A26: Collaborateur 022 | D26: =COUNTIF(C26,"<>") -> 0 | F26: =IF(E26="Effectué",$A$66,"") | I26: =COUNTIF(H26,"<>") -> 0 | K26: =IF(J26="Effectué",$A$66,"") | N26: =COUNTIF(M26,"<>") -> 0 | P26: =IF(O26="Effectué",$A$66,"") | S26: =COUNTIF(R26,"<>") -> 0 | T26: =D26+I26+N26+S26 -> 0 | V26: =IF(U26<>"",$A$66,"") | Z26: =COUNTIF(X26,"<>") -> 0 | AB26: =IF(AA26<>"",$A$66,"") | AF26: =COUNTIF(AD26,"<>") -> 0 | AH26: =IF(AG26<>"",$A$66,"")
A27: Collaborateur 023 | D27: =COUNTIF(C27,"<>") -> 0 | F27: =IF(E27="Effectué",$A$66,"") | I27: =COUNTIF(H27,"<>") -> 0 | K27: =IF(J27="Effectué",$A$66,"") | N27: =COUNTIF(M27,"<>") -> 0 | P27: =IF(O27="Effectué",$A$66,"") | S27: =COUNTIF(R27,"<>") -> 0 | T27: =D27+I27+N27+S27 -> 0 | V27: =IF(U27<>"",$A$66,"") | Z27: =COUNTIF(X27,"<>") -> 0 | AB27: =IF(AA27<>"",$A$66,"") | AF27: =COUNTIF(AD27,"<>") -> 0 | AH27: =IF(AG27<>"",$A$66,"")
A28: Collaborateur 024 | D28: =COUNTIF(C28,"<>") -> 0 | F28: =IF(E28="Effectué",$A$66,"") | I28: =COUNTIF(H28,"<>") -> 0 | K28: =IF(J28="Effectué",$A$66,"") | N28: =COUNTIF(M28,"<>") -> 0 | P28: =IF(O28="Effectué",$A$66,"") | S28: =COUNTIF(R28,"<>") -> 0 | T28: =D28+I28+N28+S28 -> 0 | V28: =IF(U28<>"",$A$66,"") | Z28: =COUNTIF(X28,"<>") -> 0 | AB28: =IF(AA28<>"",$A$66,"") | AF28: =COUNTIF(AD28,"<>") -> 0 | AH28: =IF(AG28<>"",$A$66,"")
A29: Collaborateur 025 | D29: =COUNTIF(C29,"<>") -> 0 | F29: =IF(E29="Effectué",$A$66,"") | I29: =COUNTIF(H29,"<>") -> 0 | K29: =IF(J29="Effectué",$A$66,"") | N29: =COUNTIF(M29,"<>") -> 0 | P29: =IF(O29="Effectué",$A$66,"") | S29: =COUNTIF(R29,"<>") -> 0 | T29: =D29+I29+N29+S29 -> 0 | V29: =IF(U29<>"",$A$66,"") | Z29: =COUNTIF(X29,"<>") -> 0 | AB29: =IF(AA29<>"",$A$66,"") | AF29: =COUNTIF(AD29,"<>") -> 0 | AH29: =IF(AG29<>"",$A$66,"")
A30: Collaborateur 026 | D30: =COUNTIF(C30,"<>") -> 0 | F30: =IF(E30="Effectué",$A$66,"") | I30: =COUNTIF(H30,"<>") -> 0 | K30: =IF(J30="Effectué",$A$66,"") | N30: =COUNTIF(M30,"<>") -> 0 | P30: =IF(O30="Effectué",$A$66,"") | S30: =COUNTIF(R30,"<>") -> 0 | T30: =D30+I30+N30+S30 -> 0 | V30: =IF(U30<>"",$A$66,"") | Z30: =COUNTIF(X30,"<>") -> 0 | AB30: =IF(AA30<>"",$A$66,"") | AF30: =COUNTIF(AD30,"<>") -> 0 | AH30: =IF(AG30<>"",$A$66,"")
A31: Collaborateur 027 | D31: =COUNTIF(C31,"<>") -> 0 | F31: =IF(E31="Effectué",$A$66,"") | I31: =COUNTIF(H31,"<>") -> 0 | K31: =IF(J31="Effectué",$A$66,"") | N31: =COUNTIF(M31,"<>") -> 0 | P31: =IF(O31="Effectué",$A$66,"") | S31: =COUNTIF(R31,"<>") -> 0 | T31: =D31+I31+N31+S31 -> 0 | V31: =IF(U31<>"",$A$66,"") | Z31: =COUNTIF(X31,"<>") -> 0 | AB31: =IF(AA31<>"",$A$66,"") | AF31: =COUNTIF(AD31,"<>") -> 0 | AH31: =IF(AG31<>"",$A$66,"")
A32: Collaborateur 028 | D32: =COUNTIF(C32,"<>") -> 0 | F32: =IF(E32="Effectué",$A$66,"") | I32: =COUNTIF(H32,"<>") -> 0 | K32: =IF(J32="Effectué",$A$66,"") | N32: =COUNTIF(M32,"<>") -> 0 | P32: =IF(O32="Effectué",$A$66,"") | S32: =COUNTIF(R32,"<>") -> 0 | T32: =D32+I32+N32+S32 -> 0 | V32: =IF(U32<>"",$A$66,"") | Z32: =COUNTIF(X32,"<>") -> 0 | AB32: =IF(AA32<>"",$A$66,"") | AF32: =COUNTIF(AD32,"<>") -> 0 | AH32: =IF(AG32<>"",$A$66,"")
A33: Collaborateur 029 | D33: =COUNTIF(C33,"<>") -> 0 | F33: =IF(E33="Effectué",$A$66,"") | I33: =COUNTIF(H33,"<>") -> 0 | K33: =IF(J33="Effectué",$A$66,"") | N33: =COUNTIF(M33,"<>") -> 0 | P33: =IF(O33="Effectué",$A$66,"") | S33: =COUNTIF(R33,"<>") -> 0 | T33: =D33+I33+N33+S33 -> 0 | V33: =IF(U33<>"",$A$66,"") | Z33: =COUNTIF(X33,"<>") -> 0 | AB33: =IF(AA33<>"",$A$66,"") | AF33: =COUNTIF(AD33,"<>") -> 0 | AH33: =IF(AG33<>"",$A$66,"")
A34: Collaborateur 030 | D34: =COUNTIF(C34,"<>") -> 0 | F34: =IF(E34="Effectué",$A$66,"") | I34: =COUNTIF(H34,"<>") -> 0 | K34: =IF(J34="Effectué",$A$66,"") | N34: =COUNTIF(M34,"<>") -> 0 | P34: =IF(O34="Effectué",$A$66,"") | S34: =COUNTIF(R34,"<>") -> 0 | T34: =D34+I34+N34+S34 -> 0 | V34: =IF(U34<>"",$A$66,"") | Z34: =COUNTIF(X34,"<>") -> 0 | AB34: =IF(AA34<>"",$A$66,"") | AF34: =COUNTIF(AD34,"<>") -> 0 | AH34: =IF(AG34<>"",$A$66,"")
A35: Collaborateur 031 | D35: =COUNTIF(C35,"<>") -> 0 | E35: Effectué | F35: =IF(E35="Effectué",$A$66,"") -> 42810 | I35: =COUNTIF(H35,"<>") -> 0 | K35: =IF(J35="Effectué",$A$66,"") | N35: =COUNTIF(M35,"<>") -> 0 | P35: =IF(O35="Effectué",$A$66,"") | S35: =COUNTIF(R35,"<>") -> 0 | T35: =D35+I35+N35+S35 -> 0 | V35: =IF(U35<>"",$A$66,"") | Z35: =COUNTIF(X35,"<>") -> 0 | AB35: =IF(AA35<>"",$A$66,"") | AF35: =COUNTIF(AD35,"<>") -> 0 | AH35: =IF(AG35<>"",$A$66,"")
A36: Collaborateur 032 | D36: =COUNTIF(C36,"<>") -> 0 | F36: =IF(E36="Effectué",$A$66,"") | I36: =COUNTIF(H36,"<>") -> 0 | K36: =IF(J36="Effectué",$A$66,"") | N36: =COUNTIF(M36,"<>") -> 0 | P36: =IF(O36="Effectué",$A$66,"") | S36: =COUNTIF(R36,"<>") -> 0 | T36: =D36+I36+N36+S36 -> 0 | V36: =IF(U36<>"",$A$66,"") | Z36: =COUNTIF(X36,"<>") -> 0 | AB36: =IF(AA36<>"",$A$66,"") | AF36: =COUNTIF(AD36,"<>") -> 0 | AH36: =IF(AG36<>"",$A$66,"")
A37: Collaborateur 033 | D37: =COUNTIF(C37,"<>") -> 0 | F37: =IF(E37="Effectué",$A$66,"") | I37: =COUNTIF(H37,"<>") -> 0 | K37: =IF(J37="Effectué",$A$66,"") | N37: =COUNTIF(M37,"<>") -> 0 | P37: =IF(O37="Effectué",$A$66,"") | S37: =COUNTIF(R37,"<>") -> 0 | T37: =D37+I37+N37+S37 -> 0 | V37: =IF(U37<>"",$A$66,"") | Z37: =COUNTIF(X37,"<>") -> 0 | AB37: =IF(AA37<>"",$A$66,"") | AF37: =COUNTIF(AD37,"<>") -> 0 | AH37: =IF(AG37<>"",$A$66,"")
A38: Collaborateur 034 | D38: =COUNTIF(C38,"<>") -> 0 | F38: =IF(E38="Effectué",$A$66,"") | I38: =COUNTIF(H38,"<>") -> 0 | K38: =IF(J38="Effectué",$A$66,"") | N38: =COUNTIF(M38,"<>") -> 0 | P38: =IF(O38="Effectué",$A$66,"") | S38: =COUNTIF(R38,"<>") -> 0 | T38: =D38+I38+N38+S38 -> 0 | V38: =IF(U38<>"",$A$66,"") | Z38: =COUNTIF(X38,"<>") -> 0 | AB38: =IF(AA38<>"",$A$66,"") | AF38: =COUNTIF(AD38,"<>") -> 0 | AH38: =IF(AG38<>"",$A$66,"")
A39: Collaborateur 035 | D39: =COUNTIF(C39,"<>") -> 0 | F39: =IF(E39="Effectué",$A$66,"") | I39: =COUNTIF(H39,"<>") -> 0 | K39: =IF(J39="Effectué",$A$66,"") | N39: =COUNTIF(M39,"<>") -> 0 | P39: =IF(O39="Effectué",$A$66,"") | S39: =COUNTIF(R39,"<>") -> 0 | T39: =D39+I39+N39+S39 -> 0 | V39: =IF(U39<>"",$A$66,"") | Z39: =COUNTIF(X39,"<>") -> 0 | AB39: =IF(AA39<>"",$A$66,"") | AF39: =COUNTIF(AD39,"<>") -> 0 | AH39: =IF(AG39<>"",$A$66,"")
A40: Collaborateur 036 | D40: =COUNTIF(C40,"<>") -> 0 | F40: =IF(E40="Effectué",$A$66,"") | I40: =COUNTIF(H40,"<>") -> 0 | K40: =IF(J40="Effectué",$A$66,"") | N40: =COUNTIF(M40,"<>") -> 0 | P40: =IF(O40="Effectué",$A$66,"") | S40: =COUNTIF(R40,"<>") -> 0 | T40: =D40+I40+N40+S40 -> 0 | V40: =IF(U40<>"",$A$66,"") | Z40: =COUNTIF(X40,"<>") -> 0 | AB40: =IF(AA40<>"",$A$66,"") | AF40: =COUNTIF(AD40,"<>") -> 0 | AH40: =IF(AG40<>"",$A$66,"")
A41: Collaborateur 037 | D41: =COUNTIF(C41,"<>") -> 0 | F41: =IF(E41="Effectué",$A$66,"") | I41: =COUNTIF(H41,"<>") -> 0 | K41: =IF(J41="Effectué",$A$66,"") | N41: =COUNTIF(M41,"<>") -> 0 | P41: =IF(O41="Effectué",$A$66,"") | S41: =COUNTIF(R41,"<>") -> 0 | T41: =D41+I41+N41+S41 -> 0 | V41: =IF(U41<>"",$A$66,"") | Z41: =COUNTIF(X41,"<>") -> 0 | AB41: =IF(AA41<>"",$A$66,"") | AF41: =COUNTIF(AD41,"<>") -> 0 | AH41: =IF(AG41<>"",$A$66,"")
A42: Collaborateur 038 | D42: =COUNTIF(C42,"<>") -> 0 | F42: =IF(E42="Effectué",$A$66,"") | I42: =COUNTIF(H42,"<>") -> 0 | K42: =IF(J42="Effectué",$A$66,"") | N42: =COUNTIF(M42,"<>") -> 0 | P42: =IF(O42="Effectué",$A$66,"") | S42: =COUNTIF(R42,"<>") -> 0 | T42: =D42+I42+N42+S42 -> 0 | V42: =IF(U42<>"",$A$66,"") | Z42: =COUNTIF(X42,"<>") -> 0 | AB42: =IF(AA42<>"",$A$66,"") | AF42: =COUNTIF(AD42,"<>") -> 0 | AH42: =IF(AG42<>"",$A$66,"")
A43: Collaborateur 039 | D43: =COUNTIF(C43,"<>") -> 0 | F43: =IF(E43="Effectué",$A$66,"") | I43: =COUNTIF(H43,"<>") -> 0 | K43: =IF(J43="Effectué",$A$66,"") | N43: =COUNTIF(M43,"<>") -> 0 | P43: =IF(O43="Effectué",$A$66,"") | S43: =COUNTIF(R43,"<>") -> 0 | T43: =D43+I43+N43+S43 -> 0 | V43: =IF(U43<>"",$A$66,"") | Z43: =COUNTIF(X43,"<>") -> 0 | AB43: =IF(AA43<>"",$A$66,"") | AF43: =COUNTIF(AD43,"<>") -> 0 | AH43: =IF(AG43<>"",$A$66,"")
A44: Collaborateur 040 | D44: =COUNTIF(C44,"<>") -> 0 | E44: Effectué | F44: =IF(E44="Effectué",$A$66,"") -> 42810 | I44: =COUNTIF(H44,"<>") -> 0 | K44: =IF(J44="Effectué",$A$66,"") | N44: =COUNTIF(M44,"<>") -> 0 | P44: =IF(O44="Effectué",$A$66,"") | S44: =COUNTIF(R44,"<>") -> 0 | T44: =D44+I44+N44+S44 -> 0 | V44: =IF(U44<>"",$A$66,"") | Z44: =COUNTIF(X44,"<>") -> 0 | AB44: =IF(AA44<>"",$A$66,"") | AF44: =COUNTIF(AD44,"<>") -> 0 | AH44: =IF(AG44<>"",$A$66,"")
A45: Collaborateur 041 | D45: =COUNTIF(C45,"<>") -> 0 | F45: =IF(E45="Effectué",$A$66,"") | I45: =COUNTIF(H45,"<>") -> 0 | K45: =IF(J45="Effectué",$A$66,"") | N45: =COUNTIF(M45,"<>") -> 0 | P45: =IF(O45="Effectué",$A$66,"") | S45: =COUNTIF(R45,"<>") -> 0 | T45: =D45+I45+N45+S45 -> 0 | V45: =IF(U45<>"",$A$66,"") | Z45: =COUNTIF(X45,"<>") -> 0 | AB45: =IF(AA45<>"",$A$66,"") | AF45: =COUNTIF(AD45,"<>") -> 0 | AH45: =IF(AG45<>"",$A$66,"")
A46: Collaborateur 042 | D46: =COUNTIF(C46,"<>") -> 0 | F46: =IF(E46="Effectué",$A$66,"") | I46: =COUNTIF(H46,"<>") -> 0 | K46: =IF(J46="Effectué",$A$66,"") | N46: =COUNTIF(M46,"<>") -> 0 | P46: =IF(O46="Effectué",$A$66,"") | S46: =COUNTIF(R46,"<>") -> 0 | T46: =D46+I46+N46+S46 -> 0 | V46: =IF(U46<>"",$A$66,"") | Z46: =COUNTIF(X46,"<>") -> 0 | AB46: =IF(AA46<>"",$A$66,"") | AF46: =COUNTIF(AD46,"<>") -> 0 | AH46: =IF(AG46<>"",$A$66,"")
A47: Collaborateur 043 | D47: =COUNTIF(C47,"<>") -> 0 | E47: A faire | F47: =IF(E47="Effectué",$A$66,"") | I47: =COUNTIF(H47,"<>") -> 0 | K47: =IF(J47="Effectué",$A$66,"") | N47: =COUNTIF(M47,"<>") -> 0 | P47: =IF(O47="Effectué",$A$66,"") | S47: =COUNTIF(R47,"<>") -> 0 | T47: =D47+I47+N47+S47 -> 0 | V47: =IF(U47<>"",$A$66,"") | Z47: =COUNTIF(X47,"<>") -> 0 | AB47: =IF(AA47<>"",$A$66,"") | AF47: =COUNTIF(AD47,"<>") -> 0 | AH47: =IF(AG47<>"",$A$66,"")
A48: Collaborateur 044 | D48: =COUNTIF(C48,"<>") -> 0 | F48: =IF(E48="Effectué",$A$66,"") | I48: =COUNTIF(H48,"<>") -> 0 | K48: =IF(J48="Effectué",$A$66,"") | N48: =COUNTIF(M48,"<>") -> 0 | P48: =IF(O48="Effectué",$A$66,"") | S48: =COUNTIF(R48,"<>") -> 0 | T48: =D48+I48+N48+S48 -> 0 | V48: =IF(U48<>"",$A$66,"") | Z48: =COUNTIF(X48,"<>") -> 0 | AB48: =IF(AA48<>"",$A$66,"") | AF48: =COUNTIF(AD48,"<>") -> 0 | AH48: =IF(AG48<>"",$A$66,"")
A49: Collaborateur 045 | D49: =COUNTIF(C49,"<>") -> 0 | F49: =IF(E49="Effectué",$A$66,"") | I49: =COUNTIF(H49,"<>") -> 0 | K49: =IF(J49="Effectué",$A$66,"") | N49: =COUNTIF(M49,"<>") -> 0 | P49: =IF(O49="Effectué",$A$66,"") | S49: =COUNTIF(R49,"<>") -> 0 | T49: =D49+I49+N49+S49 -> 0 | V49: =IF(U49<>"",$A$66,"") | Z49: =COUNTIF(X49,"<>") -> 0 | AB49: =IF(AA49<>"",$A$66,"") | AF49: =COUNTIF(AD49,"<>") -> 0 | AH49: =IF(AG49<>"",$A$66,"")
A50: Collaborateur 046 | D50: =COUNTIF(C50,"<>") -> 0 | F50: =IF(E50="Effectué",$A$66,"") | I50: =COUNTIF(H50,"<>") -> 0 | K50: =IF(J50="Effectué",$A$66,"") | N50: =COUNTIF(M50,"<>") -> 0 | P50: =IF(O50="Effectué",$A$66,"") | S50: =COUNTIF(R50,"<>") -> 0 | T50: =D50+I50+N50+S50 -> 0 | V50: =IF(U50<>"",$A$66,"") | Z50: =COUNTIF(X50,"<>") -> 0 | AB50: =IF(AA50<>"",$A$66,"") | AF50: =COUNTIF(AD50,"<>") -> 0 | AH50: =IF(AG50<>"",$A$66,"")
A51: Collaborateur 047 | B51: 42806 | C51: 42929 | D51: =COUNTIF(C51,"<>") -> 1 | E51: Effectué | F51: =IF(E51="Effectué",$A$66,"") -> 42810 | I51: =COUNTIF(H51,"<>") -> 0 | K51: =IF(J51="Effectué",$A$66,"") | N51: =COUNTIF(M51,"<>") -> 0 | P51: =IF(O51="Effectué",$A$66,"") | S51: =COUNTIF(R51,"<>") -> 0 | T51: =D51+I51+N51+S51 -> 1 | V51: =IF(U51<>"",$A$66,"") | Z51: =COUNTIF(X51,"<>") -> 0 | AB51: =IF(AA51<>"",$A$66,"") | AF51: =COUNTIF(AD51,"<>") -> 0 | AH51: =IF(AG51<>"",$A$66,"")
A52: Collaborateur 048 | D52: =COUNTIF(C52,"<>") -> 0 | F52: =IF(E52="Effectué",$A$66,"") | I52: =COUNTIF(H52,"<>") -> 0 | K52: =IF(J52="Effectué",$A$66,"") | N52: =COUNTIF(M52,"<>") -> 0 | P52: =IF(O52="Effectué",$A$66,"") | S52: =COUNTIF(R52,"<>") -> 0 | T52: =D52+I52+N52+S52 -> 0 | V52: =IF(U52<>"",$A$66,"") | Z52: =COUNTIF(X52,"<>") -> 0 | AB52: =IF(AA52<>"",$A$66,"") | AF52: =COUNTIF(AD52,"<>") -> 0 | AH52: =IF(AG52<>"",$A$66,"")
A53: Collaborateur 049 | D53: =COUNTIF(C53,"<>") -> 0 | F53: =IF(E53="Effectué",$A$66,"") | I53: =COUNTIF(H53,"<>") -> 0 | K53: =IF(J53="Effectué",$A$66,"") | N53: =COUNTIF(M53,"<>") -> 0 | P53: =IF(O53="Effectué",$A$66,"") | S53: =COUNTIF(R53,"<>") -> 0 | T53: =D53+I53+N53+S53 -> 0 | V53: =IF(U53<>"",$A$66,"") | Z53: =COUNTIF(X53,"<>") -> 0 | AB53: =IF(AA53<>"",$A$66,"") | AF53: =COUNTIF(AD53,"<>") -> 0 | AH53: =IF(AG53<>"",$A$66,"")
A54: Collaborateur 050 | D54: =COUNTIF(C54,"<>") -> 0 | F54: =IF(E54="Effectué",$A$66,"") | I54: =COUNTIF(H54,"<>") -> 0 | K54: =IF(J54="Effectué",$A$66,"") | N54: =COUNTIF(M54,"<>") -> 0 | P54: =IF(O54="Effectué",$A$66,"") | S54: =COUNTIF(R54,"<>") -> 0 | T54: =D54+I54+N54+S54 -> 0 | V54: =IF(U54<>"",$A$66,"") | Z54: =COUNTIF(X54,"<>") -> 0 | AB54: =IF(AA54<>"",$A$66,"") | AF54: =COUNTIF(AD54,"<>") -> 0 | AH54: =IF(AG54<>"",$A$66,"")
A55: Collaborateur 051 | D55: =COUNTIF(C55,"<>") -> 0 | F55: =IF(E55="Effectué",$A$66,"") | I55: =COUNTIF(H55,"<>") -> 0 | K55: =IF(J55="Effectué",$A$66,"") | N55: =COUNTIF(M55,"<>") -> 0 | P55: =IF(O55="Effectué",$A$66,"") | S55: =COUNTIF(R55,"<>") -> 0 | T55: =D55+I55+N55+S55 -> 0 | V55: =IF(U55<>"",$A$66,"") | Z55: =COUNTIF(X55,"<>") -> 0 | AB55: =IF(AA55<>"",$A$66,"") | AF55: =COUNTIF(AD55,"<>") -> 0 | AH55: =IF(AG55<>"",$A$66,"")
A56: Collaborateur 052 | D56: =COUNTIF(C56,"<>") -> 0 | F56: =IF(E56="Effectué",$A$66,"") | I56: =COUNTIF(H56,"<>") -> 0 | K56: =IF(J56="Effectué",$A$66,"") | N56: =COUNTIF(M56,"<>") -> 0 | P56: =IF(O56="Effectué",$A$66,"") | S56: =COUNTIF(R56,"<>") -> 0 | T56: =D56+I56+N56+S56 -> 0 | V56: =IF(U56<>"",$A$66,"") | Z56: =COUNTIF(X56,"<>") -> 0 | AB56: =IF(AA56<>"",$A$66,"") | AF56: =COUNTIF(AD56,"<>") -> 0 | AH56: =IF(AG56<>"",$A$66,"")
A57: Collaborateur 053 | D57: =COUNTIF(C57,"<>") -> 0 | F57: =IF(E57="Effectué",$A$66,"") | I57: =COUNTIF(H57,"<>") -> 0 | J57: Effectué | K57: =IF(J57="Effectué",$A$66,"") -> 42810 | N57: =COUNTIF(M57,"<>") -> 0 | P57: =IF(O57="Effectué",$A$66,"") | S57: =COUNTIF(R57,"<>") -> 0 | T57: =D57+I57+N57+S57 -> 0 | V57: =IF(U57<>"",$A$66,"") | Z57: =COUNTIF(X57,"<>") -> 0 | AB57: =IF(AA57<>"",$A$66,"") | AF57: =COUNTIF(AD57,"<>") -> 0 | AH57: =IF(AG57<>"",$A$66,"")
A58: Collaborateur 054 | B58: 42806 | C58: 42814 | D58: =COUNTIF(C58,"<>") -> 1 | F58: =IF(E58="Effectué",$A$66,"") | I58: =COUNTIF(H58,"<>") -> 0 | K58: =IF(J58="Effectué",$A$66,"") | N58: =COUNTIF(M58,"<>") -> 0 | P58: =IF(O58="Effectué",$A$66,"") | S58: =COUNTIF(R58,"<>") -> 0 | T58: =D58+I58+N58+S58 -> 1 | V58: =IF(U58<>"",$A$66,"") | Z58: =COUNTIF(X58,"<>") -> 0 | AB58: =IF(AA58<>"",$A$66,"") | AF58: =COUNTIF(AD58,"<>") -> 0 | AH58: =IF(AG58<>"",$A$66,"")
A59: Collaborateur 055 | D59: =COUNTIF(C59,"<>") -> 0 | F59: =IF(E59="Effectué",$A$66,"") | I59: =COUNTIF(H59,"<>") -> 0 | K59: =IF(J59="Effectué",$A$66,"") | N59: =COUNTIF(M59,"<>") -> 0 | P59: =IF(O59="Effectué",$A$66,"") | S59: =COUNTIF(R59,"<>") -> 0 | T59: =D59+I59+N59+S59 -> 0 | V59: =IF(U59<>"",$A$66,"") | Z59: =COUNTIF(X59,"<>") -> 0 | AB59: =IF(AA59<>"",$A$66,"") | AF59: =COUNTIF(AD59,"<>") -> 0 | AH59: =IF(AG59<>"",$A$66,"")
A60: Collaborateur 056 | D60: =COUNTIF(C60,"<>") -> 0 | F60: =IF(E60="Effectué",$A$66,"") | I60: =COUNTIF(H60,"<>") -> 0 | K60: =IF(J60="Effectué",$A$66,"") | N60: =COUNTIF(M60,"<>") -> 0 | P60: =IF(O60="Effectué",$A$66,"") | S60: =COUNTIF(R60,"<>") -> 0 | T60: =D60+I60+N60+S60 -> 0 | V60: =IF(U60<>"",$A$66,"") | Z60: =COUNTIF(X60,"<>") -> 0 | AB60: =IF(AA60<>"",$A$66,"") | AF60: =COUNTIF(AD60,"<>") -> 0 | AH60: =IF(AG60<>"",$A$66,"")
A62: Collaborateur 036
A63: A faire
A64: Effectué
A66: =TODAY() -> 42810
A68: CARON Thierry
A69: BUCHER Nicole
A70: MENOUD Jean-F
A71: Autre
A79: Equipe Rhumaine 1 CARON Thierry
A80: Equipe Rhumaine 2 BUCHER Nicole
A81: Equipe Rhumaine 3
A82: Equipe Rhumaine 4
A83: Equipe Rhumaine 5
A84: Equipe Rhumaine 6
A85: Equipe Rhumaine 7
A86: Equipe Rhumaine 8

Sheet  2016-2017
F1: GESTION DES ABSENCES
A2: 1 | B2: 2 | C2: 3 | D2: 4 | E2: 5 | F2: 6 | G2: 7 | H2: 8 | I2: 9 | J2: 10 | K2: 11 | L2: 12 | M2: 13 | N2: 14 | O2: 15 | P2: 16 | Q2: 17 | R2: 18 | S2: 19 | T2: 20 | U2: 21 | V2: 22 | W2: 23 | X2: 24 | Y2: 25 | Z2: 26 | AA2: 27 | AB2: 28 | AC2: 29 | AD2: 30 | AE2: 31 | AF2: 32 | AG2: 33 | AH2: 34
B3: Absence 1 | D3: entretien retour 1 | F3: Date entretien | G3: Absence 2 | I3: entretien retour 2 | K3: Date entretien | L3: Absence 3 | N3: entretien retour 3 | P3: Date entretien | Q3: Absence 4 | U3: Entretien bilan ICUS | V3: Date bilan ICUS | W3: Absence 5 | Z3: entretien ICUS et RH | AB3: Date bilan ICUS RH | AC3: Absence 6 | AF3: entretien ICUS et RH | AH3: Date bilan ICUS RH
A4: NOM /Prénom | B4: Depart1 | C4: Retour1 | D4: 1 | E4: Entretien1 | F4: Date1 | G4: Depart2 | H4: Retour2 | I4: 2 | J4: Entretien2 | K4: Date2 | L4: Depart3 | M4: Retour3 | N4: 3 | O4: Entretien3 | P4: Date3 | Q4: Depart4 | R4: Retour4 | S4: 4 | U4: Entretien ICUS | V4: Date ICUS | W4: Depart5 | X4: Retour5 | Y4: 5 | Z4: 5 | AA4: EntretienICUSRH | AB4: DateICUSRH | AC4: Depart6 | AD4: Retour6 | AF4: 6 | AG4: EntretienICUSRH2 | AH4: DateICUSRH2
A5: Collaborateur 001 | B5: 42534 | C5: 42540 | D5: =COUNTIF(C5,"<>") -> 1 | E5: Effectué | F5: 42541 | G5: 42638 | H5: 42579 | I5: =COUNTIF(H5,"<>") -> 1 | K5: =IF(J5="Effectué",$A$66,"") | L5: 42729 | M5: 42729 | N5: =COUNTIF(M5,"<>") -> 1 | P5: =IF(O5="Effectué",$A$66,"") | S5: =COUNTIF(R5,"<>") -> 0 | T5: =D5+I5+N5+S5 -> 3 | V5: =IF(U5<>"",$A$66,"") | Y5: =D5+I5+N5+S5+Z5 -> 3 | Z5: =COUNTIF(X5,"<>") -> 0 | AB5: =IF(AA5<>"",$A$66,"") | AE5: =D5+I5+N5+S5+Z5+AF5 -> 3 | AF5: =COUNTIF(AD5,"<>") -> 0 | AH5: =IF(AG5<>"",$A$66,"")
A6: Collaborateur 002 | B6: 42573 | C6: 42573 | D6: =COUNTIF(C6,"<>") -> 1 | E6: Effectué | F6: 42579 | G6: 42810 | H6: 42806 | I6: =COUNTIF(H6,"<>") -> 1 | J6: Effectué | K6: 42643 | N6: =COUNTIF(M6,"<>") -> 0 | P6: =IF(O6="Effectué",$A$66,"") | S6: =COUNTIF(R6,"<>") -> 0 | T6: =D6+I6+N6+S6 -> 2 | V6: =IF(U6<>"",$A$66,"") | Y6: =D6+I6+N6+S6+Z6 -> 2 | Z6: =COUNTIF(X6,"<>") -> 0 | AB6: =IF(AA6<>"",$A$66,"") | AE6: =D6+I6+N6+S6+Z6+AF6 -> 2 | AF6: =COUNTIF(AD6,"<>") -> 0 | AH6: =IF(AG6<>"",$A$66,"")
A7: Collaborateur 003 | B7: 42482 | C7: 42453 | D7: =COUNTIF(C7,"<>") -> 1 | E7: A faire | F7: =IF(E7="Effectué",$A$66,"") | G7: 42662 | H7: 42662 | I7: =COUNTIF(H7,"<>") -> 1 | J7: Effectué | K7: 42664 | L7: 42759 | M7: 42806 | N7: =COUNTIF(M7,"<>") -> 1 | O7: A faire | P7: =IF(O7="Effectué",$A$66,"") | S7: =COUNTIF(R7,"<>") -> 0 | T7: =D7+I7+N7+S7 -> 3 | V7: =IF(U7<>"",$A$66,"") | Y7: =D7+I7+N7+S7+Z7 -> 3 | Z7: =COUNTIF(X7,"<>") -> 0 | AB7: =IF(AA7<>"",$A$66,"") | AE7: =D7+I7+N7+S7+Z7+AF7 -> 3 | AF7: =COUNTIF(AD7,"<>") -> 0 | AH7: =IF(AG7<>"",$A$66,"")
A8: Collaborateur 004 | B8: 42507 | C8: 42509 | D8: =COUNTIF(C8,"<>") -> 1 | E8: Effectué | F8: 42878 | G8: 42648 | H8: 42849 | I8: =COUNTIF(H8,"<>") -> 1 | J8: A faire | K8: =IF(J8="Effectué",$A$66,"") | N8: =COUNTIF(M8,"<>") -> 0 | P8: =IF(O8="Effectué",$A$66,"") | S8: =COUNTIF(R8,"<>") -> 0 | T8: =D8+I8+N8+S8 -> 2 | V8: =IF(U8<>"",$A$66,"") | Y8: =D8+I8+N8+S8+Z8 -> 2 | Z8: =COUNTIF(X8,"<>") -> 0 | AB8: =IF(AA8<>"",$A$66,"") | AE8: =D8+I8+N8+S8+Z8+AF8 -> 2 | AF8: =COUNTIF(AD8,"<>") -> 0 | AH8: =IF(AG8<>"",$A$66,"")
A9: Collaborateur 005 | B9: 42544 | C9: 42544 | D9: =COUNTIF(C9,"<>") -> 1 | E9: Effectué | F9: 42550 | I9: =COUNTIF(H9,"<>") -> 0 | K9: =IF(J9="Effectué",$A$66,"") | N9: =COUNTIF(M9,"<>") -> 0 | P9: =IF(O9="Effectué",$A$66,"") | S9: =COUNTIF(R9,"<>") -> 0 | T9: =D9+I9+N9+S9 -> 1 | V9: =IF(U9<>"",$A$66,"") | Y9: =D9+I9+N9+S9+Z9 -> 1 | Z9: =COUNTIF(X9,"<>") -> 0 | AB9: =IF(AA9<>"",$A$66,"") | AE9: =D9+I9+N9+S9+Z9+AF9 -> 1 | AF9: =COUNTIF(AD9,"<>") -> 0 | AH9: =IF(AG9<>"",$A$66,"")
A10: Collaborateur 006 | D10: =COUNTIF(C10,"<>") -> 0 | I10: =COUNTIF(H10,"<>") -> 0 | K10: =IF(J10="Effectué",$A$66,"") | N10: =COUNTIF(M10,"<>") -> 0 | P10: =IF(O10="Effectué",$A$66,"") | S10: =COUNTIF(R10,"<>") -> 0 | T10: =D10+I10+N10+S10 -> 0 | V10: =IF(U10<>"",$A$66,"") | Y10: =D10+I10+N10+S10+Z10 -> 0 | Z10: =COUNTIF(X10,"<>") -> 0 | AB10: =IF(AA10<>"",$A$66,"") | AE10: =D10+I10+N10+S10+Z10+AF10 -> 0 | AF10: =COUNTIF(AD10,"<>") -> 0 | AH10: =IF(AG10<>"",$A$66,"")
A11: Collaborateur 007 | D11: =COUNTIF(C11,"<>") -> 0 | I11: =COUNTIF(H11,"<>") -> 0 | K11: =IF(J11="Effectué",$A$66,"") | N11: =COUNTIF(M11,"<>") -> 0 | P11: =IF(O11="Effectué",$A$66,"") | S11: =COUNTIF(R11,"<>") -> 0 | T11: =D11+I11+N11+S11 -> 0 | V11: =IF(U11<>"",$A$66,"") | Y11: =D11+I11+N11+S11+Z11 -> 0 | Z11: =COUNTIF(X11,"<>") -> 0 | AB11: =IF(AA11<>"",$A$66,"") | AE11: =D11+I11+N11+S11+Z11+AF11 -> 0 | AF11: =COUNTIF(AD11,"<>") -> 0 | AH11: =IF(AG11<>"",$A$66,"")
A12: Collaborateur 008 | B12: 42534 | C12: 42538 | D12: =COUNTIF(C12,"<>") -> 1 | E12: A faire | I12: =COUNTIF(H12,"<>") -> 0 | K12: =IF(J12="Effectué",$A$66,"") | N12: =COUNTIF(M12,"<>") -> 0 | S12: =COUNTIF(R12,"<>") -> 0 | T12: =D12+I12+N12+S12 -> 1 | V12: =IF(U12<>"",$A$66,"") | Y12: =D12+I12+N12+S12+Z12 -> 1 | Z12: =COUNTIF(X12,"<>") -> 0 | AB12: =IF(AA12<>"",$A$66,"") | AE12: =D12+I12+N12+S12+Z12+AF12 -> 1 | AF12: =COUNTIF(AD12,"<>") -> 0 | AH12: =IF(AG12<>"",$A$66,"")
A13: Collaborateur 009 | B13: 42622 | C13: 42622 | D13: =COUNTIF(C13,"<>") -> 1 | E13: Effectué | F13: 42632 | G13: 42776 | H13: 42776 | I13: =COUNTIF(H13,"<>") -> 1 | J13: Effectué | K13: 42779 | N13: =COUNTIF(M13,"<>") -> 0 | P13: =IF(O13="Effectué",$A$66,"") | S13: =COUNTIF(R13,"<>") -> 0 | T13: =D13+I13+N13+S13 -> 2 | V13: =IF(U13<>"",$A$66,"") | Y13: =D13+I13+N13+S13+Z13 -> 2 | Z13: =COUNTIF(X13,"<>") -> 0 | AB13: =IF(AA13<>"",$A$66,"") | AE13: =D13+I13+N13+S13+Z13+AF13 -> 2 | AF13: =COUNTIF(AD13,"<>") -> 0 | AH13: =IF(AG13<>"",$A$66,"")
A14: Collaborateur 010 | D14: =COUNTIF(C14,"<>") -> 0 | I14: =COUNTIF(H14,"<>") -> 0 | K14: =IF(J14="Effectué",$A$66,"") | N14: =COUNTIF(M14,"<>") -> 0 | P14: =IF(O14="Effectué",$A$66,"") | S14: =COUNTIF(R14,"<>") -> 0 | T14: =D14+I14+N14+S14 -> 0 | V14: =IF(U14<>"",$A$66,"") | Y14: =D14+I14+N14+S14+Z14 -> 0 | Z14: =COUNTIF(X14,"<>") -> 0 | AB14: =IF(AA14<>"",$A$66,"") | AE14: =D14+I14+N14+S14+Z14+AF14 -> 0 | AF14: =COUNTIF(AD14,"<>") -> 0 | AH14: =IF(AG14<>"",$A$66,"")
A15: Collaborateur 011 | B15: 42165 | C15: 42495 | D15: =COUNTIF(C15,"<>") -> 1 | E15: Effectué | F15: 42522 | G15: 42729 | H15: 42729 | I15: =COUNTIF(H15,"<>") -> 1 | J15: Effectué | K15: 42732 | L15: 42741 | M15: 42741 | N15: =COUNTIF(M15,"<>") -> 1 | O15: Effectué | P15: 42748 | S15: =COUNTIF(R15,"<>") -> 0 | T15: =D15+I15+N15+S15 -> 3 | V15: =IF(U15<>"",$A$66,"") | Y15: =D15+I15+N15+S15+Z15 -> 3 | Z15: =COUNTIF(X15,"<>") -> 0 | AB15: =IF(AA15<>"",$A$66,"") | AE15: =D15+I15+N15+S15+Z15+AF15 -> 3 | AF15: =COUNTIF(AD15,"<>") -> 0 | AH15: =IF(AG15<>"",$A$66,"")
A16: Collaborateur 012 | B16: 42093 | C16: 42093 | D16: =COUNTIF(C16,"<>") -> 1 | E16: A faire | G16: 42702 | H16: 42702 | I16: =COUNTIF(H16,"<>") -> 1 | J16: Effectué | K16: 291/11/2016 | N16: =COUNTIF(M16,"<>") -> 0 | P16: =IF(O16="Effectué",$A$66,"") | S16: =COUNTIF(R16,"<>") -> 0 | T16: =D16+I16+N16+S16 -> 2 | V16: =IF(U16<>"",$A$66,"") | Y16: =D16+I16+N16+S16+Z16 -> 2 | Z16: =COUNTIF(X16,"<>") -> 0 | AB16: =IF(AA16<>"",$A$66,"") | AE16: =D16+I16+N16+S16+Z16+AF16 -> 2 | AF16: =COUNTIF(AD16,"<>") -> 0 | AH16: =IF(AG16<>"",$A$66,"")
A17: Collaborateur 013 | B17: 42791 | C17: 42791 | D17: =COUNTIF(C17,"<>") -> 1 | E17: A faire | I17: =COUNTIF(H17,"<>") -> 0 | K17: =IF(J17="Effectué",$A$66,"") | N17: =COUNTIF(M17,"<>") -> 0 | P17: =IF(O17="Effectué",$A$66,"") | S17: =COUNTIF(R17,"<>") -> 0 | T17: =D17+I17+N17+S17 -> 1 | V17: =IF(U17<>"",$A$66,"") | Y17: =D17+I17+N17+S17+Z17 -> 1 | Z17: =COUNTIF(X17,"<>") -> 0 | AB17: =IF(AA17<>"",$A$66,"") | AE17: =D17+I17+N17+S17+Z17+AF17 -> 1 | AF17: =COUNTIF(AD17,"<>") -> 0 | AH17: =IF(AG17<>"",$A$66,"")
A18: Collaborateur 014 | B18: 42714 | C18: 42714 | D18: =COUNTIF(C18,"<>") -> 1 | E18: Effectué | F18: 42716 | I18: =COUNTIF(H18,"<>") -> 0 | K18: =IF(J18="Effectué",$A$66,"") | N18: =COUNTIF(M18,"<>") -> 0 | P18: =IF(O18="Effectué",$A$66,"") | S18: =COUNTIF(R18,"<>") -> 0 | T18: =D18+I18+N18+S18 -> 1 | V18: =IF(U18<>"",$A$66,"") | Y18: =D18+I18+N18+S18+Z18 -> 1 | Z18: =COUNTIF(X18,"<>") -> 0 | AB18: =IF(AA18<>"",$A$66,"") | AE18: =D18+I18+N18+S18+Z18+AF18 -> 1 | AF18: =COUNTIF(AD18,"<>") -> 0 | AH18: =IF(AG18<>"",$A$66,"")
A19: Collaborateur 015 | B19: 42399 | C19: 42402 | D19: =COUNTIF(C19,"<>") -> 1 | E19: Effectué | F19: 42415 | I19: =COUNTIF(H19,"<>") -> 0 | K19: =IF(J19="Effectué",$A$66,"") | N19: =COUNTIF(M19,"<>") -> 0 | P19: =IF(O19="Effectué",$A$66,"") | S19: =COUNTIF(R19,"<>") -> 0 | T19: =D19+I19+N19+S19 -> 1 | V19: =IF(U19<>"",$A$66,"") | Y19: =D19+I19+N19+S19+Z19 -> 1 | Z19: =COUNTIF(X19,"<>") -> 0 | AB19: =IF(AA19<>"",$A$66,"") | AE19: =D19+I19+N19+S19+Z19+AF19 -> 1 | AF19: =COUNTIF(AD19,"<>") -> 0 | AH19: =IF(AG19<>"",$A$66,"")
A20: Collaborateur 016 | B20: 42424 | C20: 42449 | D20: =COUNTIF(C20,"<>") -> 1 | E20: Effectué | F20: 42452 | I20: =COUNTIF(H20,"<>") -> 0 | K20: =IF(J20="Effectué",$A$66,"") | N20: =COUNTIF(M20,"<>") -> 0 | P20: =IF(O20="Effectué",$A$66,"") | S20: =COUNTIF(R20,"<>") -> 0 | T20: =D20+I20+N20+S20 -> 1 | V20: =IF(U20<>"",$A$66,"") | Y20: =D20+I20+N20+S20+Z20 -> 1 | Z20: =COUNTIF(X20,"<>") -> 0 | AB20: =IF(AA20<>"",$A$66,"") | AE20: =D20+I20+N20+S20+Z20+AF20 -> 1 | AF20: =COUNTIF(AD20,"<>") -> 0 | AH20: =IF(AG20<>"",$A$66,"")
A21: Collaborateur 017 | B21: 42498 | C21: 42498 | D21: =COUNTIF(C21,"<>") -> 1 | E21: Effectué | F21: 42502 | G21: 42629 | H21: 42631 | I21: =COUNTIF(H21,"<>") -> 1 | J21: Effectué | K21: 42634 | N21: =COUNTIF(M21,"<>") -> 0 | P21: =IF(O21="Effectué",$A$66,"") | S21: =COUNTIF(R21,"<>") -> 0 | T21: =D21+I21+N21+S21 -> 2 | V21: =IF(U21<>"",$A$66,"") | Y21: =D21+I21+N21+S21+Z21 -> 2 | Z21: =COUNTIF(X21,"<>") -> 0 | AB21: =IF(AA21<>"",$A$66,"") | AE21: =D21+I21+N21+S21+Z21+AF21 -> 2 | AF21: =COUNTIF(AD21,"<>") -> 0 | AH21: =IF(AG21<>"",$A$66,"")
A22: Collaborateur 018 | B22: 42600 | C22: 42610 | D22: =COUNTIF(C22,"<>") -> 1 | E22: Effectué | F22: 42612 | I22: =COUNTIF(H22,"<>") -> 0 | K22: =IF(J22="Effectué",$A$66,"") | N22: =COUNTIF(M22,"<>") -> 0 | P22: =IF(O22="Effectué",$A$66,"") | S22: =COUNTIF(R22,"<>") -> 0 | T22: =D22+I22+N22+S22 -> 1 | V22: =IF(U22<>"",$A$66,"") | Y22: =D22+I22+N22+S22+Z22 -> 1 | Z22: =COUNTIF(X22,"<>") -> 0 | AB22: =IF(AA22<>"",$A$66,"") | AE22: =D22+I22+N22+S22+Z22+AF22 -> 1 | AF22: =COUNTIF(AD22,"<>") -> 0 | AH22: =IF(AG22<>"",$A$66,"")
A23: Collaborateur 019 | D23: =COUNTIF(C23,"<>") -> 0 | F23: =IF(E23="Effectué",$A$66,"") | I23: =COUNTIF(H23,"<>") -> 0 | K23: =IF(J23="Effectué",$A$66,"") | N23: =COUNTIF(M23,"<>") -> 0 | P23: =IF(O23="Effectué",$A$66,"") | S23: =COUNTIF(R23,"<>") -> 0 | T23: =D23+I23+N23+S23 -> 0 | V23: =IF(U23<>"",$A$66,"") | Y23: =D23+I23+N23+S23+Z23 -> 0 | Z23: =COUNTIF(X23,"<>") -> 0 | AB23: =IF(AA23<>"",$A$66,"") | AE23: =D23+I23+N23+S23+Z23+AF23 -> 0 | AF23: =COUNTIF(AD23,"<>") -> 0 | AH23: =IF(AG23<>"",$A$66,"")
A24: Collaborateur 020 | D24: =COUNTIF(C24,"<>") -> 0 | F24: =IF(E24="Effectué",$A$66,"") | I24: =COUNTIF(H24,"<>") -> 0 | K24: =IF(J24="Effectué",$A$66,"") | N24: =COUNTIF(M24,"<>") -> 0 | P24: =IF(O24="Effectué",$A$66,"") | S24: =COUNTIF(R24,"<>") -> 0 | T24: =D24+I24+N24+S24 -> 0 | V24: =IF(U24<>"",$A$66,"") | Y24: =D24+I24+N24+S24+Z24 -> 0 | Z24: =COUNTIF(X24,"<>") -> 0 | AB24: =IF(AA24<>"",$A$66,"") | AE24: =D24+I24+N24+S24+Z24+AF24 -> 0 | AF24: =COUNTIF(AD24,"<>") -> 0 | AH24: =IF(AG24<>"",$A$66,"")
A25: Collaborateur 021 | B25: 42642 | C25: 42642 | D25: =COUNTIF(C25,"<>") -> 1 | E25: A faire | F25: =IF(E25="Effectué",$A$66,"") | I25: =COUNTIF(H25,"<>") -> 0 | K25: =IF(J25="Effectué",$A$66,"") | N25: =COUNTIF(M25,"<>") -> 0 | P25: =IF(O25="Effectué",$A$66,"") | S25: =COUNTIF(R25,"<>") -> 0 | T25: =D25+I25+N25+S25 -> 1 | V25: =IF(U25<>"",$A$66,"") | Y25: =D25+I25+N25+S25+Z25 -> 1 | Z25: =COUNTIF(X25,"<>") -> 0 | AB25: =IF(AA25<>"",$A$66,"") | AE25: =D25+I25+N25+S25+Z25+AF25 -> 1 | AF25: =COUNTIF(AD25,"<>") -> 0 | AH25: =IF(AG25<>"",$A$66,"")
A26: Collaborateur 022 | B26: 42611 | C26: 42611 | D26: =COUNTIF(C26,"<>") -> 1 | E26: Effectué | F26: 42612 | G26: 42739 | H26: 42830 | I26: =COUNTIF(H26,"<>") -> 1 | J26: Effectué | K26: 42834 | N26: =COUNTIF(M26,"<>") -> 0 | P26: =IF(O26="Effectué",$A$66,"") | S26: =COUNTIF(R26,"<>") -> 0 | T26: =D26+I26+N26+S26 -> 2 | V26: =IF(U26<>"",$A$66,"") | Y26: =D26+I26+N26+S26+Z26 -> 2 | Z26: =COUNTIF(X26,"<>") -> 0 | AB26: =IF(AA26<>"",$A$66,"") | AE26: =D26+I26+N26+S26+Z26+AF26 -> 2 | AF26: =COUNTIF(AD26,"<>") -> 0 | AH26: =IF(AG26<>"",$A$66,"")
A27: Collaborateur 023 | B27: 42328 | C27: 42511 | D27: =COUNTIF(C27,"<>") -> 1 | E27: A faire | F27: =IF(E27="Effectué",$A$66,"") | I27: =COUNTIF(H27,"<>") -> 0 | K27: =IF(J27="Effectué",$A$66,"") | N27: =COUNTIF(M27,"<>") -> 0 | P27: =IF(O27="Effectué",$A$66,"") | S27: =COUNTIF(R27,"<>") -> 0 | T27: =D27+I27+N27+S27 -> 1 | V27: =IF(U27<>"",$A$66,"") | Y27: =D27+I27+N27+S27+Z27 -> 1 | Z27: =COUNTIF(X27,"<>") -> 0 | AB27: =IF(AA27<>"",$A$66,"") | AE27: =D27+I27+N27+S27+Z27+AF27 -> 1 | AF27: =COUNTIF(AD27,"<>") -> 0 | AH27: =IF(AG27<>"",$A$66,"")
A28: Collaborateur 024 | D28: =COUNTIF(C28,"<>") -> 0 | F28: =IF(E28="Effectué",$A$66,"") | I28: =COUNTIF(H28,"<>") -> 0 | K28: =IF(J28="Effectué",$A$66,"") | N28: =COUNTIF(M28,"<>") -> 0 | P28: =IF(O28="Effectué",$A$66,"") | S28: =COUNTIF(R28,"<>") -> 0 | T28: =D28+I28+N28+S28 -> 0 | V28: =IF(U28<>"",$A$66,"") | Y28: =D28+I28+N28+S28+Z28 -> 0 | Z28: =COUNTIF(X28,"<>") -> 0 | AB28: =IF(AA28<>"",$A$66,"") | AE28: =D28+I28+N28+S28+Z28+AF28 -> 0 | AF28: =COUNTIF(AD28,"<>") -> 0 | AH28: =IF(AG28<>"",$A$66,"")
A29: Collaborateur 025 | B29: 42642 | C29: 42642 | D29: =COUNTIF(C29,"<>") -> 1 | E29: Effectué | F29: 42643 | I29: =COUNTIF(H29,"<>") -> 0 | K29: =IF(J29="Effectué",$A$66,"") | N29: =COUNTIF(M29,"<>") -> 0 | P29: =IF(O29="Effectué",$A$66,"") | S29: =COUNTIF(R29,"<>") -> 0 | T29: =D29+I29+N29+S29 -> 1 | V29: =IF(U29<>"",$A$66,"") | Y29: =D29+I29+N29+S29+Z29 -> 1 | Z29: =COUNTIF(X29,"<>") -> 0 | AB29: =IF(AA29<>"",$A$66,"") | AE29: =D29+I29+N29+S29+Z29+AF29 -> 1 | AF29: =COUNTIF(AD29,"<>") -> 0 | AH29: =IF(AG29<>"",$A$66,"")
A30: Collaborateur 026 | B30: 42513 | C30: 42513 | D30: =COUNTIF(C30,"<>") -> 1 | E30: Effectué | F30: 42517 | G30: 42644 | H30: 42644 | I30: =COUNTIF(H30,"<>") -> 1 | J30: Effectué | K30: 42646 | N30: =COUNTIF(M30,"<>") -> 0 | P30: =IF(O30="Effectué",$A$66,"") | S30: =COUNTIF(R30,"<>") -> 0 | T30: =D30+I30+N30+S30 -> 2 | V30: =IF(U30<>"",$A$66,"") | Y30: =D30+I30+N30+S30+Z30 -> 2 | Z30: =COUNTIF(X30,"<>") -> 0 | AB30: =IF(AA30<>"",$A$66,"") | AE30: =D30+I30+N30+S30+Z30+AF30 -> 2 | AF30: =COUNTIF(AD30,"<>") -> 0 | AH30: =IF(AG30<>"",$A$66,"")
A31: Collaborateur 027 | B31: 42590 | C31: 42590 | D31: =COUNTIF(C31,"<>") -> 1 | E31: Effectué | F31: 42591 | G31: 42731 | H31: 42731 | I31: =COUNTIF(H31,"<>") -> 1 | J31: Effectué | K31: 42732 | N31: =COUNTIF(M31,"<>") -> 0 | P31: =IF(O31="Effectué",$A$66,"") | S31: =COUNTIF(R31,"<>") -> 0 | T31: =D31+I31+N31+S31 -> 2 | V31: =IF(U31<>"",$A$66,"") | Y31: =D31+I31+N31+S31+Z31 -> 2 | Z31: =COUNTIF(X31,"<>") -> 0 | AB31: =IF(AA31<>"",$A$66,"") | AE31: =D31+I31+N31+S31+Z31+AF31 -> 2 | AF31: =COUNTIF(AD31,"<>") -> 0 | AH31: =IF(AG31<>"",$A$66,"")
A32: Collaborateur 028 | B32: 42676 | C32: 42676 | D32: =COUNTIF(C32,"<>") -> 1 | E32: Effectué | F32: 42684 | I32: =COUNTIF(H32,"<>") -> 0 | K32: =IF(J32="Effectué",$A$66,"") | N32: =COUNTIF(M32,"<>") -> 0 | P32: =IF(O32="Effectué",$A$66,"") | S32: =COUNTIF(R32,"<>") -> 0 | T32: =D32+I32+N32+S32 -> 1 | V32: =IF(U32<>"",$A$66,"") | Y32: =D32+I32+N32+S32+Z32 -> 1 | Z32: =COUNTIF(X32,"<>") -> 0 | AB32: =IF(AA32<>"",$A$66,"") | AE32: =D32+I32+N32+S32+Z32+AF32 -> 1 | AF32: =COUNTIF(AD32,"<>") -> 0 | AH32: =IF(AG32<>"",$A$66,"")
A33: Collaborateur 029 | D33: =COUNTIF(C33,"<>") -> 0 | F33: =IF(E33="Effectué",$A$66,"") | I33: =COUNTIF(H33,"<>") -> 0 | K33: =IF(J33="Effectué",$A$66,"") | N33: =COUNTIF(M33,"<>") -> 0 | P33: =IF(O33="Effectué",$A$66,"") | S33: =COUNTIF(R33,"<>") -> 0 | T33: =D33+I33+N33+S33 -> 0 | V33: =IF(U33<>"",$A$66,"") | Y33: =D33+I33+N33+S33+Z33 -> 0 | Z33: =COUNTIF(X33,"<>") -> 0 | AB33: =IF(AA33<>"",$A$66,"") | AE33: =D33+I33+N33+S33+Z33+AF33 -> 0 | AF33: =COUNTIF(AD33,"<>") -> 0 | AH33: =IF(AG33<>"",$A$66,"")
A34: Collaborateur 030 | B34: 42460 | C34: 42460 | D34: =COUNTIF(C34,"<>") -> 1 | E34: Effectué | F34: 42464 | G34: 42522 | H34: 42522 | I34: =COUNTIF(H34,"<>") -> 1 | J34: Effectué | K34: 42528 | L34: 42605 | M34: 42722 | N34: =COUNTIF(M34,"<>") -> 1 | O34: Effectué | P34: 42723 | S34: =COUNTIF(R34,"<>") -> 0 | T34: =D34+I34+N34+S34 -> 3 | V34: =IF(U34<>"",$A$66,"") | Y34: =D34+I34+N34+S34+Z34 -> 3 | Z34: =COUNTIF(X34,"<>") -> 0 | AB34: =IF(AA34<>"",$A$66,"") | AE34: =D34+I34+N34+S34+Z34+AF34 -> 3 | AF34: =COUNTIF(AD34,"<>") -> 0 | AH34: =IF(AG34<>"",$A$66,"")
A35: Collaborateur 031 | B35: 42492 | C35: 42492 | D35: =COUNTIF(C35,"<>") -> 1 | E35: Effectué | F35: 42499 | G35: 42698 | H35: 42701 | I35: =COUNTIF(H35,"<>") -> 1 | J35: Effectué | K35: 42703 | L35: 42776 | M35: 42776 | N35: =COUNTIF(M35,"<>") -> 1 | O35: Effectué | P35: 42779 | S35: =COUNTIF(R35,"<>") -> 0 | T35: =D35+I35+N35+S35 -> 3 | V35: =IF(U35<>"",$A$66,"") | Y35: =D35+I35+N35+S35+Z35 -> 3 | Z35: =COUNTIF(X35,"<>") -> 0 | AB35: =IF(AA35<>"",$A$66,"") | AE35: =D35+I35+N35+S35+Z35+AF35 -> 3 | AF35: =COUNTIF(AD35,"<>") -> 0 | AH35: =IF(AG35<>"",$A$66,"")
A36: Collaborateur 032 | D36: =COUNTIF(C36,"<>") -> 0 | F36: =IF(E36="Effectué",$A$66,"") | I36: =COUNTIF(H36,"<>") -> 0 | K36: =IF(J36="Effectué",$A$66,"") | N36: =COUNTIF(M36,"<>") -> 0 | P36: =IF(O36="Effectué",$A$66,"") | S36: =COUNTIF(R36,"<>") -> 0 | T36: =D36+I36+N36+S36 -> 0 | V36: =IF(U36<>"",$A$66,"") | Y36: =D36+I36+N36+S36+Z36 -> 0 | Z36: =COUNTIF(X36,"<>") -> 0 | AB36: =IF(AA36<>"",$A$66,"") | AE36: =D36+I36+N36+S36+Z36+AF36 -> 0 | AF36: =COUNTIF(AD36,"<>") -> 0 | AH36: =IF(AG36<>"",$A$66,"")
A37: Collaborateur 033 | B37: 42695 | C37: 42695 | D37: =COUNTIF(C37,"<>") -> 1 | E37: Effectué | F37: 42696 | I37: =COUNTIF(H37,"<>") -> 0 | K37: =IF(J37="Effectué",$A$66,"") | N37: =COUNTIF(M37,"<>") -> 0 | P37: =IF(O37="Effectué",$A$66,"") | S37: =COUNTIF(R37,"<>") -> 0 | T37: =D37+I37+N37+S37 -> 1 | V37: =IF(U37<>"",$A$66,"") | Y37: =D37+I37+N37+S37+Z37 -> 1 | Z37: =COUNTIF(X37,"<>") -> 0 | AB37: =IF(AA37<>"",$A$66,"") | AE37: =D37+I37+N37+S37+Z37+AF37 -> 1 | AF37: =COUNTIF(AD37,"<>") -> 0 | AH37: =IF(AG37<>"",$A$66,"")
A38: Collaborateur 034 | B38: 42555 | C38: 42555 | D38: =COUNTIF(C38,"<>") -> 1 | E38: Effectué | F38: 42562 | G38: 42590 | H38: 42590 | I38: =COUNTIF(H38,"<>") -> 1 | J38: Effectué | K38: 42644 | L38: 42646 | M38: 42646 | N38: =COUNTIF(M38,"<>") -> 1 | O38: A faire | P38: =IF(O38="Effectué",$A$66,"") | Q38: 42688 | R38: 42688 | S38: =COUNTIF(R38,"<>") -> 1 | T38: =D38+I38+N38+S38 -> 4 | U38: Autre | V38: =IF(U38<>"",$A$66,"") -> 42810 | W38: 42773 | X38: 42773 | Y38: =D38+I38+N38+S38+Z38 -> 5 | Z38: =COUNTIF(X38,"<>") -> 1 | AA38: Equipe Rhumaine 3 | AB38: 42780 | AC38: 42796 | AD38: 42807 | AE38: =D38+I38+N38+S38+Z38+AF38 -> 6 | AF38: =COUNTIF(AD38,"<>") -> 1 | AH38: =IF(AG38<>"",$A$66,"")
A39: Collaborateur 035 | B39: 42636 | C39: 42639 | D39: =COUNTIF(C39,"<>") -> 1 | E39: Effectué | F39: 42643 | G39: 42689 | H39: 42689 | I39: =COUNTIF(H39,"<>") -> 1 | J39: Effectué | K39: 42695 | L39: 42702 | M39: 42702 | N39: =COUNTIF(M39,"<>") -> 1 | O39: Effectué | P39: 42705 | Q39: 42722 | R39: 42722 | S39: =COUNTIF(R39,"<>") -> 1 | T39: =D39+I39+N39+S39 -> 4 | V39: =IF(U39<>"",$A$66,"") | Y39: =D39+I39+N39+S39+Z39 -> 4 | Z39: =COUNTIF(X39,"<>") -> 0 | AB39: =IF(AA39<>"",$A$66,"") | AE39: =D39+I39+N39+S39+Z39+AF39 -> 4 | AF39: =COUNTIF(AD39,"<>") -> 0 | AH39: =IF(AG39<>"",$A$66,"")
A40: Collaborateur 036 | B40: 42564 | C40: 42565 | D40: =COUNTIF(C40,"<>") -> 1 | E40: A faire | F40: =IF(E40="Effectué",$A$66,"") | G40: 42665 | H40: 42665 | I40: =COUNTIF(H40,"<>") -> 1 | J40: Effectué | K40: 42667 | N40: =COUNTIF(M40,"<>") -> 0 | P40: =IF(O40="Effectué",$A$66,"") | S40: =COUNTIF(R40,"<>") -> 0 | T40: =D40+I40+N40+S40 -> 2 | V40: =IF(U40<>"",$A$66,"") | Y40: =D40+I40+N40+S40+Z40 -> 2 | Z40: =COUNTIF(X40,"<>") -> 0 | AB40: =IF(AA40<>"",$A$66,"") | AE40: =D40+I40+N40+S40+Z40+AF40 -> 2 | AF40: =COUNTIF(AD40,"<>") -> 0 | AH40: =IF(AG40<>"",$A$66,"")
A41: Collaborateur 037 | B41: 42694 | C41: 42694 | D41: =COUNTIF(C41,"<>") -> 1 | E41: Effectué | F41: 42698 | I41: =COUNTIF(H41,"<>") -> 0 | K41: =IF(J41="Effectué",$A$66,"") | N41: =COUNTIF(M41,"<>") -> 0 | P41: =IF(O41="Effectué",$A$66,"") | S41: =COUNTIF(R41,"<>") -> 0 | T41: =D41+I41+N41+S41 -> 1 | V41: =IF(U41<>"",$A$66,"") | Y41: =D41+I41+N41+S41+Z41 -> 1 | Z41: =COUNTIF(X41,"<>") -> 0 | AB41: =IF(AA41<>"",$A$66,"") | AE41: =D41+I41+N41+S41+Z41+AF41 -> 1 | AF41: =COUNTIF(AD41,"<>") -> 0 | AH41: =IF(AG41<>"",$A$66,"")
A42: Collaborateur 038 | B42: 42343 | C42: 42565 | D42: =COUNTIF(C42,"<>") -> 1 | E42: Effectué | F42: 42625 | G42: 42714 | H42: 42714 | I42: =COUNTIF(H42,"<>") -> 1 | J42: Effectué | K42: 42716 | N42: =COUNTIF(M42,"<>") -> 0 | P42: =IF(O42="Effectué",$A$66,"") | S42: =COUNTIF(R42,"<>") -> 0 | T42: =D42+I42+N42+S42 -> 2 | V42: =IF(U42<>"",$A$66,"") | Y42: =D42+I42+N42+S42+Z42 -> 2 | Z42: =COUNTIF(X42,"<>") -> 0 | AB42: =IF(AA42<>"",$A$66,"") | AE42: =D42+I42+N42+S42+Z42+AF42 -> 2 | AF42: =COUNTIF(AD42,"<>") -> 0 | AH42: =IF(AG42<>"",$A$66,"")
A43: Collaborateur 039 | B43: 42466 | C43: 42466 | D43: =COUNTIF(C43,"<>") -> 1 | F43: 42472 | G43: 42698 | H43: 42698 | I43: =COUNTIF(H43,"<>") -> 1 | J43: Effectué | K43: 42699 | N43: =COUNTIF(M43,"<>") -> 0 | P43: =IF(O43="Effectué",$A$66,"") | S43: =COUNTIF(R43,"<>") -> 0 | T43: =D43+I43+N43+S43 -> 2 | V43: =IF(U43<>"",$A$66,"") | Y43: =D43+I43+N43+S43+Z43 -> 2 | Z43: =COUNTIF(X43,"<>") -> 0 | AB43: =IF(AA43<>"",$A$66,"") | AE43: =D43+I43+N43+S43+Z43+AF43 -> 2 | AF43: =COUNTIF(AD43,"<>") -> 0 | AH43: =IF(AG43<>"",$A$66,"")
A44: Collaborateur 040 | B44: 42456 | C44: 42456 | D44: =COUNTIF(C44,"<>") -> 1 | E44: Effectué | F44: 42438 | I44: =COUNTIF(H44,"<>") -> 0 | K44: =IF(J44="Effectué",$A$66,"") | N44: =COUNTIF(M44,"<>") -> 0 | P44: =IF(O44="Effectué",$A$66,"") | S44: =COUNTIF(R44,"<>") -> 0 | T44: =D44+I44+N44+S44 -> 1 | V44: =IF(U44<>"",$A$66,"") | Y44: =D44+I44+N44+S44+Z44 -> 1 | Z44: =COUNTIF(X44,"<>") -> 0 | AB44: =IF(AA44<>"",$A$66,"") | AE44: =D44+I44+N44+S44+Z44+AF44 -> 1 | AF44: =COUNTIF(AD44,"<>") -> 0 | AH44: =IF(AG44<>"",$A$66,"")
A45: Collaborateur 041 | B45: 42625 | C45: 42784 | D45: =COUNTIF(C45,"<>") -> 1 | E45: A faire | F45: =IF(E45="Effectué",$A$66,"") | I45: =COUNTIF(H45,"<>") -> 0 | K45: =IF(J45="Effectué",$A$66,"") | N45: =COUNTIF(M45,"<>") -> 0 | P45: =IF(O45="Effectué",$A$66,"") | S45: =COUNTIF(R45,"<>") -> 0 | T45: =D45+I45+N45+S45 -> 1 | V45: =IF(U45<>"",$A$66,"") | Y45: =D45+I45+N45+S45+Z45 -> 1 | Z45: =COUNTIF(X45,"<>") -> 0 | AB45: =IF(AA45<>"",$A$66,"") | AE45: =D45+I45+N45+S45+Z45+AF45 -> 1 | AF45: =COUNTIF(AD45,"<>") -> 0 | AH45: =IF(AG45<>"",$A$66,"")
A46: Collaborateur 042 | B46: 42309 | C46: 42465 | D46: =COUNTIF(C46,"<>") -> 1 | E46: Effectué | F46: 42522 | G46: 42696 | H46: 42696 | I46: =COUNTIF(H46,"<>") -> 1 | J46: Effectué | K46: 42697 | N46: =COUNTIF(M46,"<>") -> 0 | P46: =IF(O46="Effectué",$A$66,"") | S46: =COUNTIF(R46,"<>") -> 0 | T46: =D46+I46+N46+S46 -> 2 | V46: =IF(U46<>"",$A$66,"") | Y46: =D46+I46+N46+S46+Z46 -> 2 | Z46: =COUNTIF(X46,"<>") -> 0 | AB46: =IF(AA46<>"",$A$66,"") | AE46: =D46+I46+N46+S46+Z46+AF46 -> 2 | AF46: =COUNTIF(AD46,"<>") -> 0 | AH46: =IF(AG46<>"",$A$66,"")
A47: Collaborateur 043 | B47: 42683 | C47: 42684 | D47: =COUNTIF(C47,"<>") -> 1 | E47: Effectué | F47: 42689 | G47: 42719 | H47: 42750 | I47: =COUNTIF(H47,"<>") -> 1 | J47: Effectué | K47: 42752 | N47: =COUNTIF(M47,"<>") -> 0 | P47: =IF(O47="Effectué",$A$66,"") | S47: =COUNTIF(R47,"<>") -> 0 | T47: =D47+I47+N47+S47 -> 2 | V47: =IF(U47<>"",$A$66,"") | Y47: =D47+I47+N47+S47+Z47 -> 2 | Z47: =COUNTIF(X47,"<>") -> 0 | AB47: =IF(AA47<>"",$A$66,"") | AE47: =D47+I47+N47+S47+Z47+AF47 -> 2 | AF47: =COUNTIF(AD47,"<>") -> 0 | AH47: =IF(AG47<>"",$A$66,"")
A48: Collaborateur 044 | B48: 42725 | C48: 42726 | D48: =COUNTIF(C48,"<>") -> 1 | E48: A faire | F48: =IF(E48="Effectué",$A$66,"") | I48: =COUNTIF(H48,"<>") -> 0 | K48: =IF(J48="Effectué",$A$66,"") | N48: =COUNTIF(M48,"<>") -> 0 | P48: =IF(O48="Effectué",$A$66,"") | S48: =COUNTIF(R48,"<>") -> 0 | T48: =D48+I48+N48+S48 -> 1 | V48: =IF(U48<>"",$A$66,"") | Y48: =D48+I48+N48+S48+Z48 -> 1 | Z48: =COUNTIF(X48,"<>") -> 0 | AB48: =IF(AA48<>"",$A$66,"") | AE48: =D48+I48+N48+S48+Z48+AF48 -> 1 | AF48: =COUNTIF(AD48,"<>") -> 0 | AH48: =IF(AG48<>"",$A$66,"")
A49: Collaborateur 045 | B49: 42518 | C49: 42518 | D49: =COUNTIF(C49,"<>") -> 1 | E49: Effectué | F49: 42559 | G49: 42586 | H49: 42586 | I49: =COUNTIF(H49,"<>") -> 1 | J49: Effectué | K49: 42592 | L49: 42723 | M49: 42724 | N49: =COUNTIF(M49,"<>") -> 1 | O49: A faire | P49: =IF(O49="Effectué",$A$66,"") | S49: =COUNTIF(R49,"<>") -> 0 | T49: =D49+I49+N49+S49 -> 3 | V49: =IF(U49<>"",$A$66,"") | Y49: =D49+I49+N49+S49+Z49 -> 3 | Z49: =COUNTIF(X49,"<>") -> 0 | AB49: =IF(AA49<>"",$A$66,"") | AE49: =D49+I49+N49+S49+Z49+AF49 -> 3 | AF49: =COUNTIF(AD49,"<>") -> 0 | AH49: =IF(AG49<>"",$A$66,"")
A50: Collaborateur 046 | B50: 42654 | C50: 42654 | D50: =COUNTIF(C50,"<>") -> 1 | E50: Effectué | F50: 42656 | I50: =COUNTIF(H50,"<>") -> 0 | K50: =IF(J50="Effectué",$A$66,"") | N50: =COUNTIF(M50,"<>") -> 0 | P50: =IF(O50="Effectué",$A$66,"") | S50: =COUNTIF(R50,"<>") -> 0 | T50: =D50+I50+N50+S50 -> 1 | V50: =IF(U50<>"",$A$66,"") | Y50: =D50+I50+N50+S50+Z50 -> 1 | Z50: =COUNTIF(X50,"<>") -> 0 | AB50: =IF(AA50<>"",$A$66,"") | AE50: =D50+I50+N50+S50+Z50+AF50 -> 1 | AF50: =COUNTIF(AD50,"<>") -> 0 | AH50: =IF(AG50<>"",$A$66,"")
A51: Collaborateur 047 | B51: 42518 | C51: 42526 | D51: =COUNTIF(C51,"<>") -> 1 | E51: Effectué | F51: 42527 | G51: 42590 | H51: 42822 | I51: =COUNTIF(H51,"<>") -> 1 | J51: A faire | K51: =IF(J51="Effectué",$A$66,"") | N51: =COUNTIF(M51,"<>") -> 0 | P51: =IF(O51="Effectué",$A$66,"") | S51: =COUNTIF(R51,"<>") -> 0 | T51: =D51+I51+N51+S51 -> 2 | V51: =IF(U51<>"",$A$66,"") | Y51: =D51+I51+N51+S51+Z51 -> 2 | Z51: =COUNTIF(X51,"<>") -> 0 | AB51: =IF(AA51<>"",$A$66,"") | AE51: =D51+I51+N51+S51+Z51+AF51 -> 2 | AF51: =COUNTIF(AD51,"<>") -> 0 | AH51: =IF(AG51<>"",$A$66,"")
A52: Collaborateur 048 | D52: =COUNTIF(C52,"<>") -> 0 | F52: =IF(E52="Effectué",$A$66,"") | I52: =COUNTIF(H52,"<>") -> 0 | K52: =IF(J52="Effectué",$A$66,"") | N52: =COUNTIF(M52,"<>") -> 0 | P52: =IF(O52="Effectué",$A$66,"") | S52: =COUNTIF(R52,"<>") -> 0 | T52: =D52+I52+N52+S52 -> 0 | V52: =IF(U52<>"",$A$66,"") | Y52: =D52+I52+N52+S52+Z52 -> 0 | Z52: =COUNTIF(X52,"<>") -> 0 | AB52: =IF(AA52<>"",$A$66,"") | AE52: =D52+I52+N52+S52+Z52+AF52 -> 0 | AF52: =COUNTIF(AD52,"<>") -> 0 | AH52: =IF(AG52<>"",$A$66,"")
A53: Collaborateur 049 | B53: 42587 | C53: 42587 | D53: =COUNTIF(C53,"<>") -> 1 | F53: 42591 | H53: 42800 | I53: =COUNTIF(H53,"<>") -> 1 | J53: Effectué | K53: 42801 | N53: =COUNTIF(M53,"<>") -> 0 | P53: =IF(O53="Effectué",$A$66,"") | S53: =COUNTIF(R53,"<>") -> 0 | T53: =D53+I53+N53+S53 -> 2 | V53: =IF(U53<>"",$A$66,"") | Y53: =D53+I53+N53+S53+Z53 -> 2 | Z53: =COUNTIF(X53,"<>") -> 0 | AB53: =IF(AA53<>"",$A$66,"") | AE53: =D53+I53+N53+S53+Z53+AF53 -> 2 | AF53: =COUNTIF(AD53,"<>") -> 0 | AH53: =IF(AG53<>"",$A$66,"")
A54: Collaborateur 050 | B54: 42535 | C54: 42535 | D54: =COUNTIF(C54,"<>") -> 1 | E54: Effectué | F54: 42901 | G54: 42565 | H54: 42565 | I54: =COUNTIF(H54,"<>") -> 1 | J54: Effectué | K54: 42572 | N54: =COUNTIF(M54,"<>") -> 0 | P54: =IF(O54="Effectué",$A$66,"") | S54: =COUNTIF(R54,"<>") -> 0 | T54: =D54+I54+N54+S54 -> 2 | V54: =IF(U54<>"",$A$66,"") | Y54: =D54+I54+N54+S54+Z54 -> 2 | Z54: =COUNTIF(X54,"<>") -> 0 | AB54: =IF(AA54<>"",$A$66,"") | AE54: =D54+I54+N54+S54+Z54+AF54 -> 2 | AF54: =COUNTIF(AD54,"<>") -> 0 | AH54: =IF(AG54<>"",$A$66,"")
A55: Collaborateur 051 | B55: 42645 | C55: 42645 | D55: =COUNTIF(C55,"<>") -> 1 | E55: Effectué | F55: 42646 | G55: 42709 | H55: 42709 | I55: =COUNTIF(H55,"<>") -> 1 | J55: Effectué | K55: 42710 | N55: =COUNTIF(M55,"<>") -> 0 | P55: =IF(O55="Effectué",$A$66,"") | S55: =COUNTIF(R55,"<>") -> 0 | T55: =D55+I55+N55+S55 -> 2 | V55: =IF(U55<>"",$A$66,"") | Y55: =D55+I55+N55+S55+Z55 -> 2 | Z55: =COUNTIF(X55,"<>") -> 0 | AB55: =IF(AA55<>"",$A$66,"") | AE55: =D55+I55+N55+S55+Z55+AF55 -> 2 | AF55: =COUNTIF(AD55,"<>") -> 0 | AH55: =IF(AG55<>"",$A$66,"")
A56: Collaborateur 052 | D56: =COUNTIF(C56,"<>") -> 0 | F56: =IF(E56="Effectué",$A$66,"") | I56: =COUNTIF(H56,"<>") -> 0 | K56: =IF(J56="Effectué",$A$66,"") | N56: =COUNTIF(M56,"<>") -> 0 | P56: =IF(O56="Effectué",$A$66,"") | S56: =COUNTIF(R56,"<>") -> 0 | T56: =D56+I56+N56+S56 -> 0 | V56: =IF(U56<>"",$A$66,"") | Y56: =D56+I56+N56+S56+Z56 -> 0 | Z56: =COUNTIF(X56,"<>") -> 0 | AB56: =IF(AA56<>"",$A$66,"") | AE56: =D56+I56+N56+S56+Z56+AF56 -> 0 | AF56: =COUNTIF(AD56,"<>") -> 0 | AH56: =IF(AG56<>"",$A$66,"")
A57: Collaborateur 053 | D57: =COUNTIF(C57,"<>") -> 0 | F57: =IF(E57="Effectué",$A$66,"") | I57: =COUNTIF(H57,"<>") -> 0 | N57: =COUNTIF(M57,"<>") -> 0 | P57: =IF(O57="Effectué",$A$66,"") | S57: =COUNTIF(R57,"<>") -> 0 | T57: =D57+I57+N57+S57 -> 0 | V57: =IF(U57<>"",$A$66,"") | Y57: =D57+I57+N57+S57+Z57 -> 0 | Z57: =COUNTIF(X57,"<>") -> 0 | AB57: =IF(AA57<>"",$A$66,"") | AE57: =D57+I57+N57+S57+Z57+AF57 -> 0 | AF57: =COUNTIF(AD57,"<>") -> 0 | AH57: =IF(AG57<>"",$A$66,"")
A58: Collaborateur 054 | B58: 42459 | C58: 42459 | D58: =COUNTIF(C58,"<>") -> 1 | E58: A faire | F58: =IF(E58="Effectué",$A$66,"") | G58: 42794 | H58: 42796 | I58: =COUNTIF(H58,"<>") -> 1 | J58: A faire | K58: =IF(J58="Effectué",$A$66,"") | N58: =COUNTIF(M58,"<>") -> 0 | P58: =IF(O58="Effectué",$A$66,"") | S58: =COUNTIF(R58,"<>") -> 0 | T58: =D58+I58+N58+S58 -> 2 | V58: =IF(U58<>"",$A$66,"") | Y58: =D58+I58+N58+S58+Z58 -> 2 | Z58: =COUNTIF(X58,"<>") -> 0 | AB58: =IF(AA58<>"",$A$66,"") | AE58: =D58+I58+N58+S58+Z58+AF58 -> 2 | AF58: =COUNTIF(AD58,"<>") -> 0 | AH58: =IF(AG58<>"",$A$66,"")
A59: Collaborateur 055 | B59: 42607 | C59: 42624 | D59: =COUNTIF(C59,"<>") -> 1 | F59: 42635 | I59: =COUNTIF(H59,"<>") -> 0 | K59: =IF(J59="Effectué",$A$66,"") | N59: =COUNTIF(M59,"<>") -> 0 | P59: =IF(O59="Effectué",$A$66,"") | S59: =COUNTIF(R59,"<>") -> 0 | T59: =D59+I59+N59+S59 -> 1 | V59: =IF(U59<>"",$A$66,"") | Y59: =D59+I59+N59+S59+Z59 -> 1 | Z59: =COUNTIF(X59,"<>") -> 0 | AB59: =IF(AA59<>"",$A$66,"") | AE59: =D59+I59+N59+S59+Z59+AF59 -> 1 | AF59: =COUNTIF(AD59,"<>") -> 0 | AH59: =IF(AG59<>"",$A$66,"")
A60: Collaborateur 056 | D60: =COUNTIF(C60,"<>") -> 0 | F60: =IF(E60="Effectué",$A$66,"") | I60: =COUNTIF(H60,"<>") -> 0 | K60: =IF(J60="Effectué",$A$66,"") | N60: =COUNTIF(M60,"<>") -> 0 | P60: =IF(O60="Effectué",$A$66,"") | S60: =COUNTIF(R60,"<>") -> 0 | T60: =D60+I60+N60+S60 -> 0 | V60: =IF(U60<>"",$A$66,"") | Y60: =D60+I60+N60+S60+Z60 -> 0 | Z60: =COUNTIF(X60,"<>") -> 0 | AB60: =IF(AA60<>"",$A$66,"") | AE60: =D60+I60+N60+S60+Z60+AF60 -> 0 | AF60: =COUNTIF(AD60,"<>") -> 0 | AH60: =IF(AG60<>"",$A$66,"")
A62: Collaborateur 036
A63: A faire
A64: Effectué
A66: =TODAY() -> 42810
A68: CARON Thierry
A69: BUCHER Nicole
A70: MENOUD Jean-F
A71: Autre
A79: Equipe Rhumaine 1 CARON Thierry
A80: Equipe Rhumaine 2 BUCHER Nicole
A81: Equipe Rhumaine 3
A82: Equipe Rhumaine 4
A83: Equipe Rhumaine 5
A84: Equipe Rhumaine 6
A85: Equipe Rhumaine 7
A86: Equipe Rhumaine 8

Sheet  2017-2018
H1: GESTION DES ABSENCES
A2: 1 | D2: 2 | E2: 3 | F2: 4 | G2: 5 | H2: 6 | I2: 7 | J2: 8 | K2: 9 | L2: 10 | M2: 11 | N2: 12 | O2: 13 | P2: 14 | Q2: 15 | R2: 16 | S2: 17 | T2: 18 | U2: 19 | V2: 20 | W2: 21 | X2: 22 | Y2: 23 | Z2: 24 | AA2: 25 | AB2: 26 | AC2: 27 | AD2: 28 | AE2: 29 | AF2: 30 | AG2: 31 | AH2: 32 | AI2: 33 | AJ2: 34
B3: Repport | C3: Date Absence 1 | D3: Absence 1 | F3: entretien retour 1 | H3: Date entretien | I3: Absence 2 | K3: entretien retour 2 | M3: Date entretien | N3: Absence 3 | P3: entretien retour 3 | R3: Date entretien | S3: Absence 4 | W3: Entretien bilan ICUS | X3: Date bilan ICUS | Y3: Absence 5 | AB3: entretien ICUS et RH | AD3: Date bilan ICUS RH | AE3: Absence 6 | AH3: entretien ICUS et RH | AJ3: Date bilan ICUS RH
A4: NOM /Prénom | D4: Depart1 | E4: Retour1 | F4: 1 | G4: Entretien1 | H4: Date1 | I4: Depart2 | J4: Retour2 | K4: 2 | L4: Entretien2 | M4: Date2 | N4: Depart3 | O4: Retour3 | P4: 3 | Q4: Entretien3 | R4: Date3 | S4: Depart4 | T4: Retour4 | U4: 4 | W4: Entretien ICUS | X4: Date ICUS | Y4: Depart5 | Z4: Retour5 | AA4: 5 | AB4: 5 | AC4: EntretienICUSRH | AD4: DateICUSRH | AE4: Depart6 | AF4: Retour6 | AH4: 6 | AI4: EntretienICUSRH2 | AJ4: DateICUSRH2
A5: Collaborateur 001 | B5: =SUM(' 2016-2017'!D5+' 2016-2017'!I5+' 2016-2017'!N5+' 2016-2017'!S5+' 2016-2017'!Z5+' 2016-2017'!AF5) -> 3 | C5: =VLOOKUP(' 2016-2017'!B3:B60,' 2016-2017'!B5:C60,1,FALSE) -> 42534 | P5: =COUNTIF(O5,"<>") -> 0 | U5: =COUNTIF(T5,"<>") -> 0 | V5: =F5+K5+P5+U5 -> 0 | X5: =IF(W5<>"",$A$66,"") | AA5: =F5+K5+P5+U5+AB5 -> 0 | AB5: =COUNTIF(Z5,"<>") -> 0 | AD5: =IF(AC5<>"",$A$66,"") | AG5: =F5+K5+P5+U5+AB5+AH5 -> 0 | AH5: =COUNTIF(AF5,"<>") -> 0 | AJ5: =IF(AI5<>"",$A$66,"")
A6: Collaborateur 002 | B6: =SUM(' 2016-2017'!D6+' 2016-2017'!I6+' 2016-2017'!N6+' 2016-2017'!S6+' 2016-2017'!Z6+' 2016-2017'!AF6) -> 2 | C6: =VLOOKUP(' 2016-2017'!B4:B61,' 2016-2017'!B6:C61,1,FALSE) -> 42573 | P6: =COUNTIF(O6,"<>") -> 0 | U6: =COUNTIF(T6,"<>") -> 0 | V6: =F6+K6+P6+U6 -> 0 | X6: =IF(W6<>"",$A$66,"") | AA6: =F6+K6+P6+U6+AB6 -> 0 | AB6: =COUNTIF(Z6,"<>") -> 0 | AD6: =IF(AC6<>"",$A$66,"") | AG6: =F6+K6+P6+U6+AB6+AH6 -> 0 | AH6: =COUNTIF(AF6,"<>") -> 0 | AJ6: =IF(AI6<>"",$A$66,"")
A7: Collaborateur 003 | B7: =SUM(' 2016-2017'!D7+' 2016-2017'!I7+' 2016-2017'!N7+' 2016-2017'!S7+' 2016-2017'!Z7+' 2016-2017'!AF7) -> 3 | C7: =VLOOKUP(' 2016-2017'!B5:B62,' 2016-2017'!B7:C62,1,FALSE) -> 42482 | P7: =COUNTIF(O7,"<>") -> 0 | U7: =COUNTIF(T7,"<>") -> 0 | V7: =F7+K7+P7+U7 -> 0 | X7: =IF(W7<>"",$A$66,"") | AA7: =F7+K7+P7+U7+AB7 -> 0 | AB7: =COUNTIF(Z7,"<>") -> 0 | AD7: =IF(AC7<>"",$A$66,"") | AG7: =F7+K7+P7+U7+AB7+AH7 -> 0 | AH7: =COUNTIF(AF7,"<>") -> 0 | AJ7: =IF(AI7<>"",$A$66,"")
A8: Collaborateur 004 | B8: =SUM(' 2016-2017'!D8+' 2016-2017'!I8+' 2016-2017'!N8+' 2016-2017'!S8+' 2016-2017'!Z8+' 2016-2017'!AF8) -> 2 | C8: =VLOOKUP(' 2016-2017'!B6:B63,' 2016-2017'!B8:C63,1,FALSE) -> 42507 | P8: =COUNTIF(O8,"<>") -> 0 | U8: =COUNTIF(T8,"<>") -> 0 | V8: =F8+K8+P8+U8 -> 0 | X8: =IF(W8<>"",$A$66,"") | AA8: =F8+K8+P8+U8+AB8 -> 0 | AB8: =COUNTIF(Z8,"<>") -> 0 | AD8: =IF(AC8<>"",$A$66,"") | AG8: =F8+K8+P8+U8+AB8+AH8 -> 0 | AH8: =COUNTIF(AF8,"<>") -> 0 | AJ8: =IF(AI8<>"",$A$66,"")
A9: Collaborateur 005 | B9: =SUM(' 2016-2017'!D9+' 2016-2017'!I9+' 2016-2017'!N9+' 2016-2017'!S9+' 2016-2017'!Z9+' 2016-2017'!AF9) -> 1 | C9: =VLOOKUP(' 2016-2017'!B7:B64,' 2016-2017'!B9:C64,1,FALSE) -> 42544 | P9: =COUNTIF(O9,"<>") -> 0 | U9: =COUNTIF(T9,"<>") -> 0 | V9: =F9+K9+P9+U9 -> 0 | X9: =IF(W9<>"",$A$66,"") | AA9: =F9+K9+P9+U9+AB9 -> 0 | AB9: =COUNTIF(Z9,"<>") -> 0 | AD9: =IF(AC9<>"",$A$66,"") | AG9: =F9+K9+P9+U9+AB9+AH9 -> 0 | AH9: =COUNTIF(AF9,"<>") -> 0 | AJ9: =IF(AI9<>"",$A$66,"")
A10: Collaborateur 006 | B10: =SUM(' 2016-2017'!D10+' 2016-2017'!I10+' 2016-2017'!N10+' 2016-2017'!S10+' 2016-2017'!Z10+' 2016-2017'!AF10) -> 0 | C10: =VLOOKUP(' 2016-2017'!B8:B65,' 2016-2017'!B10:C65,1,FALSE) -> #N/A | P10: =COUNTIF(O10,"<>") -> 0 | U10: =COUNTIF(T10,"<>") -> 0 | V10: =F10+K10+P10+U10 -> 0 | X10: =IF(W10<>"",$A$66,"") | AA10: =F10+K10+P10+U10+AB10 -> 0 | AB10: =COUNTIF(Z10,"<>") -> 0 | AD10: =IF(AC10<>"",$A$66,"") | AG10: =F10+K10+P10+U10+AB10+AH10 -> 0 | AH10: =COUNTIF(AF10,"<>") -> 0 | AJ10: =IF(AI10<>"",$A$66,"")
A11: Collaborateur 007 | B11: =SUM(' 2016-2017'!D11+' 2016-2017'!I11+' 2016-2017'!N11+' 2016-2017'!S11+' 2016-2017'!Z11+' 2016-2017'!AF11) -> 0 | C11: =VLOOKUP(' 2016-2017'!B9:B66,' 2016-2017'!B11:C66,1,FALSE) -> #N/A | P11: =COUNTIF(O11,"<>") -> 0 | U11: =COUNTIF(T11,"<>") -> 0 | V11: =F11+K11+P11+U11 -> 0 | X11: =IF(W11<>"",$A$66,"") | AA11: =F11+K11+P11+U11+AB11 -> 0 | AB11: =COUNTIF(Z11,"<>") -> 0 | AD11: =IF(AC11<>"",$A$66,"") | AG11: =F11+K11+P11+U11+AB11+AH11 -> 0 | AH11: =COUNTIF(AF11,"<>") -> 0 | AJ11: =IF(AI11<>"",$A$66,"")
A12: Collaborateur 008 | B12: =SUM(' 2016-2017'!D12+' 2016-2017'!I12+' 2016-2017'!N12+' 2016-2017'!S12+' 2016-2017'!Z12+' 2016-2017'!AF12) -> 1 | C12: =VLOOKUP(' 2016-2017'!B10:B67,' 2016-2017'!B12:C67,1,FALSE) -> 42534 | P12: =COUNTIF(O12,"<>") -> 0 | U12: =COUNTIF(T12,"<>") -> 0 | V12: =F12+K12+P12+U12 -> 0 | X12: =IF(W12<>"",$A$66,"") | AA12: =F12+K12+P12+U12+AB12 -> 0 | AB12: =COUNTIF(Z12,"<>") -> 0 | AD12: =IF(AC12<>"",$A$66,"") | AG12: =F12+K12+P12+U12+AB12+AH12 -> 0 | AH12: =COUNTIF(AF12,"<>") -> 0 | AJ12: =IF(AI12<>"",$A$66,"")
A13: Collaborateur 009 | B13: =SUM(' 2016-2017'!D13+' 2016-2017'!I13+' 2016-2017'!N13+' 2016-2017'!S13+' 2016-2017'!Z13+' 2016-2017'!AF13) -> 2 | C13: =VLOOKUP(' 2016-2017'!B11:B68,' 2016-2017'!B13:C68,1,FALSE) -> 42622 | P13: =COUNTIF(O13,"<>") -> 0 | U13: =COUNTIF(T13,"<>") -> 0 | V13: =F13+K13+P13+U13 -> 0 | X13: =IF(W13<>"",$A$66,"") | AA13: =F13+K13+P13+U13+AB13 -> 0 | AB13: =COUNTIF(Z13,"<>") -> 0 | AD13: =IF(AC13<>"",$A$66,"") | AG13: =F13+K13+P13+U13+AB13+AH13 -> 0 | AH13: =COUNTIF(AF13,"<>") -> 0 | AJ13: =IF(AI13<>"",$A$66,"")
A14: Collaborateur 010 | B14: =SUM(' 2016-2017'!D14+' 2016-2017'!I14+' 2016-2017'!N14+' 2016-2017'!S14+' 2016-2017'!Z14+' 2016-2017'!AF14) -> 0 | C14: =VLOOKUP(' 2016-2017'!B12:B69,' 2016-2017'!B14:C69,1,FALSE) -> #N/A | P14: =COUNTIF(O14,"<>") -> 0 | U14: =COUNTIF(T14,"<>") -> 0 | V14: =F14+K14+P14+U14 -> 0 | X14: =IF(W14<>"",$A$66,"") | AA14: =F14+K14+P14+U14+AB14 -> 0 | AB14: =COUNTIF(Z14,"<>") -> 0 | AD14: =IF(AC14<>"",$A$66,"") | AG14: =F14+K14+P14+U14+AB14+AH14 -> 0 | AH14: =COUNTIF(AF14,"<>") -> 0 | AJ14: =IF(AI14<>"",$A$66,"")
A15: Collaborateur 011 | B15: =SUM(' 2016-2017'!D15+' 2016-2017'!I15+' 2016-2017'!N15+' 2016-2017'!S15+' 2016-2017'!Z15+' 2016-2017'!AF15) -> 3 | C15: =VLOOKUP(' 2016-2017'!B13:B70,' 2016-2017'!B15:C70,1,FALSE) -> 42165 | P15: =COUNTIF(O15,"<>") -> 0 | U15: =COUNTIF(T15,"<>") -> 0 | V15: =F15+K15+P15+U15 -> 0 | X15: =IF(W15<>"",$A$66,"") | AA15: =F15+K15+P15+U15+AB15 -> 0 | AB15: =COUNTIF(Z15,"<>") -> 0 | AD15: =IF(AC15<>"",$A$66,"") | AG15: =F15+K15+P15+U15+AB15+AH15 -> 0 | AH15: =COUNTIF(AF15,"<>") -> 0 | AJ15: =IF(AI15<>"",$A$66,"")
A16: Collaborateur 012 | B16: =SUM(' 2016-2017'!D16+' 2016-2017'!I16+' 2016-2017'!N16+' 2016-2017'!S16+' 2016-2017'!Z16+' 2016-2017'!AF16) -> 2 | C16: =VLOOKUP(' 2016-2017'!B14:B71,' 2016-2017'!B16:C71,1,FALSE) -> 42093 | P16: =COUNTIF(O16,"<>") -> 0 | U16: =COUNTIF(T16,"<>") -> 0 | V16: =F16+K16+P16+U16 -> 0 | X16: =IF(W16<>"",$A$66,"") | AA16: =F16+K16+P16+U16+AB16 -> 0 | AB16: =COUNTIF(Z16,"<>") -> 0 | AD16: =IF(AC16<>"",$A$66,"") | AG16: =F16+K16+P16+U16+AB16+AH16 -> 0 | AH16: =COUNTIF(AF16,"<>") -> 0 | AJ16: =IF(AI16<>"",$A$66,"")
... A25: Collaborateur 021 | B25: =SUM(' 2016-2017'!D25+' 2016-2017'!I25+' 2016-2017'!N25+' 2016-2017'!S25+' 2016-2017'!Z25+' 2016-2017'!AF25) -> 1 | C25: =VLOOKUP(' 2016-2017'!B23:B80,' 2016-2017'!B25:C80,1,FALSE) -> 42642 | P25: =COUNTIF(O25,"<>") -> 0 | U25: =COUNTIF(T25,"<>") -> 0 | V25: =F25+K25+P25+U25 -> 0 | X25: =IF(W25<>"",$A$66,"") | AA25: =F25+K25+P25+U25+AB25 -> 0 | AB25: =COUNTIF(Z25,"<>") -> 0 | AD25: =IF(AC25<>"",$A$66,"") | AG25: =F25+K25+P25+U25+AB25+AH25 -> 0 | AH25: =COUNTIF(AF25,"<>") -> 0 | AJ25: =IF(AI25<>"",$A$66,"")
A26: Collaborateur 022 | B26: =SUM(' 2016-2017'!D26+' 2016-2017'!I26+' 2016-2017'!N26+' 2016-2017'!S26+' 2016-2017'!Z26+' 2016-2017'!AF26) -> 2 | C26: =VLOOKUP(' 2016-2017'!B24:B81,' 2016-2017'!B26:C81,1,FALSE) -> 42611 | P26: =COUNTIF(O26,"<>") -> 0 | R26: =IF(Q26="Effectué",$A$66,"") | U26: =COUNTIF(T26,"<>") -> 0 | V26: =F26+K26+P26+U26 -> 0 | X26: =IF(W26<>"",$A$66,"") | AA26: =F26+K26+P26+U26+AB26 -> 0 | AB26: =COUNTIF(Z26,"<>") -> 0 | AD26: =IF(AC26<>"",$A$66,"") | AG26: =F26+K26+P26+U26+AB26+AH26 -> 0 | AH26: =COUNTIF(AF26,"<>") -> 0 | AJ26: =IF(AI26<>"",$A$66,"")
A27: Collaborateur 023 | B27: =SUM(' 2016-2017'!D27+' 2016-2017'!I27+' 2016-2017'!N27+' 2016-2017'!S27+' 2016-2017'!Z27+' 2016-2017'!AF27) -> 1 | C27: =VLOOKUP(' 2016-2017'!B25:B82,' 2016-2017'!B27:C82,1,FALSE) -> 42328 | P27: =COUNTIF(O27,"<>") -> 0 | R27: =IF(Q27="Effectué",$A$66,"") | U27: =COUNTIF(T27,"<>") -> 0 | V27: =F27+K27+P27+U27 -> 0 | X27: =IF(W27<>"",$A$66,"") | AA27: =F27+K27+P27+U27+AB27 -> 0 | AB27: =COUNTIF(Z27,"<>") -> 0 | AD27: =IF(AC27<>"",$A$66,"") | AG27: =F27+K27+P27+U27+AB27+AH27 -> 0 | AH27: =COUNTIF(AF27,"<>") -> 0 | AJ27: =IF(AI27<>"",$A$66,"")
A28: Collaborateur 024 | B28: =SUM(' 2016-2017'!D28+' 2016-2017'!I28+' 2016-2017'!N28+' 2016-2017'!S28+' 2016-2017'!Z28+' 2016-2017'!AF28) -> 0 | C28: =VLOOKUP(' 2016-2017'!B26:B83,' 2016-2017'!B28:C83,1,FALSE) -> #N/A | P28: =COUNTIF(O28,"<>") -> 0 | R28: =IF(Q28="Effectué",$A$66,"") | U28: =COUNTIF(T28,"<>") -> 0 | V28: =F28+K28+P28+U28 -> 0 | X28: =IF(W28<>"",$A$66,"") | AA28: =F28+K28+P28+U28+AB28 -> 0 | AB28: =COUNTIF(Z28,"<>") -> 0 | AD28: =IF(AC28<>"",$A$66,"") | AG28: =F28+K28+P28+U28+AB28+AH28 -> 0 | AH28: =COUNTIF(AF28,"<>") -> 0 | AJ28: =IF(AI28<>"",$A$66,"")
A29: Collaborateur 025 | B29: =SUM(' 2016-2017'!D29+' 2016-2017'!I29+' 2016-2017'!N29+' 2016-2017'!S29+' 2016-2017'!Z29+' 2016-2017'!AF29) -> 1 | C29: =VLOOKUP(' 2016-2017'!B27:B84,' 2016-2017'!B29:C84,1,FALSE) -> 42642 | P29: =COUNTIF(O29,"<>") -> 0 | R29: =IF(Q29="Effectué",$A$66,"") | U29: =COUNTIF(T29,"<>") -> 0 | V29: =F29+K29+P29+U29 -> 0 | X29: =IF(W29<>"",$A$66,"") | AA29: =F29+K29+P29+U29+AB29 -> 0 | AB29: =COUNTIF(Z29,"<>") -> 0 | AD29: =IF(AC29<>"",$A$66,"") | AG29: =F29+K29+P29+U29+AB29+AH29 -> 0 | AH29: =COUNTIF(AF29,"<>") -> 0 | AJ29: =IF(AI29<>"",$A$66,"")
A30: Collaborateur 026 | B30: =SUM(' 2016-2017'!D30+' 2016-2017'!I30+' 2016-2017'!N30+' 2016-2017'!S30+' 2016-2017'!Z30+' 2016-2017'!AF30) -> 2 | C30: =VLOOKUP(' 2016-2017'!B28:B85,' 2016-2017'!B30:C85,1,FALSE) -> 42513 | P30: =COUNTIF(O30,"<>") -> 0 | R30: =IF(Q30="Effectué",$A$66,"") | U30: =COUNTIF(T30,"<>") -> 0 | V30: =F30+K30+P30+U30 -> 0 | X30: =IF(W30<>"",$A$66,"") | AA30: =F30+K30+P30+U30+AB30 -> 0 | AB30: =COUNTIF(Z30,"<>") -> 0 | AD30: =IF(AC30<>"",$A$66,"") | AG30: =F30+K30+P30+U30+AB30+AH30 -> 0 | AH30: =COUNTIF(AF30,"<>") -> 0 | AJ30: =IF(AI30<>"",$A$66,"")
A31: Collaborateur 027 | B31: =SUM(' 2016-2017'!D31+' 2016-2017'!I31+' 2016-2017'!N31+' 2016-2017'!S31+' 2016-2017'!Z31+' 2016-2017'!AF31) -> 2 | C31: =VLOOKUP(' 2016-2017'!B29:B86,' 2016-2017'!B31:C86,1,FALSE) -> 42590 | P31: =COUNTIF(O31,"<>") -> 0 | U31: =COUNTIF(T31,"<>") -> 0 | V31: =F31+K31+P31+U31 -> 0 | X31: =IF(W31<>"",$A$66,"") | AA31: =F31+K31+P31+U31+AB31 -> 0 | AB31: =COUNTIF(Z31,"<>") -> 0 | AD31: =IF(AC31<>"",$A$66,"") | AG31: =F31+K31+P31+U31+AB31+AH31 -> 0 | AH31: =COUNTIF(AF31,"<>") -> 0 | AJ31: =IF(AI31<>"",$A$66,"")
A32: Collaborateur 028 | B32: =SUM(' 2016-2017'!D32+' 2016-2017'!I32+' 2016-2017'!N32+' 2016-2017'!S32+' 2016-2017'!Z32+' 2016-2017'!AF32) -> 1 | C32: =VLOOKUP(' 2016-2017'!B30:B87,' 2016-2017'!B32:C87,1,FALSE) -> 42676 | P32: =COUNTIF(O32,"<>") -> 0 | U32: =COUNTIF(T32,"<>") -> 0 | V32: =F32+K32+P32+U32 -> 0 | X32: =IF(W32<>"",$A$66,"") | AA32: =F32+K32+P32+U32+AB32 -> 0 | AB32: =COUNTIF(Z32,"<>") -> 0 | AD32: =IF(AC32<>"",$A$66,"") | AG32: =F32+K32+P32+U32+AB32+AH32 -> 0 | AH32: =COUNTIF(AF32,"<>") -> 0 | AJ32: =IF(AI32<>"",$A$66,"")
A33: Collaborateur 029 | B33: =SUM(' 2016-2017'!D33+' 2016-2017'!I33+' 2016-2017'!N33+' 2016-2017'!S33+' 2016-2017'!Z33+' 2016-2017'!AF33) -> 0 | C33: =VLOOKUP(' 2016-2017'!B31:B88,' 2016-2017'!B33:C88,1,FALSE) -> #N/A | P33: =COUNTIF(O33,"<>") -> 0 | U33: =COUNTIF(T33,"<>") -> 0 | V33: =F33+K33+P33+U33 -> 0 | AA33: =F33+K33+P33+U33+AB33 -> 0 | AB33: =COUNTIF(Z33,"<>") -> 0 | AG33: =F33+K33+P33+U33+AB33+AH33 -> 0 | AH33: =COUNTIF(AF33,"<>") -> 0
A34: Collaborateur 030 | B34: =SUM(' 2016-2017'!D34+' 2016-2017'!I34+' 2016-2017'!N34+' 2016-2017'!S34+' 2016-2017'!Z34+' 2016-2017'!AF34) -> 3 | C34: =VLOOKUP(' 2016-2017'!B32:B89,' 2016-2017'!B34:C89,1,FALSE) -> 42460 | P34: =COUNTIF(O34,"<>") -> 0 | U34: =COUNTIF(T34,"<>") -> 0 | V34: =F34+K34+P34+U34 -> 0 | AA34: =F34+K34+P34+U34+AB34 -> 0 | AB34: =COUNTIF(Z34,"<>") -> 0 | AG34: =F34+K34+P34+U34+AB34+AH34 -> 0 | AH34: =COUNTIF(AF34,"<>") -> 0
A35: Collaborateur 031 | B35: =SUM(' 2016-2017'!D35+' 2016-2017'!I35+' 2016-2017'!N35+' 2016-2017'!S35+' 2016-2017'!Z35+' 2016-2017'!AF35) -> 3 | C35: =VLOOKUP(' 2016-2017'!B33:B90,' 2016-2017'!B35:C90,1,FALSE) -> 42492 | P35: =COUNTIF(O35,"<>") -> 0 | U35: =COUNTIF(T35,"<>") -> 0 | V35: =F35+K35+P35+U35 -> 0 | AA35: =F35+K35+P35+U35+AB35 -> 0 | AB35: =COUNTIF(Z35,"<>") -> 0 | AG35: =F35+K35+P35+U35+AB35+AH35 -> 0 | AH35: =COUNTIF(AF35,"<>") -> 0
A36: Collaborateur 032 | B36: =SUM(' 2016-2017'!D36+' 2016-2017'!I36+' 2016-2017'!N36+' 2016-2017'!S36+' 2016-2017'!Z36+' 2016-2017'!AF36) -> 0 | C36: =VLOOKUP(' 2016-2017'!B34:B91,' 2016-2017'!B36:C91,1,FALSE) -> #N/A | P36: =COUNTIF(O36,"<>") -> 0 | U36: =COUNTIF(T36,"<>") -> 0 | V36: =F36+K36+P36+U36 -> 0 | AA36: =F36+K36+P36+U36+AB36 -> 0 | AB36: =COUNTIF(Z36,"<>") -> 0 | AG36: =F36+K36+P36+U36+AB36+AH36 -> 0 | AH36: =COUNTIF(AF36,"<>") -> 0
A37: Collaborateur 033 | B37: =SUM(' 2016-2017'!D37+' 2016-2017'!I37+' 2016-2017'!N37+' 2016-2017'!S37+' 2016-2017'!Z37+' 2016-2017'!AF37) -> 1 | C37: =VLOOKUP(' 2016-2017'!B35:B92,' 2016-2017'!B37:C92,1,FALSE) -> 42695 | P37: =COUNTIF(O37,"<>") -> 0 | U37: =COUNTIF(T37,"<>") -> 0 | V37: =F37+K37+P37+U37 -> 0 | AA37: =F37+K37+P37+U37+AB37 -> 0 | AB37: =COUNTIF(Z37,"<>") -> 0 | AG37: =F37+K37+P37+U37+AB37+AH37 -> 0 | AH37: =COUNTIF(AF37,"<>") -> 0
A38: Collaborateur 034 | B38: =SUM(' 2016-2017'!D38+' 2016-2017'!I38+' 2016-2017'!N38+' 2016-2017'!S38+' 2016-2017'!Z38+' 2016-2017'!AF38) -> 6 | C38: =VLOOKUP(' 2016-2017'!B36:B93,' 2016-2017'!B38:C93,1,FALSE) -> 42555 | P38: =COUNTIF(O38,"<>") -> 0 | U38: =COUNTIF(T38,"<>") -> 0 | V38: =F38+K38+P38+U38 -> 0 | AA38: =F38+K38+P38+U38+AB38 -> 0 | AB38: =COUNTIF(Z38,"<>") -> 0 | AG38: =F38+K38+P38+U38+AB38+AH38 -> 0 | AH38: =COUNTIF(AF38,"<>") -> 0
A39: Collaborateur 035 | B39: =SUM(' 2016-2017'!D39+' 2016-2017'!I39+' 2016-2017'!N39+' 2016-2017'!S39+' 2016-2017'!Z39+' 2016-2017'!AF39) -> 4 | C39: =VLOOKUP(' 2016-2017'!B37:B94,' 2016-2017'!B39:C94,1,FALSE) -> 42636 | P39: =COUNTIF(O39,"<>") -> 0 | U39: =COUNTIF(T39,"<>") -> 0 | V39: =F39+K39+P39+U39 -> 0 | AA39: =F39+K39+P39+U39+AB39 -> 0 | AB39: =COUNTIF(Z39,"<>") -> 0 | AG39: =F39+K39+P39+U39+AB39+AH39 -> 0 | AH39: =COUNTIF(AF39,"<>") -> 0
A40: Collaborateur 036 | B40: =SUM(' 2016-2017'!D40+' 2016-2017'!I40+' 2016-2017'!N40+' 2016-2017'!S40+' 2016-2017'!Z40+' 2016-2017'!AF40) -> 2 | C40: =VLOOKUP(' 2016-2017'!B38:B95,' 2016-2017'!B40:C95,1,FALSE) -> 42564 | P40: =COUNTIF(O40,"<>") -> 0 | U40: =COUNTIF(T40,"<>") -> 0 | V40: =F40+K40+P40+U40 -> 0 | AA40: =F40+K40+P40+U40+AB40 -> 0 | AB40: =COUNTIF(Z40,"<>") -> 0 | AG40: =F40+K40+P40+U40+AB40+AH40 -> 0 | AH40: =COUNTIF(AF40,"<>") -> 0
A41: Collaborateur 037 | B41: =SUM(' 2016-2017'!D41+' 2016-2017'!I41+' 2016-2017'!N41+' 2016-2017'!S41+' 2016-2017'!Z41+' 2016-2017'!AF41) -> 1 | C41: =VLOOKUP(' 2016-2017'!B39:B96,' 2016-2017'!B41:C96,1,FALSE) -> 42694 | P41: =COUNTIF(O41,"<>") -> 0 | U41: =COUNTIF(T41,"<>") -> 0 | V41: =F41+K41+P41+U41 -> 0 | AA41: =F41+K41+P41+U41+AB41 -> 0 | AB41: =COUNTIF(Z41,"<>") -> 0 | AG41: =F41+K41+P41+U41+AB41+AH41 -> 0 | AH41: =COUNTIF(AF41,"<>") -> 0
A42: Collaborateur 038 | B42: =SUM(' 2016-2017'!D42+' 2016-2017'!I42+' 2016-2017'!N42+' 2016-2017'!S42+' 2016-2017'!Z42+' 2016-2017'!AF42) -> 2 | C42: =VLOOKUP(' 2016-2017'!B40:B97,' 2016-2017'!B42:C97,1,FALSE) -> 42343 | P42: =COUNTIF(O42,"<>") -> 0 | U42: =COUNTIF(T42,"<>") -> 0 | V42: =F42+K42+P42+U42 -> 0 | AA42: =F42+K42+P42+U42+AB42 -> 0 | AB42: =COUNTIF(Z42,"<>") -> 0 | AG42: =F42+K42+P42+U42+AB42+AH42 -> 0 | AH42: =COUNTIF(AF42,"<>") -> 0
A43: Collaborateur 039 | B43: =SUM(' 2016-2017'!D43+' 2016-2017'!I43+' 2016-2017'!N43+' 2016-2017'!S43+' 2016-2017'!Z43+' 2016-2017'!AF43) -> 2 | C43: =VLOOKUP(' 2016-2017'!B41:B98,' 2016-2017'!B43:C98,1,FALSE) -> 42466 | P43: =COUNTIF(O43,"<>") -> 0 | U43: =COUNTIF(T43,"<>") -> 0 | V43: =F43+K43+P43+U43 -> 0 | X43: =IF(W43<>"",$A$66,"") | AA43: =F43+K43+P43+U43+AB43 -> 0 | AB43: =COUNTIF(Z43,"<>") -> 0 | AD43: =IF(AC43<>"",$A$66,"") | AG43: =F43+K43+P43+U43+AB43+AH43 -> 0 | AH43: =COUNTIF(AF43,"<>") -> 0 | AJ43: =IF(AI43<>"",$A$66,"")
A44: Collaborateur 040 | B44: =SUM(' 2016-2017'!D44+' 2016-2017'!I44+' 2016-2017'!N44+' 2016-2017'!S44+' 2016-2017'!Z44+' 2016-2017'!AF44) -> 1 | C44: =VLOOKUP(' 2016-2017'!B42:B99,' 2016-2017'!B44:C99,1,FALSE) -> 42456 | P44: =COUNTIF(O44,"<>") -> 0 | U44: =COUNTIF(T44,"<>") -> 0 | V44: =F44+K44+P44+U44 -> 0 | X44: =IF(W44<>"",$A$66,"") | AA44: =F44+K44+P44+U44+AB44 -> 0 | AB44: =COUNTIF(Z44,"<>") -> 0 | AD44: =IF(AC44<>"",$A$66,"") | AG44: =F44+K44+P44+U44+AB44+AH44 -> 0 | AH44: =COUNTIF(AF44,"<>") -> 0 | AJ44: =IF(AI44<>"",$A$66,"")
A45: Collaborateur 041 | B45: =SUM(' 2016-2017'!D45+' 2016-2017'!I45+' 2016-2017'!N45+' 2016-2017'!S45+' 2016-2017'!Z45+' 2016-2017'!AF45) -> 1 | C45: =VLOOKUP(' 2016-2017'!B43:B100,' 2016-2017'!B45:C100,1,FALSE) -> 42625 | P45: =COUNTIF(O45,"<>") -> 0 | U45: =COUNTIF(T45,"<>") -> 0 | V45: =F45+K45+P45+U45 -> 0 | X45: =IF(W45<>"",$A$66,"") | AA45: =F45+K45+P45+U45+AB45 -> 0 | AB45: =COUNTIF(Z45,"<>") -> 0 | AD45: =IF(AC45<>"",$A$66,"") | AG45: =F45+K45+P45+U45+AB45+AH45 -> 0 | AH45: =COUNTIF(AF45,"<>") -> 0 | AJ45: =IF(AI45<>"",$A$66,"")
A46: Collaborateur 042 | B46: =SUM(' 2016-2017'!D46+' 2016-2017'!I46+' 2016-2017'!N46+' 2016-2017'!S46+' 2016-2017'!Z46+' 2016-2017'!AF46) -> 2 | C46: =VLOOKUP(' 2016-2017'!B44:B101,' 2016-2017'!B46:C101,1,FALSE) -> 42309 | P46: =COUNTIF(O46,"<>") -> 0 | U46: =COUNTIF(T46,"<>") -> 0 | V46: =F46+K46+P46+U46 -> 0 | X46: =IF(W46<>"",$A$66,"") | AA46: =F46+K46+P46+U46+AB46 -> 0 | AB46: =COUNTIF(Z46,"<>") -> 0 | AD46: =IF(AC46<>"",$A$66,"") | AG46: =F46+K46+P46+U46+AB46+AH46 -> 0 | AH46: =COUNTIF(AF46,"<>") -> 0 | AJ46: =IF(AI46<>"",$A$66,"")
A47: Collaborateur 043 | B47: =SUM(' 2016-2017'!D47+' 2016-2017'!I47+' 2016-2017'!N47+' 2016-2017'!S47+' 2016-2017'!Z47+' 2016-2017'!AF47) -> 2 | C47: =VLOOKUP(' 2016-2017'!B45:B102,' 2016-2017'!B47:C102,1,FALSE) -> 42683 | P47: =COUNTIF(O47,"<>") -> 0 | U47: =COUNTIF(T47,"<>") -> 0 | V47: =F47+K47+P47+U47 -> 0 | X47: =IF(W47<>"",$A$66,"") | AA47: =F47+K47+P47+U47+AB47 -> 0 | AB47: =COUNTIF(Z47,"<>") -> 0 | AD47: =IF(AC47<>"",$A$66,"") | AG47: =F47+K47+P47+U47+AB47+AH47 -> 0 | AH47: =COUNTIF(AF47,"<>") -> 0 | AJ47: =IF(AI47<>"",$A$66,"")
A48: Collaborateur 044 | B48: =SUM(' 2016-2017'!D48+' 2016-2017'!I48+' 2016-2017'!N48+' 2016-2017'!S48+' 2016-2017'!Z48+' 2016-2017'!AF48) -> 1 | C48: =VLOOKUP(' 2016-2017'!B46:B103,' 2016-2017'!B48:C103,1,FALSE) -> 42725 | P48: =COUNTIF(O48,"<>") -> 0 | R48: =IF(Q48="Effectué",$A$66,"") | U48: =COUNTIF(T48,"<>") -> 0 | V48: =F48+K48+P48+U48 -> 0 | X48: =IF(W48<>"",$A$66,"") | AA48: =F48+K48+P48+U48+AB48 -> 0 | AB48: =COUNTIF(Z48,"<>") -> 0 | AD48: =IF(AC48<>"",$A$66,"") | AG48: =F48+K48+P48+U48+AB48+AH48 -> 0 | AH48: =COUNTIF(AF48,"<>") -> 0 | AJ48: =IF(AI48<>"",$A$66,"")
A49: Collaborateur 045 | B49: =SUM(' 2016-2017'!D49+' 2016-2017'!I49+' 2016-2017'!N49+' 2016-2017'!S49+' 2016-2017'!Z49+' 2016-2017'!AF49) -> 3 | C49: =VLOOKUP(' 2016-2017'!B47:B104,' 2016-2017'!B49:C104,1,FALSE) -> 42518 | P49: =COUNTIF(O49,"<>") -> 0 | R49: =IF(Q49="Effectué",$A$66,"") | U49: =COUNTIF(T49,"<>") -> 0 | V49: =F49+K49+P49+U49 -> 0 | X49: =IF(W49<>"",$A$66,"") | AA49: =F49+K49+P49+U49+AB49 -> 0 | AB49: =COUNTIF(Z49,"<>") -> 0 | AD49: =IF(AC49<>"",$A$66,"") | AG49: =F49+K49+P49+U49+AB49+AH49 -> 0 | AH49: =COUNTIF(AF49,"<>") -> 0 | AJ49: =IF(AI49<>"",$A$66,"")
A50: Collaborateur 046 | B50: =SUM(' 2016-2017'!D50+' 2016-2017'!I50+' 2016-2017'!N50+' 2016-2017'!S50+' 2016-2017'!Z50+' 2016-2017'!AF50) -> 1 | C50: =VLOOKUP(' 2016-2017'!B48:B105,' 2016-2017'!B50:C105,1,FALSE) -> 42654 | P50: =COUNTIF(O50,"<>") -> 0 | R50: =IF(Q50="Effectué",$A$66,"") | U50: =COUNTIF(T50,"<>") -> 0 | V50: =F50+K50+P50+U50 -> 0 | X50: =IF(W50<>"",$A$66,"") | AA50: =F50+K50+P50+U50+AB50 -> 0 | AB50: =COUNTIF(Z50,"<>") -> 0 | AD50: =IF(AC50<>"",$A$66,"") | AG50: =F50+K50+P50+U50+AB50+AH50 -> 0 | AH50: =COUNTIF(AF50,"<>") -> 0 | AJ50: =IF(AI50<>"",$A$66,"")
A51: Collaborateur 047 | B51: =SUM(' 2016-2017'!D51+' 2016-2017'!I51+' 2016-2017'!N51+' 2016-2017'!S51+' 2016-2017'!Z51+' 2016-2017'!AF51) -> 2 | C51: =VLOOKUP(' 2016-2017'!B49:B106,' 2016-2017'!B51:C106,1,FALSE) -> 42518 | P51: =COUNTIF(O51,"<>") -> 0 | R51: =IF(Q51="Effectué",$A$66,"") | U51: =COUNTIF(T51,"<>") -> 0 | V51: =F51+K51+P51+U51 -> 0 | X51: =IF(W51<>"",$A$66,"") | AA51: =F51+K51+P51+U51+AB51 -> 0 | AB51: =COUNTIF(Z51,"<>") -> 0 | AD51: =IF(AC51<>"",$A$66,"") | AG51: =F51+K51+P51+U51+AB51+AH51 -> 0 | AH51: =COUNTIF(AF51,"<>") -> 0 | AJ51: =IF(AI51<>"",$A$66,"")
A52: Collaborateur 048 | B52: =SUM(' 2016-2017'!D52+' 2016-2017'!I52+' 2016-2017'!N52+' 2016-2017'!S52+' 2016-2017'!Z52+' 2016-2017'!AF52) -> 0 | C52: =VLOOKUP(' 2016-2017'!B50:B107,' 2016-2017'!B52:C107,1,FALSE) -> #N/A | P52: =COUNTIF(O52,"<>") -> 0 | R52: =IF(Q52="Effectué",$A$66,"") | U52: =COUNTIF(T52,"<>") -> 0 | V52: =F52+K52+P52+U52 -> 0 | X52: =IF(W52<>"",$A$66,"") | AA52: =F52+K52+P52+U52+AB52 -> 0 | AB52: =COUNTIF(Z52,"<>") -> 0 | AD52: =IF(AC52<>"",$A$66,"") | AG52: =F52+K52+P52+U52+AB52+AH52 -> 0 | AH52: =COUNTIF(AF52,"<>") -> 0 | AJ52: =IF(AI52<>"",$A$66,"")
A53: Collaborateur 049 | B53: =SUM(' 2016-2017'!D53+' 2016-2017'!I53+' 2016-2017'!N53+' 2016-2017'!S53+' 2016-2017'!Z53+' 2016-2017'!AF53) -> 2 | C53: =VLOOKUP(' 2016-2017'!B51:B108,' 2016-2017'!B53:C108,1,FALSE) -> 42587 | P53: =COUNTIF(O53,"<>") -> 0 | R53: =IF(Q53="Effectué",$A$66,"") | U53: =COUNTIF(T53,"<>") -> 0 | V53: =F53+K53+P53+U53 -> 0 | X53: =IF(W53<>"",$A$66,"") | AA53: =F53+K53+P53+U53+AB53 -> 0 | AB53: =COUNTIF(Z53,"<>") -> 0 | AD53: =IF(AC53<>"",$A$66,"") | AG53: =F53+K53+P53+U53+AB53+AH53 -> 0 | AH53: =COUNTIF(AF53,"<>") -> 0 | AJ53: =IF(AI53<>"",$A$66,"")
A54: Collaborateur 050 | B54: =SUM(' 2016-2017'!D54+' 2016-2017'!I54+' 2016-2017'!N54+' 2016-2017'!S54+' 2016-2017'!Z54+' 2016-2017'!AF54) -> 2 | C54: =VLOOKUP(' 2016-2017'!B52:B109,' 2016-2017'!B54:C109,1,FALSE) -> 42535 | P54: =COUNTIF(O54,"<>") -> 0 | R54: =IF(Q54="Effectué",$A$66,"") | U54: =COUNTIF(T54,"<>") -> 0 | V54: =F54+K54+P54+U54 -> 0 | X54: =IF(W54<>"",$A$66,"") | AA54: =F54+K54+P54+U54+AB54 -> 0 | AB54: =COUNTIF(Z54,"<>") -> 0 | AD54: =IF(AC54<>"",$A$66,"") | AG54: =F54+K54+P54+U54+AB54+AH54 -> 0 | AH54: =COUNTIF(AF54,"<>") -> 0 | AJ54: =IF(AI54<>"",$A$66,"")
A55: Collaborateur 051 | B55: =SUM(' 2016-2017'!D55+' 2016-2017'!I55+' 2016-2017'!N55+' 2016-2017'!S55+' 2016-2017'!Z55+' 2016-2017'!AF55) -> 2 | C55: =VLOOKUP(' 2016-2017'!B53:B110,' 2016-2017'!B55:C110,1,FALSE) -> 42645 | P55: =COUNTIF(O55,"<>") -> 0 | R55: =IF(Q55="Effectué",$A$66,"") | U55: =COUNTIF(T55,"<>") -> 0 | V55: =F55+K55+P55+U55 -> 0 | X55: =IF(W55<>"",$A$66,"") | AA55: =F55+K55+P55+U55+AB55 -> 0 | AB55: =COUNTIF(Z55,"<>") -> 0 | AD55: =IF(AC55<>"",$A$66,"") | AG55: =F55+K55+P55+U55+AB55+AH55 -> 0 | AH55: =COUNTIF(AF55,"<>") -> 0 | AJ55: =IF(AI55<>"",$A$66,"")
A56: Collaborateur 052 | B56: =SUM(' 2016-2017'!D56+' 2016-2017'!I56+' 2016-2017'!N56+' 2016-2017'!S56+' 2016-2017'!Z56+' 2016-2017'!AF56) -> 0 | C56: =VLOOKUP(' 2016-2017'!B54:B111,' 2016-2017'!B56:C111,1,FALSE) -> #N/A | P56: =COUNTIF(O56,"<>") -> 0 | R56: =IF(Q56="Effectué",$A$66,"") | U56: =COUNTIF(T56,"<>") -> 0 | V56: =F56+K56+P56+U56 -> 0 | X56: =IF(W56<>"",$A$66,"") | AA56: =F56+K56+P56+U56+AB56 -> 0 | AB56: =COUNTIF(Z56,"<>") -> 0 | AD56: =IF(AC56<>"",$A$66,"") | AG56: =F56+K56+P56+U56+AB56+AH56 -> 0 | AH56: =COUNTIF(AF56,"<>") -> 0 | AJ56: =IF(AI56<>"",$A$66,"")
A57: Collaborateur 053 | B57: =SUM(' 2016-2017'!D57+' 2016-2017'!I57+' 2016-2017'!N57+' 2016-2017'!S57+' 2016-2017'!Z57+' 2016-2017'!AF57) -> 0 | C57: =VLOOKUP(' 2016-2017'!B55:B112,' 2016-2017'!B57:C112,1,FALSE) -> #N/A | P57: =COUNTIF(O57,"<>") -> 0 | R57: =IF(Q57="Effectué",$A$66,"") | U57: =COUNTIF(T57,"<>") -> 0 | V57: =F57+K57+P57+U57 -> 0 | X57: =IF(W57<>"",$A$66,"") | AA57: =F57+K57+P57+U57+AB57 -> 0 | AB57: =COUNTIF(Z57,"<>") -> 0 | AD57: =IF(AC57<>"",$A$66,"") | AG57: =F57+K57+P57+U57+AB57+AH57 -> 0 | AH57: =COUNTIF(AF57,"<>") -> 0 | AJ57: =IF(AI57<>"",$A$66,"")
A58: Collaborateur 054 | B58: =SUM(' 2016-2017'!D58+' 2016-2017'!I58+' 2016-2017'!N58+' 2016-2017'!S58+' 2016-2017'!Z58+' 2016-2017'!AF58) -> 2 | C58: =VLOOKUP(' 2016-2017'!B56:B113,' 2016-2017'!B58:C113,1,FALSE) -> 42459 | P58: =COUNTIF(O58,"<>") -> 0 | R58: =IF(Q58="Effectué",$A$66,"") | U58: =COUNTIF(T58,"<>") -> 0 | V58: =F58+K58+P58+U58 -> 0 | X58: =IF(W58<>"",$A$66,"") | AA58: =F58+K58+P58+U58+AB58 -> 0 | AB58: =COUNTIF(Z58,"<>") -> 0 | AD58: =IF(AC58<>"",$A$66,"") | AG58: =F58+K58+P58+U58+AB58+AH58 -> 0 | AH58: =COUNTIF(AF58,"<>") -> 0 | AJ58: =IF(AI58<>"",$A$66,"")
A59: Collaborateur 055 | B59: =SUM(' 2016-2017'!D59+' 2016-2017'!I59+' 2016-2017'!N59+' 2016-2017'!S59+' 2016-2017'!Z59+' 2016-2017'!AF59) -> 1 | C59: =VLOOKUP(' 2016-2017'!B57:B114,' 2016-2017'!B59:C114,1,FALSE) -> 42607 | P59: =COUNTIF(O59,"<>") -> 0 | R59: =IF(Q59="Effectué",$A$66,"") | U59: =COUNTIF(T59,"<>") -> 0 | V59: =F59+K59+P59+U59 -> 0 | X59: =IF(W59<>"",$A$66,"") | AA59: =F59+K59+P59+U59+AB59 -> 0 | AB59: =COUNTIF(Z59,"<>") -> 0 | AD59: =IF(AC59<>"",$A$66,"") | AG59: =F59+K59+P59+U59+AB59+AH59 -> 0 | AH59: =COUNTIF(AF59,"<>") -> 0 | AJ59: =IF(AI59<>"",$A$66,"")
A60: Collaborateur 056 | B60: =SUM(' 2016-2017'!D60+' 2016-2017'!I60+' 2016-2017'!N60+' 2016-2017'!S60+' 2016-2017'!Z60+' 2016-2017'!AF60) -> 0 | C60: =VLOOKUP(' 2016-2017'!B58:B115,' 2016-2017'!B60:C115,1,FALSE) -> #N/A | P60: =COUNTIF(O60,"<>") -> 0 | R60: =IF(Q60="Effectué",$A$66,"") | U60: =COUNTIF(T60,"<>") -> 0 | V60: =F60+K60+P60+U60 -> 0 | X60: =IF(W60<>"",$A$66,"") | AA60: =F60+K60+P60+U60+AB60 -> 0 | AB60: =COUNTIF(Z60,"<>") -> 0 | AD60: =IF(AC60<>"",$A$66,"") | AG60: =F60+K60+P60+U60+AB60+AH60 -> 0 | AH60: =COUNTIF(AF60,"<>") -> 0 | AJ60: =IF(AI60<>"",$A$66,"")
A62: Collaborateur 036
A63: A faire
A64: Effectué
A66: =TODAY() -> 42810
A68: CARON Thierry
A69: BUCHER Nicole
A70: MENOUD Jean-F
A71: Autre
A79: Equipe Rhumaine 1 CARON Thierry
A80: Equipe Rhumaine 2 BUCHER Nicole
A81: Equipe Rhumaine 3
A82: Equipe Rhumaine 4
A83: Equipe Rhumaine 5
A84: Equipe Rhumaine 6
A85: Equipe Rhumaine 7
A86: Equipe Rhumaine 8

Sheet Analyse trimestre 1
E1: RECAPITULATIF TRIMESTRE
A3: =VLOOKUP(' 2016-2017'!A4,' 2016-2017'!A4:AH60,1,FALSE) -> NOM /Prénom | C3: Absence 1 | D3: =VLOOKUP(' 2016-2017'!A4,' 2016-2017'!A4:AH60,6,FALSE) -> Date1 | E3: Absence 2 | F3: =VLOOKUP(' 2016-2017'!A4,' 2016-2017'!A4:AH60,11,FALSE) -> Date2 | G3: Absence 3 | H3: =VLOOKUP(' 2016-2017'!A4,' 2016-2017'!A4:AH60,16,FALSE) -> Date3 | I3: Absence 4 | J3: Absence 5 | K3: Absence 6
A4: =VLOOKUP(' 2016-2017'!A5,' 2016-2017'!A5:AH61,1,FALSE) -> Collaborateur 001 | B4: 1 | C4: =VLOOKUP(' 2016-2017'!A5,' 2016-2017'!A5:AH61,4,FALSE) -> 1 | D4: =VLOOKUP(' 2016-2017'!A5,' 2016-2017'!A5:AH61,6,FALSE) -> 42541 | E4: =VLOOKUP(' 2016-2017'!A5,' 2016-2017'!A5:AH61, 9,FALSE) -> 1 | F4: =VLOOKUP(' 2016-2017'!A5,' 2016-2017'!A5:AH61,11,FALSE) | G4: =VLOOKUP(' 2016-2017'!A5,' 2016-2017'!A5:AH61,14,FALSE) -> 1 | H4: =VLOOKUP(' 2016-2017'!A5,' 2016-2017'!A5:AH61,16,FALSE) | I4: =VLOOKUP(' 2016-2017'!A5,' 2016-2017'!A5:AH61,19,FALSE) -> 0 | J4: =VLOOKUP(' 2016-2017'!A5,' 2016-2017'!A5:AH61,26,FALSE) -> 0 | K4: =VLOOKUP(' 2016-2017'!A5,' 2016-2017'!A5:AH61,32,FALSE) -> 0
A5: =VLOOKUP(' 2016-2017'!A6,' 2016-2017'!A6:AH62,1,FALSE) -> Collaborateur 002 | B5: 1 | C5: =VLOOKUP(' 2016-2017'!A6,' 2016-2017'!A6:AH62,4,FALSE) -> 1 | D5: =VLOOKUP(' 2016-2017'!A6,' 2016-2017'!A6:AH62,6,FALSE) -> 42579 | E5: =VLOOKUP(' 2016-2017'!A6,' 2016-2017'!A6:AH62, 9,FALSE) -> 1 | F5: =VLOOKUP(' 2016-2017'!A6,' 2016-2017'!A6:AH62,11,FALSE) -> 42643 | G5: =VLOOKUP(' 2016-2017'!A6,' 2016-2017'!A6:AH62,14,FALSE) -> 0 | H5: =VLOOKUP(' 2016-2017'!A6,' 2016-2017'!A6:AH62,16,FALSE) | I5: =VLOOKUP(' 2016-2017'!A6,' 2016-2017'!A6:AH62,19,FALSE) -> 0 | J5: =VLOOKUP(' 2016-2017'!A6,' 2016-2017'!A6:AH62,26,FALSE) -> 0 | K5: =VLOOKUP(' 2016-2017'!A6,' 2016-2017'!A6:AH62,32,FALSE) -> 0
A6: =VLOOKUP(' 2016-2017'!A7,' 2016-2017'!A7:AH63,1,FALSE) -> Collaborateur 003 | B6: 1 | C6: =VLOOKUP(' 2016-2017'!A7,' 2016-2017'!A7:AH63,4,FALSE) -> 1 | D6: =VLOOKUP(' 2016-2017'!A7,' 2016-2017'!A7:AH63,6,FALSE) | E6: =VLOOKUP(' 2016-2017'!A7,' 2016-2017'!A7:AH63, 9,FALSE) -> 1 | F6: =VLOOKUP(' 2016-2017'!A7,' 2016-2017'!A7:AH63,11,FALSE) -> 42664 | G6: =VLOOKUP(' 2016-2017'!A7,' 2016-2017'!A7:AH63,14,FALSE) -> 1 | H6: =VLOOKUP(' 2016-2017'!A7,' 2016-2017'!A7:AH63,16,FALSE) | I6: =VLOOKUP(' 2016-2017'!A7,' 2016-2017'!A7:AH63,19,FALSE) -> 0 | J6: =VLOOKUP(' 2016-2017'!A7,' 2016-2017'!A7:AH63,26,FALSE) -> 0 | K6: =VLOOKUP(' 2016-2017'!A7,' 2016-2017'!A7:AH63,32,FALSE) -> 0
A7: =VLOOKUP(' 2016-2017'!A8,' 2016-2017'!A8:AH64,1,FALSE) -> Collaborateur 004 | B7: 1 | C7: =VLOOKUP(' 2016-2017'!A8,' 2016-2017'!A8:AH64,4,FALSE) -> 1 | D7: =VLOOKUP(' 2016-2017'!A8,' 2016-2017'!A8:AH64,6,FALSE) -> 42878 | E7: =VLOOKUP(' 2016-2017'!A8,' 2016-2017'!A8:AH64, 9,FALSE) -> 1 | F7: =VLOOKUP(' 2016-2017'!A8,' 2016-2017'!A8:AH64,11,FALSE) | G7: =VLOOKUP(' 2016-2017'!A8,' 2016-2017'!A8:AH64,14,FALSE) -> 0 | H7: =VLOOKUP(' 2016-2017'!A8,' 2016-2017'!A8:AH64,16,FALSE) | I7: =VLOOKUP(' 2016-2017'!A8,' 2016-2017'!A8:AH64,19,FALSE) -> 0 | J7: =VLOOKUP(' 2016-2017'!A8,' 2016-2017'!A8:AH64,26,FALSE) -> 0 | K7: =VLOOKUP(' 2016-2017'!A8,' 2016-2017'!A8:AH64,32,FALSE) -> 0
A8: =VLOOKUP(' 2016-2017'!A9,' 2016-2017'!A9:AH65,1,FALSE) -> Collaborateur 005 | B8: 1 | C8: =VLOOKUP(' 2016-2017'!A9,' 2016-2017'!A9:AH65,4,FALSE) -> 1 | D8: =VLOOKUP(' 2016-2017'!A9,' 2016-2017'!A9:AH65,6,FALSE) -> 42550 | E8: =VLOOKUP(' 2016-2017'!A9,' 2016-2017'!A9:AH65, 9,FALSE) -> 0 | F8: =VLOOKUP(' 2016-2017'!A9,' 2016-2017'!A9:AH65,11,FALSE) | G8: =VLOOKUP(' 2016-2017'!A9,' 2016-2017'!A9:AH65,14,FALSE) -> 0 | H8: =VLOOKUP(' 2016-2017'!A9,' 2016-2017'!A9:AH65,16,FALSE) | I8: =VLOOKUP(' 2016-2017'!A9,' 2016-2017'!A9:AH65,19,FALSE) -> 0 | J8: =VLOOKUP(' 2016-2017'!A9,' 2016-2017'!A9:AH65,26,FALSE) -> 0 | K8: =VLOOKUP(' 2016-2017'!A9,' 2016-2017'!A9:AH65,32,FALSE) -> 0
A9: =VLOOKUP(' 2016-2017'!A10,' 2016-2017'!A10:AH66,1,FALSE) -> Collaborateur 006 | B9: 1 | C9: =VLOOKUP(' 2016-2017'!A10,' 2016-2017'!A10:AH66,4,FALSE) -> 0 | D9: =VLOOKUP(' 2016-2017'!A10,' 2016-2017'!A10:AH66,6,FALSE) -> 0 | E9: =VLOOKUP(' 2016-2017'!A10,' 2016-2017'!A10:AH66, 9,FALSE) -> 0 | F9: =VLOOKUP(' 2016-2017'!A10,' 2016-2017'!A10:AH66,11,FALSE) | G9: =VLOOKUP(' 2016-2017'!A10,' 2016-2017'!A10:AH66,14,FALSE) -> 0 | H9: =VLOOKUP(' 2016-2017'!A10,' 2016-2017'!A10:AH66,16,FALSE) | I9: =VLOOKUP(' 2016-2017'!A10,' 2016-2017'!A10:AH66,19,FALSE) -> 0 | J9: =VLOOKUP(' 2016-2017'!A10,' 2016-2017'!A10:AH66,26,FALSE) -> 0 | K9: =VLOOKUP(' 2016-2017'!A10,' 2016-2017'!A10:AH66,32,FALSE) -> 0
A10: =VLOOKUP(' 2016-2017'!A11,' 2016-2017'!A11:AH67,1,FALSE) -> Collaborateur 007 | B10: 1 | C10: =VLOOKUP(' 2016-2017'!A11,' 2016-2017'!A11:AH67,4,FALSE) -> 0 | D10: =VLOOKUP(' 2016-2017'!A11,' 2016-2017'!A11:AH67,6,FALSE) -> 0 | E10: =VLOOKUP(' 2016-2017'!A11,' 2016-2017'!A11:AH67, 9,FALSE) -> 0 | F10: =VLOOKUP(' 2016-2017'!A11,' 2016-2017'!A11:AH67,11,FALSE) | G10: =VLOOKUP(' 2016-2017'!A11,' 2016-2017'!A11:AH67,14,FALSE) -> 0 | H10: =VLOOKUP(' 2016-2017'!A11,' 2016-2017'!A11:AH67,16,FALSE) | I10: =VLOOKUP(' 2016-2017'!A11,' 2016-2017'!A11:AH67,19,FALSE) -> 0 | J10: =VLOOKUP(' 2016-2017'!A11,' 2016-2017'!A11:AH67,26,FALSE) -> 0 | K10: =VLOOKUP(' 2016-2017'!A11,' 2016-2017'!A11:AH67,32,FALSE) -> 0
A11: =VLOOKUP(' 2016-2017'!A12,' 2016-2017'!A12:AH68,1,FALSE) -> Collaborateur 008 | B11: 1 | C11: =VLOOKUP(' 2016-2017'!A12,' 2016-2017'!A12:AH68,4,FALSE) -> 1 | D11: =VLOOKUP(' 2016-2017'!A12,' 2016-2017'!A12:AH68,6,FALSE) -> 0 | E11: =VLOOKUP(' 2016-2017'!A12,' 2016-2017'!A12:AH68, 9,FALSE) -> 0 | F11: =VLOOKUP(' 2016-2017'!A12,' 2016-2017'!A12:AH68,11,FALSE) | G11: =VLOOKUP(' 2016-2017'!A12,' 2016-2017'!A12:AH68,14,FALSE) -> 0 | H11: =VLOOKUP(' 2016-2017'!A12,' 2016-2017'!A12:AH68,16,FALSE) -> 0 | I11: =VLOOKUP(' 2016-2017'!A12,' 2016-2017'!A12:AH68,19,FALSE) -> 0 | J11: =VLOOKUP(' 2016-2017'!A12,' 2016-2017'!A12:AH68,26,FALSE) -> 0 | K11: =VLOOKUP(' 2016-2017'!A12,' 2016-2017'!A12:AH68,32,FALSE) -> 0
A12: =VLOOKUP(' 2016-2017'!A13,' 2016-2017'!A13:AH69,1,FALSE) -> Collaborateur 009 | B12: 1 | C12: =VLOOKUP(' 2016-2017'!A13,' 2016-2017'!A13:AH69,4,FALSE) -> 1 | D12: =VLOOKUP(' 2016-2017'!A13,' 2016-2017'!A13:AH69,6,FALSE) -> 42632 | E12: =VLOOKUP(' 2016-2017'!A13,' 2016-2017'!A13:AH69, 9,FALSE) -> 1 | F12: =VLOOKUP(' 2016-2017'!A13,' 2016-2017'!A13:AH69,11,FALSE) -> 42779 | G12: =VLOOKUP(' 2016-2017'!A13,' 2016-2017'!A13:AH69,14,FALSE) -> 0 | H12: =VLOOKUP(' 2016-2017'!A13,' 2016-2017'!A13:AH69,16,FALSE) | I12: =VLOOKUP(' 2016-2017'!A13,' 2016-2017'!A13:AH69,19,FALSE) -> 0 | J12: =VLOOKUP(' 2016-2017'!A13,' 2016-2017'!A13:AH69,26,FALSE) -> 0 | K12: =VLOOKUP(' 2016-2017'!A13,' 2016-2017'!A13:AH69,32,FALSE) -> 0
A13: =VLOOKUP(' 2016-2017'!A14,' 2016-2017'!A14:AH70,1,FALSE) -> Collaborateur 010 | B13: 1 | C13: =VLOOKUP(' 2016-2017'!A14,' 2016-2017'!A14:AH70,4,FALSE) -> 0 | D13: =VLOOKUP(' 2016-2017'!A14,' 2016-2017'!A14:AH70,6,FALSE) -> 0 | E13: =VLOOKUP(' 2016-2017'!A14,' 2016-2017'!A14:AH70, 9,FALSE) -> 0 | F13: =VLOOKUP(' 2016-2017'!A14,' 2016-2017'!A14:AH70,11,FALSE) | G13: =VLOOKUP(' 2016-2017'!A14,' 2016-2017'!A14:AH70,14,FALSE) -> 0 | H13: =VLOOKUP(' 2016-2017'!A14,' 2016-2017'!A14:AH70,16,FALSE) | I13: =VLOOKUP(' 2016-2017'!A14,' 2016-2017'!A14:AH70,19,FALSE) -> 0 | J13: =VLOOKUP(' 2016-2017'!A14,' 2016-2017'!A14:AH70,26,FALSE) -> 0 | K13: =VLOOKUP(' 2016-2017'!A14,' 2016-2017'!A14:AH70,32,FALSE) -> 0
A14: =VLOOKUP(' 2016-2017'!A15,' 2016-2017'!A15:AH71,1,FALSE) -> Collaborateur 011 | B14: 1 | C14: =VLOOKUP(' 2016-2017'!A15,' 2016-2017'!A15:AH71,4,FALSE) -> 1 | D14: =VLOOKUP(' 2016-2017'!A15,' 2016-2017'!A15:AH71,6,FALSE) -> 42522 | E14: =VLOOKUP(' 2016-2017'!A15,' 2016-2017'!A15:AH71, 9,FALSE) -> 1 | F14: =VLOOKUP(' 2016-2017'!A15,' 2016-2017'!A15:AH71,11,FALSE) -> 42732 | G14: =VLOOKUP(' 2016-2017'!A15,' 2016-2017'!A15:AH71,14,FALSE) -> 1 | H14: =VLOOKUP(' 2016-2017'!A15,' 2016-2017'!A15:AH71,16,FALSE) -> 42748 | I14: =VLOOKUP(' 2016-2017'!A15,' 2016-2017'!A15:AH71,19,FALSE) -> 0 | J14: =VLOOKUP(' 2016-2017'!A15,' 2016-2017'!A15:AH71,26,FALSE) -> 0 | K14: =VLOOKUP(' 2016-2017'!A15,' 2016-2017'!A15:AH71,32,FALSE) -> 0
A15: =VLOOKUP(' 2016-2017'!A16,' 2016-2017'!A16:AH72,1,FALSE) -> Collaborateur 012 | B15: 1 | C15: =VLOOKUP(' 2016-2017'!A16,' 2016-2017'!A16:AH72,4,FALSE) -> 1 | D15: =VLOOKUP(' 2016-2017'!A16,' 2016-2017'!A16:AH72,6,FALSE) -> 0 | E15: =VLOOKUP(' 2016-2017'!A16,' 2016-2017'!A16:AH72, 9,FALSE) -> 1 | F15: =VLOOKUP(' 2016-2017'!A16,' 2016-2017'!A16:AH72,11,FALSE) -> 291/11/2016 | G15: =VLOOKUP(' 2016-2017'!A16,' 2016-2017'!A16:AH72,14,FALSE) -> 0 | H15: =VLOOKUP(' 2016-2017'!A16,' 2016-2017'!A16:AH72,16,FALSE) | I15: =VLOOKUP(' 2016-2017'!A16,' 2016-2017'!A16:AH72,19,FALSE) -> 0 | J15: =VLOOKUP(' 2016-2017'!A16,' 2016-2017'!A16:AH72,26,FALSE) -> 0 | K15: =VLOOKUP(' 2016-2017'!A16,' 2016-2017'!A16:AH72,32,FALSE) -> 0
... A59: =VLOOKUP(' 2016-2017'!A60,' 2016-2017'!A60:AH116,1,FALSE) -> Collaborateur 056 | B59: 1 | C59: =VLOOKUP(' 2016-2017'!A60,' 2016-2017'!A60:AH116,4,FALSE) -> 0 | D59: =VLOOKUP(' 2016-2017'!A60,' 2016-2017'!A60:AH116,6,FALSE) | E59: =VLOOKUP(' 2016-2017'!A60,' 2016-2017'!A60:AH116, 9,FALSE) -> 0 | F59: =VLOOKUP(' 2016-2017'!A60,' 2016-2017'!A60:AH116,11,FALSE) | G59: =VLOOKUP(' 2016-2017'!A60,' 2016-2017'!A60:AH116,14,FALSE) -> 0 | H59: =VLOOKUP(' 2016-2017'!A60,' 2016-2017'!A60:AH116,16,FALSE) | I59: =VLOOKUP(' 2016-2017'!A60,' 2016-2017'!A60:AH116,19,FALSE) -> 0 | J59: =VLOOKUP(' 2016-2017'!A60,' 2016-2017'!A60:AH116,26,FALSE) -> 0 | K59: =VLOOKUP(' 2016-2017'!A60,' 2016-2017'!A60:AH116,32,FALSE) -> 0
A60: Toatal effectif | B60: =SUM(B4:B59) -> 56 | C60: =SUM(C4:C59) -> 44 | E60: =SUM(E4:E59) -> 26 | G60: =SUM(G4:G59) -> 8 | I60: =SUM(I4:I59) -> 2 | J60: =SUM(J4:J59) -> 1 | K60: =SUM(K4:K59) -> 1
A61: Collaborateur | C61: Absence 1 | E61: Absence 2 | G61: Absence 3 | I61: Absence 4 | J61: Absence 5 | K61: Absence 6
C62: =C60/$B$60 -> 0.78571429 | E62: =E60/$B$60 -> 0.46428571 | G62: =G60/$B$60 -> 0.14285714 | I62: =I60/$B$60 -> 0.035714286 | J62: =J60/$B$60 -> 0.017857143 | K62: =K60/$B$60 -> 0.017857143

Sheet Feuil1
