Workbook
Name absencedeux: ' 2017-2018'!$K$5:$K$60
Name absencedeux: Base!$I$5:$I$60
Name absencedeux: ' 2016-2017'!$I$5:$I$60
Name absencetrois: ' 2017-2018'!$P$4:$P$60
Name absencetrois: Base!$N$4:$N$60
Name absencetrois: ' 2016-2017'!$N$4:$N$60
Name absenceune: ' 2017-2018'!$F$4:$F$60
Name absenceune: Base!$D$4:$D$60
Name absenceune: ' 2016-2017'!$D$4:$D$60
Name Date1: ' 2017-2018'!$H$4:$H$60
Name Date1: Base!$F$4:$F$60
Name Date1: ' 2016-2017'!$F$4:$F$60
Name Date2: ' 2017-2018'!$M$4:$M$60
Name Date2: Base!$K$4:$K$60
Name Date2: ' 2016-2017'!$K$4:$K$60
Name Depart1: ' 2017-2018'!$D$4:$D$60
Name Depart1: Base!$B$4:$B$60
Name Depart1: ' 2016-2017'!$B$4:$B$60
Name Depart2: ' 2017-2018'!$I$4:$I$60
Name Depart2: Base!$G$4:$G$60
Name Depart2: ' 2016-2017'!$G$4:$G$60
Name Depart3: ' 2017-2018'!$N$4:$N$60
Name Depart3: Base!$L$4:$L$60
Name Depart3: ' 2016-2017'!$L$4:$L$60
Name entretien_retour_1: ' 2017-2018'!$F$3:$G$60
Name entretien_retour_1: Base!$D$3:$E$60
Name entretien_retour_1: ' 2016-2017'!$D$3:$E$60
Name Entretien1: ' 2017-2018'!$G$4:$G$60
Name Entretien1: Base!$E$4:$E$60
Name Entretien1: ' 2016-2017'!$E$4:$E$60
Name Entretien2: ' 2017-2018'!$L$4:$L$60
Name Entretien2: Base!$J$4:$J$60
Name Entretien2: ' 2016-2017'!$J$4:$J$60
Name Entretien3: ' 2017-2018'!$Q$4:$Q$60
Name Entretien3: Base!$O$4:$O$60
Name Entretien3: ' 2016-2017'!$O$4:$O$60
Name gestionabstrim1: ' 2017-2018'!$A$3:$AJ$60
Name gestionabstrim1: Base!$A$3:$AH$60
Name gestionabstrim1: ' 2016-2017'!$A$3:$AH$60
Name Retour1: ' 2017-2018'!$E$4:$E$60
Name Retour1: Base!$C$4:$C$60
Name Retour1: ' 2016-2017'!$C$4:$C$60
Name Retour2: ' 2017-2018'!$J$4:$J$60
Name Retour2: Base!$H$4:$H$60
Name Retour2: ' 2016-2017'!$H$4:$H$60
Name Retour3: ' 2017-2018'!$O$4:$O$60
Name Retour3: Base!$M$4:$M$60
Name Retour3: ' 2016-2017'!$M$4:$M$60

Sheet Base
F1: GESTION DES ABSENCES
A2: 1 | B2: 2 | C2: 3 | D2: 4 | E2: 5 | F2: 6 | G2: 7 | H2: 8 | I2: 9 | J2: 10 | K2: 11 | L2: 12 | M2: 13 | N2: 14 | O2: 15 | P2: 16 | Q2: 17 | R2: 18 | S2: 19 | T2: 20 | U2: 21 | V2: 22 | W2: 23 | X2: 24 | Y2: 25 | Z2: 26 | AA2: 27 | AB2: 28 | AC2: 29 | AD2: 30 | AE2: 31 | AF2: 32 | AG2: 33 | AH2: 34
B3: Absence 1 | D3: entretien retour 1 | F3: Date entretien | G3: Absence 2 | I3: entretien retour 2 | K3: Date entretien | L3: Absence 3 | N3: entretien retour 3 | P3: Date entretien | Q3: Absence 4 | U3: Entretien bilan ICUS | V3: Date bilan ICUS | W3: Absence 5 | Z3: entretien ICUS et RH | AB3: Date bilan ICUS RH | AC3: Absence 6 | AF3: entretien ICUS et RH | AH3: Date bilan ICUS RH
A4: NOM /Prénom | B4: Depart1 | C4: Retour1 | D4: 1 | E4: Entretien1 | F4: Date1 | G4: Depart2 | H4: Retour2 | I4: 2 | J4: Entretien2 | K4: Date2 | L4: Depart3 | M4: Retour3 | N4: 3 | O4: Entretien3 | P4: Date3 | Q4: Depart4 | R4: Retour4 | S4: 4 | U4: Entretien ICUS | V4: Date ICUS | W4: Depart5 | X4: Retour5 | Y4: 5 | Z4: 5 | AA4: EntretienICUSRH | AB4: DateICUSRH | AC4: Depart6 | AD4: Retour6 | AF4: 6 | AG4: EntretienICUSRH2 | AH4: DateICUSRH2
A5: Collaborateur 001 | B5: 42534 | C5: 42540 | D5: =COUNTIF(C5,"<>") -> 1 | E5: Effectué | F5: =IF(E5="Effectué",$A$66,"") -> 42810 | G5: 42809 | H5: 42809 | I5: =COUNTIF(H5,"<>") -> 1 | J5: Effectué | K5: =IF(J5="Effectué",$A$66,"") -> 42810 | L5: 43081 | M5: 43081 | N5: =COUNTIF(M5,"<>") -> 1 | O5: Effectué | P5: =IF(O5="Effectué",$A$66,"") -> 42810 | Q5: 43081 | R5: 43081 | S5: =COUNTIF(R5,"<>") -> 1 | T5: =D5+I5+N5+S5 -> 4 | U5: CARON Thierry | V5: =IF(U5<>"",$A$66,"") -> 42810 | W5: 43081 | X5: 43081 | Y5: =D5+I5+N5+S5+Z5 -> 5 | Z5: =COUNTIF(X5,"<>") -> 1 | AA5: Equipe Rhumaine 2 BUCHER Nicole | AB5: =IF(AA5<>"",$A$66,"") -> 42810 | AC5: 42806 | AD5: 42838 | AE5: =D5+I5+N5+S5+Z5+AF5 -> 6 | AF5: =COUNTIF(AD5,"<>") -> 1 | AG5: Equipe Rhumaine 1 CARON Thierry | AH5: =IF(AG5<>"",$A$66,"") -> 42810
A6: Collaborateur 002 | B6: 42806 | C6: 42807 | D6: =COUNTIF(C6,"<>") -> 1 | E6: Effectué | F6: =IF(E6="Effectué",$A$66,"") -> 42810 | G6: 42810 | H6: 42806 | I6: =COUNTIF(H6,"<>") -> 1 | K6: =IF(J6="Effectué",$A$66,"") | N6: =COUNTIF(M6,"<>") -> 0 | P6: =IF(O6="Effectué",$A$66,"") | S6: =COUNTIF(R6,"<>") -> 0 | T6: =D6+I6+N6+S6 -> 2 | V6: =IF(U6<>"",$A$66,"") | Z6: =COUNTIF(X6,"<>") -> 0 | AB6: =IF(AA6<>"",$A$66,"") | AF6: =COUNTIF(AD6,"<>") -> 0 | AH6: =IF(AG6<>"",$A$66,"")
A7: Collaborateur 003 | B7: 42807 | C7: 42808 | D7: =COUNTIF(C7,"<>") -> 1 | E7: A faire | F7: =IF(E7="Effectué",$A$66,"") | G7: 42811 | I7: =COUNTIF(H7,"<>") -> 0 | K7: =IF(J7="Effectué",$A$66,"") | N7: =COUNTIF(M7,"<>") -> 0 | P7: =IF(O7="Effectué",$A$66,"") | S7: =COUNTIF(R7,"<>") -> 0 | T7: =D7+I7+N7+S7 -> 1 | V7: =IF(U7<>"",$A$66,"") | Z7: =COUNTIF(X7,"<>") -> 0 | AB7: =IF(AA7<>"",$A$66,"") | AF7: =COUNTIF(AD7,"<>") -> 0 | AH7: =IF(AG7<>"",$A$66,"")
A8: Collaborateur 004 | B8: 42808 | C8: 42809 | D8: =COUNTIF(C8,"<>") -> 1 | E8: Effectué | F8: =IF(E8="Effectué",$A$66,"") -> 42810 | G8: 42812 | I8: =COUNTIF(H8,"<>") -> 0 | K8: =IF(J8="Effectué",$A$66,"") | N8: =COUNTIF(M8,"<>") -> 0 | P8: =IF(O8="Effectué",$A$66,"") | S8: =COUNTIF(R8,"<>") -> 0 | T8: =D8+I8+N8+S8 -> 1 | V8: =IF(U8<>"",$A$66,"") | Z8: =COUNTIF(X8,"<>") -> 0 | AB8: =IF(AA8<>"",$A$66,"") | AF8: =COUNTIF(AD8,"<>") -> 0 | AH8: =IF(AG8<>"",$A$66,"")
A9: Collaborateur 005 | B9: 42809 | C9: 42810 | D9: =COUNTIF(C9,"<>") -> 1 | E9: Effectué | F9: =IF(E9="Effectué",$A$66,"") -> 42810 | G9: 42813 | I9: =COUNTIF(H9,"<>") -> 0 | K9: =IF(J9="Effectué",$A$66,"") | N9: =COUNTIF(M9,"<>") -> 0 | P9: =IF(O9="Effectué",$A$66,"") | S9: =COUNTIF(R9,"<>") -> 0 | T9: =D9+I9+N9+S9 -> 1 | V9: =IF(U9<>"",$A$66,"") | Z9: =COUNTIF(X9,"<>") -> 0 | AB9: =IF(AA9<>"",$A$66,"") | AF9: =COUNTIF(AD9,"<>") -> 0 | AH9: =IF(AG9<>"",$A$66,"")
A10: Collaborateur 006 | B10: 42810 | C10: 42811 | D10: =COUNTIF(C10,"<>") -> 1 | E10: A faire | F10: =IF(E10="Effectué",$A$66,"") | G10: 42814 | I10: =COUNTIF(H10,"<>") -> 0 | K10: =IF(J10="Effectué",$A$66,"") | N10: =COUNTIF(M10,"<>") -> 0 | P10: =IF(O10="Effectué",$A$66,"") | S10: =COUNTIF(R10,"<>") -> 0 | T10: =D10+I10+N10+S10 -> 1 | V10: =IF(U10<>"",$A$66,"") | Z10: =COUNTIF(X10,"<>") -> 0 | AB10: =IF(AA10<>"",$A$66,"") | AF10: =COUNTIF(AD10,"<>") -> 0 | AH10: =IF(AG10<>"",$A$66,"")
A11: Collaborateur 007 | B11: 42811 | C11: 42812 | D11: =COUNTIF(C11,"<>") -> 1 | E11: A faire | F11: =IF(E11="Effectué",$A$66,"") | G11: 42815 | I11: =COUNTIF(H11,"<>") -> 0 | K11: =IF(J11="Effectué",$A$66,"") | N11: =COUNTIF(M11,"<>") -> 0 | P11: =IF(O11="Effectué",$A$66,"") | S11: =COUNTIF(R11,"<>") -> 0 | T11: =D11+I11+N11+S11 -> 1 | V11: =IF(U11<>"",$A$66,"") | Z11: =COUNTIF(X11,"<>") -> 0 | AB11: =IF(AA11<>"",$A$66,"") | AF11: =COUNTIF(AD11,"<>") -> 0 | AH11: =IF(AG11<>"",$A$66,"")
A12: Collaborateur 008 | B12: 42812 | C12: 42813 | D12: =COUNTIF(C12,"<>") -> 1 | E12: Effectué | F12: =IF(E12="Effectué",$A$66,"") -> 42810 | G12: 43081 | H12: 43081 | I12: =COUNTIF(H12,"<>") -> 1 | K12: =IF(J12="Effectué",$A$66,"") | L12: 43081 | M12: 43081 | N12: =COUNTIF(M12,"<>") -> 1 | O12: Effectué | P12: =IF(O12="Effectué",$A$66,"") -> 42810 | Q12: 43081 | R12: 43081 | S12: =COUNTIF(R12,"<>") -> 1 | T12: =D12+I12+N12+S12 -> 4 | U12: 43081 | V12: =IF(U12<>"",$A$66,"") -> 42810 | Z12: =COUNTIF(X12,"<>") -> 0 | AB12: =IF(AA12<>"",$A$66,"") | AF12: =COUNTIF(AD12,"<>") -> 0 | AH12: =IF(AG12<>"",$A$66,"")
A13: Collaborateur 009 | B13: 42813 | C13: 42814 | D13: =COUNTIF(C13,"<>") -> 1 | E13: A faire | F13: =IF(E13="Effectué",$A$66,"") | G13: 43082 | I13: =COUNTIF(H13,"<>") -> 0 | K13: =IF(J13="Effectué",$A$66,"") | N13: =COUNTIF(M13,"<>") -> 0 | P13: =IF(O13="Effectué",$A$66,"") | S13: =COUNTIF(R13,"<>") -> 0 | T13: =D13+I13+N13+S13 -> 1 | V13: =IF(U13<>"",$A$66,"") | Z13: =COUNTIF(X13,"<>") -> 0 | AB13: =IF(AA13<>"",$A$66,"") | AF13: =COUNTIF(AD13,"<>") -> 0 | AH13: =IF(AG13<>"",$A$66,"")
A14: Collaborateur 010 | B14: 42814 | C14: 42815 | D14: =COUNTIF(C14,"<>") -> 1 | E14: A faire | F14: =IF(E14="Effectué",$A$66,"") | G14: 43083 | I14: =COUNTIF(H14,"<>") -> 0 | K14: =IF(J14="Effectué",$A$66,"") | N14: =COUNTIF(M14,"<>") -> 0 | P14: =IF(O14="Effectué",$A$66,"") | S14: =COUNTIF(R14,"<>") -> 0 | T14: =D14+I14+N14+S14 -> 1 | V14: =IF(U14<>"",$A$66,"") | Z14: =COUNTIF(X14,"<>") -> 0 | AB14: =IF(AA14<>"",$A$66,"") | AF14: =COUNTIF(AD14,"<>") -> 0 | AH14: =IF(AG14<>"",$A$66,"")
A15: Collaborateur 011 | B15: 42815 | C15: 42816 | D15: =COUNTIF(C15,"<>") -> 1 | E15: Effectué | F15: =IF(E15="Effectué",$A$66,"") -> 42810 | G15: 43084 | I15: =COUNTIF(H15,"<>") -> 0 | K15: =IF(J15="Effectué",$A$66,"") | N15: =COUNTIF(M15,"<>") -> 0 | P15: =IF(O15="Effectué",$A$66,"") | S15: =COUNTIF(R15,"<>") -> 0 | T15: =D15+I15+N15+S15 -> 1 | V15: =IF(U15<>"",$A$66,"") | Z15: =COUNTIF(X15,"<>") -> 0 | AB15: =IF(AA15<>"",$A$66,"") | AF15: =COUNTIF(AD15,"<>") -> 0 | AH15: =IF(AG15<>"",$A$66,"")
A16: Collaborateur 012 | B16: 42816 | C16: 42817 | D16: =COUNTIF(C16,"<>") -> 1 | E16: A faire | F16: =IF(E16="Effectué",$A$66,"") | G16: 43085 | I16: =COUNTIF(H16,"<>") -> 0 | K16: =IF(J16="Effectué",$A$66,"") | N16: =COUNTIF(M16,"<>") -> 0 | P16: =IF(O16="Effectué",$A$66,"") | S16: =COUNTIF(R16,"<>") -> 0 | T16: =D16+I16+N16+S16 -> 1 | V16: =IF(U16<>"",$A$66,"") | Z16: =COUNTIF(X16,"<>") -> 0 | AB16: =IF(AA16<>"",$A$66,"") | AF16: =COUNTIF(AD16,"<>") -> 0 | AH16: =IF(AG16<>"",$A$66,"")
A17: Collaborateur 013 | B17: 42817 | C17: 42818 | D17: =COUNTIF(C17,"<>") -> 1 | E17: Effectué | F17: =IF(E17="Effectué",$A$66,"") -> 42810 | G17: 43086 | I17: =COUNTIF(H17,"<>") -> 0 | K17: =IF(J17="Effectué",$A$66,"") | N17: =COUNTIF(M17,"<>") -> 0 | P17: =IF(O17="Effectué",$A$66,"") | S17: =COUNTIF(R17,"<>") -> 0 | T17: =D17+I17+N17+S17 -> 1 | V17: =IF(U17<>"",$A$66,"") | Z17: =COUNTIF(X17,"<>") -> 0 | AB17: =IF(AA17<>"",$A$66,"") | AF17: =COUNTIF(AD17,"<>") -> 0 | AH17: =IF(AG17<>"",$A$66,"")
A18: Collaborateur 014 | B18: 42818 | C18: 42819 | D18: =COUNTIF(C18,"<>") -> 1 | E18: Effectué | F18: =IF(E18="Effectué",$A$66,"") -> 42810 | G18: 43087 | I18: =COUNTIF(H18,"<>") -> 0 | K18: =IF(J18="Effectué",$A$66,"") | N18: =COUNTIF(M18,"<>") -> 0 | P18: =IF(O18="Effectué",$A$66,"") | S18: =COUNTIF(R18,"<>") -> 0 | T18: =D18+I18+N18+S18 -> 1 | V18: =IF(U18<>"",$A$66,"") | Z18: =COUNTIF(X18,"<>") -> 0 | AB18: =IF(AA18<>"",$A$66,"") | AF18: =COUNTIF(AD18,"<>") -> 0 | AH18: =IF(AG18<>"",$A$66,"")
A19: Collaborateur 015 | B19: 42819 | C19: 42820 | D19: =COUNTIF(C19,"<>") -> 1 | E19: A faire | F19: =IF(E19="Effectué",$A$66,"") | G19: 43088 | I19: =COUNTIF(H19,"<>") -> 0 | K19: =IF(J19="Effectué",$A$66,"") | N19: =COUNTIF(M19,"<>") -> 0 | P19: =IF(O19="Effectué",$A$66,"") | S19: =COUNTIF(R19,"<>") -> 0 | T19: =D19+I19+N19+S19 -> 1 | V19: =IF(U19<>"",$A$66,"") | Z19: =COUNTIF(X19,"<>") -> 0 | AB19: =IF(AA19<>"",$A$66,"") | AF19: =COUNTIF(AD19,"<>") -> 0 | AH19: =IF(AG19<>"",$A$66,"")
A20: Collaborateur 016 | B20: 42820 | C20: 42821 | D20: =COUNTIF(C20,"<>") -> 1 | F20: =IF(E20="Effectué",$A$66,"") | G20: 43089 | I20: =COUNTIF(H20,"<>") -> 0 | K20: =IF(J20="Effectué",$A$66,"") | N20: =COUNTIF(M20,"<>") -> 0 | P20: =IF(O20="Effectué",$A$66,"") | S20: =COUNTIF(R20,"<>") -> 0 | T20: =D20+I20+N20+S20 -> 1 | V20: =IF(U20<>"",$A$66,"") | Z20: =COUNTIF(X20,"<>") -> 0 | AB20: =IF(AA20<>"",$A$66,"") | AF20: =COUNTIF(AD20,"<>") -> 0 | AH20: =IF(AG20<>"",$A$66,"")
A21: Collaborateur 017 | D21: =COUNTIF(C21,"<>") -> 0 | F21: =IF(E21="Effectué",$A$66,"") | G21: 43090 | I21: =COUNTIF(H21,"<>") -> 0 | K21: =IF(J21="Effectué",$A$66,"") | N21: =COUNTIF(M21,"<>") -> 0 | P21: =IF(O21="Effectué",$A$66,"") | S21: =COUNTIF(R21,"<>") -> 0 | T21: =D21+I21+N21+S21 -> 0 | V21: =IF(U21<>"",$A$66,"") | Z21: =COUNTIF(X21,"<>") -> 0 | AB21: =IF(AA21<>"",$A$66,"") | AF21: =COUNTIF(AD21,"<>") -> 0 | AH21: =IF(AG21<>"",$A$66,"")
A22: Collaborateur 018 | D22: =COUNTIF(C22,"<>") -> 0 | F22: =IF(E22="Effectué",$A$66,"") | G22: 43091 | I22: =COUNTIF(H22,"<>") -> 0 | K22: =IF(J22="Effectué",$A$66,"") | N22: =COUNTIF(M22,"<>") -> 0 | P22: =IF(O22="Effectué",$A$66,"") | S22: =COUNTIF(R22,"<>") -> 0 | T22: =D22+I22+N22+S22 -> 0 | V22: =IF(U22<>"",$A$66,"") | Z22: =COUNTIF(X22,"<>") -> 0 | AB22: =IF(AA22<>"",$A$66,"") | AF22: =COUNTIF(AD22,"<>") -> 0 | AH22: =IF(AG22<>"",$A$66,"")
A23: Collaborateur 019 | D23: =COUNTIF(C23,"<>") -> 0 | F23: =IF(E23="Effectué",$A$66,"") | G23: 43092 | I23: =COUNTIF(H23,"<>") -> 0 | K23: =IF(J23="Effectué",$A$66,"") | N23: =COUNTIF(M23,"<>") -> 0 | P23: =IF(O23="Effectué",$A$66,"") | S23: =COUNTIF(R23,"<>") -> 0 | T23: =D23+I23+N23+S23 -> 0 | V23: =IF(U23<>"",$A$66,"") | Z23: =COUNTIF(X23,"<>") -> 0 | AB23: =IF(AA23<>"",$A$66,"") | AF23: =COUNTIF(AD23,"<>") -> 0 | AH23: =IF(AG23<>"",$A$66,"")
A24: Collaborateur 020 | D24: =COUNTIF(C24,"<>") -> 0 | F24: =IF(E24="Effectué",$A$66,"") | G24: 43093 | I24: =COUNTIF(H24,"<>") -> 0 | K24: =IF(J24="Effectué",$A$66,"") | N24: =COUNTIF(M24,"<>") -> 0 | P24: =IF(O24="Effectué",$A$66,"") | S24: =COUNTIF(R24,"<>") -> 0 | T24: =D24+I24+N24+S24 -> 0 | V24: =IF(U24<>"",$A$66,"") | Z24: =COUNTIF(X24,"<>") -> 0 | AB24: =IF(AA24<>"",$A$66,"") | AF24: =COUNTIF(AD24,"<>") -> 0 | AH24: =IF(AG24<>"",$A$66,"")
A25: Collaborateur 021 | D25: =COUNTIF(C25,"<>") -> 0 | F25: =IF(E25="Effectué",$A$66,"") | G25: 43094 | I25: =COUNTIF(H25,"<>") -> 0 | K25: =IF(J25="Effectué",$A$66,"") | N25: =COUNTIF(M25,"<>") -> 0 | P25: =IF(O25="Effectué",$A$66,"") | S25: =COUNTIF(R25,"<>") -> 0 | T25: =D25+I25+N25+S25 -> 0 | V25: =IF(U25<>"",$A$66,"") | Z25: =COUNTIF(X25,"<>") -> 0 | AB25: =IF(AA25<>"",$A$66,"") | AF25: =COUNTIF(AD25,"<>") -> 0 | AH25: =IF(AG25<>"",$A$66,"")
A26: Collaborateur 022 | D26: =COUNTIF(C26,"<>") -> 0 | F26: =IF(E26="Effectué",$A$66,"") | I26: =COUNTIF(H26,"<>") -> 0 | K26: =IF(J26="Effectué",$A$66,"") | N26: =COUNTIF(M26,"<>") -> 0 | P26: =IF(O26="Effectué",$A$66,"") | S26: =COUNTIF(R26,"<>") -> 0 | T26: =D26+I26+N26+S26 -> 0 | V26: =IF(U26<>"",$A$66,"") | Z26: =COUNTIF(X26,"<>") -> 0 | AB26: =IF(AA26<>"",$A$66,"") | AF26: =COUNTIF(AD26,"<>") -> 0 | AH26: =IF(AG26<>"",$A$66,"")
A27: Collaborateur 023 | D27: =COUNTIF(C27,"<>") -> 0 | F27: =IF(E27="Effectué",$A$66,"") | I27: =COUNTIF(H27,"<>") -> 0 | K27: =IF(J27="Effectué",$A$66,"") | N27: =COUNTIF(M27,"<>") -> 0 | P27: =IF(O27="Effectué",$A$66,"") | S27: =COUNTIF(R27,"<>") -> 0 | T27: =D27+I27+N27+S27 -> 0 | V27: =IF(U27<>"",$A$66,"") | Z27: =COUNTIF(X27,"<>") -> 0 | AB27: =IF(AA27<>"",$A$66,"") | AF27: =COUNTIF(AD27,"<>") -> 0 | AH27: =IF(AG27<>"",$A$66,"")
A28: Collaborateur 024 | D28: =COUNTIF(C28,"<>") -> 0 | F28: =IF(E28="Effectué",$A$66,"") | I28: =COUNTIF(H28,"<>") -> 0 | K28: =IF(J28="Effectué",$A$66,"") | N28: =COUNTIF(M28,"<>") -> 0 | P28: =IF(O28="Effectué",$A$66,"") | S28: =COUNTIF(R28,"<>") -> 0 | T28: =D28+I28+N28+S28 -> 0 | V28: =IF(U28<>"",$A$66,"") | Z28: =COUNTIF(X28,"<>") -> 0 | AB28: =IF(AA28<>"",$A$66,"") | AF28: =COUNTIF(AD28,"<>") -> 0 | AH28: =IF(AG28<>"",$A$66,"")
A29: Collaborateur 025 | D29: =COUNTIF(C29,"<>") -> 0 | F29: =IF(E29="Effectué",$A$66,"") | I29: =COUNTIF(H29,"<>") -> 0 | K29: =IF(J29="Effectué",$A$66,"") | N29: =COUNTIF(M29,"<>") -> 0 | P29: =IF(O29="Effectué",$A$66,"") | S29: =COUNTIF(R29,"<>") -> 0 | T29: =D29+I29+N29+S29 -> 0 | V29: =IF(U29<>"",$A$66,"") | Z29: =COUNTIF(X29,"<>") -> 0 | AB29: =IF(AA29<>"",$A$66,"") | AF29: =COUNTIF(AD29,"<>") -> 0 | AH29: =IF(AG29<>"",$A$66,"")
A30: Collaborateur 026 | D30: =COUNTIF(C30,"<>") -> 0 | F30: =IF(E30="Effectué",$A$66,"") | I30: =COUNTIF(H30,"<>") -> 0 | K30: =IF(J30="Effectué",$A$66,"") | N30: =COUNTIF(M30,"<>") -> 0 | P30: =IF(O30="Effectué",$A$66,"") | S30: =COUNTIF(R30,"<>") -> 0 | T30: =D30+I30+N30+S30 -> 0 | V30: =IF(U30<>"",$A$66,"") | Z30: =COUNTIF(X30,"<>") -> 0 | AB30: =IF(AA30<>"",$A$66,"") | AF30: =COUNTIF(AD30,"<>") -> 0 | AH30: =IF(AG30<>"",$A$66,"")
A31: Collaborateur 027 | D31: =COUNTIF(C31,"<>") -> 0 | F31: =IF(E31="Effectué",$A$66,"") | I31: =COUNTIF(H31,"<>") -> 0 | K31: =IF(J31="Effectué",$A$66,"") | N31: =COUNTIF(M31,"<>") -> 0 | P31: =IF(O31="Effectué",$A$66,"") | S31: =COUNTIF(R31,"<>") -> 0 | T31: =D31+I31+N31+S31 -> 0 | V31: =IF(U31<>"",$A$66,"") | Z31: =COUNTIF(X31,"<>") -> 0 | AB31: =IF(AA31<>"",$A$66,"") | AF31: =COUNTIF(AD31,"<>") -> 0 | AH31: =IF(AG31<>"",$A$66,"")
A32: Collaborateur 028 | D32: =COUNTIF(C32,"<>") -> 0 | F32: =IF(E32="Effectué",$A$66,"") | I32: =COUNTIF(H32,"<>") -> 0 | K32: =IF(J32="Effectué",$A$66,"") | N32: =COUNTIF(M32,"<>") -> 0 | P32: =IF(O32="Effectué",$A$66,"") | S32: =COUNTIF(R32,"<>") -> 0 | T32: =D32+I32+N32+S32 -> 0 | V32: =IF(U32<>"",$A$66,"") | Z32: =COUNTIF(X32,"<>") -> 0 | AB32: =IF(AA32<>"",$A$66,"") | AF32: =COUNTIF(AD32,"<>") -> 0 | AH32: =IF(AG32<>"",$A$66,"")
A33: Collaborateur 029 | D33: =COUNTIF(C33,"<>") -> 0 | F33: =IF(E33="Effectué",$A$66,"") | I33: =COUNTIF(H33,"<>") -> 0 | K33: =IF(J33="Effectué",$A$66,"") | N33: =COUNTIF(M33,"<>") -> 0 | P33: =IF(O33="Effectué",$A$66,"") | S33: =COUNTIF(R33,"<>") -> 0 | T33: =D33+I33+N33+S33 -> 0 | V33: =IF(U33<>"",$A$66,"") | Z33: =COUNTIF(X33,"<>") -> 0 | AB33: =IF(AA33<>"",$A$66,"") | AF33: =COUNTIF(AD33,"<>") -> 0 | AH33: =IF(AG33<>"",$A$66,"")
A34: Collaborateur 030 | D34: =COUNTIF(C34,"<>") -> 0 | F34: =IF(E34="Effectué",$A$66,"") | I34: =COUNTIF(H34,"<>") -> 0 | K34: =IF(J34="Effectué",$A$66,"") | N34: =COUNTIF(M34,"<>") -> 0 | P34: =IF(O34="Effectué",$A$66,"") | S34: =COUNTIF(R34,"<>") -> 0 | T34: =D34+I34+N34+S34 -> 0 | V34: =IF(U34<>"",$A$66,"") | Z34: =COUNTIF(X34,"<>") -> 0 | AB34: =IF(AA34<>"",$A$66,"") | AF34: =COUNTIF(AD34,"<>") -> 0 | AH34: =IF(AG34<>"",$A$66,"")
A35: Collaborateur 031 | D35: =COUNTIF(C35,"<>") -> 0 | E35: Effectué | F35: =IF(E35="Effectué",$A$66,"") -> 42810 | I35: =COUNTIF(H35,"<>") -> 0 | K35: =IF(J35="Effectué",$A$66,"") | N35: =COUNTIF(M35,"<>") -> 0 | P35: =IF(O35="Effectué",$A$66,"") | S35: =COUNTIF(R35,"<>") -> 0 | T35: =D35+I35+N35+S35 -> 0 | V35: =IF(U35<>"",$A$66,"") | Z35: =COUNTIF(X35,"<>") -> 0 | AB35: =IF(AA35<>"",$A$66,"") | AF35: =COUNTIF(AD35,"<>") -> 0 | AH35: =IF(AG35<>"",$A$66,"")
A36: Collaborateur 032 | D36: =COUNTIF(C36,"<>") -> 0 | F36: =IF(E36="Effectué",$A$66,"") | I36: =COUNTIF(H36,"<>") -> 0 | K36: =IF(J36="Effectué",$A$66,"") | N36: =COUNTIF(M36,"<>") -> 0 | P36: =IF(O36="Effectué",$A$66,"") | S36: =COUNTIF(R36,"<>") -> 0 | T36: =D36+I36+N36+S36 -> 0 | V36: =IF(U36<>"",$A$66,"") | Z36: =COUNTIF(X36,"<>") -> 0 | AB36: =IF(AA36<>"",$A$66,"") | AF36: =COUNTIF(AD36,"<>") -> 0 | AH36: =IF(AG36<>"",$A$66,"")
A37: Collaborateur 033 | D37: =COUNTIF(C37,"<>") -> 0 | F37: =IF(E37="Effectué",$A$66,"") | I37: =COUNTIF(H37,"<>") -> 0 | K37: =IF(J37="Effectué",$A$66,"") | N37: =COUNTIF(M37,"<>") -> 0 | P37: =IF(O37="Effectué",$A$66,"") | S37: =COUNTIF(R37,"<>") -> 0 | T37: =D37+I37+N37+S37 -> 0 | V37: =IF(U37<>"",$A$66,"") | Z37: =COUNTIF(X37,"<>") -> 0 | AB37: =IF(AA37<>"",$A$66,"") | AF37: =COUNTIF(AD37,"<>") -> 0 | AH37: =IF(AG37<>"",$A$66,"")
A38: Collaborateur 034 | D38: =COUNTIF(C38,"<>") -> 0 | F38: =IF(E38="Effectué",$A$66,"") | I38: =COUNTIF(H38,"<>") -> 0 | K38: =IF(J38="Effectué",$A$66,"") | N38: =COUNTIF(M38,"<>") -> 0 | P38: =IF(O38="Effectué",$A$66,"") | S38: =COUNTIF(R38,"<>") -> 0 | T38: =D38+I38+N38+S38 -> 0 | V38: =IF(U38<>"",$A$66,"") | Z38: =COUNTIF(X38,"<>") -> 0 | AB38: =IF(AA38<>"",$A$66,"") | AF38: =COUNTIF(AD38,"<>") -> 0 | AH38: =IF(AG38<>"",$A$66,"")
A39: Collaborateur 035 | D39: =COUNTIF(C39,"<>") -> 0 | F39: =IF(E39="Effectué",$A$66,"") | I39: =COUNTIF(H39,"<>") -> 0 | K39: =IF(J39="Effectué",$A$66,"") | N39: =COUNTIF(M39,"<>") -> 0 | P39: =IF(O39="Effectué",$A$66,"") | S39: =COUNTIF(R39,"<>") -> 0 | T39: =D39+I39+N39+S39 -> 0 | V39: =IF(U39<>"",$A$66,"") | Z39: =COUNTIF(X39,"<>") -> 0 | AB39: =IF(AA39<>"",$A$66,"") | AF39: =COUNTIF(AD39,"<>") -> 0 | AH39: =IF(AG39<>"",$A$66,"")
A40: Collaborateur 036 | D40: =COUNTIF(C40,"<>") -> 0 | F40: =IF(E40="Effectué",$A$66,"") | I40: =COUNTIF(H40,"<>") -> 0 | K40: =IF(J40="Effectué",$A$66,"") | N40: =COUNTIF(M40,"<>") -> 0 | P40: =IF(O40="Effectué",$A$66,"") | S40: =COUNTIF(R40,"<>") -> 0 | T40: =D40+I40+N40+S40 -> 0 | V40: =IF(U40<>"",$A$66,"") | Z40: =COUNTIF(X40,"<>") -> 0 | AB40: =IF(AA40<>"",$A$66,"") | AF40: =COUNTIF(AD40,"<>") -> 0 | AH40: =IF(AG40<>"",$A$66,"")
...

Sheet  2016-2017
F1: GESTION DES ABSENCES
A2: 1 | B2: 2 | C2: 3 | D2: 4 | E2: 5 | F2: 6 | G2: 7 | H2: 8 | I2: 9 | J2: 10 | K2: 11 | L2: 12 | M2: 13 | N2: 14 | O2: 15 | P2: 16 | Q2: 17 | R2: 18 | S2: 19 | T2: 20 | U2: 21 | V2: 22 | W2: 23 | X2: 24 | Y2: 25 | Z2: 26 | AA2: 27 | AB2: 28 | AC2: 29 | AD2: 30 | AE2: 31 | AF2: 32 | AG2: 33 | AH2: 34
B3: Absence 1 | D3: entretien retour 1 | F3: Date entretien | G3: Absence 2 | I3: entretien retour 2 | K3: Date entretien | L3: Absence 3 | N3: entretien retour 3 | P3: Date entretien | Q3: Absence 4 | U3: Entretien bilan ICUS | V3: Date bilan ICUS | W3: Absence 5 | Z3: entretien ICUS et RH | AB3: Date bilan ICUS RH | AC3: Absence 6 | AF3: entretien ICUS et RH | AH3: Date bilan ICUS RH
A4: NOM /Prénom | B4: Depart1 | C4: Retour1 | D4: 1 | E4: Entretien1 | F4: Date1 | G4: Depart2 | H4: Retour2 | I4: 2 | J4: Entretien2 | K4: Date2 | L4: Depart3 | M4: Retour3 | N4: 3 | O4: Entretien3 | P4: Date3 | Q4: Depart4 | R4: Retour4 | S4: 4 | U4: Entretien ICUS | V4: Date ICUS | W4: Depart5 | X4: Retour5 | Y4: 5 | Z4: 5 | AA4: EntretienICUSRH | AB4: DateICUSRH | AC4: Depart6 | AD4: Retour6 | AF4: 6 | AG4: EntretienICUSRH2 | AH4: DateICUSRH2
A5: Collaborateur 001 | B5: 42534 | C5: 42540 | D5: =COUNTIF(C5,"<>") -> 1 | E5: Effectué | F5: 42541 | G5: 42638 | H5: 42579 | I5: =COUNTIF(H5,"<>") -> 1 | K5: =IF(J5="Effectué",$A$66,"") | L5: 42729 | M5: 42729 | N5: =COUNTIF(M5,"<>") -> 1 | P5: =IF(O5="Effectué",$A$66,"") | S5: =COUNTIF(R5,"<>") -> 0 | T5: =D5+I5+N5+S5 -> 3 | V5: =IF(U5<>"",$A$66,"") | Y5: =D5+I5+N5+S5+Z5 -> 3 | Z5: =COUNTIF(X5,"<>") -> 0 | AB5: =IF(AA5<>"",$A$66,"") | AE5: =D5+I5+N5+S5+Z5+AF5 -> 3 | AF5: =COUNTIF(AD5,"<>") -> 0 | AH5: =IF(AG5<>"",$A$66,"")
A6: Collaborateur 002 | B6: 42573 | C6: 42573 | D6: =COUNTIF(C6,"<>") -> 1 | E6: Effectué | F6: 42579 | G6: 42810 | H6: 42806 | I6: =COUNTIF(H6,"<>") -> 1 | J6: Effectué | K6: 42643 | N6: =COUNTIF(M6,"<>") -> 0 | P6: =IF(O6="Effectué",$A$66,"") | S6: =COUNTIF(R6,"<>") -> 0 | T6: =D6+I6+N6+S6 -> 2 | V6: =IF(U6<>"",$A$66,"") | Y6: =D6+I6+N6+S6+Z6 -> 2 | Z6: =COUNTIF(X6,"<>") -> 0 | AB6: =IF(AA6<>"",$A$66,"") | AE6: =D6+I6+N6+S6+Z6+AF6 -> 2 | AF6: =COUNTIF(AD6,"<>") -> 0 | AH6: =IF(AG6<>"",$A$66,"")
A7: Collaborateur 003 | B7: 42482 | C7: 42453 | D7: =COUNTIF(C7,"<>") -> 1 | E7: A faire | F7: =IF(E7="Effectué",$A$66,"") | G7: 42662 | H7: 42662 | I7: =COUNTIF(H7,"<>") -> 1 | J7: Effectué | K7: 42664 | L7: 42759 | M7: 42806 | N7: =COUNTIF(M7,"<>") -> 1 | O7: A faire | P7: =IF(O7="Effectué",$A$66,"") | S7: =COUNTIF(R7,"<>") -> 0 | T7: =D7+I7+N7+S7 -> 3 | V7: =IF(U7<>"",$A$66,"") | Y7: =D7+I7+N7+S7+Z7 -> 3 | Z7: =COUNTIF(X7,"<>") -> 0 | AB7: =IF(AA7<>"",$A$66,"") | AE7: =D7+I7+N7+S7+Z7+AF7 -> 3 | AF7: =COUNTIF(AD7,"<>") -> 0 | AH7: =IF(AG7<>"",$A$66,"")
A8: Collaborateur 004 | B8: 42507 | C8: 42509 | D8: =COUNTIF(C8,"<>") -> 1 | E8: Effectué | F8: 42878 | G8: 42648 | H8: 42849 | I8: =COUNTIF(H8,"<>") -> 1 | J8: A faire | K8: =IF(J8="Effectué",$A$66,"") | N8: =COUNTIF(M8,"<>") -> 0 | P8: =IF(O8="Effectué",$A$66,"") | S8: =COUNTIF(R8,"<>") -> 0 | T8: =D8+I8+N8+S8 -> 2 | V8: =IF(U8<>"",$A$66,"") | Y8: =D8+I8+N8+S8+Z8 -> 2 | Z8: =COUNTIF(X8,"<>") -> 0 | AB8: =IF(AA8<>"",$A$66,"") | AE8: =D8+I8+N8+S8+Z8+AF8 -> 2 | AF8: =COUNTIF(AD8,"<>") -> 0 | AH8: =IF(AG8<>"",$A$66,"")
A9: Collaborateur 005 | B9: 42544 | C9: 42544 | D9: =COUNTIF(C9,"<>") -> 1 | E9: Effectué | F9: 42550 | I9: =COUNTIF(H9,"<>") -> 0 | K9: =IF(J9="Effectué",$A$66,"") | N9: =COUNTIF(M9,"<>") -> 0 | P9: =IF(O9="Effectué",$A$66,"") | S9: =COUNTIF(R9,"<>") -> 0 | T9: =D9+I9+N9+S9 -> 1 | V9: =IF(U9<>"",$A$66,"") | Y9: =D9+I9+N9+S9+Z9 -> 1 | Z9: =COUNTIF(X9,"<>") -> 0 | AB9: =IF(AA9<>"",$A$66,"") | AE9: =D9+I9+N9+S9+Z9+AF9 -> 1 | AF9: =COUNTIF(AD9,"<>") -> 0 | AH9: =IF(AG9<>"",$A$66,"")
A10: Collaborateur 006 | D10: =COUNTIF(C10,"<>") -> 0 | I10: =COUNTIF(H10,"<>") -> 0 | K10: =IF(J10="Effectué",$A$66,"") | N10: =COUNTIF(M10,"<>") -> 0 | P10: =IF(O10="Effectué",$A$66,"") | S10: =COUNTIF(R10,"<>") -> 0 | T10: =D10+I10+N10+S10 -> 0 | V10: =IF(U10<>"",$A$66,"") | Y10: =D10+I10+N10+S10+Z10 -> 0 | Z10: =COUNTIF(X10,"<>") -> 0 | AB10: =IF(AA10<>"",$A$66,"") | AE10: =D10+I10+N10+S10+Z10+AF10 -> 0 | AF10: =COUNTIF(AD10,"<>") -> 0 | AH10: =IF(AG10<>"",$A$66,"")
A11: Collaborateur 007 | D11: =COUNTIF(C11,"<>") -> 0 | I11: =COUNTIF(H11,"<>") -> 0 | K11: =IF(J11="Effectué",$A$66,"") | N11: =COUNTIF(M11,"<>") -> 0 | P11: =IF(O11="Effectué",$A$66,"") | S11: =COUNTIF(R11,"<>") -> 0 | T11: =D11+I11+N11+S11 -> 0 | V11: =IF(U11<>"",$A$66,"") | Y11: =D11+I11+N11+S11+Z11 -> 0 | Z11: =COUNTIF(X11,"<>") -> 0 | AB11: =IF(AA11<>"",$A$66,"") | AE11: =D11+I11+N11+S11+Z11+AF11 -> 0 | AF11: =COUNTIF(AD11,"<>") -> 0 | AH11: =IF(AG11<>"",$A$66,"")
A12: Collaborateur 008 | B12: 42534 | C12: 42538 | D12: =COUNTIF(C12,"<>") -> 1 | E12: A faire | I12: =COUNTIF(H12,"<>") -> 0 | K12: =IF(J12="Effectué",$A$66,"") | N12: =COUNTIF(M12,"<>") -> 0 | S12: =COUNTIF(R12,"<>") -> 0 | T12: =D12+I12+N12+S12 -> 1 | V12: =IF(U12<>"",$A$66,"") | Y12: =D12+I12+N12+S12+Z12 -> 1 | Z12: =COUNTIF(X12,"<>") -> 0 | AB12: =IF(AA12<>"",$A$66,"") | AE12: =D12+I12+N12+S12+Z12+AF12 -> 1 | AF12: =COUNTIF(AD12,"<>") -> 0 | AH12: =IF(AG12<>"",$A$66,"")
A13: Collaborateur 009 | B13: 42622 | C13: 42622 | D13: =COUNTIF(C13,"<>") -> 1 | E13: Effectué | F13: 42632 | G13: 42776 | H13: 42776 | I13: =COUNTIF(H13,"<>") -> 1 | J13: Effectué | K13: 42779 | N13: =COUNTIF(M13,"<>") -> 0 | P13: =IF(O13="Effectué",$A$66,"") | S13: =COUNTIF(R13,"<>") -> 0 | T13: =D13+I13+N13+S13 -> 2 | V13: =IF(U13<>"",$A$66,"") | Y13: =D13+I13+N13+S13+Z13 -> 2 | Z13: =COUNTIF(X13,"<>") -> 0 | AB13: =IF(AA13<>"",$A$66,"") | AE13: =D13+I13+N13+S13+Z13+AF13 -> 2 | AF13: =COUNTIF(AD13,"<>") -> 0 | AH13: =IF(AG13<>"",$A$66,"")
A14: Collaborateur 010 | D14: =COUNTIF(C14,"<>") -> 0 | I14: =COUNTIF(H14,"<>") -> 0 | K14: =IF(J14="Effectué",$A$66,"") | N14: =COUNTIF(M14,"<>") -> 0 | P14: =IF(O14="Effectué",$A$66,"") | S14: =COUNTIF(R14,"<>") -> 0 | T14: =D14+I14+N14+S14 -> 0 | V14: =IF(U14<>"",$A$66,"") | Y14: =D14+I14+N14+S14+Z14 -> 0 | Z14: =COUNTIF(X14,"<>") -> 0 | AB14: =IF(AA14<>"",$A$66,"") | AE14: =D14+I14+N14+S14+Z14+AF14 -> 0 | AF14: =COUNTIF(AD14,"<>") -> 0 | AH14: =IF(AG14<>"",$A$66,"")
A15: Collaborateur 011 | B15: 42165 | C15: 42495 | D15: =COUNTIF(C15,"<>") -> 1 | E15: Effectué | F15: 42522 | G15: 42729 | H15: 42729 | I15: =COUNTIF(H15,"<>") -> 1 | J15: Effectué | K15: 42732 | L15: 42741 | M15: 42741 | N15: =COUNTIF(M15,"<>") -> 1 | O15: Effectué | P15: 42748 | S15: =COUNTIF(R15,"<>") -> 0 | T15: =D15+I15+N15+S15 -> 3 | V15: =IF(U15<>"",$A$66,"") | Y15: =D15+I15+N15+S15+Z15 -> 3 | Z15: =COUNTIF(X15,"<>") -> 0 | AB15: =IF(AA15<>"",$A$66,"") | AE15: =D15+I15+N15+S15+Z15+AF15 -> 3 | AF15: =COUNTIF(AD15,"<>") -> 0 | AH15: =IF(AG15<>"",$A$66,"")
A16: Collaborateur 012 | B16: 42093 | C16: 42093 | D16: =COUNTIF(C16,"<>") -> 1 | E16: A faire | G16: 42702 | H16: 42702 | I16: =COUNTIF(H16,"<>") -> 1 | J16: Effectué | K16: 291/11/2016 | N16: =COUNTIF(M16,"<>") -> 0 | P16: =IF(O16="Effectué",$A$66,"") | S16: =COUNTIF(R16,"<>") -> 0 | T16: =D16+I16+N16+S16 -> 2 | V16: =IF(U16<>"",$A$66,"") | Y16: =D16+I16+N16+S16+Z16 -> 2 | Z16: =COUNTIF(X16,"<>") -> 0 | AB16: =IF(AA16<>"",$A$66,"") | AE16: =D16+I16+N16+S16+Z16+AF16 -> 2 | AF16: =COUNTIF(AD16,"<>") -> 0 | AH16: =IF(AG16<>"",$A$66,"")
A17: Collaborateur 013 | B17: 42791 | C17: 42791 | D17: =COUNTIF(C17,"<>") -> 1 | E17: A faire | I17: =COUNTIF(H17,"<>") -> 0 | K17: =IF(J17="Effectué",$A$66,"") | N17: =COUNTIF(M17,"<>") -> 0 | P17: =IF(O17="Effectué",$A$66,"") | S17: =COUNTIF(R17,"<>") -> 0 | T17: =D17+I17+N17+S17 -> 1 | V17: =IF(U17<>"",$A$66,"") | Y17: =D17+I17+N17+S17+Z17 -> 1 | Z17: =COUNTIF(X17,"<>") -> 0 | AB17: =IF(AA17<>"",$A$66,"") | AE17: =D17+I17+N17+S17+Z17+AF17 -> 1 | AF17: =COUNTIF(AD17,"<>") -> 0 | AH17: =IF(AG17<>"",$A$66,"")
A18: Collaborateur 014 | B18: 42714 | C18: 42714 | D18: =COUNTIF(C18,"<>") -> 1 | E18: Effectué | F18: 42716 | I18: =COUNTIF(H18,"<>") -> 0 | K18: =IF(J18="Effectué",$A$66,"") | N18: =COUNTIF(M18,"<>") -> 0 | P18: =IF(O18="Effectué",$A$66,"") | S18: =COUNTIF(R18,"<>") -> 0 | T18: =D18+I18+N18+S18 -> 1 | V18: =IF(U18<>"",$A$66,"") | Y18: =D18+I18+N18+S18+Z18 -> 1 | Z18: =COUNTIF(X18,"<>") -> 0 | AB18: =IF(AA18<>"",$A$66,"") | AE18: =D18+I18+N18+S18+Z18+AF18 -> 1 | AF18: =COUNTIF(AD18,"<>") -> 0 | AH18: =IF(AG18<>"",$A$66,"")
A19: Collaborateur 015 | B19: 42399 | C19: 42402 | D19: =COUNTIF(C19,"<>") -> 1 | E19: Effectué | F19: 42415 | I19: =COUNTIF(H19,"<>") -> 0 | K19: =IF(J19="Effectué",$A$66,"") | N19: =COUNTIF(M19,"<>") -> 0 | P19: =IF(O19="Effectué",$A$66,"") | S19: =COUNTIF(R19,"<>") -> 0 | T19: =D19+I19+N19+S19 -> 1 | V19: =IF(U19<>"",$A$66,"") | Y19: =D19+I19+N19+S19+Z19 -> 1 | Z19: =COUNTIF(X19,"<>") -> 0 | AB19: =IF(AA19<>"",$A$66,"") | AE19: =D19+I19+N19+S19+Z19+AF19 -> 1 | AF19: =COUNTIF(AD19,"<>") -> 0 | AH19: =IF(AG19<>"",$A$66,"")
A20: Collaborateur 016 | B20: 42424 | C20: 42449 | D20: =COUNTIF(C20,"<>") -> 1 | E20: Effectué | F20: 42452 | I20: =COUNTIF(H20,"<>") -> 0 | K20: =IF(J20="Effectué",$A$66,"") | N20: =COUNTIF(M20,"<>") -> 0 | P20: =IF(O20="Effectué",$A$66,"") | S20: =COUNTIF(R20,"<>") -> 0 | T20: =D20+I20+N20+S20 -> 1 | V20: =IF(U20<>"",$A$66,"") | Y20: =D20+I20+N20+S20+Z20 -> 1 | Z20: =COUNTIF(X20,"<>") -> 0 | AB20: =IF(AA20<>"",$A$66,"") | AE20: =D20+I20+N20+S20+Z20+AF20 -> 1 | AF20: =COUNTIF(AD20,"<>") -> 0 | AH20: =IF(AG20<>"",$A$66,"")
A21: Collaborateur 017 | B21: 42498 | C21: 42498 | D21: =COUNTIF(C21,"<>") -> 1 | E21: Effectué | F21: 42502 | G21: 42629 | H21: 42631 | I21: =COUNTIF(H21,"<>") -> 1 | J21: Effectué | K21: 42634 | N21: =COUNTIF(M21,"<>") -> 0 | P21: =IF(O21="Effectué",$A$66,"") | S21: =COUNTIF(R21,"<>") -> 0 | T21: =D21+I21+N21+S21 -> 2 | V21: =IF(U21<>"",$A$66,"") | Y21: =D21+I21+N21+S21+Z21 -> 2 | Z21: =COUNTIF(X21,"<>") -> 0 | AB21: =IF(AA21<>"",$A$66,"") | AE21: =D21+I21+N21+S21+Z21+AF21 -> 2 | AF21: =COUNTIF(AD21,"<>") -> 0 | AH21: =IF(AG21<>"",$A$66,"")
A22: Collaborateur 018 | B22: 42600 | C22: 42610 | D22: =COUNTIF(C22,"<>") -> 1 | E22: Effectué | F22: 42612 | I22: =COUNTIF(H22,"<>") -> 0 | K22: =IF(J22="Effectué",$A$66,"") | N22: =COUNTIF(M22,"<>") -> 0 | P22: =IF(O22="Effectué",$A$66,"") | S22: =COUNTIF(R22,"<>") -> 0 | T22: =D22+I22+N22+S22 -> 1 | V22: =IF(U22<>"",$A$66,"") | Y22: =D22+I22+N22+S22+Z22 -> 1 | Z22: =COUNTIF(X22,"<>") -> 0 | AB22: =IF(AA22<>"",$A$66,"") | AE22: =D22+I22+N22+S22+Z22+AF22 -> 1 | AF22: =COUNTIF(AD22,"<>") -> 0 | AH22: =IF(AG22<>"",$A$66,"")
A23: Collaborateur 019 | D23: =COUNTIF(C23,"<>") -> 0 | F23: =IF(E23="Effectué",$A$66,"") | I23: =COUNTIF(H23,"<>") -> 0 | K23: =IF(J23="Effectué",$A$66,"") | N23: =COUNTIF(M23,"<>") -> 0 | P23: =IF(O23="Effectué",$A$66,"") | S23: =COUNTIF(R23,"<>") -> 0 | T23: =D23+I23+N23+S23 -> 0 | V23: =IF(U23<>"",$A$66,"") | Y23: =D23+I23+N23+S23+Z23 -> 0 | Z23: =COUNTIF(X23,"<>") -> 0 | AB23: =IF(AA23<>"",$A$66,"") | AE23: =D23+I23+N23+S23+Z23+AF23 -> 0 | AF23: =COUNTIF(AD23,"<>") -> 0 | AH23: =IF(AG23<>"",$A$66,"")
A24: Collaborateur 020 | D24: =COUNTIF(C24,"<>") -> 0 | F24: =IF(E24="Effectué",$A$66,"") | I24: =COUNTIF(H24,"<>") -> 0 | K24: =IF(J24="Effectué",$A$66,"") | N24: =COUNTIF(M24,"<>") -> 0 | P24: =IF(O24="Effectué",$A$66,"") | S24: =COUNTIF(R24,"<>") -> 0 | T24: =D24+I24+N24+S24 -> 0 | V24: =IF(U24<>"",$A$66,"") | Y24: =D24+I24+N24+S24+Z24 -> 0 | Z24: =COUNTIF(X24,"<>") -> 0 | AB24: =IF(AA24<>"",$A$66,"") | AE24: =D24+I24+N24+S24+Z24+AF24 -> 0 | AF24: =COUNTIF(AD24,"<>") -> 0 | AH24: =IF(AG24<>"",$A$66,"")
A25: Collaborateur 021 | B25: 42642 | C25: 42642 | D25: =COUNTIF(C25,"<>") -> 1 | E25: A faire | F25: =IF(E25="Effectué",$A$66,"") | I25: =COUNTIF(H25,"<>") -> 0 | K25: =IF(J25="Effectué",$A$66,"") | N25: =COUNTIF(M25,"<>") -> 0 | P25: =IF(O25="Effectué",$A$66,"") | S25: =COUNTIF(R25,"<>") -> 0 | T25: =D25+I25+N25+S25 -> 1 | V25: =IF(U25<>"",$A$66,"") | Y25: =D25+I25+N25+S25+Z25 -> 1 | Z25: =COUNTIF(X25,"<>") -> 0 | AB25: =IF(AA25<>"",$A$66,"") | AE25: =D25+I25+N25+S25+Z25+AF25 -> 1 | AF25: =COUNTIF(AD25,"<>") -> 0 | AH25: =IF(AG25<>"",$A$66,"")
A26: Collaborateur 022 | B26: 42611 | C26: 42611 | D26: =COUNTIF(C26,"<>") -> 1 | E26: Effectué | F26: 42612 | G26: 42739 | H26: 42830 | I26: =COUNTIF(H26,"<>") -> 1 | J26: Effectué | K26: 42834 | N26: =COUNTIF(M26,"<>") -> 0 | P26: =IF(O26="Effectué",$A$66,"") | S26: =COUNTIF(R26,"<>") -> 0 | T26: =D26+I26+N26+S26 -> 2 | V26: =IF(U26<>"",$A$66,"") | Y26: =D26+I26+N26+S26+Z26 -> 2 | Z26: =COUNTIF(X26,"<>") -> 0 | AB26: =IF(AA26<>"",$A$66,"") | AE26: =D26+I26+N26+S26+Z26+AF26 -> 2 | AF26: =COUNTIF(AD26,"<>") -> 0 | AH26: =IF(AG26<>"",$A$66,"")
A27: Collaborateur 023 | B27: 42328 | C27: 42511 | D27: =COUNTIF(C27,"<>") -> 1 | E27: A faire | F27: =IF(E27="Effectué",$A$66,"") | I27: =COUNTIF(H27,"<>") -> 0 | K27: =IF(J27="Effectué",$A$66,"") | N27: =COUNTIF(M27,"<>") -> 0 | P27: =IF(O27="Effectué",$A$66,"") | S27: =COUNTIF(R27,"<>") -> 0 | T27: =D27+I27+N27+S27 -> 1 | V27: =IF(U27<>"",$A$66,"") | Y27: =D27+I27+N27+S27+Z27 -> 1 | Z27: =COUNTIF(X27,"<>") -> 0 | AB27: =IF(AA27<>"",$A$66,"") | AE27: =D27+I27+N27+S27+Z27+AF27 -> 1 | AF27: =COUNTIF(AD27,"<>") -> 0 | AH27: =IF(AG27<>"",$A$66,"")
A28: Collaborateur 024 | D28: =COUNTIF(C28,"<>") -> 0 | F28: =IF(E28="Effectué",$A$66,"") | I28: =COUNTIF(H28,"<>") -> 0 | K28: =IF(J28="Effectué",$A$66,"") | N28: =COUNTIF(M28,"<>") -> 0 | P28: =IF(O28="Effectué",$A$66,"") | S28: =COUNTIF(R28,"<>") -> 0 | T28: =D28+I28+N28+S28 -> 0 | V28: =IF(U28<>"",$A$66,"") | Y28: =D28+I28+N28+S28+Z28 -> 0 | Z28: =COUNTIF(X28,"<>") -> 0 | AB28: =IF(AA28<>"",$A$66,"") | AE28: =D28+I28+N28+S28+Z28+AF28 -> 0 | AF28: =COUNTIF(AD28,"<>") -> 0 | AH28: =IF(AG28<>"",$A$66,"")
A29: Collaborateur 025 | B29: 42642 | C29: 42642 | D29: =COUNTIF(C29,"<>") -> 1 | E29: Effectué | F29: 42643 | I29: =COUNTIF(H29,"<>") -> 0 | K29: =IF(J29="Effectué",$A$66,"") | N29: =COUNTIF(M29,"<>") -> 0 | P29: =IF(O29="Effectué",$A$66,"") | S29: =COUNTIF(R29,"<>") -> 0 | T29: =D29+I29+N29+S29 -> 1 | V29: =IF(U29<>"",$A$66,"") | Y29: =D29+I29+N29+S29+Z29 -> 1 | Z29: =COUNTIF(X29,"<>") -> 0 | AB29: =IF(AA29<>"",$A$66,"") | AE29: =D29+I29+N29+S29+Z29+AF29 -> 1 | AF29: =COUNTIF(AD29,"<>") -> 0 | AH29: =IF(AG29<>"",$A$66,"")
A30: Collaborateur 026 | B30: 42513 | C30: 42513 | D30: =COUNTIF(C30,"<>") -> 1 | E30: Effectué | F30: 42517 | G30: 42644 | H30: 42644 | I30: =COUNTIF(H30,"<>") -> 1 | J30: Effectué | K30: 42646 | N30: =COUNTIF(M30,"<>") -> 0 | P30: =IF(O30="Effectué",$A$66,"") | S30: =COUNTIF(R30,"<>") -> 0 | T30: =D30+I30+N30+S30 -> 2 | V30: =IF(U30<>"",$A$66,"") | Y30: =D30+I30+N30+S30+Z30 -> 2 | Z30: =COUNTIF(X30,"<>") -> 0 | AB30: =IF(AA30<>"",$A$66,"") | AE30: =D30+I30+N30+S30+Z30+AF30 -> 2 | AF30: =COUNTIF(AD30,"<>") -> 0 | AH30: =IF(AG30<>"",$A$66,"")
A31: Collaborateur 027 | B31: 42590 | C31: 42590 | D31: =COUNTIF(C31,"<>") -> 1 | E31: Effectué | F31: 42591 | G31: 42731 | H31: 42731 | I31: =COUNTIF(H31,"<>") -> 1 | J31: Effectué | K31: 42732 | N31: =COUNTIF(M31,"<>") -> 0 | P31: =IF(O31="Effectué",$A$66,"") | S31: =COUNTIF(R31,"<>") -> 0 | T31: =D31+I31+N31+S31 -> 2 | V31: =IF(U31<>"",$A$66,"") | Y31: =D31+I31+N31+S31+Z31 -> 2 | Z31: =COUNTIF(X31,"<>") -> 0 | AB31: =IF(AA31<>"",$A$66,"") | AE31: =D31+I31+N31+S31+Z31+AF31 -> 2 | AF31: =COUNTIF(AD31,"<>") -> 0 | AH31: =IF(AG31<>"",$A$66,"")
A32: Collaborateur 028 | B32: 42676 | C32: 42676 | D32: =COUNTIF(C32,"<>") -> 1 | E32: Effectué | F32: 42684 | I32: =COUNTIF(H32,"<>") -> 0 | K32: =IF(J32="Effectué",$A$66,"") | N32: =COUNTIF(M32,"<>") -> 0 | P32: =IF(O32="Effectué",$A$66,"") | S32: =COUNTIF(R32,"<>") -> 0 | T32: =D32+I32+N32+S32 -> 1 | V32: =IF(U32<>"",$A$66,"") | Y32: =D32+I32+N32+S32+Z32 -> 1 | Z32: =COUNTIF(X32,"<>") -> 0 | AB32: =IF(AA32<>"",$A$66,"") | AE32: =D32+I32+N32+S32+Z32+AF32 -> 1 | AF32: =COUNTIF(AD32,"<>") -> 0 | AH32: =IF(AG32<>"",$A$66,"")
A33: Collaborateur 029 | D33: =COUNTIF(C33,"<>") -> 0 | F33: =IF(E33="Effectué",$A$66,"") | I33: =COUNTIF(H33,"<>") -> 0 | K33: =IF(J33="Effectué",$A$66,"") | N33: =COUNTIF(M33,"<>") -> 0 | P33: =IF(O33="Effectué",$A$66,"") | S33: =COUNTIF(R33,"<>") -> 0 | T33: =D33+I33+N33+S33 -> 0 | V33: =IF(U33<>"",$A$66,"") | Y33: =D33+I33+N33+S33+Z33 -> 0 | Z33: =COUNTIF(X33,"<>") -> 0 | AB33: =IF(AA33<>"",$A$66,"") | AE33: =D33+I33+N33+S33+Z33+AF33 -> 0 | AF33: =COUNTIF(AD33,"<>") -> 0 | AH33: =IF(AG33<>"",$A$66,"")
A34: Collaborateur 030 | B34: 42460 | C34: 42460 | D34: =COUNTIF(C34,"<>") -> 1 | E34: Effectué | F34: 42464 | G34: 42522 | H34: 42522 | I34: =COUNTIF(H34,"<>") -> 1 | J34: Effectué | K34: 42528 | L34: 42605 | M34: 42722 | N34: =COUNTIF(M34,"<>") -> 1 | O34: Effectué | P34: 42723 | S34: =COUNTIF(R34,"<>") -> 0 | T34: =D34+I34+N34+S34 -> 3 | V34: =IF(U34<>"",$A$66,"") | Y34: =D34+I34+N34+S34+Z34 -> 3 | Z34: =COUNTIF(X34,"<>") -> 0 | AB34: =IF(AA34<>"",$A$66,"") | AE34: =D34+I34+N34+S34+Z34+AF34 -> 3 | AF34: =COUNTIF(AD34,"<>") -> 0 | AH34: =IF(AG34<>"",$A$66,"")
A35: Collaborateur 031 | B35: 42492 | C35: 42492 | D35: =COUNTIF(C35,"<>") -> 1 | E35: Effectué | F35: 42499 | G35: 42698 | H35: 42701 | I35: =COUNTIF(H35,"<>") -> 1 | J35: Effectué | K35: 42703 | L35: 42776 | M35: 42776 | N35: =COUNTIF(M35,"<>") -> 1 | O35: Effectué | P35: 42779 | S35: =COUNTIF(R35,"<>") -> 0 | T35: =D35+I35+N35+S35 -> 3 | V35: =IF(U35<>"",$A$66,"") | Y35: =D35+I35+N35+S35+Z35 -> 3 | Z35: =COUNTIF(X35,"<>") -> 0 | AB35: =IF(AA35<>"",$A$66,"") | AE35: =D35+I35+N35+S35+Z35+AF35 -> 3 | AF35: =COUNTIF(AD35,"<>") -> 0 | AH35: =IF(AG35<>"",$A$66,"")
A36: Collaborateur 032 | D36: =COUNTIF(C36,"<>") -> 0 | F36: =IF(E36="Effectué",$A$66,"") | I36: =COUNTIF(H36,"<>") -> 0 | K36: =IF(J36="Effectué",$A$66,"") | N36: =COUNTIF(M36,"<>") -> 0 | P36: =IF(O36="Effectué",$A$66,"") | S36: =COUNTIF(R36,"<>") -> 0 | T36: =D36+I36+N36+S36 -> 0 | V36: =IF(U36<>"",$A$66,"") | Y36: =D36+I36+N36+S36+Z36 -> 0 | Z36: =COUNTIF(X36,"<>") -> 0 | AB36: =IF(AA36<>"",$A$66,"") | AE36: =D36+I36+N36+S36+Z36+AF36 -> 0 | AF36: =COUNTIF(AD36,"<>") -> 0 | AH36: =IF(AG36<>"",$A$66,"")
A37: Collaborateur 033 | B37: 42695 | C37: 42695 | D37: =COUNTIF(C37,"<>") -> 1 | E37: Effectué | F37: 42696 | I37: =COUNTIF(H37,"<>") -> 0 | K37: =IF(J37="Effectué",$A$66,"") | N37: =COUNTIF(M37,"<>") -> 0 | P37: =IF(O37="Effectué",$A$66,"") | S37: =COUNTIF(R37,"<>") -> 0 | T37: =D37+I37+N37+S37 -> 1 | V37: =IF(U37<>"",$A$66,"") | Y37: =D37+I37+N37+S37+Z37 -> 1 | Z37: =COUNTIF(X37,"<>") -> 0 | AB37: =IF(AA37<>"",$A$66,"") | AE37: =D37+I37+N37+S37+Z37+AF37 -> 1 | AF37: =COUNTIF(AD37,"<>") -> 0 | AH37: =IF(AG37<>"",$A$66,"")
A38: Collaborateur 034 | B38: 42555 | C38: 42555 | D38: =COUNTIF(C38,"<>") -> 1 | E38: Effectué | F38: 42562 | G38: 42590 | H38: 42590 | I38: =COUNTIF(H38,"<>") -> 1 | J38: Effectué | K38: 42644 | L38: 42646 | M38: 42646 | N38: =COUNTIF(M38,"<>") -> 1 | O38: A faire | P38: =IF(O38="Effectué",$A$66,"") | Q38: 42688 | R38: 42688 | S38: =COUNTIF(R38,"<>") -> 1 | T38: =D38+I38+N38+S38 -> 4 | U38: Autre | V38: =IF(U38<>"",$A$66,"") -> 42810 | W38: 42773 | X38: 42773 | Y38: =D38+I38+N38+S38+Z38 -> 5 | Z38: =COUNTIF(X38,"<>") -> 1 | AA38: Equipe Rhumaine 3 | AB38: 42780 | AC38: 42796 | AD38: 42807 | AE38: =D38+I38+N38+S38+Z38+AF38 -> 6 | AF38: =COUNTIF(AD38,"<>") -> 1 | AH38: =IF(AG38<>"",$A$66,"")
A39: Collaborateur 035 | B39: 42636 | C39: 42639 | D39: =COUNTIF(C39,"<>") -> 1 | E39: Effectué | F39: 42643 | G39: 42689 | H39: 42689 | I39: =COUNTIF(H39,"<>") -> 1 | J39: Effectué | K39: 42695 | L39: 42702 | M39: 42702 | N39: =COUNTIF(M39,"<>") -> 1 | O39: Effectué | P39: 42705 | Q39: 42722 | R39: 42722 | S39: =COUNTIF(R39,"<>") -> 1 | T39: =D39+I39+N39+S39 -> 4 | V39: =IF(U39<>"",$A$66,"") | Y39: =D39+I39+N39+S39+Z39 -> 4 | Z39: =COUNTIF(X39,"<>") -> 0 | AB39: =IF(AA39<>"",$A$66,"") | AE39: =D39+I39+N39+S39+Z39+AF39 -> 4 | AF39: =COUNTIF(AD39,"<>") -> 0 | AH39: =IF(AG39<>"",$A$66,"")
A40: Collaborateur 036 | B40: 42564 | C40: 42565 | D40: =COUNTIF(C40,"<>") -> 1 | E40: A faire | F40: =IF(E40="Effectué",$A$66,"") | G40: 42665 | H40: 42665 | I40: =COUNTIF(H40,"<>") -> 1 | J40: Effectué | K40: 42667 | N40: =COUNTIF(M40,"<>") -> 0 | P40: =IF(O40="Effectué",$A$66,"") | S40: =COUNTIF(R40,"<>") -> 0 | T40: =D40+I40+N40+S40 -> 2 | V40: =IF(U40<>"",$A$66,"") | Y40: =D40+I40+N40+S40+Z40 -> 2 | Z40: =COUNTIF(X40,"<>") -> 0 | AB40: =IF(AA40<>"",$A$66,"") | AE40: =D40+I40+N40+S40+Z40+AF40 -> 2 | AF40: =COUNTIF(AD40,"<>") -> 0 | AH40: =IF(AG40<>"",$A$66,"")
...

Sheet  2017-2018
H1: GESTION DES ABSENCES
A2: 1 | D2: 2 | E2: 3 | F2: 4 | G2: 5 | H2: 6 | I2: 7 | J2: 8 | K2: 9 | L2: 10 | M2: 11 | N2: 12 | O2: 13 | P2: 14 | Q2: 15 | R2: 16 | S2: 17 | T2: 18 | U2: 19 | V2: 20 | W2: 21 | X2: 22 | Y2: 23 | Z2: 24 | AA2: 25 | AB2: 26 | AC2: 27 | AD2: 28 | AE2: 29 | AF2: 30 | AG2: 31 | AH2: 32 | AI2: 33 | AJ2: 34
B3: Repport | C3: Date Absence 1 | D3: Absence 1 | F3: entretien retour 1 | H3: Date entretien | I3: Absence 2 | K3: entretien retour 2 | M3: Date entretien | N3: Absence 3 | P3: entretien retour 3 | R3: Date entretien | S3: Absence 4 | W3: Entretien bilan ICUS | X3: Date bilan ICUS | Y3: Absence 5 | AB3: entretien ICUS et RH | AD3: Date bilan ICUS RH | AE3: Absence 6 | AH3: entretien ICUS et RH | AJ3: Date bilan ICUS RH
A4: NOM /Prénom | D4: Depart1 | E4: Retour1 | F4: 1 | G4: Entretien1 | H4: Date1 | I4: Depart2 | J4: Retour2 | K4: 2 | L4: Entretien2 | M4: Date2 | N4: Depart3 | O4: Retour3 | P4: 3 | Q4: Entretien3 | R4: Date3 | S4: Depart4 | T4: Retour4 | U4: 4 | W4: Entretien ICUS | X4: Date ICUS | Y4: Depart5 | Z4: Retour5 | AA4: 5 | AB4: 5 | AC4: EntretienICUSRH | AD4: DateICUSRH | AE4: Depart6 | AF4: Retour6 | AH4: 6 | AI4: EntretienICUSRH2 | AJ4: DateICUSRH2
A5: Collaborateur 001 | B5: =SUM(' 2016-2017'!D5+' 2016-2017'!I5+' 2016-2017'!N5+' 2016-2017'!S5+' 2016-2017'!Z5+' 2016-2017'!AF5) -> 3 | C5: =VLOOKUP(' 2016-2017'!B3:B60,' 2016-2017'!B5:C60,1,FALSE) -> 42534 | P5: =COUNTIF(O5,"<>") -> 0 | U5: =COUNTIF(T5,"<>") -> 0 | V5: =F5+K5+P5+U5 -> 0 | X5: =IF(W5<>"",$A$66,"") | AA5: =F5+K5+P5+U5+AB5 -> 0 | AB5: =COUNTIF(Z5,"<>") -> 0 | AD5: =IF(AC5<>"",$A$66,"") | AG5: =F5+K5+P5+U5+AB5+AH5 -> 0 | AH5: =COUNTIF(AF5,"<>") -> 0 | AJ5: =IF(AI5<>"",$A$66,"")
A6: Collaborateur 002 | B6: =SUM(' 2016-2017'!D6+' 2016-2017'!I6+' 2016-2017'!N6+' 2016-2017'!S6+' 2016-2017'!Z6+' 2016-2017'!AF6) -> 2 | C6: =VLOOKUP(' 2016-2017'!B4:B61,' 2016-2017'!B6:C61,1,FALSE) -> 42573 | P6: =COUNTIF(O6,"<>") -> 0 | U6: =COUNTIF(T6,"<>") -> 0 | V6: =F6+K6+P6+U6 -> 0 | X6: =IF(W6<>"",$A$66,"") | AA6: =F6+K6+P6+U6+AB6 -> 0 | AB6: =COUNTIF(Z6,"<>") -> 0 | AD6: =IF(AC6<>"",$A$66,"") | AG6: =F6+K6+P6+U6+AB6+AH6 -> 0 | AH6: =COUNTIF(AF6,"<>") -> 0 | AJ6: =IF(AI6<>"",$A$66,"")
A7: Collaborateur 003 | B7: =SUM(' 2016-2017'!D7+' 2016-2017'!I7+' 2016-2017'!N7+' 2016-2017'!S7+' 2016-2017'!Z7+' 2016-2017'!AF7) -> 3 | C7: =VLOOKUP(' 2016-2017'!B5:B62,' 2016-2017'!B7:C62,1,FALSE) -> 42482 | P7: =COUNTIF(O7,"<>") -> 0 | U7: =COUNTIF(T7,"<>") -> 0 | V7: =F7+K7+P7+U7 -> 0 | X7: =IF(W7<>"",$A$66,"") | AA7: =F7+K7+P7+U7+AB7 -> 0 | AB7: =COUNTIF(Z7,"<>") -> 0 | AD7: =IF(AC7<>"",$A$66,"") | AG7: =F7+K7+P7+U7+AB7+AH7 -> 0 | AH7: =COUNTIF(AF7,"<>") -> 0 | AJ7: =IF(AI7<>"",$A$66,"")
A8: Collaborateur 004 | B8: =SUM(' 2016-2017'!D8+' 2016-2017'!I8+' 2016-2017'!N8+' 2016-2017'!S8+' 2016-2017'!Z8+' 2016-2017'!AF8) -> 2 | C8: =VLOOKUP(' 2016-2017'!B6:B63,' 2016-2017'!B8:C63,1,FALSE) -> 42507 | P8: =COUNTIF(O8,"<>") -> 0 | U8: =COUNTIF(T8,"<>") -> 0 | V8: =F8+K8+P8+U8 -> 0 | X8: =IF(W8<>"",$A$66,"") | AA8: =F8+K8+P8+U8+AB8 -> 0 | AB8: =COUNTIF(Z8,"<>") -> 0 | AD8: =IF(AC8<>"",$A$66,"") | AG8: =F8+K8+P8+U8+AB8+AH8 -> 0 | AH8: =COUNTIF(AF8,"<>") -> 0 | AJ8: =IF(AI8<>"",$A$66,"")
A9: Collaborateur 005 | B9: =SUM(' 2016-2017'!D9+' 2016-2017'!I9+' 2016-2017'!N9+' 2016-2017'!S9+' 2016-2017'!Z9+' 2016-2017'!AF9) -> 1 | C9: =VLOOKUP(' 2016-2017'!B7:B64,' 2016-2017'!B9:C64,1,FALSE) -> 42544 | P9: =COUNTIF(O9,"<>") -> 0 | U9: =COUNTIF(T9,"<>") -> 0 | V9: =F9+K9+P9+U9 -> 0 | X9: =IF(W9<>"",$A$66,"") | AA9: =F9+K9+P9+U9+AB9 -> 0 | AB9: =COUNTIF(Z9,"<>") -> 0 | AD9: =IF(AC9<>"",$A$66,"") | AG9: =F9+K9+P9+U9+AB9+AH9 -> 0 | AH9: =COUNTIF(AF9,"<>") -> 0 | AJ9: =IF(AI9<>"",$A$66,"")
A10: Collaborateur 006 | B10: =SUM(' 2016-2017'!D10+' 2016-2017'!I10+' 2016-2017'!N10+' 2016-2017'!S10+' 2016-2017'!Z10+' 2016-2017'!AF10) -> 0 | C10: =VLOOKUP(' 2016-2017'!B8:B65,' 2016-2017'!B10:C65,1,FALSE) -> #N/A | P10: =COUNTIF(O10,"<>") -> 0 | U10: =COUNTIF(T10,"<>") -> 0 | V10: =F10+K10+P10+U10 -> 0 | X10: =IF(W10<>"",$A$66,"") | AA10: =F10+K10+P10+U10+AB10 -> 0 | AB10: =COUNTIF(Z10,"<>") -> 0 | AD10: =IF(AC10<>"",$A$66,"") | AG10: =F10+K10+P10+U10+AB10+AH10 -> 0 | AH10: =COUNTIF(AF10,"<>") -> 0 | AJ10: =IF(AI10<>"",$A$66,"")
A11: Collaborateur 007 | B11: =SUM(' 2016-2017'!D11+' 2016-2017'!I11+' 2016-2017'!N11+' 2016-2017'!S11+' 2016-2017'!Z11+' 2016-2017'!AF11) -> 0 | C11: =VLOOKUP(' 2016-2017'!B9:B66,' 2016-2017'!B11:C66,1,FALSE) -> #N/A | P11: =COUNTIF(O11,"<>") -> 0 | U11: =COUNTIF(T11,"<>") -> 0 | V11: =F11+K11+P11+U11 -> 0 | X11: =IF(W11<>"",$A$66,"") | AA11: =F11+K11+P11+U11+AB11 -> 0 | AB11: =COUNTIF(Z11,"<>") -> 0 | AD11: =IF(AC11<>"",$A$66,"") | AG11: =F11+K11+P11+U11+AB11+AH11 -> 0 | AH11: =COUNTIF(AF11,"<>") -> 0 | AJ11: =IF(AI11<>"",$A$66,"")
A12: Collaborateur 008 | B12: =SUM(' 2016-2017'!D12+' 2016-2017'!I12+' 2016-2017'!N12+' 2016-2017'!S12+' 2016-2017'!Z12+' 2016-2017'!AF12) -> 1 | C12: =VLOOKUP(' 2016-2017'!B10:B67,' 2016-2017'!B12:C67,1,FALSE) -> 42534 | P12: =COUNTIF(O12,"<>") -> 0 | U12: =COUNTIF(T12,"<>") -> 0 | V12: =F12+K12+P12+U12 -> 0 | X12: =IF(W12<>"",$A$66,"") | AA12: =F12+K12+P12+U12+AB12 -> 0 | AB12: =COUNTIF(Z12,"<>") -> 0 | AD12: =IF(AC12<>"",$A$66,"") | AG12: =F12+K12+P12+U12+AB12+AH12 -> 0 | AH12: =COUNTIF(AF12,"<>") -> 0 | AJ12: =IF(AI12<>"",$A$66,"")
A13: Collaborateur 009 | B13: =SUM(' 2016-2017'!D13+' 2016-2017'!I13+' 2016-2017'!N13+' 2016-2017'!S13+' 2016-2017'!Z13+' 2016-2017'!AF13) -> 2 | C13: =VLOOKUP(' 2016-2017'!B11:B68,' 2016-2017'!B13:C68,1,FALSE) -> 42622 | P13: =COUNTIF(O13,"<>") -> 0 | U13: =COUNTIF(T13,"<>") -> 0 | V13: =F13+K13+P13+U13 -> 0 | X13: =IF(W13<>"",$A$66,"") | AA13: =F13+K13+P13+U13+AB13 -> 0 | AB13: =COUNTIF(Z13,"<>") -> 0 | AD13: =IF(AC13<>"",$A$66,"") | AG13: =F13+K13+P13+U13+AB13+AH13 -> 0 | AH13: =COUNTIF(AF13,"<>") -> 0 | AJ13: =IF(AI13<>"",$A$66,"")
A14: Collaborateur 010 | B14: =SUM(' 2016-2017'!D14+' 2016-2017'!I14+' 2016-2017'!N14+' 2016-2017'!S14+' 2016-2017'!Z14+' 2016-2017'!AF14) -> 0 | C14: =VLOOKUP(' 2016-2017'!B12:B69,' 2016-2017'!B14:C69,1,FALSE) -> #N/A | P14: =COUNTIF(O14,"<>") -> 0 | U14: =COUNTIF(T14,"<>") -> 0 | V14: =F14+K14+P14+U14 -> 0 | X14: =IF(W14<>"",$A$66,"") | AA14: =F14+K14+P14+U14+AB14 -> 0 | AB14: =COUNTIF(Z14,"<>") -> 0 | AD14: =IF(AC14<>"",$A$66,"") | AG14: =F14+K14+P14+U14+AB14+AH14 -> 0 | AH14: =COUNTIF(AF14,"<>") -> 0 | AJ14: =IF(AI14<>"",$A$66,"")
A15: Collaborateur 011 | B15: =SUM(' 2016-2017'!D15+' 2016-2017'!I15+' 2016-2017'!N15+' 2016-2017'!S15+' 2016-2017'!Z15+' 2016-2017'!AF15) -> 3 | C15: =VLOOKUP(' 2016-2017'!B13:B70,' 2016-2017'!B15:C70,1,FALSE) -> 42165 | P15: =COUNTIF(O15,"<>") -> 0 | U15: =COUNTIF(T15,"<>") -> 0 | V15: =F15+K15+P15+U15 -> 0 | X15: =IF(W15<>"",$A$66,"") | AA15: =F15+K15+P15+U15+AB15 -> 0 | AB15: =COUNTIF(Z15,"<>") -> 0 | AD15: =IF(AC15<>"",$A$66,"") | AG15: =F15+K15+P15+U15+AB15+AH15 -> 0 | AH15: =COUNTIF(AF15,"<>") -> 0 | AJ15: =IF(AI15<>"",$A$66,"")
A16: Collaborateur 012 | B16: =SUM(' 2016-2017'!D16+' 2016-2017'!I16+' 2016-2017'!N16+' 2016-2017'!S16+' 2016-2017'!Z16+' 2016-2017'!AF16) -> 2 | C16: =VLOOKUP(' 2016-2017'!B14:B71,' 2016-2017'!B16:C71,1,FALSE) -> 42093 | P16: =COUNTIF(O16,"<>") -> 0 | U16: =COUNTIF(T16,"<>") -> 0 | V16: =F16+K16+P16+U16 -> 0 | X16: =IF(W16<>"",$A$66,"") | AA16: =F16+K16+P16+U16+AB16 -> 0 | AB16: =COUNTIF(Z16,"<>") -> 0 | AD16: =IF(AC16<>"",$A$66,"") | AG16: =F16+K16+P16+U16+AB16+AH16 -> 0 | AH16: =COUNTIF(AF16,"<>") -> 0 | AJ16: =IF(AI16<>"",$A$66,"")
... A25: Collaborateur 021 | B25: =SUM(' 2016-2017'!D25+' 2016-2017'!I25+' 2016-2017'!N25+' 2016-2017'!S25+' 2016-2017'!Z25+' 2016-2017'!AF25) -> 1 | C25: =VLOOKUP(' 2016-2017'!B23:B80,' 2016-2017'!B25:C80,1,FALSE) -> 42642 | P25: =COUNTIF(O25,"<>") -> 0 | U25: =COUNTIF(T25,"<>") -> 0 | V25: =F25+K25+P25+U25 -> 0 | X25: =IF(W25<>"",$A$66,"") | AA25: =F25+K25+P25+U25+AB25 -> 0 | AB25: =COUNTIF(Z25,"<>") -> 0 | AD25: =IF(AC25<>"",$A$66,"") | AG25: =F25+K25+P25+U25+AB25+AH25 -> 0 | AH25: =COUNTIF(AF25,"<>") -> 0 | AJ25: =IF(AI25<>"",$A$66,"")
A26: Collaborateur 022 | B26: =SUM(' 2016-2017'!D26+' 2016-2017'!I26+' 2016-2017'!N26+' 2016-2017'!S26+' 2016-2017'!Z26+' 2016-2017'!AF26) -> 2 | C26: =VLOOKUP(' 2016-2017'!B24:B81,' 2016-2017'!B26:C81,1,FALSE) -> 42611 | P26: =COUNTIF(O26,"<>") -> 0 | R26: =IF(Q26="Effectué",$A$66,"") | U26: =COUNTIF(T26,"<>") -> 0 | V26: =F26+K26+P26+U26 -> 0 | X26: =IF(W26<>"",$A$66,"") | AA26: =F26+K26+P26+U26+AB26 -> 0 | AB26: =COUNTIF(Z26,"<>") -> 0 | AD26: =IF(AC26<>"",$A$66,"") | AG26: =F26+K26+P26+U26+AB26+AH26 -> 0 | AH26: =COUNTIF(AF26,"<>") -> 0 | AJ26: =IF(AI26<>"",$A$66,"")
A27: Collaborateur 023 | B27: =SUM(' 2016-2017'!D27+' 2016-2017'!I27+' 2016-2017'!N27+' 2016-2017'!S27+' 2016-2017'!Z27+' 2016-2017'!AF27) -> 1 | C27: =VLOOKUP(' 2016-2017'!B25:B82,' 2016-2017'!B27:C82,1,FALSE) -> 42328 | P27: =COUNTIF(O27,"<>") -> 0 | R27: =IF(Q27="Effectué",$A$66,"") | U27: =COUNTIF(T27,"<>") -> 0 | V27: =F27+K27+P27+U27 -> 0 | X27: =IF(W27<>"",$A$66,"") | AA27: =F27+K27+P27+U27+AB27 -> 0 | AB27: =COUNTIF(Z27,"<>") -> 0 | AD27: =IF(AC27<>"",$A$66,"") | AG27: =F27+K27+P27+U27+AB27+AH27 -> 0 | AH27: =COUNTIF(AF27,"<>") -> 0 | AJ27: =IF(AI27<>"",$A$66,"")
A28: Collaborateur 024 | B28: =SUM(' 2016-2017'!D28+' 2016-2017'!I28+' 2016-2017'!N28+' 2016-2017'!S28+' 2016-2017'!Z28+' 2016-2017'!AF28) -> 0 | C28: =VLOOKUP(' 2016-2017'!B26:B83,' 2016-2017'!B28:C83,1,FALSE) -> #N/A | P28: =COUNTIF(O28,"<>") -> 0 | R28: =IF(Q28="Effectué",$A$66,"") | U28: =COUNTIF(T28,"<>") -> 0 | V28: =F28+K28+P28+U28 -> 0 | X28: =IF(W28<>"",$A$66,"") | AA28: =F28+K28+P28+U28+AB28 -> 0 | AB28: =COUNTIF(Z28,"<>") -> 0 | AD28: =IF(AC28<>"",$A$66,"") | AG28: =F28+K28+P28+U28+AB28+AH28 -> 0 | AH28: =COUNTIF(AF28,"<>") -> 0 | AJ28: =IF(AI28<>"",$A$66,"")
A29: Collaborateur 025 | B29: =SUM(' 2016-2017'!D29+' 2016-2017'!I29+' 2016-2017'!N29+' 2016-2017'!S29+' 2016-2017'!Z29+' 2016-2017'!AF29) -> 1 | C29: =VLOOKUP(' 2016-2017'!B27:B84,' 2016-2017'!B29:C84,1,FALSE) -> 42642 | P29: =COUNTIF(O29,"<>") -> 0 | R29: =IF(Q29="Effectué",$A$66,"") | U29: =COUNTIF(T29,"<>") -> 0 | V29: =F29+K29+P29+U29 -> 0 | X29: =IF(W29<>"",$A$66,"") | AA29: =F29+K29+P29+U29+AB29 -> 0 | AB29: =COUNTIF(Z29,"<>") -> 0 | AD29: =IF(AC29<>"",$A$66,"") | AG29: =F29+K29+P29+U29+AB29+AH29 -> 0 | AH29: =COUNTIF(AF29,"<>") -> 0 | AJ29: =IF(AI29<>"",$A$66,"")
A30: Collaborateur 026 | B30: =SUM(' 2016-2017'!D30+' 2016-2017'!I30+' 2016-2017'!N30+' 2016-2017'!S30+' 2016-2017'!Z30+' 2016-2017'!AF30) -> 2 | C30: =VLOOKUP(' 2016-2017'!B28:B85,' 2016-2017'!B30:C85,1,FALSE) -> 42513 | P30: =COUNTIF(O30,"<>") -> 0 | R30: =IF(Q30="Effectué",$A$66,"") | U30: =COUNTIF(T30,"<>") -> 0 | V30: =F30+K30+P30+U30 -> 0 | X30: =IF(W30<>"",$A$66,"") | AA30: =F30+K30+P30+U30+AB30 -> 0 | AB30: =COUNTIF(Z30,"<>") -> 0 | AD30: =IF(AC30<>"",$A$66,"") | AG30: =F30+K30+P30+U30+AB30+AH30 -> 0 | AH30: =COUNTIF(AF30,"<>") -> 0 | AJ30: =IF(AI30<>"",$A$66,"")
A31: Collaborateur 027 | B31: =SUM(' 2016-2017'!D31+' 2016-2017'!I31+' 2016-2017'!N31+' 2016-2017'!S31+' 2016-2017'!Z31+' 2016-2017'!AF31) -> 2 | C31: =VLOOKUP(' 2016-2017'!B29:B86,' 2016-2017'!B31:C86,1,FALSE) -> 42590 | P31: =COUNTIF(O31,"<>") -> 0 | U31: =COUNTIF(T31,"<>") -> 0 | V31: =F31+K31+P31+U31 -> 0 | X31: =IF(W31<>"",$A$66,"") | AA31: =F31+K31+P31+U31+AB31 -> 0 | AB31: =COUNTIF(Z31,"<>") -> 0 | AD31: =IF(AC31<>"",$A$66,"") | AG31: =F31+K31+P31+U31+AB31+AH31 -> 0 | AH31: =COUNTIF(AF31,"<>") -> 0 | AJ31: =IF(AI31<>"",$A$66,"")
A32: Collaborateur 028 | B32: =SUM(' 2016-2017'!D32+' 2016-2017'!I32+' 2016-2017'!N32+' 2016-2017'!S32+' 2016-2017'!Z32+' 2016-2017'!AF32) -> 1 | C32: =VLOOKUP(' 2016-2017'!B30:B87,' 2016-2017'!B32:C87,1,FALSE) -> 42676 | P32: =COUNTIF(O32,"<>") -> 0 | U32: =COUNTIF(T32,"<>") -> 0 | V32: =F32+K32+P32+U32 -> 0 | X32: =IF(W32<>"",$A$66,"") | AA32: =F32+K32+P32+U32+AB32 -> 0 | AB32: =COUNTIF(Z32,"<>") -> 0 | AD32: =IF(AC32<>"",$A$66,"") | AG32: =F32+K32+P32+U32+AB32+AH32 -> 0 | AH32: =COUNTIF(AF32,"<>") -> 0 | AJ32: =IF(AI32<>"",$A$66,"")
A33: Collaborateur 029 | B33: =SUM(' 2016-2017'!D33+' 2016-2017'!I33+' 2016-2017'!N33+' 2016-2017'!S33+' 2016-2017'!Z33+' 2016-2017'!AF33) -> 0 | C33: =VLOOKUP(' 2016-2017'!B31:B88,' 2016-2017'!B33:C88,1,FALSE) -> #N/A | P33: =COUNTIF(O33,"<>") -> 0 | U33: =COUNTIF(T33,"<>") -> 0 | V33: =F33+K33+P33+U33 -> 0 | AA33: =F33+K33+P33+U33+AB33 -> 0 | AB33: =COUNTIF(Z33,"<>") -> 0 | AG33: =F33+K33+P33+U33+AB33+AH33 -> 0 | AH33: =COUNTIF(AF33,"<>") -> 0
A34: Collaborateur 030 | B34: =SUM(' 2016-2017'!D34+' 2016-2017'!I34+' 2016-2017'!N34+' 2016-2017'!S34+' 2016-2017'!Z34+' 2016-2017'!AF34) -> 3 | C34: =VLOOKUP(' 2016-2017'!B32:B89,' 2016-2017'!B34:C89,1,FALSE) -> 42460 | P34: =COUNTIF(O34,"<>") -> 0 | U34: =COUNTIF(T34,"<>") -> 0 | V34: =F34+K34+P34+U34 -> 0 | AA34: =F34+K34+P34+U34+AB34 -> 0 | AB34: =COUNTIF(Z34,"<>") -> 0 | AG34: =F34+K34+P34+U34+AB34+AH34 -> 0 | AH34: =COUNTIF(AF34,"<>") -> 0
A35: Collaborateur 031 | B35: =SUM(' 2016-2017'!D35+' 2016-2017'!I35+' 2016-2017'!N35+' 2016-2017'!S35+' 2016-2017'!Z35+' 2016-2017'!AF35) -> 3 | C35: =VLOOKUP(' 2016-2017'!B33:B90,' 2016-2017'!B35:C90,1,FALSE) -> 42492 | P35: =COUNTIF(O35,"<>") -> 0 | U35: =COUNTIF(T35,"<>") -> 0 | V35: =F35+K35+P35+U35 -> 0 | AA35: =F35+K35+P35+U35+AB35 -> 0 | AB35: =COUNTIF(Z35,"<>") -> 0 | AG35: =F35+K35+P35+U35+AB35+AH35 -> 0 | AH35: =COUNTIF(AF35,"<>") -> 0
A36: Collaborateur 032 | B36: =SUM(' 2016-2017'!D36+' 2016-2017'!I36+' 2016-2017'!N36+' 2016-2017'!S36+' 2016-2017'!Z36+' 2016-2017'!AF36) -> 0 | C36: =VLOOKUP(' 2016-2017'!B34:B91,' 2016-2017'!B36:C91,1,FALSE) -> #N/A | P36: =COUNTIF(O36,"<>") -> 0 | U36: =COUNTIF(T36,"<>") -> 0 | V36: =F36+K36+P36+U36 -> 0 | AA36: =F36+K36+P36+U36+AB36 -> 0 | AB36: =COUNTIF(Z36,"<>") -> 0 | AG36: =F36+K36+P36+U36+AB36+AH36 -> 0 | AH36: =COUNTIF(AF36,"<>") -> 0
A37: Collaborateur 033 | B37: =SUM(' 2016-2017'!D37+' 2016-2017'!I37+' 2016-2017'!N37+' 2016-2017'!S37+' 2016-2017'!Z37+' 2016-2017'!AF37) -> 1 | C37: =VLOOKUP(' 2016-2017'!B35:B92,' 2016-2017'!B37:C92,1,FALSE) -> 42695 | P37: =COUNTIF(O37,"<>") -> 0 | U37: =COUNTIF(T37,"<>") -> 0 | V37: =F37+K37+P37+U37 -> 0 | AA37: =F37+K37+P37+U37+AB37 -> 0 | AB37: =COUNTIF(Z37,"<>") -> 0 | AG37: =F37+K37+P37+U37+AB37+AH37 -> 0 | AH37: =COUNTIF(AF37,"<>") -> 0
A38: Collaborateur 034 | B38: =SUM(' 2016-2017'!D38+' 2016-2017'!I38+' 2016-2017'!N38+' 2016-2017'!S38+' 2016-2017'!Z38+' 2016-2017'!AF38) -> 6 | C38: =VLOOKUP(' 2016-2017'!B36:B93,' 2016-2017'!B38:C93,1,FALSE) -> 42555 | P38: =COUNTIF(O38,"<>") -> 0 | U38: =COUNTIF(T38,"<>") -> 0 | V38: =F38+K38+P38+U38 -> 0 | AA38: =F38+K38+P38+U38+AB38 -> 0 | AB38: =COUNTIF(Z38,"<>") -> 0 | AG38: =F38+K38+P38+U38+AB38+AH38 -> 0 | AH38: =COUNTIF(AF38,"<>") -> 0
A39: Collaborateur 035 | B39: =SUM(' 2016-2017'!D39+' 2016-2017'!I39+' 2016-2017'!N39+' 2016-2017'!S39+' 2016-2017'!Z39+' 2016-2017'!AF39) -> 4 | C39: =VLOOKUP(' 2016-2017'!B37:B94,' 2016-2017'!B39:C94,1,FALSE) -> 42636 | P39: =COUNTIF(O39,"<>") -> 0 | U39: =COUNTIF(T39,"<>") -> 0 | V39: =F39+K39+P39+U39 -> 0 | AA39: =F39+K39+P39+U39+AB39 -> 0 | AB39: =COUNTIF(Z39,"<>") -> 0 | AG39: =F39+K39+P39+U39+AB39+AH39 -> 0 | AH39: =COUNTIF(AF39,"<>") -> 0
A40: Collaborateur 036 | B40: =SUM(' 2016-2017'!D40+' 2016-2017'!I40+' 2016-2017'!N40+' 2016-2017'!S40+' 2016-2017'!Z40+' 2016-2017'!AF40) -> 2 | C40: =VLOOKUP(' 2016-2017'!B38:B95,' 2016-2017'!B40:C95,1,FALSE) -> 42564 | P40: =COUNTIF(O40,"<>") -> 0 | U40: =COUNTIF(T40,"<>") -> 0 | V40: =F40+K40+P40+U40 -> 0 | AA40: =F40+K40+P40+U40+AB40 -> 0 | AB40: =COUNTIF(Z40,"<>") -> 0 | AG40: =F40+K40+P40+U40+AB40+AH40 -> 0 | AH40: =COUNTIF(AF40,"<>") -> 0
A41: Collaborateur 037 | B41: =SUM(' 2016-2017'!D41+' 2016-2017'!I41+' 2016-2017'!N41+' 2016-2017'!S41+' 2016-2017'!Z41+' 2016-2017'!AF41) -> 1 | C41: =VLOOKUP(' 2016-2017'!B39:B96,' 2016-2017'!B41:C96,1,FALSE) -> 42694 | P41: =COUNTIF(O41,"<>") -> 0 | U41: =COUNTIF(T41,"<>") -> 0 | V41: =F41+K41+P41+U41 -> 0 | AA41: =F41+K41+P41+U41+AB41 -> 0 | AB41: =COUNTIF(Z41,"<>") -> 0 | AG41: =F41+K41+P41+U41+AB41+AH41 -> 0 | AH41: =COUNTIF(AF41,"<>") -> 0
A42: Collaborateur 038 | B42: =SUM(' 2016-2017'!D42+' 2016-2017'!I42+' 2016-2017'!N42+' 2016-2017'!S42+' 2016-2017'!Z42+' 2016-2017'!AF42) -> 2 | C42: =VLOOKUP(' 2016-2017'!B40:B97,' 2016-2017'!B42:C97,1,FALSE) -> 42343 | P42: =COUNTIF(O42,"<>") -> 0 | U42: =COUNTIF(T42,"<>") -> 0 | V42: =F42+K42+P42+U42 -> 0 | AA42: =F42+K42+P42+U42+AB42 -> 0 | AB42: =COUNTIF(Z42,"<>") -> 0 | AG42: =F42+K42+P42+U42+AB42+AH42 -> 0 | AH42: =COUNTIF(AF42,"<>") -> 0
A43: Collaborateur 039 | B43: =SUM(' 2016-2017'!D43+' 2016-2017'!I43+' 2016-2017'!N43+' 2016-2017'!S43+' 2016-2017'!Z43+' 2016-2017'!AF43) -> 2 | C43: =VLOOKUP(' 2016-2017'!B41:B98,' 2016-2017'!B43:C98,1,FALSE) -> 42466 | P43: =COUNTIF(O43,"<>") -> 0 | U43: =COUNTIF(T43,"<>") -> 0 | V43: =F43+K43+P43+U43 -> 0 | X43: =IF(W43<>"",$A$66,"") | AA43: =F43+K43+P43+U43+AB43 -> 0 | AB43: =COUNTIF(Z43,"<>") -> 0 | AD43: =IF(AC43<>"",$A$66,"") | AG43: =F43+K43+P43+U43+AB43+AH43 -> 0 | AH43: =COUNTIF(AF43,"<>") -> 0 | AJ43: =IF(AI43<>"",$A$66,"")
A44: Collaborateur 040 | B44: =SUM(' 2016-2017'!D44+' 2016-2017'!I44+' 2016-2017'!N44+' 2016-2017'!S44+' 2016-2017'!Z44+' 2016-2017'!AF44) -> 1 | C44: =VLOOKUP(' 2016-2017'!B42:B99,' 2016-2017'!B44:C99,1,FALSE) -> 42456 | P44: =COUNTIF(O44,"<>") -> 0 | U44: =COUNTIF(T44,"<>") -> 0 | V44: =F44+K44+P44+U44 -> 0 | X44: =IF(W44<>"",$A$66,"") | AA44: =F44+K44+P44+U44+AB44 -> 0 | AB44: =COUNTIF(Z44,"<>") -> 0 | AD44: =IF(AC44<>"",$A$66,"") | AG44: =F44+K44+P44+U44+AB44+AH44 -> 0 | AH44: =COUNTIF(AF44,"<>") -> 0 | AJ44: =IF(AI44<>"",$A$66,"")
A45: Collaborateur 041 | B45: =SUM(' 2016-2017'!D45+' 2016-2017'!I45+' 2016-2017'!N45+' 2016-2017'!S45+' 2016-2017'!Z45+' 2016-2017'!AF45) -> 1 | C45: =VLOOKUP(' 2016-2017'!B43:B100,' 2016-2017'!B45:C100,1,FALSE) -> 42625 | P45: =COUNTIF(O45,"<>") -> 0 | U45: =COUNTIF(T45,"<>") -> 0 | V45: =F45+K45+P45+U45 -> 0 | X45: =IF(W45<>"",$A$66,"") | AA45: =F45+K45+P45+U45+AB45 -> 0 | AB45: =COUNTIF(Z45,"<>") -> 0 | AD45: =IF(AC45<>"",$A$66,"") | AG45: =F45+K45+P45+U45+AB45+AH45 -> 0 | AH45: =COUNTIF(AF45,"<>") -> 0 | AJ45: =IF(AI45<>"",$A$66,"")
A46: Collaborateur 042 | B46: =SUM(' 2016-2017'!D46+' 2016-2017'!I46+' 2016-2017'!N46+' 2016-2017'!S46+' 2016-2017'!Z46+' 2016-2017'!AF46) -> 2 | C46: =VLOOKUP(' 2016-2017'!B44:B101,' 2016-2017'!B46:C101,1,FALSE) -> 42309 | P46: =COUNTIF(O46,"<>") -> 0 | U46: =COUNTIF(T46,"<>") -> 0 | V46: =F46+K46+P46+U46 -> 0 | X46: =IF(W46<>"",$A$66,"") | AA46: =F46+K46+P46+U46+AB46 -> 0 | AB46: =COUNTIF(Z46,"<>") -> 0 | AD46: =IF(AC46<>"",$A$66,"") | AG46: =F46+K46+P46+U46+AB46+AH46 -> 0 | AH46: =COUNTIF(AF46,"<>") -> 0 | AJ46: =IF(AI46<>"",$A$66,"")
A47: Collaborateur 043 | B47: =SUM(' 2016-2017'!D47+' 2016-2017'!I47+' 2016-2017'!N47+' 2016-2017'!S47+' 2016-2017'!Z47+' 2016-2017'!AF47) -> 2 | C47: =VLOOKUP(' 2016-2017'!B45:B102,' 2016-2017'!B47:C102,1,FALSE) -> 42683 | P47: =COUNTIF(O47,"<>") -> 0 | U47: =COUNTIF(T47,"<>") -> 0 | V47: =F47+K47+P47+U47 -> 0 | X47: =IF(W47<>"",$A$66,"") | AA47: =F47+K47+P47+U47+AB47 -> 0 | AB47: =COUNTIF(Z47,"<>") -> 0 | AD47: =IF(AC47<>"",$A$66,"") | AG47: =F47+K47+P47+U47+AB47+AH47 -> 0 | AH47: =COUNTIF(AF47,"<>") -> 0 | AJ47: =IF(AI47<>"",$A$66,"")
