Workbook
Name plg: Feuil1!#REF!,Feuil1!#REF!,Feuil1!#REF!,Feuil1!#REF!,Feuil1!#REF!

Sheet tirage
A1: Ville | B1: Tirage
A2: AGDE
A3: AGEN
A4: AGEN
A5: ANNECY
A6: ANTIBES | B6: 12
A7: APREMONT
A8: ARLES
A9: ARRAS
A10: BELFORT
A11: BERGERAC
A12: BESANCON
A13: BLOIS
A14: BREST
A15: BRIVES
A16: CAEN
A17: CAHORS
A18: CANNES
... A59: ORLY
A60: PARIS | B60: 38
A61: PERPIGNAN
A62: QUIMPER
A63: RENNNES
A64: ROISSY
A65: SEGNY
A66: SELESTAT
A67: SENS
A68: SETE
A69: SISTERON
A70: SOUCLIN
A71: STRASBOURG
A72: TARBES
... A81: VENCE

Sheet Feuil1
C2: GROUPE A | F2: GROUPE B | I2: GROUPE C | L2: GROUPE D | O2: GROUPE E
B4: 1 | C4: =IFERROR(INDEX(tirage!$A:$A,MATCH(B4,tirage!$B:$B,0)),"") | E4: 19 | F4: =IFERROR(INDEX(tirage!$A:$A,MATCH(E4,tirage!$B:$B,0)),"") | H4: 37 | I4: =IFERROR(INDEX(tirage!$A:$A,MATCH(H4,tirage!$B:$B,0)),"") | K4: 55 | L4: =IFERROR(INDEX(tirage!$A:$A,MATCH(K4,tirage!$B:$B,0)),"") | N4: 73 | O4: =IFERROR(INDEX(tirage!$A:$A,MATCH(N4,tirage!$B:$B,0)),"")
B5: 2 | C5: =IFERROR(INDEX(tirage!$A:$A,MATCH(B5,tirage!$B:$B,0)),"") | E5: 20 | F5: =IFERROR(INDEX(tirage!$A:$A,MATCH(E5,tirage!$B:$B,0)),"") | H5: 38 | I5: =IFERROR(INDEX(tirage!$A:$A,MATCH(H5,tirage!$B:$B,0)),"") -> PARIS | K5: 56 | L5: =IFERROR(INDEX(tirage!$A:$A,MATCH(K5,tirage!$B:$B,0)),"") | N5: 74 | O5: =IFERROR(INDEX(tirage!$A:$A,MATCH(N5,tirage!$B:$B,0)),"")
B7: 3 | C7: =IFERROR(INDEX(tirage!$A:$A,MATCH(B7,tirage!$B:$B,0)),"") | E7: 21 | F7: =IFERROR(INDEX(tirage!$A:$A,MATCH(E7,tirage!$B:$B,0)),"") | H7: 39 | I7: =IFERROR(INDEX(tirage!$A:$A,MATCH(H7,tirage!$B:$B,0)),"") | K7: 57 | L7: =IFERROR(INDEX(tirage!$A:$A,MATCH(K7,tirage!$B:$B,0)),"") | N7: 75 | O7: =IFERROR(INDEX(tirage!$A:$A,MATCH(N7,tirage!$B:$B,0)),"")
B8: 4 | C8: =IFERROR(INDEX(tirage!$A:$A,MATCH(B8,tirage!$B:$B,0)),"") | E8: 22 | F8: =IFERROR(INDEX(tirage!$A:$A,MATCH(E8,tirage!$B:$B,0)),"") | H8: 40 | I8: =IFERROR(INDEX(tirage!$A:$A,MATCH(H8,tirage!$B:$B,0)),"") | K8: 58 | L8: =IFERROR(INDEX(tirage!$A:$A,MATCH(K8,tirage!$B:$B,0)),"") | N8: 76 | O8: =IFERROR(INDEX(tirage!$A:$A,MATCH(N8,tirage!$B:$B,0)),"")
B10: 5 | C10: =IFERROR(INDEX(tirage!$A:$A,MATCH(B10,tirage!$B:$B,0)),"") | E10: 23 | F10: =IFERROR(INDEX(tirage!$A:$A,MATCH(E10,tirage!$B:$B,0)),"") | H10: 41 | I10: =IFERROR(INDEX(tirage!$A:$A,MATCH(H10,tirage!$B:$B,0)),"") | K10: 59 | L10: =IFERROR(INDEX(tirage!$A:$A,MATCH(K10,tirage!$B:$B,0)),"") | N10: 77 | O10: =IFERROR(INDEX(tirage!$A:$A,MATCH(N10,tirage!$B:$B,0)),"")
B11: 6 | C11: =IFERROR(INDEX(tirage!$A:$A,MATCH(B11,tirage!$B:$B,0)),"") | E11: 24 | F11: =IFERROR(INDEX(tirage!$A:$A,MATCH(E11,tirage!$B:$B,0)),"") | H11: 42 | I11: =IFERROR(INDEX(tirage!$A:$A,MATCH(H11,tirage!$B:$B,0)),"") | K11: 60 | L11: =IFERROR(INDEX(tirage!$A:$A,MATCH(K11,tirage!$B:$B,0)),"") | N11: 78 | O11: =IFERROR(INDEX(tirage!$A:$A,MATCH(N11,tirage!$B:$B,0)),"")
B13: 7 | C13: =IFERROR(INDEX(tirage!$A:$A,MATCH(B13,tirage!$B:$B,0)),"") | E13: 25 | F13: =IFERROR(INDEX(tirage!$A:$A,MATCH(E13,tirage!$B:$B,0)),"") | H13: 43 | I13: =IFERROR(INDEX(tirage!$A:$A,MATCH(H13,tirage!$B:$B,0)),"") | K13: 61 | L13: =IFERROR(INDEX(tirage!$A:$A,MATCH(K13,tirage!$B:$B,0)),"") | N13: 79 | O13: =IFERROR(INDEX(tirage!$A:$A,MATCH(N13,tirage!$B:$B,0)),"")
B14: 8 | C14: =IFERROR(INDEX(tirage!$A:$A,MATCH(B14,tirage!$B:$B,0)),"") | E14: 26 | F14: =IFERROR(INDEX(tirage!$A:$A,MATCH(E14,tirage!$B:$B,0)),"") | H14: 44 | I14: =IFERROR(INDEX(tirage!$A:$A,MATCH(H14,tirage!$B:$B,0)),"") | K14: 62 | L14: =IFERROR(INDEX(tirage!$A:$A,MATCH(K14,tirage!$B:$B,0)),"") | N14: 80 | O14: =IFERROR(INDEX(tirage!$A:$A,MATCH(N14,tirage!$B:$B,0)),"")
B16: 9 | C16: =IFERROR(INDEX(tirage!$A:$A,MATCH(B16,tirage!$B:$B,0)),"") | E16: 27 | F16: =IFERROR(INDEX(tirage!$A:$A,MATCH(E16,tirage!$B:$B,0)),"") | H16: 45 | I16: =IFERROR(INDEX(tirage!$A:$A,MATCH(H16,tirage!$B:$B,0)),"") | K16: 63 | L16: =IFERROR(INDEX(tirage!$A:$A,MATCH(K16,tirage!$B:$B,0)),"") | N16: 81 | O16: =IFERROR(INDEX(tirage!$A:$A,MATCH(N16,tirage!$B:$B,0)),"")
B17: 10 | C17: =IFERROR(INDEX(tirage!$A:$A,MATCH(B17,tirage!$B:$B,0)),"") | E17: 28 | F17: =IFERROR(INDEX(tirage!$A:$A,MATCH(E17,tirage!$B:$B,0)),"") | H17: 46 | I17: =IFERROR(INDEX(tirage!$A:$A,MATCH(H17,tirage!$B:$B,0)),"") | K17: 64 | L17: =IFERROR(INDEX(tirage!$A:$A,MATCH(K17,tirage!$B:$B,0)),"") | N17: 82 | O17: =IFERROR(INDEX(tirage!$A:$A,MATCH(N17,tirage!$B:$B,0)),"")
B19: 11 | C19: =IFERROR(INDEX(tirage!$A:$A,MATCH(B19,tirage!$B:$B,0)),"") | E19: 29 | F19: =IFERROR(INDEX(tirage!$A:$A,MATCH(E19,tirage!$B:$B,0)),"") | H19: 47 | I19: =IFERROR(INDEX(tirage!$A:$A,MATCH(H19,tirage!$B:$B,0)),"") | K19: 65 | L19: =IFERROR(INDEX(tirage!$A:$A,MATCH(K19,tirage!$B:$B,0)),"") | N19: 83 | O19: =IFERROR(INDEX(tirage!$A:$A,MATCH(N19,tirage!$B:$B,0)),"")
B20: 12 | C20: =IFERROR(INDEX(tirage!$A:$A,MATCH(B20,tirage!$B:$B,0)),"") -> ANTIBES | E20: 30 | F20: =IFERROR(INDEX(tirage!$A:$A,MATCH(E20,tirage!$B:$B,0)),"") | H20: 48 | I20: =IFERROR(INDEX(tirage!$A:$A,MATCH(H20,tirage!$B:$B,0)),"") | K20: 66 | L20: =IFERROR(INDEX(tirage!$A:$A,MATCH(K20,tirage!$B:$B,0)),"") | N20: 84 | O20: =IFERROR(INDEX(tirage!$A:$A,MATCH(N20,tirage!$B:$B,0)),"")
... B29: 18 | C29: =IFERROR(INDEX(tirage!$A:$A,MATCH(B29,tirage!$B:$B,0)),"") | E29: 36 | F29: =IFERROR(INDEX(tirage!$A:$A,MATCH(E29,tirage!$B:$B,0)),"") | H29: 54 | I29: =IFERROR(INDEX(tirage!$A:$A,MATCH(H29,tirage!$B:$B,0)),"") | K29: 72 | L29: =IFERROR(INDEX(tirage!$A:$A,MATCH(K29,tirage!$B:$B,0)),"") | N29: 90 | O29: =IFERROR(INDEX(tirage!$A:$A,MATCH(N29,tirage!$B:$B,0)),"")

Sheet GROUPE A
F2: GROUPE A

Sheet GROUPE B
F2: GROUPE B

Sheet GROUPE C
F2: GROUPE C

Sheet GROUPE D
F2: GROUPE D

Sheet GROUPE E
F2: GROUPE E
