Workbook
Name f_locaux: OFFSET(p_locaux,0,0,COUNTA(l_locaux),1)
Name l_locaux: BDD!$D:$D
Name p_locaux: BDD!$D$5

Sheet LISTING EQUIPEMENTS
L1: Affaire : | W1: Phase : Date : AFFAIRE N°: | AA1: Remise estimée à : | AB1: 0.15 | AD1: Main d'œuvre Froid 30% base 7%
F2: BASE | H2: DIMENSIONS | I2: ELECTRICITE | O2: GAZ | R2: CANALISATIONS | Z2: Extraction
C3: REP, | D3: DESIGNATION | E3: NOTA | F3: OPTION | G3: Qté. | I3: Mono + T | L3: Tri + T+ N | R3: Eau Froide | U3: Eau Chaude | X3: Eau usée | Z3: Indicative | AA3: PRIX PUBLIC HT | AB3: PRIX VENDU HT | AC3: PRIX REMISÉ HT | AD3: Main d'œuvre | AE3: Prix
F4: RECUPÉRÉ | H4: INDICATIVES | I4: Unit. KW | J4: Tot. KW | K4: Type | L4: Unit. KW | M4: Tot. KW | N4: Type | O4: Unit. KW | P4: Tot. KW | Q4: Type | R4: Brut. Diam. | S4: Adou. Diam. | T4: Type | U4: Brut Diam. | V4: Adou. Diam. | W4: Type | X4: Diam. | Y4: Type | Z4: à prévoir en m3 | AA4: UNITAIRE | AB4: UNITAIRE | AC4: TOTAL | AD4: % | AE4: main d'œuvre
D5: LOCAL DECHETS | E5: 1 | F5: 2 | G5: 3 | H5: 4 | I5: 5 | J5: 6 | K5: 7 | L5: 8 | M5: 9 | N5: 10 | O5: 11 | P5: 12 | Q5: 13 | R5: 14 | S5: 15 | T5: 16 | U5: 17 | V5: 18 | W5: 19 | X5: 20 | Y5: 21 | Z5: 22 | AA5: 23 | AB5: =AA5*(1-$AB$1) -> 19.55 | AC5: =AB5*G5 -> 58.65 | AD5: 0.07 | AE5: =AD5*AC5 -> 4.1055
D7: BUREAU | E7: 24 | F7: 25 | G7: 26 | H7: 27 | I7: 28 | J7: 29 | K7: 30 | L7: 31 | M7: 32 | N7: 33 | O7: 34 | P7: 35 | Q7: 36 | R7: 37 | S7: 38 | T7: 39 | U7: 40 | V7: 41 | W7: 42 | X7: 43 | Y7: 44 | Z7: 45 | AA7: 46 | AB7: =AA7*(1-$AB$1) -> 39.1 | AC7: =AB7*G7 -> 1016.6 | AD7: 0.07 | AE7: =AD7*AC7 -> 71.162
E8: =IF(ISERROR(VLOOKUP($D8,BDD!$D$28:$AD$50,1,FALSE)),"",(VLOOKUP($D8,BDD!$D$28:$AD$50,2,FALSE))) | H8: =IF(ISERROR(VLOOKUP($D8,BDD!$D$5:$AD$50,3,FALSE)),"",(VLOOKUP($D8,BDD!$D$5:$AD$50,4,FALSE))) | I8: =IF(ISERROR(VLOOKUP($D8,BDD!$D$28:$AD$50,5,FALSE)),"",(VLOOKUP($D8,BDD!$D$28:$AD$50,5,FALSE))) | J8: =IF(ISERROR(VLOOKUP($D8,BDD!$D$28:$AD$50,6,FALSE)),"",(VLOOKUP($D8,BDD!$D$28:$AD$50,6,FALSE))) | K8: =IF(ISERROR(VLOOKUP($D8,BDD!$D$28:$AD$50,7,FALSE)),"",(VLOOKUP($D8,BDD!$D$28:$AD$50,7,FALSE))) | L8: =IF(ISERROR(VLOOKUP($D8,BDD!$D$28:$AD$50,8,FALSE)),"",(VLOOKUP($D8,BDD!$D$28:$AD$50,8,FALSE))) | M8: =IF(ISERROR(VLOOKUP($D8,BDD!$D$28:$AD$50,9,FALSE)),"",(VLOOKUP($D8,BDD!$D$28:$AD$50,9,FALSE))) | N8: =IF(ISERROR(VLOOKUP($D8,BDD!$D$28:$AD$50,10,FALSE)),"",(VLOOKUP($D8,BDD!$D$28:$AD$50,10,FALSE))) | O8: =IF(ISERROR(VLOOKUP($D8,BDD!$D$28:$AD$50,11,FALSE)),"",(VLOOKUP($D8,BDD!$D$28:$AD$50,11,FALSE))) | P8: =IF(ISERROR(VLOOKUP($D8,BDD!$D$28:$AD$50,12,FALSE)),"",(VLOOKUP($D8,BDD!$D$28:$AD$50,12,FALSE))) | Q8: =IF(ISERROR(VLOOKUP($D8,BDD!$D$28:$AD$50,13,FALSE)),"",(VLOOKUP($D8,BDD!$D$28:$AD$50,13,FALSE))) | R8: =IF(ISERROR(VLOOKUP($D8,BDD!$D$28:$AD$50,14,FALSE)),"",(VLOOKUP($D8,BDD!$D$28:$AD$50,14,FALSE))) | S8: =IF(ISERROR(VLOOKUP($D8,BDD!$D$28:$AD$50,15,FALSE)),"",(VLOOKUP($D8,BDD!$D$28:$AD$50,15,FALSE))) | T8: =IF(ISERROR(VLOOKUP($D8,BDD!$D$28:$AD$50,16,FALSE)),"",(VLOOKUP($D8,BDD!$D$28:$AD$50,16,FALSE))) | U8: =IF(ISERROR(VLOOKUP($D8,BDD!$D$28:$AD$50,17,FALSE)),"",(VLOOKUP($D8,BDD!$D$28:$AD$50,17,FALSE))) | V8: =IF(ISERROR(VLOOKUP($D8,BDD!$D$28:$AD$50,18,FALSE)),"",(VLOOKUP($D8,BDD!$D$28:$AD$50,18,FALSE))) | W8: =IF(ISERROR(VLOOKUP($D8,BDD!$D$28:$AD$50,19,FALSE)),"",(VLOOKUP($D8,BDD!$D$28:$AD$50,19,FALSE))) | X8: =IF(ISERROR(VLOOKUP($D8,BDD!$D$28:$AD$50,20,FALSE)),"",(VLOOKUP($D8,BDD!$D$28:$AD$50,20,FALSE))) | Y8: =IF(ISERROR(VLOOKUP($D8,BDD!$D$28:$AD$50,21,FALSE)),"",(VLOOKUP($D8,BDD!$D$28:$AD$50,21,FALSE))) | Z8: =IF(ISERROR(VLOOKUP($D8,BDD!$D$28:$AD$50,22,FALSE)),"",(VLOOKUP($D8,BDD!$D$28:$AD$50,22,FALSE))) | AA8: =IF(ISERROR(VLOOKUP($D9,BDD!$D$28:$AD$50,23,FALSE)),"",(VLOOKUP($D9,BDD!$D$28:$AD$50,23,FALSE))) | AB8: =AA8*(1-$AB$1) -> #VALUE! | AC8: =AB8*G9 -> #VALUE! | AD8: 0.07 | AE8: =AD8*AC8 -> #VALUE!
E9: =IF(ISERROR(VLOOKUP($D9,BDD!$D$28:$AD$50,1,FALSE)),"",(VLOOKUP($D9,BDD!$D$28:$AD$50,2,FALSE))) | H9: =IF(ISERROR(VLOOKUP($D9,BDD!$D$5:$AD$50,3,FALSE)),"",(VLOOKUP($D9,BDD!$D$5:$AD$50,4,FALSE))) | I9: =IF(ISERROR(VLOOKUP($D9,BDD!$D$28:$AD$50,5,FALSE)),"",(VLOOKUP($D9,BDD!$D$28:$AD$50,5,FALSE))) | J9: =IF(ISERROR(VLOOKUP($D9,BDD!$D$28:$AD$50,6,FALSE)),"",(VLOOKUP($D9,BDD!$D$28:$AD$50,6,FALSE))) | K9: =IF(ISERROR(VLOOKUP($D9,BDD!$D$28:$AD$50,7,FALSE)),"",(VLOOKUP($D9,BDD!$D$28:$AD$50,7,FALSE))) | L9: =IF(ISERROR(VLOOKUP($D9,BDD!$D$28:$AD$50,8,FALSE)),"",(VLOOKUP($D9,BDD!$D$28:$AD$50,8,FALSE))) | M9: =IF(ISERROR(VLOOKUP($D9,BDD!$D$28:$AD$50,9,FALSE)),"",(VLOOKUP($D9,BDD!$D$28:$AD$50,9,FALSE))) | N9: =IF(ISERROR(VLOOKUP($D9,BDD!$D$28:$AD$50,10,FALSE)),"",(VLOOKUP($D9,BDD!$D$28:$AD$50,10,FALSE))) | O9: =IF(ISERROR(VLOOKUP($D9,BDD!$D$28:$AD$50,11,FALSE)),"",(VLOOKUP($D9,BDD!$D$28:$AD$50,11,FALSE))) | P9: =IF(ISERROR(VLOOKUP($D9,BDD!$D$28:$AD$50,12,FALSE)),"",(VLOOKUP($D9,BDD!$D$28:$AD$50,12,FALSE))) | Q9: =IF(ISERROR(VLOOKUP($D9,BDD!$D$28:$AD$50,13,FALSE)),"",(VLOOKUP($D9,BDD!$D$28:$AD$50,13,FALSE))) | R9: =IF(ISERROR(VLOOKUP($D9,BDD!$D$28:$AD$50,14,FALSE)),"",(VLOOKUP($D9,BDD!$D$28:$AD$50,14,FALSE))) | S9: =IF(ISERROR(VLOOKUP($D9,BDD!$D$28:$AD$50,15,FALSE)),"",(VLOOKUP($D9,BDD!$D$28:$AD$50,15,FALSE))) | T9: =IF(ISERROR(VLOOKUP($D9,BDD!$D$28:$AD$50,16,FALSE)),"",(VLOOKUP($D9,BDD!$D$28:$AD$50,16,FALSE))) | U9: =IF(ISERROR(VLOOKUP($D9,BDD!$D$28:$AD$50,17,FALSE)),"",(VLOOKUP($D9,BDD!$D$28:$AD$50,17,FALSE))) | V9: =IF(ISERROR(VLOOKUP($D9,BDD!$D$28:$AD$50,18,FALSE)),"",(VLOOKUP($D9,BDD!$D$28:$AD$50,18,FALSE))) | W9: =IF(ISERROR(VLOOKUP($D9,BDD!$D$28:$AD$50,19,FALSE)),"",(VLOOKUP($D9,BDD!$D$28:$AD$50,19,FALSE))) | X9: =IF(ISERROR(VLOOKUP($D9,BDD!$D$28:$AD$50,20,FALSE)),"",(VLOOKUP($D9,BDD!$D$28:$AD$50,20,FALSE))) | Y9: =IF(ISERROR(VLOOKUP($D9,BDD!$D$28:$AD$50,21,FALSE)),"",(VLOOKUP($D9,BDD!$D$28:$AD$50,21,FALSE))) | Z9: =IF(ISERROR(VLOOKUP($D9,BDD!$D$28:$AD$50,22,FALSE)),"",(VLOOKUP($D9,BDD!$D$28:$AD$50,22,FALSE))) | AA9: =IF(ISERROR(VLOOKUP($D10,BDD!$D$28:$AD$50,23,FALSE)),"",(VLOOKUP($D10,BDD!$D$28:$AD$50,23,FALSE))) | AB9: =AA9*(1-$AB$1) -> #VALUE! | AC9: =AB9*G10 -> #VALUE! | AD9: 0.07 | AE9: =AD9*AC9 -> #VALUE!
E10: =IF(ISERROR(VLOOKUP($D10,BDD!$D$28:$AD$50,1,FALSE)),"",(VLOOKUP($D10,BDD!$D$28:$AD$50,2,FALSE))) | H10: =IF(ISERROR(VLOOKUP($D10,BDD!$D$5:$AD$50,3,FALSE)),"",(VLOOKUP($D10,BDD!$D$5:$AD$50,4,FALSE))) | I10: =IF(ISERROR(VLOOKUP($D10,BDD!$D$28:$AD$50,5,FALSE)),"",(VLOOKUP($D10,BDD!$D$28:$AD$50,5,FALSE))) | J10: =IF(ISERROR(VLOOKUP($D10,BDD!$D$28:$AD$50,6,FALSE)),"",(VLOOKUP($D10,BDD!$D$28:$AD$50,6,FALSE))) | K10: =IF(ISERROR(VLOOKUP($D10,BDD!$D$28:$AD$50,7,FALSE)),"",(VLOOKUP($D10,BDD!$D$28:$AD$50,7,FALSE))) | L10: =IF(ISERROR(VLOOKUP($D10,BDD!$D$28:$AD$50,8,FALSE)),"",(VLOOKUP($D10,BDD!$D$28:$AD$50,8,FALSE))) | M10: =IF(ISERROR(VLOOKUP($D10,BDD!$D$28:$AD$50,9,FALSE)),"",(VLOOKUP($D10,BDD!$D$28:$AD$50,9,FALSE))) | N10: =IF(ISERROR(VLOOKUP($D10,BDD!$D$28:$AD$50,10,FALSE)),"",(VLOOKUP($D10,BDD!$D$28:$AD$50,10,FALSE))) | O10: =IF(ISERROR(VLOOKUP($D10,BDD!$D$28:$AD$50,11,FALSE)),"",(VLOOKUP($D10,BDD!$D$28:$AD$50,11,FALSE))) | P10: =IF(ISERROR(VLOOKUP($D10,BDD!$D$28:$AD$50,12,FALSE)),"",(VLOOKUP($D10,BDD!$D$28:$AD$50,12,FALSE))) | Q10: =IF(ISERROR(VLOOKUP($D10,BDD!$D$28:$AD$50,13,FALSE)),"",(VLOOKUP($D10,BDD!$D$28:$AD$50,13,FALSE))) | R10: =IF(ISERROR(VLOOKUP($D10,BDD!$D$28:$AD$50,14,FALSE)),"",(VLOOKUP($D10,BDD!$D$28:$AD$50,14,FALSE))) | S10: =IF(ISERROR(VLOOKUP($D10,BDD!$D$28:$AD$50,15,FALSE)),"",(VLOOKUP($D10,BDD!$D$28:$AD$50,15,FALSE))) | T10: =IF(ISERROR(VLOOKUP($D10,BDD!$D$28:$AD$50,16,FALSE)),"",(VLOOKUP($D10,BDD!$D$28:$AD$50,16,FALSE))) | U10: =IF(ISERROR(VLOOKUP($D10,BDD!$D$28:$AD$50,17,FALSE)),"",(VLOOKUP($D10,BDD!$D$28:$AD$50,17,FALSE))) | V10: =IF(ISERROR(VLOOKUP($D10,BDD!$D$28:$AD$50,18,FALSE)),"",(VLOOKUP($D10,BDD!$D$28:$AD$50,18,FALSE))) | W10: =IF(ISERROR(VLOOKUP($D10,BDD!$D$28:$AD$50,19,FALSE)),"",(VLOOKUP($D10,BDD!$D$28:$AD$50,19,FALSE))) | X10: =IF(ISERROR(VLOOKUP($D10,BDD!$D$28:$AD$50,20,FALSE)),"",(VLOOKUP($D10,BDD!$D$28:$AD$50,20,FALSE))) | Y10: =IF(ISERROR(VLOOKUP($D10,BDD!$D$28:$AD$50,21,FALSE)),"",(VLOOKUP($D10,BDD!$D$28:$AD$50,21,FALSE))) | Z10: =IF(ISERROR(VLOOKUP($D10,BDD!$D$28:$AD$50,22,FALSE)),"",(VLOOKUP($D10,BDD!$D$28:$AD$50,22,FALSE))) | AA10: =IF(ISERROR(VLOOKUP($D11,BDD!$D$28:$AD$50,23,FALSE)),"",(VLOOKUP($D11,BDD!$D$28:$AD$50,23,FALSE))) | AB10: =AA10*(1-$AB$1) -> #VALUE! | AC10: =AB10*G11 -> #VALUE! | AD10: 0.07 | AE10: =AD10*AC10 -> #VALUE!
E11: =IF(ISERROR(VLOOKUP($D11,BDD!$D$28:$AD$50,1,FALSE)),"",(VLOOKUP($D11,BDD!$D$28:$AD$50,2,FALSE))) | H11: =IF(ISERROR(VLOOKUP($D11,BDD!$D$5:$AD$50,3,FALSE)),"",(VLOOKUP($D11,BDD!$D$5:$AD$50,4,FALSE))) | I11: =IF(ISERROR(VLOOKUP($D11,BDD!$D$28:$AD$50,5,FALSE)),"",(VLOOKUP($D11,BDD!$D$28:$AD$50,5,FALSE))) | J11: =IF(ISERROR(VLOOKUP($D11,BDD!$D$28:$AD$50,6,FALSE)),"",(VLOOKUP($D11,BDD!$D$28:$AD$50,6,FALSE))) | K11: =IF(ISERROR(VLOOKUP($D11,BDD!$D$28:$AD$50,7,FALSE)),"",(VLOOKUP($D11,BDD!$D$28:$AD$50,7,FALSE))) | L11: =IF(ISERROR(VLOOKUP($D11,BDD!$D$28:$AD$50,8,FALSE)),"",(VLOOKUP($D11,BDD!$D$28:$AD$50,8,FALSE))) | M11: =IF(ISERROR(VLOOKUP($D11,BDD!$D$28:$AD$50,9,FALSE)),"",(VLOOKUP($D11,BDD!$D$28:$AD$50,9,FALSE))) | N11: =IF(ISERROR(VLOOKUP($D11,BDD!$D$28:$AD$50,10,FALSE)),"",(VLOOKUP($D11,BDD!$D$28:$AD$50,10,FALSE))) | O11: =IF(ISERROR(VLOOKUP($D11,BDD!$D$28:$AD$50,11,FALSE)),"",(VLOOKUP($D11,BDD!$D$28:$AD$50,11,FALSE))) | P11: =IF(ISERROR(VLOOKUP($D11,BDD!$D$28:$AD$50,12,FALSE)),"",(VLOOKUP($D11,BDD!$D$28:$AD$50,12,FALSE))) | Q11: =IF(ISERROR(VLOOKUP($D11,BDD!$D$28:$AD$50,13,FALSE)),"",(VLOOKUP($D11,BDD!$D$28:$AD$50,13,FALSE))) | R11: =IF(ISERROR(VLOOKUP($D11,BDD!$D$28:$AD$50,14,FALSE)),"",(VLOOKUP($D11,BDD!$D$28:$AD$50,14,FALSE))) | S11: =IF(ISERROR(VLOOKUP($D11,BDD!$D$28:$AD$50,15,FALSE)),"",(VLOOKUP($D11,BDD!$D$28:$AD$50,15,FALSE))) | T11: =IF(ISERROR(VLOOKUP($D11,BDD!$D$28:$AD$50,16,FALSE)),"",(VLOOKUP($D11,BDD!$D$28:$AD$50,16,FALSE))) | U11: =IF(ISERROR(VLOOKUP($D11,BDD!$D$28:$AD$50,17,FALSE)),"",(VLOOKUP($D11,BDD!$D$28:$AD$50,17,FALSE))) | V11: =IF(ISERROR(VLOOKUP($D11,BDD!$D$28:$AD$50,18,FALSE)),"",(VLOOKUP($D11,BDD!$D$28:$AD$50,18,FALSE))) | W11: =IF(ISERROR(VLOOKUP($D11,BDD!$D$28:$AD$50,19,FALSE)),"",(VLOOKUP($D11,BDD!$D$28:$AD$50,19,FALSE))) | X11: =IF(ISERROR(VLOOKUP($D11,BDD!$D$28:$AD$50,20,FALSE)),"",(VLOOKUP($D11,BDD!$D$28:$AD$50,20,FALSE))) | Y11: =IF(ISERROR(VLOOKUP($D11,BDD!$D$28:$AD$50,21,FALSE)),"",(VLOOKUP($D11,BDD!$D$28:$AD$50,21,FALSE))) | Z11: =IF(ISERROR(VLOOKUP($D11,BDD!$D$28:$AD$50,22,FALSE)),"",(VLOOKUP($D11,BDD!$D$28:$AD$50,22,FALSE))) | AA11: =IF(ISERROR(VLOOKUP(#REF!,BDD!$D$28:$AD$50,23,FALSE)),"",(VLOOKUP(#REF!,BDD!$D$28:$AD$50,23,FALSE))) | AB11: =AA11*(1-$AB$1) -> #VALUE! | AC11: =AB11*#REF! -> #VALUE! | AD11: 0.07 | AE11: =AD11*AC11 -> #VALUE!
E12: =IF(ISERROR(VLOOKUP($D12,BDD!$D$28:$AD$50,1,FALSE)),"",(VLOOKUP($D12,BDD!$D$28:$AD$50,2,FALSE))) | H12: =IF(ISERROR(VLOOKUP($D12,BDD!$D$5:$AD$50,3,FALSE)),"",(VLOOKUP($D12,BDD!$D$5:$AD$50,4,FALSE))) | I12: =IF(ISERROR(VLOOKUP($D12,BDD!$D$28:$AD$50,5,FALSE)),"",(VLOOKUP($D12,BDD!$D$28:$AD$50,5,FALSE))) | J12: =IF(ISERROR(VLOOKUP($D12,BDD!$D$28:$AD$50,6,FALSE)),"",(VLOOKUP($D12,BDD!$D$28:$AD$50,6,FALSE))) | K12: =IF(ISERROR(VLOOKUP($D12,BDD!$D$28:$AD$50,7,FALSE)),"",(VLOOKUP($D12,BDD!$D$28:$AD$50,7,FALSE))) | L12: =IF(ISERROR(VLOOKUP($D12,BDD!$D$28:$AD$50,8,FALSE)),"",(VLOOKUP($D12,BDD!$D$28:$AD$50,8,FALSE))) | M12: =IF(ISERROR(VLOOKUP($D12,BDD!$D$28:$AD$50,9,FALSE)),"",(VLOOKUP($D12,BDD!$D$28:$AD$50,9,FALSE))) | N12: =IF(ISERROR(VLOOKUP($D12,BDD!$D$28:$AD$50,10,FALSE)),"",(VLOOKUP($D12,BDD!$D$28:$AD$50,10,FALSE))) | O12: =IF(ISERROR(VLOOKUP($D12,BDD!$D$28:$AD$50,11,FALSE)),"",(VLOOKUP($D12,BDD!$D$28:$AD$50,11,FALSE))) | P12: =IF(ISERROR(VLOOKUP($D12,BDD!$D$28:$AD$50,12,FALSE)),"",(VLOOKUP($D12,BDD!$D$28:$AD$50,12,FALSE))) | Q12: =IF(ISERROR(VLOOKUP($D12,BDD!$D$28:$AD$50,13,FALSE)),"",(VLOOKUP($D12,BDD!$D$28:$AD$50,13,FALSE))) | R12: =IF(ISERROR(VLOOKUP($D12,BDD!$D$28:$AD$50,14,FALSE)),"",(VLOOKUP($D12,BDD!$D$28:$AD$50,14,FALSE))) | S12: =IF(ISERROR(VLOOKUP($D12,BDD!$D$28:$AD$50,15,FALSE)),"",(VLOOKUP($D12,BDD!$D$28:$AD$50,15,FALSE))) | T12: =IF(ISERROR(VLOOKUP($D12,BDD!$D$28:$AD$50,16,FALSE)),"",(VLOOKUP($D12,BDD!$D$28:$AD$50,16,FALSE))) | U12: =IF(ISERROR(VLOOKUP($D12,BDD!$D$28:$AD$50,17,FALSE)),"",(VLOOKUP($D12,BDD!$D$28:$AD$50,17,FALSE))) | V12: =IF(ISERROR(VLOOKUP($D12,BDD!$D$28:$AD$50,18,FALSE)),"",(VLOOKUP($D12,BDD!$D$28:$AD$50,18,FALSE))) | W12: =IF(ISERROR(VLOOKUP($D12,BDD!$D$28:$AD$50,19,FALSE)),"",(VLOOKUP($D12,BDD!$D$28:$AD$50,19,FALSE))) | X12: =IF(ISERROR(VLOOKUP($D12,BDD!$D$28:$AD$50,20,FALSE)),"",(VLOOKUP($D12,BDD!$D$28:$AD$50,20,FALSE))) | Y12: =IF(ISERROR(VLOOKUP($D12,BDD!$D$28:$AD$50,21,FALSE)),"",(VLOOKUP($D12,BDD!$D$28:$AD$50,21,FALSE))) | Z12: =IF(ISERROR(VLOOKUP($D12,BDD!$D$28:$AD$50,22,FALSE)),"",(VLOOKUP($D12,BDD!$D$28:$AD$50,22,FALSE))) | AA12: =IF(ISERROR(VLOOKUP($D13,BDD!$D$28:$AD$50,23,FALSE)),"",(VLOOKUP($D13,BDD!$D$28:$AD$50,23,FALSE))) | AB12: =AA12*(1-$AB$1) -> #VALUE! | AC12: =AB12*G13 -> #VALUE! | AD12: 0.07 | AE12: =AD12*AC12 -> #VALUE!
E13: =IF(ISERROR(VLOOKUP($D13,BDD!$D$28:$AD$50,1,FALSE)),"",(VLOOKUP($D13,BDD!$D$28:$AD$50,2,FALSE))) | H13: =IF(ISERROR(VLOOKUP($D13,BDD!$D$5:$AD$50,3,FALSE)),"",(VLOOKUP($D13,BDD!$D$5:$AD$50,4,FALSE))) | I13: =IF(ISERROR(VLOOKUP($D13,BDD!$D$28:$AD$50,5,FALSE)),"",(VLOOKUP($D13,BDD!$D$28:$AD$50,5,FALSE))) | J13: =IF(ISERROR(VLOOKUP($D13,BDD!$D$28:$AD$50,6,FALSE)),"",(VLOOKUP($D13,BDD!$D$28:$AD$50,6,FALSE))) | K13: =IF(ISERROR(VLOOKUP($D13,BDD!$D$28:$AD$50,7,FALSE)),"",(VLOOKUP($D13,BDD!$D$28:$AD$50,7,FALSE))) | L13: =IF(ISERROR(VLOOKUP($D13,BDD!$D$28:$AD$50,8,FALSE)),"",(VLOOKUP($D13,BDD!$D$28:$AD$50,8,FALSE))) | M13: =IF(ISERROR(VLOOKUP($D13,BDD!$D$28:$AD$50,9,FALSE)),"",(VLOOKUP($D13,BDD!$D$28:$AD$50,9,FALSE))) | N13: =IF(ISERROR(VLOOKUP($D13,BDD!$D$28:$AD$50,10,FALSE)),"",(VLOOKUP($D13,BDD!$D$28:$AD$50,10,FALSE))) | O13: =IF(ISERROR(VLOOKUP($D13,BDD!$D$28:$AD$50,11,FALSE)),"",(VLOOKUP($D13,BDD!$D$28:$AD$50,11,FALSE))) | P13: =IF(ISERROR(VLOOKUP($D13,BDD!$D$28:$AD$50,12,FALSE)),"",(VLOOKUP($D13,BDD!$D$28:$AD$50,12,FALSE))) | Q13: =IF(ISERROR(VLOOKUP($D13,BDD!$D$28:$AD$50,13,FALSE)),"",(VLOOKUP($D13,BDD!$D$28:$AD$50,13,FALSE))) | R13: =IF(ISERROR(VLOOKUP($D13,BDD!$D$28:$AD$50,14,FALSE)),"",(VLOOKUP($D13,BDD!$D$28:$AD$50,14,FALSE))) | S13: =IF(ISERROR(VLOOKUP($D13,BDD!$D$28:$AD$50,15,FALSE)),"",(VLOOKUP($D13,BDD!$D$28:$AD$50,15,FALSE))) | T13: =IF(ISERROR(VLOOKUP($D13,BDD!$D$28:$AD$50,16,FALSE)),"",(VLOOKUP($D13,BDD!$D$28:$AD$50,16,FALSE))) | U13: =IF(ISERROR(VLOOKUP($D13,BDD!$D$28:$AD$50,17,FALSE)),"",(VLOOKUP($D13,BDD!$D$28:$AD$50,17,FALSE))) | V13: =IF(ISERROR(VLOOKUP($D13,BDD!$D$28:$AD$50,18,FALSE)),"",(VLOOKUP($D13,BDD!$D$28:$AD$50,18,FALSE))) | W13: =IF(ISERROR(VLOOKUP($D13,BDD!$D$28:$AD$50,19,FALSE)),"",(VLOOKUP($D13,BDD!$D$28:$AD$50,19,FALSE))) | X13: =IF(ISERROR(VLOOKUP($D13,BDD!$D$28:$AD$50,20,FALSE)),"",(VLOOKUP($D13,BDD!$D$28:$AD$50,20,FALSE))) | Y13: =IF(ISERROR(VLOOKUP($D13,BDD!$D$28:$AD$50,21,FALSE)),"",(VLOOKUP($D13,BDD!$D$28:$AD$50,21,FALSE))) | Z13: =IF(ISERROR(VLOOKUP($D13,BDD!$D$28:$AD$50,22,FALSE)),"",(VLOOKUP($D13,BDD!$D$28:$AD$50,22,FALSE))) | AA13: =IF(ISERROR(VLOOKUP($D14,BDD!$D$28:$AD$50,23,FALSE)),"",(VLOOKUP($D14,BDD!$D$28:$AD$50,23,FALSE))) | AB13: =AA13*(1-$AB$1) -> #VALUE! | AC13: =AB13*G14 -> #VALUE! | AD13: 0.07 | AE13: =AD13*AC13 -> #VALUE!
E14: =IF(ISERROR(VLOOKUP($D14,BDD!$D$28:$AD$50,1,FALSE)),"",(VLOOKUP($D14,BDD!$D$28:$AD$50,2,FALSE))) | H14: =IF(ISERROR(VLOOKUP($D14,BDD!$D$5:$AD$50,3,FALSE)),"",(VLOOKUP($D14,BDD!$D$5:$AD$50,4,FALSE))) | I14: =IF(ISERROR(VLOOKUP($D14,BDD!$D$28:$AD$50,5,FALSE)),"",(VLOOKUP($D14,BDD!$D$28:$AD$50,5,FALSE))) | J14: =IF(ISERROR(VLOOKUP($D14,BDD!$D$28:$AD$50,6,FALSE)),"",(VLOOKUP($D14,BDD!$D$28:$AD$50,6,FALSE))) | K14: =IF(ISERROR(VLOOKUP($D14,BDD!$D$28:$AD$50,7,FALSE)),"",(VLOOKUP($D14,BDD!$D$28:$AD$50,7,FALSE))) | L14: =IF(ISERROR(VLOOKUP($D14,BDD!$D$28:$AD$50,8,FALSE)),"",(VLOOKUP($D14,BDD!$D$28:$AD$50,8,FALSE))) | M14: =IF(ISERROR(VLOOKUP($D14,BDD!$D$28:$AD$50,9,FALSE)),"",(VLOOKUP($D14,BDD!$D$28:$AD$50,9,FALSE))) | N14: =IF(ISERROR(VLOOKUP($D14,BDD!$D$28:$AD$50,10,FALSE)),"",(VLOOKUP($D14,BDD!$D$28:$AD$50,10,FALSE))) | O14: =IF(ISERROR(VLOOKUP($D14,BDD!$D$28:$AD$50,11,FALSE)),"",(VLOOKUP($D14,BDD!$D$28:$AD$50,11,FALSE))) | P14: =IF(ISERROR(VLOOKUP($D14,BDD!$D$28:$AD$50,12,FALSE)),"",(VLOOKUP($D14,BDD!$D$28:$AD$50,12,FALSE))) | Q14: =IF(ISERROR(VLOOKUP($D14,BDD!$D$28:$AD$50,13,FALSE)),"",(VLOOKUP($D14,BDD!$D$28:$AD$50,13,FALSE))) | R14: =IF(ISERROR(VLOOKUP($D14,BDD!$D$28:$AD$50,14,FALSE)),"",(VLOOKUP($D14,BDD!$D$28:$AD$50,14,FALSE))) | S14: =IF(ISERROR(VLOOKUP($D14,BDD!$D$28:$AD$50,15,FALSE)),"",(VLOOKUP($D14,BDD!$D$28:$AD$50,15,FALSE))) | T14: =IF(ISERROR(VLOOKUP($D14,BDD!$D$28:$AD$50,16,FALSE)),"",(VLOOKUP($D14,BDD!$D$28:$AD$50,16,FALSE))) | U14: =IF(ISERROR(VLOOKUP($D14,BDD!$D$28:$AD$50,17,FALSE)),"",(VLOOKUP($D14,BDD!$D$28:$AD$50,17,FALSE))) | V14: =IF(ISERROR(VLOOKUP($D14,BDD!$D$28:$AD$50,18,FALSE)),"",(VLOOKUP($D14,BDD!$D$28:$AD$50,18,FALSE))) | W14: =IF(ISERROR(VLOOKUP($D14,BDD!$D$28:$AD$50,19,FALSE)),"",(VLOOKUP($D14,BDD!$D$28:$AD$50,19,FALSE))) | X14: =IF(ISERROR(VLOOKUP($D14,BDD!$D$28:$AD$50,20,FALSE)),"",(VLOOKUP($D14,BDD!$D$28:$AD$50,20,FALSE))) | Y14: =IF(ISERROR(VLOOKUP($D14,BDD!$D$28:$AD$50,21,FALSE)),"",(VLOOKUP($D14,BDD!$D$28:$AD$50,21,FALSE))) | Z14: =IF(ISERROR(VLOOKUP($D14,BDD!$D$28:$AD$50,22,FALSE)),"",(VLOOKUP($D14,BDD!$D$28:$AD$50,22,FALSE))) | AA14: =IF(ISERROR(VLOOKUP($D15,BDD!$D$28:$AD$50,23,FALSE)),"",(VLOOKUP($D15,BDD!$D$28:$AD$50,23,FALSE)))
E15: =IF(ISERROR(VLOOKUP($D15,BDD!$D$28:$AD$50,1,FALSE)),"",(VLOOKUP($D15,BDD!$D$28:$AD$50,2,FALSE))) | H15: =IF(ISERROR(VLOOKUP($D15,BDD!$D$5:$AD$50,3,FALSE)),"",(VLOOKUP($D15,BDD!$D$5:$AD$50,4,FALSE))) | I15: =IF(ISERROR(VLOOKUP($D15,BDD!$D$28:$AD$50,5,FALSE)),"",(VLOOKUP($D15,BDD!$D$28:$AD$50,5,FALSE))) | J15: =IF(ISERROR(VLOOKUP($D15,BDD!$D$28:$AD$50,6,FALSE)),"",(VLOOKUP($D15,BDD!$D$28:$AD$50,6,FALSE))) | K15: =IF(ISERROR(VLOOKUP($D15,BDD!$D$28:$AD$50,7,FALSE)),"",(VLOOKUP($D15,BDD!$D$28:$AD$50,7,FALSE))) | L15: =IF(ISERROR(VLOOKUP($D15,BDD!$D$28:$AD$50,8,FALSE)),"",(VLOOKUP($D15,BDD!$D$28:$AD$50,8,FALSE))) | M15: =IF(ISERROR(VLOOKUP($D15,BDD!$D$28:$AD$50,9,FALSE)),"",(VLOOKUP($D15,BDD!$D$28:$AD$50,9,FALSE))) | N15: =IF(ISERROR(VLOOKUP($D15,BDD!$D$28:$AD$50,10,FALSE)),"",(VLOOKUP($D15,BDD!$D$28:$AD$50,10,FALSE))) | O15: =IF(ISERROR(VLOOKUP($D15,BDD!$D$28:$AD$50,11,FALSE)),"",(VLOOKUP($D15,BDD!$D$28:$AD$50,11,FALSE))) | P15: =IF(ISERROR(VLOOKUP($D15,BDD!$D$28:$AD$50,12,FALSE)),"",(VLOOKUP($D15,BDD!$D$28:$AD$50,12,FALSE))) | Q15: =IF(ISERROR(VLOOKUP($D15,BDD!$D$28:$AD$50,13,FALSE)),"",(VLOOKUP($D15,BDD!$D$28:$AD$50,13,FALSE))) | R15: =IF(ISERROR(VLOOKUP($D15,BDD!$D$28:$AD$50,14,FALSE)),"",(VLOOKUP($D15,BDD!$D$28:$AD$50,14,FALSE))) | S15: =IF(ISERROR(VLOOKUP($D15,BDD!$D$28:$AD$50,15,FALSE)),"",(VLOOKUP($D15,BDD!$D$28:$AD$50,15,FALSE))) | T15: =IF(ISERROR(VLOOKUP($D15,BDD!$D$28:$AD$50,16,FALSE)),"",(VLOOKUP($D15,BDD!$D$28:$AD$50,16,FALSE))) | U15: =IF(ISERROR(VLOOKUP($D15,BDD!$D$28:$AD$50,17,FALSE)),"",(VLOOKUP($D15,BDD!$D$28:$AD$50,17,FALSE))) | V15: =IF(ISERROR(VLOOKUP($D15,BDD!$D$28:$AD$50,18,FALSE)),"",(VLOOKUP($D15,BDD!$D$28:$AD$50,18,FALSE))) | W15: =IF(ISERROR(VLOOKUP($D15,BDD!$D$28:$AD$50,19,FALSE)),"",(VLOOKUP($D15,BDD!$D$28:$AD$50,19,FALSE))) | X15: =IF(ISERROR(VLOOKUP($D15,BDD!$D$28:$AD$50,20,FALSE)),"",(VLOOKUP($D15,BDD!$D$28:$AD$50,20,FALSE))) | Y15: =IF(ISERROR(VLOOKUP($D15,BDD!$D$28:$AD$50,21,FALSE)),"",(VLOOKUP($D15,BDD!$D$28:$AD$50,21,FALSE))) | Z15: =IF(ISERROR(VLOOKUP($D15,BDD!$D$28:$AD$50,22,FALSE)),"",(VLOOKUP($D15,BDD!$D$28:$AD$50,22,FALSE))) | AA15: =IF(ISERROR(VLOOKUP($D16,BDD!$D$28:$AD$50,23,FALSE)),"",(VLOOKUP($D16,BDD!$D$28:$AD$50,23,FALSE)))
E16: =IF(ISERROR(VLOOKUP($D16,BDD!$D$28:$AD$50,1,FALSE)),"",(VLOOKUP($D16,BDD!$D$28:$AD$50,2,FALSE))) | H16: =IF(ISERROR(VLOOKUP($D16,BDD!$D$5:$AD$50,3,FALSE)),"",(VLOOKUP($D16,BDD!$D$5:$AD$50,4,FALSE))) | I16: =IF(ISERROR(VLOOKUP($D16,BDD!$D$28:$AD$50,5,FALSE)),"",(VLOOKUP($D16,BDD!$D$28:$AD$50,5,FALSE))) | J16: =IF(ISERROR(VLOOKUP($D16,BDD!$D$28:$AD$50,6,FALSE)),"",(VLOOKUP($D16,BDD!$D$28:$AD$50,6,FALSE))) | K16: =IF(ISERROR(VLOOKUP($D16,BDD!$D$28:$AD$50,7,FALSE)),"",(VLOOKUP($D16,BDD!$D$28:$AD$50,7,FALSE))) | L16: =IF(ISERROR(VLOOKUP($D16,BDD!$D$28:$AD$50,8,FALSE)),"",(VLOOKUP($D16,BDD!$D$28:$AD$50,8,FALSE))) | M16: =IF(ISERROR(VLOOKUP($D16,BDD!$D$28:$AD$50,9,FALSE)),"",(VLOOKUP($D16,BDD!$D$28:$AD$50,9,FALSE))) | N16: =IF(ISERROR(VLOOKUP($D16,BDD!$D$28:$AD$50,10,FALSE)),"",(VLOOKUP($D16,BDD!$D$28:$AD$50,10,FALSE))) | O16: =IF(ISERROR(VLOOKUP($D16,BDD!$D$28:$AD$50,11,FALSE)),"",(VLOOKUP($D16,BDD!$D$28:$AD$50,11,FALSE))) | P16: =IF(ISERROR(VLOOKUP($D16,BDD!$D$28:$AD$50,12,FALSE)),"",(VLOOKUP($D16,BDD!$D$28:$AD$50,12,FALSE))) | Q16: =IF(ISERROR(VLOOKUP($D16,BDD!$D$28:$AD$50,13,FALSE)),"",(VLOOKUP($D16,BDD!$D$28:$AD$50,13,FALSE))) | R16: =IF(ISERROR(VLOOKUP($D16,BDD!$D$28:$AD$50,14,FALSE)),"",(VLOOKUP($D16,BDD!$D$28:$AD$50,14,FALSE))) | S16: =IF(ISERROR(VLOOKUP($D16,BDD!$D$28:$AD$50,15,FALSE)),"",(VLOOKUP($D16,BDD!$D$28:$AD$50,15,FALSE))) | T16: =IF(ISERROR(VLOOKUP($D16,BDD!$D$28:$AD$50,16,FALSE)),"",(VLOOKUP($D16,BDD!$D$28:$AD$50,16,FALSE))) | U16: =IF(ISERROR(VLOOKUP($D16,BDD!$D$28:$AD$50,17,FALSE)),"",(VLOOKUP($D16,BDD!$D$28:$AD$50,17,FALSE))) | V16: =IF(ISERROR(VLOOKUP($D16,BDD!$D$28:$AD$50,18,FALSE)),"",(VLOOKUP($D16,BDD!$D$28:$AD$50,18,FALSE))) | W16: =IF(ISERROR(VLOOKUP($D16,BDD!$D$28:$AD$50,19,FALSE)),"",(VLOOKUP($D16,BDD!$D$28:$AD$50,19,FALSE))) | X16: =IF(ISERROR(VLOOKUP($D16,BDD!$D$28:$AD$50,20,FALSE)),"",(VLOOKUP($D16,BDD!$D$28:$AD$50,20,FALSE))) | Y16: =IF(ISERROR(VLOOKUP($D16,BDD!$D$28:$AD$50,21,FALSE)),"",(VLOOKUP($D16,BDD!$D$28:$AD$50,21,FALSE))) | Z16: =IF(ISERROR(VLOOKUP($D16,BDD!$D$28:$AD$50,22,FALSE)),"",(VLOOKUP($D16,BDD!$D$28:$AD$50,22,FALSE))) | AA16: =IF(ISERROR(VLOOKUP($D17,BDD!$D$28:$AD$50,23,FALSE)),"",(VLOOKUP($D17,BDD!$D$28:$AD$50,23,FALSE)))
E17: =IF(ISERROR(VLOOKUP($D17,BDD!$D$28:$AD$50,1,FALSE)),"",(VLOOKUP($D17,BDD!$D$28:$AD$50,2,FALSE))) | H17: =IF(ISERROR(VLOOKUP($D17,BDD!$D$5:$AD$50,3,FALSE)),"",(VLOOKUP($D17,BDD!$D$5:$AD$50,4,FALSE))) | I17: =IF(ISERROR(VLOOKUP($D17,BDD!$D$28:$AD$50,5,FALSE)),"",(VLOOKUP($D17,BDD!$D$28:$AD$50,5,FALSE))) | J17: =IF(ISERROR(VLOOKUP($D17,BDD!$D$28:$AD$50,6,FALSE)),"",(VLOOKUP($D17,BDD!$D$28:$AD$50,6,FALSE))) | K17: =IF(ISERROR(VLOOKUP($D17,BDD!$D$28:$AD$50,7,FALSE)),"",(VLOOKUP($D17,BDD!$D$28:$AD$50,7,FALSE))) | L17: =IF(ISERROR(VLOOKUP($D17,BDD!$D$28:$AD$50,8,FALSE)),"",(VLOOKUP($D17,BDD!$D$28:$AD$50,8,FALSE))) | M17: =IF(ISERROR(VLOOKUP($D17,BDD!$D$28:$AD$50,9,FALSE)),"",(VLOOKUP($D17,BDD!$D$28:$AD$50,9,FALSE))) | N17: =IF(ISERROR(VLOOKUP($D17,BDD!$D$28:$AD$50,10,FALSE)),"",(VLOOKUP($D17,BDD!$D$28:$AD$50,10,FALSE))) | O17: =IF(ISERROR(VLOOKUP($D17,BDD!$D$28:$AD$50,11,FALSE)),"",(VLOOKUP($D17,BDD!$D$28:$AD$50,11,FALSE))) | P17: =IF(ISERROR(VLOOKUP($D17,BDD!$D$28:$AD$50,12,FALSE)),"",(VLOOKUP($D17,BDD!$D$28:$AD$50,12,FALSE))) | Q17: =IF(ISERROR(VLOOKUP($D17,BDD!$D$28:$AD$50,13,FALSE)),"",(VLOOKUP($D17,BDD!$D$28:$AD$50,13,FALSE))) | R17: =IF(ISERROR(VLOOKUP($D17,BDD!$D$28:$AD$50,14,FALSE)),"",(VLOOKUP($D17,BDD!$D$28:$AD$50,14,FALSE))) | S17: =IF(ISERROR(VLOOKUP($D17,BDD!$D$28:$AD$50,15,FALSE)),"",(VLOOKUP($D17,BDD!$D$28:$AD$50,15,FALSE))) | T17: =IF(ISERROR(VLOOKUP($D17,BDD!$D$28:$AD$50,16,FALSE)),"",(VLOOKUP($D17,BDD!$D$28:$AD$50,16,FALSE))) | U17: =IF(ISERROR(VLOOKUP($D17,BDD!$D$28:$AD$50,17,FALSE)),"",(VLOOKUP($D17,BDD!$D$28:$AD$50,17,FALSE))) | V17: =IF(ISERROR(VLOOKUP($D17,BDD!$D$28:$AD$50,18,FALSE)),"",(VLOOKUP($D17,BDD!$D$28:$AD$50,18,FALSE))) | W17: =IF(ISERROR(VLOOKUP($D17,BDD!$D$28:$AD$50,19,FALSE)),"",(VLOOKUP($D17,BDD!$D$28:$AD$50,19,FALSE))) | X17: =IF(ISERROR(VLOOKUP($D17,BDD!$D$28:$AD$50,20,FALSE)),"",(VLOOKUP($D17,BDD!$D$28:$AD$50,20,FALSE))) | Y17: =IF(ISERROR(VLOOKUP($D17,BDD!$D$28:$AD$50,21,FALSE)),"",(VLOOKUP($D17,BDD!$D$28:$AD$50,21,FALSE))) | Z17: =IF(ISERROR(VLOOKUP($D17,BDD!$D$28:$AD$50,22,FALSE)),"",(VLOOKUP($D17,BDD!$D$28:$AD$50,22,FALSE))) | AA17: =IF(ISERROR(VLOOKUP($D18,BDD!$D$28:$AD$50,23,FALSE)),"",(VLOOKUP($D18,BDD!$D$28:$AD$50,23,FALSE)))
E18: =IF(ISERROR(VLOOKUP($D18,BDD!$D$28:$AD$50,1,FALSE)),"",(VLOOKUP($D18,BDD!$D$28:$AD$50,2,FALSE))) | H18: =IF(ISERROR(VLOOKUP($D18,BDD!$D$5:$AD$50,3,FALSE)),"",(VLOOKUP($D18,BDD!$D$5:$AD$50,4,FALSE))) | I18: =IF(ISERROR(VLOOKUP($D18,BDD!$D$28:$AD$50,5,FALSE)),"",(VLOOKUP($D18,BDD!$D$28:$AD$50,5,FALSE))) | J18: =IF(ISERROR(VLOOKUP($D18,BDD!$D$28:$AD$50,6,FALSE)),"",(VLOOKUP($D18,BDD!$D$28:$AD$50,6,FALSE))) | K18: =IF(ISERROR(VLOOKUP($D18,BDD!$D$28:$AD$50,7,FALSE)),"",(VLOOKUP($D18,BDD!$D$28:$AD$50,7,FALSE))) | L18: =IF(ISERROR(VLOOKUP($D18,BDD!$D$28:$AD$50,8,FALSE)),"",(VLOOKUP($D18,BDD!$D$28:$AD$50,8,FALSE))) | M18: =IF(ISERROR(VLOOKUP($D18,BDD!$D$28:$AD$50,9,FALSE)),"",(VLOOKUP($D18,BDD!$D$28:$AD$50,9,FALSE))) | N18: =IF(ISERROR(VLOOKUP($D18,BDD!$D$28:$AD$50,10,FALSE)),"",(VLOOKUP($D18,BDD!$D$28:$AD$50,10,FALSE))) | O18: =IF(ISERROR(VLOOKUP($D18,BDD!$D$28:$AD$50,11,FALSE)),"",(VLOOKUP($D18,BDD!$D$28:$AD$50,11,FALSE))) | P18: =IF(ISERROR(VLOOKUP($D18,BDD!$D$28:$AD$50,12,FALSE)),"",(VLOOKUP($D18,BDD!$D$28:$AD$50,12,FALSE))) | Q18: =IF(ISERROR(VLOOKUP($D18,BDD!$D$28:$AD$50,13,FALSE)),"",(VLOOKUP($D18,BDD!$D$28:$AD$50,13,FALSE))) | R18: =IF(ISERROR(VLOOKUP($D18,BDD!$D$28:$AD$50,14,FALSE)),"",(VLOOKUP($D18,BDD!$D$28:$AD$50,14,FALSE))) | S18: =IF(ISERROR(VLOOKUP($D18,BDD!$D$28:$AD$50,15,FALSE)),"",(VLOOKUP($D18,BDD!$D$28:$AD$50,15,FALSE))) | T18: =IF(ISERROR(VLOOKUP($D18,BDD!$D$28:$AD$50,16,FALSE)),"",(VLOOKUP($D18,BDD!$D$28:$AD$50,16,FALSE))) | U18: =IF(ISERROR(VLOOKUP($D18,BDD!$D$28:$AD$50,17,FALSE)),"",(VLOOKUP($D18,BDD!$D$28:$AD$50,17,FALSE))) | V18: =IF(ISERROR(VLOOKUP($D18,BDD!$D$28:$AD$50,18,FALSE)),"",(VLOOKUP($D18,BDD!$D$28:$AD$50,18,FALSE))) | W18: =IF(ISERROR(VLOOKUP($D18,BDD!$D$28:$AD$50,19,FALSE)),"",(VLOOKUP($D18,BDD!$D$28:$AD$50,19,FALSE))) | X18: =IF(ISERROR(VLOOKUP($D18,BDD!$D$28:$AD$50,20,FALSE)),"",(VLOOKUP($D18,BDD!$D$28:$AD$50,20,FALSE))) | Y18: =IF(ISERROR(VLOOKUP($D18,BDD!$D$28:$AD$50,21,FALSE)),"",(VLOOKUP($D18,BDD!$D$28:$AD$50,21,FALSE))) | Z18: =IF(ISERROR(VLOOKUP($D18,BDD!$D$28:$AD$50,22,FALSE)),"",(VLOOKUP($D18,BDD!$D$28:$AD$50,22,FALSE))) | AA18: =IF(ISERROR(VLOOKUP($D19,BDD!$D$28:$AD$50,23,FALSE)),"",(VLOOKUP($D19,BDD!$D$28:$AD$50,23,FALSE)))
E19: =IF(ISERROR(VLOOKUP($D19,BDD!$D$28:$AD$50,1,FALSE)),"",(VLOOKUP($D19,BDD!$D$28:$AD$50,2,FALSE))) | H19: =IF(ISERROR(VLOOKUP($D19,BDD!$D$5:$AD$50,3,FALSE)),"",(VLOOKUP($D19,BDD!$D$5:$AD$50,4,FALSE))) | I19: =IF(ISERROR(VLOOKUP($D19,BDD!$D$28:$AD$50,5,FALSE)),"",(VLOOKUP($D19,BDD!$D$28:$AD$50,5,FALSE))) | J19: =IF(ISERROR(VLOOKUP($D19,BDD!$D$28:$AD$50,6,FALSE)),"",(VLOOKUP($D19,BDD!$D$28:$AD$50,6,FALSE))) | K19: =IF(ISERROR(VLOOKUP($D19,BDD!$D$28:$AD$50,7,FALSE)),"",(VLOOKUP($D19,BDD!$D$28:$AD$50,7,FALSE))) | L19: =IF(ISERROR(VLOOKUP($D19,BDD!$D$28:$AD$50,8,FALSE)),"",(VLOOKUP($D19,BDD!$D$28:$AD$50,8,FALSE))) | M19: =IF(ISERROR(VLOOKUP($D19,BDD!$D$28:$AD$50,9,FALSE)),"",(VLOOKUP($D19,BDD!$D$28:$AD$50,9,FALSE))) | N19: =IF(ISERROR(VLOOKUP($D19,BDD!$D$28:$AD$50,10,FALSE)),"",(VLOOKUP($D19,BDD!$D$28:$AD$50,10,FALSE))) | O19: =IF(ISERROR(VLOOKUP($D19,BDD!$D$28:$AD$50,11,FALSE)),"",(VLOOKUP($D19,BDD!$D$28:$AD$50,11,FALSE))) | P19: =IF(ISERROR(VLOOKUP($D19,BDD!$D$28:$AD$50,12,FALSE)),"",(VLOOKUP($D19,BDD!$D$28:$AD$50,12,FALSE))) | Q19: =IF(ISERROR(VLOOKUP($D19,BDD!$D$28:$AD$50,13,FALSE)),"",(VLOOKUP($D19,BDD!$D$28:$AD$50,13,FALSE))) | R19: =IF(ISERROR(VLOOKUP($D19,BDD!$D$28:$AD$50,14,FALSE)),"",(VLOOKUP($D19,BDD!$D$28:$AD$50,14,FALSE))) | S19: =IF(ISERROR(VLOOKUP($D19,BDD!$D$28:$AD$50,15,FALSE)),"",(VLOOKUP($D19,BDD!$D$28:$AD$50,15,FALSE))) | T19: =IF(ISERROR(VLOOKUP($D19,BDD!$D$28:$AD$50,16,FALSE)),"",(VLOOKUP($D19,BDD!$D$28:$AD$50,16,FALSE))) | U19: =IF(ISERROR(VLOOKUP($D19,BDD!$D$28:$AD$50,17,FALSE)),"",(VLOOKUP($D19,BDD!$D$28:$AD$50,17,FALSE))) | V19: =IF(ISERROR(VLOOKUP($D19,BDD!$D$28:$AD$50,18,FALSE)),"",(VLOOKUP($D19,BDD!$D$28:$AD$50,18,FALSE))) | W19: =IF(ISERROR(VLOOKUP($D19,BDD!$D$28:$AD$50,19,FALSE)),"",(VLOOKUP($D19,BDD!$D$28:$AD$50,19,FALSE))) | X19: =IF(ISERROR(VLOOKUP($D19,BDD!$D$28:$AD$50,20,FALSE)),"",(VLOOKUP($D19,BDD!$D$28:$AD$50,20,FALSE))) | Y19: =IF(ISERROR(VLOOKUP($D19,BDD!$D$28:$AD$50,21,FALSE)),"",(VLOOKUP($D19,BDD!$D$28:$AD$50,21,FALSE))) | Z19: =IF(ISERROR(VLOOKUP($D19,BDD!$D$28:$AD$50,22,FALSE)),"",(VLOOKUP($D19,BDD!$D$28:$AD$50,22,FALSE))) | AA19: =IF(ISERROR(VLOOKUP($D20,BDD!$D$28:$AD$50,23,FALSE)),"",(VLOOKUP($D20,BDD!$D$28:$AD$50,23,FALSE)))
E20: =IF(ISERROR(VLOOKUP($D20,BDD!$D$28:$AD$50,1,FALSE)),"",(VLOOKUP($D20,BDD!$D$28:$AD$50,2,FALSE))) | H20: =IF(ISERROR(VLOOKUP($D20,BDD!$D$5:$AD$50,3,FALSE)),"",(VLOOKUP($D20,BDD!$D$5:$AD$50,4,FALSE))) | I20: =IF(ISERROR(VLOOKUP($D20,BDD!$D$28:$AD$50,5,FALSE)),"",(VLOOKUP($D20,BDD!$D$28:$AD$50,5,FALSE))) | J20: =IF(ISERROR(VLOOKUP($D20,BDD!$D$28:$AD$50,6,FALSE)),"",(VLOOKUP($D20,BDD!$D$28:$AD$50,6,FALSE))) | K20: =IF(ISERROR(VLOOKUP($D20,BDD!$D$28:$AD$50,7,FALSE)),"",(VLOOKUP($D20,BDD!$D$28:$AD$50,7,FALSE))) | L20: =IF(ISERROR(VLOOKUP($D20,BDD!$D$28:$AD$50,8,FALSE)),"",(VLOOKUP($D20,BDD!$D$28:$AD$50,8,FALSE))) | M20: =IF(ISERROR(VLOOKUP($D20,BDD!$D$28:$AD$50,9,FALSE)),"",(VLOOKUP($D20,BDD!$D$28:$AD$50,9,FALSE))) | N20: =IF(ISERROR(VLOOKUP($D20,BDD!$D$28:$AD$50,10,FALSE)),"",(VLOOKUP($D20,BDD!$D$28:$AD$50,10,FALSE))) | O20: =IF(ISERROR(VLOOKUP($D20,BDD!$D$28:$AD$50,11,FALSE)),"",(VLOOKUP($D20,BDD!$D$28:$AD$50,11,FALSE))) | P20: =IF(ISERROR(VLOOKUP($D20,BDD!$D$28:$AD$50,12,FALSE)),"",(VLOOKUP($D20,BDD!$D$28:$AD$50,12,FALSE))) | Q20: =IF(ISERROR(VLOOKUP($D20,BDD!$D$28:$AD$50,13,FALSE)),"",(VLOOKUP($D20,BDD!$D$28:$AD$50,13,FALSE))) | R20: =IF(ISERROR(VLOOKUP($D20,BDD!$D$28:$AD$50,14,FALSE)),"",(VLOOKUP($D20,BDD!$D$28:$AD$50,14,FALSE))) | S20: =IF(ISERROR(VLOOKUP($D20,BDD!$D$28:$AD$50,15,FALSE)),"",(VLOOKUP($D20,BDD!$D$28:$AD$50,15,FALSE))) | T20: =IF(ISERROR(VLOOKUP($D20,BDD!$D$28:$AD$50,16,FALSE)),"",(VLOOKUP($D20,BDD!$D$28:$AD$50,16,FALSE))) | U20: =IF(ISERROR(VLOOKUP($D20,BDD!$D$28:$AD$50,17,FALSE)),"",(VLOOKUP($D20,BDD!$D$28:$AD$50,17,FALSE))) | V20: =IF(ISERROR(VLOOKUP($D20,BDD!$D$28:$AD$50,18,FALSE)),"",(VLOOKUP($D20,BDD!$D$28:$AD$50,18,FALSE))) | W20: =IF(ISERROR(VLOOKUP($D20,BDD!$D$28:$AD$50,19,FALSE)),"",(VLOOKUP($D20,BDD!$D$28:$AD$50,19,FALSE))) | X20: =IF(ISERROR(VLOOKUP($D20,BDD!$D$28:$AD$50,20,FALSE)),"",(VLOOKUP($D20,BDD!$D$28:$AD$50,20,FALSE))) | Y20: =IF(ISERROR(VLOOKUP($D20,BDD!$D$28:$AD$50,21,FALSE)),"",(VLOOKUP($D20,BDD!$D$28:$AD$50,21,FALSE))) | Z20: =IF(ISERROR(VLOOKUP($D20,BDD!$D$28:$AD$50,22,FALSE)),"",(VLOOKUP($D20,BDD!$D$28:$AD$50,22,FALSE))) | AA20: =IF(ISERROR(VLOOKUP($D21,BDD!$D$28:$AD$50,23,FALSE)),"",(VLOOKUP($D21,BDD!$D$28:$AD$50,23,FALSE)))
E21: =IF(ISERROR(VLOOKUP($D21,BDD!$D$28:$AD$50,1,FALSE)),"",(VLOOKUP($D21,BDD!$D$28:$AD$50,2,FALSE))) | H21: =IF(ISERROR(VLOOKUP($D21,BDD!$D$5:$AD$50,3,FALSE)),"",(VLOOKUP($D21,BDD!$D$5:$AD$50,4,FALSE))) | I21: =IF(ISERROR(VLOOKUP($D21,BDD!$D$28:$AD$50,5,FALSE)),"",(VLOOKUP($D21,BDD!$D$28:$AD$50,5,FALSE))) | J21: =IF(ISERROR(VLOOKUP($D21,BDD!$D$28:$AD$50,6,FALSE)),"",(VLOOKUP($D21,BDD!$D$28:$AD$50,6,FALSE))) | K21: =IF(ISERROR(VLOOKUP($D21,BDD!$D$28:$AD$50,7,FALSE)),"",(VLOOKUP($D21,BDD!$D$28:$AD$50,7,FALSE))) | L21: =IF(ISERROR(VLOOKUP($D21,BDD!$D$28:$AD$50,8,FALSE)),"",(VLOOKUP($D21,BDD!$D$28:$AD$50,8,FALSE))) | M21: =IF(ISERROR(VLOOKUP($D21,BDD!$D$28:$AD$50,9,FALSE)),"",(VLOOKUP($D21,BDD!$D$28:$AD$50,9,FALSE))) | N21: =IF(ISERROR(VLOOKUP($D21,BDD!$D$28:$AD$50,10,FALSE)),"",(VLOOKUP($D21,BDD!$D$28:$AD$50,10,FALSE))) | O21: =IF(ISERROR(VLOOKUP($D21,BDD!$D$28:$AD$50,11,FALSE)),"",(VLOOKUP($D21,BDD!$D$28:$AD$50,11,FALSE))) | P21: =IF(ISERROR(VLOOKUP($D21,BDD!$D$28:$AD$50,12,FALSE)),"",(VLOOKUP($D21,BDD!$D$28:$AD$50,12,FALSE))) | Q21: =IF(ISERROR(VLOOKUP($D21,BDD!$D$28:$AD$50,13,FALSE)),"",(VLOOKUP($D21,BDD!$D$28:$AD$50,13,FALSE))) | R21: =IF(ISERROR(VLOOKUP($D21,BDD!$D$28:$AD$50,14,FALSE)),"",(VLOOKUP($D21,BDD!$D$28:$AD$50,14,FALSE))) | S21: =IF(ISERROR(VLOOKUP($D21,BDD!$D$28:$AD$50,15,FALSE)),"",(VLOOKUP($D21,BDD!$D$28:$AD$50,15,FALSE))) | T21: =IF(ISERROR(VLOOKUP($D21,BDD!$D$28:$AD$50,16,FALSE)),"",(VLOOKUP($D21,BDD!$D$28:$AD$50,16,FALSE))) | U21: =IF(ISERROR(VLOOKUP($D21,BDD!$D$28:$AD$50,17,FALSE)),"",(VLOOKUP($D21,BDD!$D$28:$AD$50,17,FALSE))) | V21: =IF(ISERROR(VLOOKUP($D21,BDD!$D$28:$AD$50,18,FALSE)),"",(VLOOKUP($D21,BDD!$D$28:$AD$50,18,FALSE))) | W21: =IF(ISERROR(VLOOKUP($D21,BDD!$D$28:$AD$50,19,FALSE)),"",(VLOOKUP($D21,BDD!$D$28:$AD$50,19,FALSE))) | X21: =IF(ISERROR(VLOOKUP($D21,BDD!$D$28:$AD$50,20,FALSE)),"",(VLOOKUP($D21,BDD!$D$28:$AD$50,20,FALSE))) | Y21: =IF(ISERROR(VLOOKUP($D21,BDD!$D$28:$AD$50,21,FALSE)),"",(VLOOKUP($D21,BDD!$D$28:$AD$50,21,FALSE))) | Z21: =IF(ISERROR(VLOOKUP($D21,BDD!$D$28:$AD$50,22,FALSE)),"",(VLOOKUP($D21,BDD!$D$28:$AD$50,22,FALSE))) | AA21: =IF(ISERROR(VLOOKUP($D22,BDD!$D$28:$AD$50,23,FALSE)),"",(VLOOKUP($D22,BDD!$D$28:$AD$50,23,FALSE)))
E22: =IF(ISERROR(VLOOKUP($D22,BDD!$D$28:$AD$50,1,FALSE)),"",(VLOOKUP($D22,BDD!$D$28:$AD$50,2,FALSE))) | H22: =IF(ISERROR(VLOOKUP($D22,BDD!$D$5:$AD$50,3,FALSE)),"",(VLOOKUP($D22,BDD!$D$5:$AD$50,4,FALSE))) | I22: =IF(ISERROR(VLOOKUP($D22,BDD!$D$28:$AD$50,5,FALSE)),"",(VLOOKUP($D22,BDD!$D$28:$AD$50,5,FALSE))) | J22: =IF(ISERROR(VLOOKUP($D22,BDD!$D$28:$AD$50,6,FALSE)),"",(VLOOKUP($D22,BDD!$D$28:$AD$50,6,FALSE))) | K22: =IF(ISERROR(VLOOKUP($D22,BDD!$D$28:$AD$50,7,FALSE)),"",(VLOOKUP($D22,BDD!$D$28:$AD$50,7,FALSE))) | L22: =IF(ISERROR(VLOOKUP($D22,BDD!$D$28:$AD$50,8,FALSE)),"",(VLOOKUP($D22,BDD!$D$28:$AD$50,8,FALSE))) | M22: =IF(ISERROR(VLOOKUP($D22,BDD!$D$28:$AD$50,9,FALSE)),"",(VLOOKUP($D22,BDD!$D$28:$AD$50,9,FALSE))) | N22: =IF(ISERROR(VLOOKUP($D22,BDD!$D$28:$AD$50,10,FALSE)),"",(VLOOKUP($D22,BDD!$D$28:$AD$50,10,FALSE))) | O22: =IF(ISERROR(VLOOKUP($D22,BDD!$D$28:$AD$50,11,FALSE)),"",(VLOOKUP($D22,BDD!$D$28:$AD$50,11,FALSE))) | P22: =IF(ISERROR(VLOOKUP($D22,BDD!$D$28:$AD$50,12,FALSE)),"",(VLOOKUP($D22,BDD!$D$28:$AD$50,12,FALSE))) | Q22: =IF(ISERROR(VLOOKUP($D22,BDD!$D$28:$AD$50,13,FALSE)),"",(VLOOKUP($D22,BDD!$D$28:$AD$50,13,FALSE))) | R22: =IF(ISERROR(VLOOKUP($D22,BDD!$D$28:$AD$50,14,FALSE)),"",(VLOOKUP($D22,BDD!$D$28:$AD$50,14,FALSE))) | S22: =IF(ISERROR(VLOOKUP($D22,BDD!$D$28:$AD$50,15,FALSE)),"",(VLOOKUP($D22,BDD!$D$28:$AD$50,15,FALSE))) | T22: =IF(ISERROR(VLOOKUP($D22,BDD!$D$28:$AD$50,16,FALSE)),"",(VLOOKUP($D22,BDD!$D$28:$AD$50,16,FALSE))) | U22: =IF(ISERROR(VLOOKUP($D22,BDD!$D$28:$AD$50,17,FALSE)),"",(VLOOKUP($D22,BDD!$D$28:$AD$50,17,FALSE))) | V22: =IF(ISERROR(VLOOKUP($D22,BDD!$D$28:$AD$50,18,FALSE)),"",(VLOOKUP($D22,BDD!$D$28:$AD$50,18,FALSE))) | W22: =IF(ISERROR(VLOOKUP($D22,BDD!$D$28:$AD$50,19,FALSE)),"",(VLOOKUP($D22,BDD!$D$28:$AD$50,19,FALSE))) | X22: =IF(ISERROR(VLOOKUP($D22,BDD!$D$28:$AD$50,20,FALSE)),"",(VLOOKUP($D22,BDD!$D$28:$AD$50,20,FALSE))) | Y22: =IF(ISERROR(VLOOKUP($D22,BDD!$D$28:$AD$50,21,FALSE)),"",(VLOOKUP($D22,BDD!$D$28:$AD$50,21,FALSE))) | Z22: =IF(ISERROR(VLOOKUP($D22,BDD!$D$28:$AD$50,22,FALSE)),"",(VLOOKUP($D22,BDD!$D$28:$AD$50,22,FALSE))) | AA22: =IF(ISERROR(VLOOKUP($D23,BDD!$D$28:$AD$50,23,FALSE)),"",(VLOOKUP($D23,BDD!$D$28:$AD$50,23,FALSE)))
E23: =IF(ISERROR(VLOOKUP($D23,BDD!$D$28:$AD$50,1,FALSE)),"",(VLOOKUP($D23,BDD!$D$28:$AD$50,2,FALSE))) | H23: =IF(ISERROR(VLOOKUP($D23,BDD!$D$5:$AD$50,3,FALSE)),"",(VLOOKUP($D23,BDD!$D$5:$AD$50,4,FALSE))) | I23: =IF(ISERROR(VLOOKUP($D23,BDD!$D$28:$AD$50,5,FALSE)),"",(VLOOKUP($D23,BDD!$D$28:$AD$50,5,FALSE))) | J23: =IF(ISERROR(VLOOKUP($D23,BDD!$D$28:$AD$50,6,FALSE)),"",(VLOOKUP($D23,BDD!$D$28:$AD$50,6,FALSE))) | K23: =IF(ISERROR(VLOOKUP($D23,BDD!$D$28:$AD$50,7,FALSE)),"",(VLOOKUP($D23,BDD!$D$28:$AD$50,7,FALSE))) | L23: =IF(ISERROR(VLOOKUP($D23,BDD!$D$28:$AD$50,8,FALSE)),"",(VLOOKUP($D23,BDD!$D$28:$AD$50,8,FALSE))) | M23: =IF(ISERROR(VLOOKUP($D23,BDD!$D$28:$AD$50,9,FALSE)),"",(VLOOKUP($D23,BDD!$D$28:$AD$50,9,FALSE))) | N23: =IF(ISERROR(VLOOKUP($D23,BDD!$D$28:$AD$50,10,FALSE)),"",(VLOOKUP($D23,BDD!$D$28:$AD$50,10,FALSE))) | O23: =IF(ISERROR(VLOOKUP($D23,BDD!$D$28:$AD$50,11,FALSE)),"",(VLOOKUP($D23,BDD!$D$28:$AD$50,11,FALSE))) | P23: =IF(ISERROR(VLOOKUP($D23,BDD!$D$28:$AD$50,12,FALSE)),"",(VLOOKUP($D23,BDD!$D$28:$AD$50,12,FALSE))) | Q23: =IF(ISERROR(VLOOKUP($D23,BDD!$D$28:$AD$50,13,FALSE)),"",(VLOOKUP($D23,BDD!$D$28:$AD$50,13,FALSE))) | R23: =IF(ISERROR(VLOOKUP($D23,BDD!$D$28:$AD$50,14,FALSE)),"",(VLOOKUP($D23,BDD!$D$28:$AD$50,14,FALSE))) | S23: =IF(ISERROR(VLOOKUP($D23,BDD!$D$28:$AD$50,15,FALSE)),"",(VLOOKUP($D23,BDD!$D$28:$AD$50,15,FALSE))) | T23: =IF(ISERROR(VLOOKUP($D23,BDD!$D$28:$AD$50,16,FALSE)),"",(VLOOKUP($D23,BDD!$D$28:$AD$50,16,FALSE))) | U23: =IF(ISERROR(VLOOKUP($D23,BDD!$D$28:$AD$50,17,FALSE)),"",(VLOOKUP($D23,BDD!$D$28:$AD$50,17,FALSE))) | V23: =IF(ISERROR(VLOOKUP($D23,BDD!$D$28:$AD$50,18,FALSE)),"",(VLOOKUP($D23,BDD!$D$28:$AD$50,18,FALSE))) | W23: =IF(ISERROR(VLOOKUP($D23,BDD!$D$28:$AD$50,19,FALSE)),"",(VLOOKUP($D23,BDD!$D$28:$AD$50,19,FALSE))) | X23: =IF(ISERROR(VLOOKUP($D23,BDD!$D$28:$AD$50,20,FALSE)),"",(VLOOKUP($D23,BDD!$D$28:$AD$50,20,FALSE))) | Y23: =IF(ISERROR(VLOOKUP($D23,BDD!$D$28:$AD$50,21,FALSE)),"",(VLOOKUP($D23,BDD!$D$28:$AD$50,21,FALSE))) | Z23: =IF(ISERROR(VLOOKUP($D23,BDD!$D$28:$AD$50,22,FALSE)),"",(VLOOKUP($D23,BDD!$D$28:$AD$50,22,FALSE))) | AA23: =IF(ISERROR(VLOOKUP($D24,BDD!$D$28:$AD$50,23,FALSE)),"",(VLOOKUP($D24,BDD!$D$28:$AD$50,23,FALSE)))
E24: =IF(ISERROR(VLOOKUP($D24,BDD!$D$28:$AD$50,1,FALSE)),"",(VLOOKUP($D24,BDD!$D$28:$AD$50,2,FALSE))) | H24: =IF(ISERROR(VLOOKUP($D24,BDD!$D$5:$AD$50,3,FALSE)),"",(VLOOKUP($D24,BDD!$D$5:$AD$50,4,FALSE))) | I24: =IF(ISERROR(VLOOKUP($D24,BDD!$D$28:$AD$50,5,FALSE)),"",(VLOOKUP($D24,BDD!$D$28:$AD$50,5,FALSE))) | J24: =IF(ISERROR(VLOOKUP($D24,BDD!$D$28:$AD$50,6,FALSE)),"",(VLOOKUP($D24,BDD!$D$28:$AD$50,6,FALSE))) | K24: =IF(ISERROR(VLOOKUP($D24,BDD!$D$28:$AD$50,7,FALSE)),"",(VLOOKUP($D24,BDD!$D$28:$AD$50,7,FALSE))) | L24: =IF(ISERROR(VLOOKUP($D24,BDD!$D$28:$AD$50,8,FALSE)),"",(VLOOKUP($D24,BDD!$D$28:$AD$50,8,FALSE))) | M24: =IF(ISERROR(VLOOKUP($D24,BDD!$D$28:$AD$50,9,FALSE)),"",(VLOOKUP($D24,BDD!$D$28:$AD$50,9,FALSE))) | N24: =IF(ISERROR(VLOOKUP($D24,BDD!$D$28:$AD$50,10,FALSE)),"",(VLOOKUP($D24,BDD!$D$28:$AD$50,10,FALSE))) | O24: =IF(ISERROR(VLOOKUP($D24,BDD!$D$28:$AD$50,11,FALSE)),"",(VLOOKUP($D24,BDD!$D$28:$AD$50,11,FALSE))) | P24: =IF(ISERROR(VLOOKUP($D24,BDD!$D$28:$AD$50,12,FALSE)),"",(VLOOKUP($D24,BDD!$D$28:$AD$50,12,FALSE))) | Q24: =IF(ISERROR(VLOOKUP($D24,BDD!$D$28:$AD$50,13,FALSE)),"",(VLOOKUP($D24,BDD!$D$28:$AD$50,13,FALSE))) | R24: =IF(ISERROR(VLOOKUP($D24,BDD!$D$28:$AD$50,14,FALSE)),"",(VLOOKUP($D24,BDD!$D$28:$AD$50,14,FALSE))) | S24: =IF(ISERROR(VLOOKUP($D24,BDD!$D$28:$AD$50,15,FALSE)),"",(VLOOKUP($D24,BDD!$D$28:$AD$50,15,FALSE))) | T24: =IF(ISERROR(VLOOKUP($D24,BDD!$D$28:$AD$50,16,FALSE)),"",(VLOOKUP($D24,BDD!$D$28:$AD$50,16,FALSE))) | U24: =IF(ISERROR(VLOOKUP($D24,BDD!$D$28:$AD$50,17,FALSE)),"",(VLOOKUP($D24,BDD!$D$28:$AD$50,17,FALSE))) | V24: =IF(ISERROR(VLOOKUP($D24,BDD!$D$28:$AD$50,18,FALSE)),"",(VLOOKUP($D24,BDD!$D$28:$AD$50,18,FALSE))) | W24: =IF(ISERROR(VLOOKUP($D24,BDD!$D$28:$AD$50,19,FALSE)),"",(VLOOKUP($D24,BDD!$D$28:$AD$50,19,FALSE))) | X24: =IF(ISERROR(VLOOKUP($D24,BDD!$D$28:$AD$50,20,FALSE)),"",(VLOOKUP($D24,BDD!$D$28:$AD$50,20,FALSE))) | Y24: =IF(ISERROR(VLOOKUP($D24,BDD!$D$28:$AD$50,21,FALSE)),"",(VLOOKUP($D24,BDD!$D$28:$AD$50,21,FALSE))) | Z24: =IF(ISERROR(VLOOKUP($D24,BDD!$D$28:$AD$50,22,FALSE)),"",(VLOOKUP($D24,BDD!$D$28:$AD$50,22,FALSE))) | AA24: =IF(ISERROR(VLOOKUP($D25,BDD!$D$28:$AD$50,23,FALSE)),"",(VLOOKUP($D25,BDD!$D$28:$AD$50,23,FALSE)))
E25: =IF(ISERROR(VLOOKUP($D25,BDD!$D$28:$AD$50,1,FALSE)),"",(VLOOKUP($D25,BDD!$D$28:$AD$50,2,FALSE))) | H25: =IF(ISERROR(VLOOKUP($D25,BDD!$D$5:$AD$50,3,FALSE)),"",(VLOOKUP($D25,BDD!$D$5:$AD$50,4,FALSE))) | I25: =IF(ISERROR(VLOOKUP($D25,BDD!$D$28:$AD$50,5,FALSE)),"",(VLOOKUP($D25,BDD!$D$28:$AD$50,5,FALSE))) | J25: =IF(ISERROR(VLOOKUP($D25,BDD!$D$28:$AD$50,6,FALSE)),"",(VLOOKUP($D25,BDD!$D$28:$AD$50,6,FALSE))) | K25: =IF(ISERROR(VLOOKUP($D25,BDD!$D$28:$AD$50,7,FALSE)),"",(VLOOKUP($D25,BDD!$D$28:$AD$50,7,FALSE))) | L25: =IF(ISERROR(VLOOKUP($D25,BDD!$D$28:$AD$50,8,FALSE)),"",(VLOOKUP($D25,BDD!$D$28:$AD$50,8,FALSE))) | M25: =IF(ISERROR(VLOOKUP($D25,BDD!$D$28:$AD$50,9,FALSE)),"",(VLOOKUP($D25,BDD!$D$28:$AD$50,9,FALSE))) | N25: =IF(ISERROR(VLOOKUP($D25,BDD!$D$28:$AD$50,10,FALSE)),"",(VLOOKUP($D25,BDD!$D$28:$AD$50,10,FALSE))) | O25: =IF(ISERROR(VLOOKUP($D25,BDD!$D$28:$AD$50,11,FALSE)),"",(VLOOKUP($D25,BDD!$D$28:$AD$50,11,FALSE))) | P25: =IF(ISERROR(VLOOKUP($D25,BDD!$D$28:$AD$50,12,FALSE)),"",(VLOOKUP($D25,BDD!$D$28:$AD$50,12,FALSE))) | Q25: =IF(ISERROR(VLOOKUP($D25,BDD!$D$28:$AD$50,13,FALSE)),"",(VLOOKUP($D25,BDD!$D$28:$AD$50,13,FALSE))) | R25: =IF(ISERROR(VLOOKUP($D25,BDD!$D$28:$AD$50,14,FALSE)),"",(VLOOKUP($D25,BDD!$D$28:$AD$50,14,FALSE))) | S25: =IF(ISERROR(VLOOKUP($D25,BDD!$D$28:$AD$50,15,FALSE)),"",(VLOOKUP($D25,BDD!$D$28:$AD$50,15,FALSE))) | T25: =IF(ISERROR(VLOOKUP($D25,BDD!$D$28:$AD$50,16,FALSE)),"",(VLOOKUP($D25,BDD!$D$28:$AD$50,16,FALSE))) | U25: =IF(ISERROR(VLOOKUP($D25,BDD!$D$28:$AD$50,17,FALSE)),"",(VLOOKUP($D25,BDD!$D$28:$AD$50,17,FALSE))) | V25: =IF(ISERROR(VLOOKUP($D25,BDD!$D$28:$AD$50,18,FALSE)),"",(VLOOKUP($D25,BDD!$D$28:$AD$50,18,FALSE))) | W25: =IF(ISERROR(VLOOKUP($D25,BDD!$D$28:$AD$50,19,FALSE)),"",(VLOOKUP($D25,BDD!$D$28:$AD$50,19,FALSE))) | X25: =IF(ISERROR(VLOOKUP($D25,BDD!$D$28:$AD$50,20,FALSE)),"",(VLOOKUP($D25,BDD!$D$28:$AD$50,20,FALSE))) | Y25: =IF(ISERROR(VLOOKUP($D25,BDD!$D$28:$AD$50,21,FALSE)),"",(VLOOKUP($D25,BDD!$D$28:$AD$50,21,FALSE))) | Z25: =IF(ISERROR(VLOOKUP($D25,BDD!$D$28:$AD$50,22,FALSE)),"",(VLOOKUP($D25,BDD!$D$28:$AD$50,22,FALSE))) | AA25: =IF(ISERROR(VLOOKUP($D26,BDD!$D$28:$AD$50,23,FALSE)),"",(VLOOKUP($D26,BDD!$D$28:$AD$50,23,FALSE)))
... E54: =IF(ISERROR(VLOOKUP($D54,BDD!$D$28:$AD$50,1,FALSE)),"",(VLOOKUP($D54,BDD!$D$28:$AD$50,2,FALSE))) | H54: =IF(ISERROR(VLOOKUP($D54,BDD!$D$5:$AD$50,3,FALSE)),"",(VLOOKUP($D54,BDD!$D$5:$AD$50,4,FALSE))) | I54: =IF(ISERROR(VLOOKUP($D54,BDD!$D$28:$AD$50,5,FALSE)),"",(VLOOKUP($D54,BDD!$D$28:$AD$50,5,FALSE))) | J54: =IF(ISERROR(VLOOKUP($D54,BDD!$D$28:$AD$50,6,FALSE)),"",(VLOOKUP($D54,BDD!$D$28:$AD$50,6,FALSE))) | K54: =IF(ISERROR(VLOOKUP($D54,BDD!$D$28:$AD$50,7,FALSE)),"",(VLOOKUP($D54,BDD!$D$28:$AD$50,7,FALSE))) | L54: =IF(ISERROR(VLOOKUP($D54,BDD!$D$28:$AD$50,8,FALSE)),"",(VLOOKUP($D54,BDD!$D$28:$AD$50,8,FALSE))) | M54: =IF(ISERROR(VLOOKUP($D54,BDD!$D$28:$AD$50,9,FALSE)),"",(VLOOKUP($D54,BDD!$D$28:$AD$50,9,FALSE))) | N54: =IF(ISERROR(VLOOKUP($D54,BDD!$D$28:$AD$50,10,FALSE)),"",(VLOOKUP($D54,BDD!$D$28:$AD$50,10,FALSE))) | O54: =IF(ISERROR(VLOOKUP($D54,BDD!$D$28:$AD$50,11,FALSE)),"",(VLOOKUP($D54,BDD!$D$28:$AD$50,11,FALSE))) | P54: =IF(ISERROR(VLOOKUP($D54,BDD!$D$28:$AD$50,12,FALSE)),"",(VLOOKUP($D54,BDD!$D$28:$AD$50,12,FALSE))) | Q54: =IF(ISERROR(VLOOKUP($D54,BDD!$D$28:$AD$50,13,FALSE)),"",(VLOOKUP($D54,BDD!$D$28:$AD$50,13,FALSE))) | R54: =IF(ISERROR(VLOOKUP($D54,BDD!$D$28:$AD$50,14,FALSE)),"",(VLOOKUP($D54,BDD!$D$28:$AD$50,14,FALSE))) | S54: =IF(ISERROR(VLOOKUP($D54,BDD!$D$28:$AD$50,15,FALSE)),"",(VLOOKUP($D54,BDD!$D$28:$AD$50,15,FALSE))) | T54: =IF(ISERROR(VLOOKUP($D54,BDD!$D$28:$AD$50,16,FALSE)),"",(VLOOKUP($D54,BDD!$D$28:$AD$50,16,FALSE))) | U54: =IF(ISERROR(VLOOKUP($D54,BDD!$D$28:$AD$50,17,FALSE)),"",(VLOOKUP($D54,BDD!$D$28:$AD$50,17,FALSE))) | V54: =IF(ISERROR(VLOOKUP($D54,BDD!$D$28:$AD$50,18,FALSE)),"",(VLOOKUP($D54,BDD!$D$28:$AD$50,18,FALSE))) | W54: =IF(ISERROR(VLOOKUP($D54,BDD!$D$28:$AD$50,19,FALSE)),"",(VLOOKUP($D54,BDD!$D$28:$AD$50,19,FALSE))) | X54: =IF(ISERROR(VLOOKUP($D54,BDD!$D$28:$AD$50,20,FALSE)),"",(VLOOKUP($D54,BDD!$D$28:$AD$50,20,FALSE))) | Y54: =IF(ISERROR(VLOOKUP($D54,BDD!$D$28:$AD$50,21,FALSE)),"",(VLOOKUP($D54,BDD!$D$28:$AD$50,21,FALSE))) | Z54: =IF(ISERROR(VLOOKUP($D54,BDD!$D$28:$AD$50,22,FALSE)),"",(VLOOKUP($D54,BDD!$D$28:$AD$50,22,FALSE))) | AA54: =IF(ISERROR(VLOOKUP($D55,BDD!$D$28:$AD$50,23,FALSE)),"",(VLOOKUP($D55,BDD!$D$28:$AD$50,23,FALSE)))
E55: =IF(ISERROR(VLOOKUP($D55,BDD!$D$28:$AD$50,1,FALSE)),"",(VLOOKUP($D55,BDD!$D$28:$AD$50,2,FALSE))) | H55: =IF(ISERROR(VLOOKUP($D55,BDD!$D$5:$AD$50,3,FALSE)),"",(VLOOKUP($D55,BDD!$D$5:$AD$50,4,FALSE))) | I55: =IF(ISERROR(VLOOKUP($D55,BDD!$D$28:$AD$50,5,FALSE)),"",(VLOOKUP($D55,BDD!$D$28:$AD$50,5,FALSE))) | J55: =IF(ISERROR(VLOOKUP($D55,BDD!$D$28:$AD$50,6,FALSE)),"",(VLOOKUP($D55,BDD!$D$28:$AD$50,6,FALSE))) | K55: =IF(ISERROR(VLOOKUP($D55,BDD!$D$28:$AD$50,7,FALSE)),"",(VLOOKUP($D55,BDD!$D$28:$AD$50,7,FALSE))) | L55: =IF(ISERROR(VLOOKUP($D55,BDD!$D$28:$AD$50,8,FALSE)),"",(VLOOKUP($D55,BDD!$D$28:$AD$50,8,FALSE))) | M55: =IF(ISERROR(VLOOKUP($D55,BDD!$D$28:$AD$50,9,FALSE)),"",(VLOOKUP($D55,BDD!$D$28:$AD$50,9,FALSE))) | N55: =IF(ISERROR(VLOOKUP($D55,BDD!$D$28:$AD$50,10,FALSE)),"",(VLOOKUP($D55,BDD!$D$28:$AD$50,10,FALSE))) | O55: =IF(ISERROR(VLOOKUP($D55,BDD!$D$28:$AD$50,11,FALSE)),"",(VLOOKUP($D55,BDD!$D$28:$AD$50,11,FALSE))) | P55: =IF(ISERROR(VLOOKUP($D55,BDD!$D$28:$AD$50,12,FALSE)),"",(VLOOKUP($D55,BDD!$D$28:$AD$50,12,FALSE))) | Q55: =IF(ISERROR(VLOOKUP($D55,BDD!$D$28:$AD$50,13,FALSE)),"",(VLOOKUP($D55,BDD!$D$28:$AD$50,13,FALSE))) | R55: =IF(ISERROR(VLOOKUP($D55,BDD!$D$28:$AD$50,14,FALSE)),"",(VLOOKUP($D55,BDD!$D$28:$AD$50,14,FALSE))) | S55: =IF(ISERROR(VLOOKUP($D55,BDD!$D$28:$AD$50,15,FALSE)),"",(VLOOKUP($D55,BDD!$D$28:$AD$50,15,FALSE))) | T55: =IF(ISERROR(VLOOKUP($D55,BDD!$D$28:$AD$50,16,FALSE)),"",(VLOOKUP($D55,BDD!$D$28:$AD$50,16,FALSE))) | U55: =IF(ISERROR(VLOOKUP($D55,BDD!$D$28:$AD$50,17,FALSE)),"",(VLOOKUP($D55,BDD!$D$28:$AD$50,17,FALSE))) | V55: =IF(ISERROR(VLOOKUP($D55,BDD!$D$28:$AD$50,18,FALSE)),"",(VLOOKUP($D55,BDD!$D$28:$AD$50,18,FALSE))) | W55: =IF(ISERROR(VLOOKUP($D55,BDD!$D$28:$AD$50,19,FALSE)),"",(VLOOKUP($D55,BDD!$D$28:$AD$50,19,FALSE))) | X55: =IF(ISERROR(VLOOKUP($D55,BDD!$D$28:$AD$50,20,FALSE)),"",(VLOOKUP($D55,BDD!$D$28:$AD$50,20,FALSE))) | Y55: =IF(ISERROR(VLOOKUP($D55,BDD!$D$28:$AD$50,21,FALSE)),"",(VLOOKUP($D55,BDD!$D$28:$AD$50,21,FALSE))) | Z55: =IF(ISERROR(VLOOKUP($D55,BDD!$D$28:$AD$50,22,FALSE)),"",(VLOOKUP($D55,BDD!$D$28:$AD$50,22,FALSE))) | AA55: =IF(ISERROR(VLOOKUP($D56,BDD!$D$28:$AD$50,23,FALSE)),"",(VLOOKUP($D56,BDD!$D$28:$AD$50,23,FALSE))) | AB55: =AA55*(1-$AB$1) -> #VALUE! | AC55: =AB55*G56 -> #VALUE!
E56: =IF(ISERROR(VLOOKUP($D56,BDD!$D$28:$AD$50,1,FALSE)),"",(VLOOKUP($D56,BDD!$D$28:$AD$50,2,FALSE))) | H56: =IF(ISERROR(VLOOKUP($D56,BDD!$D$5:$AD$50,3,FALSE)),"",(VLOOKUP($D56,BDD!$D$5:$AD$50,4,FALSE))) | I56: =IF(ISERROR(VLOOKUP($D56,BDD!$D$28:$AD$50,5,FALSE)),"",(VLOOKUP($D56,BDD!$D$28:$AD$50,5,FALSE))) | J56: =IF(ISERROR(VLOOKUP($D56,BDD!$D$28:$AD$50,6,FALSE)),"",(VLOOKUP($D56,BDD!$D$28:$AD$50,6,FALSE))) | K56: =IF(ISERROR(VLOOKUP($D56,BDD!$D$28:$AD$50,7,FALSE)),"",(VLOOKUP($D56,BDD!$D$28:$AD$50,7,FALSE))) | L56: =IF(ISERROR(VLOOKUP($D56,BDD!$D$28:$AD$50,8,FALSE)),"",(VLOOKUP($D56,BDD!$D$28:$AD$50,8,FALSE))) | M56: =IF(ISERROR(VLOOKUP($D56,BDD!$D$28:$AD$50,9,FALSE)),"",(VLOOKUP($D56,BDD!$D$28:$AD$50,9,FALSE))) | N56: =IF(ISERROR(VLOOKUP($D56,BDD!$D$28:$AD$50,10,FALSE)),"",(VLOOKUP($D56,BDD!$D$28:$AD$50,10,FALSE))) | O56: =IF(ISERROR(VLOOKUP($D56,BDD!$D$28:$AD$50,11,FALSE)),"",(VLOOKUP($D56,BDD!$D$28:$AD$50,11,FALSE))) | P56: =IF(ISERROR(VLOOKUP($D56,BDD!$D$28:$AD$50,12,FALSE)),"",(VLOOKUP($D56,BDD!$D$28:$AD$50,12,FALSE))) | Q56: =IF(ISERROR(VLOOKUP($D56,BDD!$D$28:$AD$50,13,FALSE)),"",(VLOOKUP($D56,BDD!$D$28:$AD$50,13,FALSE))) | R56: =IF(ISERROR(VLOOKUP($D56,BDD!$D$28:$AD$50,14,FALSE)),"",(VLOOKUP($D56,BDD!$D$28:$AD$50,14,FALSE))) | S56: =IF(ISERROR(VLOOKUP($D56,BDD!$D$28:$AD$50,15,FALSE)),"",(VLOOKUP($D56,BDD!$D$28:$AD$50,15,FALSE))) | T56: =IF(ISERROR(VLOOKUP($D56,BDD!$D$28:$AD$50,16,FALSE)),"",(VLOOKUP($D56,BDD!$D$28:$AD$50,16,FALSE))) | U56: =IF(ISERROR(VLOOKUP($D56,BDD!$D$28:$AD$50,17,FALSE)),"",(VLOOKUP($D56,BDD!$D$28:$AD$50,17,FALSE))) | V56: =IF(ISERROR(VLOOKUP($D56,BDD!$D$28:$AD$50,18,FALSE)),"",(VLOOKUP($D56,BDD!$D$28:$AD$50,18,FALSE))) | W56: =IF(ISERROR(VLOOKUP($D56,BDD!$D$28:$AD$50,19,FALSE)),"",(VLOOKUP($D56,BDD!$D$28:$AD$50,19,FALSE))) | X56: =IF(ISERROR(VLOOKUP($D56,BDD!$D$28:$AD$50,20,FALSE)),"",(VLOOKUP($D56,BDD!$D$28:$AD$50,20,FALSE))) | Y56: =IF(ISERROR(VLOOKUP($D56,BDD!$D$28:$AD$50,21,FALSE)),"",(VLOOKUP($D56,BDD!$D$28:$AD$50,21,FALSE))) | Z56: =IF(ISERROR(VLOOKUP($D56,BDD!$D$28:$AD$50,22,FALSE)),"",(VLOOKUP($D56,BDD!$D$28:$AD$50,22,FALSE))) | AA56: =IF(ISERROR(VLOOKUP($D57,BDD!$D$28:$AD$50,23,FALSE)),"",(VLOOKUP($D57,BDD!$D$28:$AD$50,23,FALSE))) | AC56: =SUM(AC5:AC54) -> #VALUE!
E57: =IF(ISERROR(VLOOKUP($D57,BDD!$D$28:$AD$50,1,FALSE)),"",(VLOOKUP($D57,BDD!$D$28:$AD$50,2,FALSE))) | H57: =IF(ISERROR(VLOOKUP($D57,BDD!$D$5:$AD$50,3,FALSE)),"",(VLOOKUP($D57,BDD!$D$5:$AD$50,4,FALSE))) | I57: =IF(ISERROR(VLOOKUP($D57,BDD!$D$28:$AD$50,5,FALSE)),"",(VLOOKUP($D57,BDD!$D$28:$AD$50,5,FALSE))) | J57: =IF(ISERROR(VLOOKUP($D57,BDD!$D$28:$AD$50,6,FALSE)),"",(VLOOKUP($D57,BDD!$D$28:$AD$50,6,FALSE))) | K57: =IF(ISERROR(VLOOKUP($D57,BDD!$D$28:$AD$50,7,FALSE)),"",(VLOOKUP($D57,BDD!$D$28:$AD$50,7,FALSE))) | L57: =IF(ISERROR(VLOOKUP($D57,BDD!$D$28:$AD$50,8,FALSE)),"",(VLOOKUP($D57,BDD!$D$28:$AD$50,8,FALSE))) | M57: =IF(ISERROR(VLOOKUP($D57,BDD!$D$28:$AD$50,9,FALSE)),"",(VLOOKUP($D57,BDD!$D$28:$AD$50,9,FALSE))) | N57: =IF(ISERROR(VLOOKUP($D57,BDD!$D$28:$AD$50,10,FALSE)),"",(VLOOKUP($D57,BDD!$D$28:$AD$50,10,FALSE))) | O57: =IF(ISERROR(VLOOKUP($D57,BDD!$D$28:$AD$50,11,FALSE)),"",(VLOOKUP($D57,BDD!$D$28:$AD$50,11,FALSE))) | P57: =IF(ISERROR(VLOOKUP($D57,BDD!$D$28:$AD$50,12,FALSE)),"",(VLOOKUP($D57,BDD!$D$28:$AD$50,12,FALSE))) | Q57: =IF(ISERROR(VLOOKUP($D57,BDD!$D$28:$AD$50,13,FALSE)),"",(VLOOKUP($D57,BDD!$D$28:$AD$50,13,FALSE))) | R57: =IF(ISERROR(VLOOKUP($D57,BDD!$D$28:$AD$50,14,FALSE)),"",(VLOOKUP($D57,BDD!$D$28:$AD$50,14,FALSE))) | S57: =IF(ISERROR(VLOOKUP($D57,BDD!$D$28:$AD$50,15,FALSE)),"",(VLOOKUP($D57,BDD!$D$28:$AD$50,15,FALSE))) | T57: =IF(ISERROR(VLOOKUP($D57,BDD!$D$28:$AD$50,16,FALSE)),"",(VLOOKUP($D57,BDD!$D$28:$AD$50,16,FALSE))) | U57: =IF(ISERROR(VLOOKUP($D57,BDD!$D$28:$AD$50,17,FALSE)),"",(VLOOKUP($D57,BDD!$D$28:$AD$50,17,FALSE))) | V57: =IF(ISERROR(VLOOKUP($D57,BDD!$D$28:$AD$50,18,FALSE)),"",(VLOOKUP($D57,BDD!$D$28:$AD$50,18,FALSE))) | W57: =IF(ISERROR(VLOOKUP($D57,BDD!$D$28:$AD$50,19,FALSE)),"",(VLOOKUP($D57,BDD!$D$28:$AD$50,19,FALSE))) | X57: =IF(ISERROR(VLOOKUP($D57,BDD!$D$28:$AD$50,20,FALSE)),"",(VLOOKUP($D57,BDD!$D$28:$AD$50,20,FALSE))) | Y57: =IF(ISERROR(VLOOKUP($D57,BDD!$D$28:$AD$50,21,FALSE)),"",(VLOOKUP($D57,BDD!$D$28:$AD$50,21,FALSE))) | Z57: =IF(ISERROR(VLOOKUP($D57,BDD!$D$28:$AD$50,22,FALSE)),"",(VLOOKUP($D57,BDD!$D$28:$AD$50,22,FALSE))) | AC57: =SUM(AE7:AE54) -> #VALUE!
D58: TOTAL GENERAL FLUIDES HORS FOISONNEMENT | I58: kW | J58: =SUM(J7:J55) -> 29 | L58: kW | M58: =SUM(M7:M55) -> 32 | O58: kW | P58: =SUM(P7:P55) -> 35 | AC58: =AC57 -> #VALUE!
D59: TOTAL FOURNITURE EQUIPEMENTS CUISINE HT | H59: =AC56 -> #VALUE! | AC59: =AC58+AC56 -> #VALUE!
D60: Forfait installation des équipements neufs | H60: =AC57 -> #VALUE!
D61: TOTAL MAIN D'ŒUVRE HT | H61: =AC58 -> #VALUE!
D62: TOTAL GENERAL HT | H62: =AC59 -> #VALUE!
D63: PRINCIPE DES ATTENTES ELECTRIQUES
D64: Données à titre indicatif, le plan de réservations de l'installeur
D65: titulaire du lot CUISINE fera foi.
C67: CS | D67: Cable au sol, 2 mètres de mou
C68: CM | D68: Cable mural à 1,4 mètres, 2 mètres de mou
C69: CM1 | D69: Cable mural à 0,4 mètres, 2 mètres de mou
C70: CP | D70: Cable en attente au plafond, 3 - 5 mètres de mou
...

Sheet BUDGET
G1: Remise estimée à : | H1: 0.15 | I1: ='LISTING EQUIPEMENTS'!L1 -> Affaire :
A4: LOCAL | B4: REP | C4: DESIGNATION | D4: NOTA | E4: B,O,R | F4: Qté. | G4: PRIX PUBLIC HT | H4: PRIX VENDU HT | I4: PRIX REMISÉ HT | J4: MAIN D'ŒUVRE | K4: PRIX | L4: PRIX UNITAIRE OPTION | M4: PRIX TOTAL OPTION
B5: ='LISTING EQUIPEMENTS'!C5 -> 0 | C5: =Tableau1[[#This Row],[Colonne2]] -> LOCAL DECHETS | D5: =Tableau1[[#This Row],[Colonne3]] -> 1 | E5: =Tableau1[[#This Row],[Colonne4]] -> 2 | F5: =Tableau1[[#This Row],[Colonne5]] -> 3 | G5: =Tableau1[[#This Row],[Colonne6]] -> 4 | H5: =IFERROR(Tableau1[[#This Row],[Colonne6]]*(1-$H$1),"") -> 3.4 | I5: =IFERROR(Tableau3[[#This Row],[Colonne5]]*(Tableau3[[#This Row],[Colonne7]]),"") -> 10.2 | J5: 0.07 | K5: =IFERROR(Tableau3[[#This Row],[Colonne8]]*(Tableau3[[#This Row],[Colonne9]]),"") -> 0.714
B6: ='LISTING EQUIPEMENTS'!C7 -> 0 | C6: =Tableau1[[#This Row],[Colonne2]] -> 0 | D6: =Tableau1[[#This Row],[Colonne3]] -> 0 | E6: =Tableau1[[#This Row],[Colonne4]] -> 0 | F6: =Tableau1[[#This Row],[Colonne5]] -> 0 | G6: =Tableau1[[#This Row],[Colonne6]] -> 0 | H6: =IFERROR(Tableau1[[#This Row],[Colonne6]]*(1-$H$1),"") -> 0 | I6: =IFERROR(Tableau3[[#This Row],[Colonne5]]*(Tableau3[[#This Row],[Colonne7]]),"") -> 0 | J6: 0.07 | K6: =IFERROR(Tableau3[[#This Row],[Colonne8]]*(Tableau3[[#This Row],[Colonne9]]),"") -> 0
B7: ='LISTING EQUIPEMENTS'!C8 -> 0 | C7: =Tableau1[[#This Row],[Colonne2]] -> BUREAU | D7: =Tableau1[[#This Row],[Colonne3]] -> 24 | E7: =Tableau1[[#This Row],[Colonne4]] -> 25 | F7: =Tableau1[[#This Row],[Colonne5]] -> 26 | G7: =Tableau1[[#This Row],[Colonne6]] -> 27 | H7: =IFERROR(Tableau1[[#This Row],[Colonne6]]*(1-$H$1),"") -> 22.95 | I7: =IFERROR(Tableau3[[#This Row],[Colonne5]]*(Tableau3[[#This Row],[Colonne7]]),"") -> 596.7 | J7: 0.07 | K7: =IFERROR(Tableau3[[#This Row],[Colonne8]]*(Tableau3[[#This Row],[Colonne9]]),"") -> 41.769
B8: ='LISTING EQUIPEMENTS'!C9 -> 0 | C8: =Tableau1[[#This Row],[Colonne2]] -> 0 | D8: =Tableau1[[#This Row],[Colonne3]] | E8: =Tableau1[[#This Row],[Colonne4]] -> 0 | F8: =Tableau1[[#This Row],[Colonne5]] -> 0 | G8: =Tableau1[[#This Row],[Colonne6]] | H8: =IFERROR(Tableau1[[#This Row],[Colonne6]]*(1-$H$1),"") | I8: =IFERROR(Tableau3[[#This Row],[Colonne5]]*(Tableau3[[#This Row],[Colonne7]]),"") | J8: 0.07 | K8: =IFERROR(Tableau3[[#This Row],[Colonne8]]*(Tableau3[[#This Row],[Colonne9]]),"")
B9: ='LISTING EQUIPEMENTS'!C10 -> 0 | C9: =Tableau1[[#This Row],[Colonne2]] -> 0 | D9: =Tableau1[[#This Row],[Colonne3]] | E9: =Tableau1[[#This Row],[Colonne4]] -> 0 | F9: =Tableau1[[#This Row],[Colonne5]] -> 0 | G9: =Tableau1[[#This Row],[Colonne6]] | H9: =IFERROR(Tableau1[[#This Row],[Colonne6]]*(1-$H$1),"") | I9: =IFERROR(Tableau3[[#This Row],[Colonne5]]*(Tableau3[[#This Row],[Colonne7]]),"") | J9: 0.07 | K9: =IFERROR(Tableau3[[#This Row],[Colonne8]]*(Tableau3[[#This Row],[Colonne9]]),"")
B10: ='LISTING EQUIPEMENTS'!C11 -> 0 | C10: =Tableau1[[#This Row],[Colonne2]] -> 0 | D10: =Tableau1[[#This Row],[Colonne3]] | E10: =Tableau1[[#This Row],[Colonne4]] -> 0 | F10: =Tableau1[[#This Row],[Colonne5]] -> 0 | G10: =Tableau1[[#This Row],[Colonne6]] | H10: =IFERROR(Tableau1[[#This Row],[Colonne6]]*(1-$H$1),"") | I10: =IFERROR(Tableau3[[#This Row],[Colonne5]]*(Tableau3[[#This Row],[Colonne7]]),"") | J10: 0.07 | K10: =IFERROR(Tableau3[[#This Row],[Colonne8]]*(Tableau3[[#This Row],[Colonne9]]),"")
C11: =Tableau1[[#This Row],[Colonne2]] -> 0 | D11: =Tableau1[[#This Row],[Colonne3]] | E11: =Tableau1[[#This Row],[Colonne4]] -> 0 | F11: =Tableau1[[#This Row],[Colonne5]] -> 0 | G11: =Tableau1[[#This Row],[Colonne6]] | H11: =IFERROR(Tableau1[[#This Row],[Colonne6]]*(1-$H$1),"") | I11: =IFERROR(Tableau3[[#This Row],[Colonne5]]*(Tableau3[[#This Row],[Colonne7]]),"") | J11: 0.07 | K11: =IFERROR(Tableau3[[#This Row],[Colonne8]]*(Tableau3[[#This Row],[Colonne9]]),"")
B12: ='LISTING EQUIPEMENTS'!C12 -> 0 | C12: =Tableau1[[#This Row],[Colonne2]] -> 0 | D12: =Tableau1[[#This Row],[Colonne3]] | E12: =Tableau1[[#This Row],[Colonne4]] -> 0 | F12: =Tableau1[[#This Row],[Colonne5]] -> 0 | G12: =Tableau1[[#This Row],[Colonne6]] | H12: =IFERROR(Tableau1[[#This Row],[Colonne6]]*(1-$H$1),"") | I12: =IFERROR(Tableau3[[#This Row],[Colonne5]]*(Tableau3[[#This Row],[Colonne7]]),"") | J12: 0.07 | K12: =IFERROR(Tableau3[[#This Row],[Colonne8]]*(Tableau3[[#This Row],[Colonne9]]),"")
B13: ='LISTING EQUIPEMENTS'!C13 -> 0 | C13: =Tableau1[[#This Row],[Colonne2]] -> 0 | D13: =Tableau1[[#This Row],[Colonne3]] | E13: =Tableau1[[#This Row],[Colonne4]] -> 0 | F13: =Tableau1[[#This Row],[Colonne5]] -> 0 | G13: =Tableau1[[#This Row],[Colonne6]] | H13: =IFERROR(Tableau1[[#This Row],[Colonne6]]*(1-$H$1),"") | I13: =IFERROR(Tableau3[[#This Row],[Colonne5]]*(Tableau3[[#This Row],[Colonne7]]),"") | J13: 0.07 | K13: =IFERROR(Tableau3[[#This Row],[Colonne8]]*(Tableau3[[#This Row],[Colonne9]]),"")
B14: ='LISTING EQUIPEMENTS'!C14 -> 0 | C14: =Tableau1[[#This Row],[Colonne2]] -> 0 | D14: =Tableau1[[#This Row],[Colonne3]] | E14: =Tableau1[[#This Row],[Colonne4]] -> 0 | F14: =Tableau1[[#This Row],[Colonne5]] -> 0 | G14: =Tableau1[[#This Row],[Colonne6]] | H14: =IFERROR(Tableau1[[#This Row],[Colonne6]]*(1-$H$1),"") | I14: =IFERROR(Tableau3[[#This Row],[Colonne5]]*(Tableau3[[#This Row],[Colonne7]]),"") | J14: 0.07 | K14: =IFERROR(Tableau3[[#This Row],[Colonne8]]*(Tableau3[[#This Row],[Colonne9]]),"")
B15: ='LISTING EQUIPEMENTS'!C15 -> 0 | C15: =Tableau1[[#This Row],[Colonne2]] -> 0 | D15: =Tableau1[[#This Row],[Colonne3]] | E15: =Tableau1[[#This Row],[Colonne4]] -> 0 | F15: =Tableau1[[#This Row],[Colonne5]] -> 0 | G15: =Tableau1[[#This Row],[Colonne6]] | H15: =IFERROR(Tableau1[[#This Row],[Colonne6]]*(1-$H$1),"") | I15: =IFERROR(Tableau3[[#This Row],[Colonne5]]*(Tableau3[[#This Row],[Colonne7]]),"") | J15: 0.07 | K15: =IFERROR(Tableau3[[#This Row],[Colonne8]]*(Tableau3[[#This Row],[Colonne9]]),"")
B16: ='LISTING EQUIPEMENTS'!C16 -> 0 | C16: =Tableau1[[#This Row],[Colonne2]] -> 0 | D16: =Tableau1[[#This Row],[Colonne3]] | E16: =Tableau1[[#This Row],[Colonne4]] -> 0 | F16: =Tableau1[[#This Row],[Colonne5]] -> 0 | G16: =Tableau1[[#This Row],[Colonne6]] | H16: =IFERROR(Tableau1[[#This Row],[Colonne6]]*(1-$H$1),"") | I16: =IFERROR(Tableau3[[#This Row],[Colonne5]]*(Tableau3[[#This Row],[Colonne7]]),"") | J16: 0.07 | K16: =IFERROR(Tableau3[[#This Row],[Colonne8]]*(Tableau3[[#This Row],[Colonne9]]),"")
B17: ='LISTING EQUIPEMENTS'!C17 -> 0 | C17: =Tableau1[[#This Row],[Colonne2]] -> 0 | D17: =Tableau1[[#This Row],[Colonne3]] | E17: =Tableau1[[#This Row],[Colonne4]] -> 0 | F17: =Tableau1[[#This Row],[Colonne5]] -> 0 | G17: =Tableau1[[#This Row],[Colonne6]] | H17: =IFERROR(Tableau1[[#This Row],[Colonne6]]*(1-$H$1),"") | I17: =IFERROR(Tableau3[[#This Row],[Colonne5]]*(Tableau3[[#This Row],[Colonne7]]),"") | J17: 0.07 | K17: =IFERROR(Tableau3[[#This Row],[Colonne8]]*(Tableau3[[#This Row],[Colonne9]]),"")
B18: ='LISTING EQUIPEMENTS'!C18 -> 0 | C18: =Tableau1[[#This Row],[Colonne2]] -> 0 | D18: =Tableau1[[#This Row],[Colonne3]] | E18: =Tableau1[[#This Row],[Colonne4]] -> 0 | F18: =Tableau1[[#This Row],[Colonne5]] -> 0 | G18: =Tableau1[[#This Row],[Colonne6]] | H18: =IFERROR(Tableau1[[#This Row],[Colonne6]]*(1-$H$1),"") | I18: =IFERROR(Tableau3[[#This Row],[Colonne5]]*(Tableau3[[#This Row],[Colonne7]]),"") | J18: 0.07 | K18: =IFERROR(Tableau3[[#This Row],[Colonne8]]*(Tableau3[[#This Row],[Colonne9]]),"")
B19: ='LISTING EQUIPEMENTS'!C19 -> 0 | C19: =Tableau1[[#This Row],[Colonne2]] -> 0 | D19: =Tableau1[[#This Row],[Colonne3]] | E19: =Tableau1[[#This Row],[Colonne4]] -> 0 | F19: =Tableau1[[#This Row],[Colonne5]] -> 0 | G19: =Tableau1[[#This Row],[Colonne6]] | H19: =IFERROR(Tableau1[[#This Row],[Colonne6]]*(1-$H$1),"") | I19: =IFERROR(Tableau3[[#This Row],[Colonne5]]*(Tableau3[[#This Row],[Colonne7]]),"") | J19: 0.07 | K19: =IFERROR(Tableau3[[#This Row],[Colonne8]]*(Tableau3[[#This Row],[Colonne9]]),"")
B20: ='LISTING EQUIPEMENTS'!C20 -> 0 | C20: =Tableau1[[#This Row],[Colonne2]] -> 0 | D20: =Tableau1[[#This Row],[Colonne3]] | E20: =Tableau1[[#This Row],[Colonne4]] -> 0 | F20: =Tableau1[[#This Row],[Colonne5]] -> 0 | G20: =Tableau1[[#This Row],[Colonne6]] | H20: =IFERROR(Tableau1[[#This Row],[Colonne6]]*(1-$H$1),"") | I20: =IFERROR(Tableau3[[#This Row],[Colonne5]]*(Tableau3[[#This Row],[Colonne7]]),"") | J20: 0.07 | K20: =IFERROR(Tableau3[[#This Row],[Colonne8]]*(Tableau3[[#This Row],[Colonne9]]),"")
