Workbook

Sheet Feuil4
A1: MOIS | B1: (Plusieurs éléments) | I1: NBRE DE VILLE
A2: REGION | B2: CENTRE | I2: REGION | J2: JANVIER | K2: FéVRIER | L2: MARS | M2: (TOUS)
I3: NORD | J3: 2350 | K3: 2590 | L3: 2322 | M3: =+SUM(J3:L3) -> 7262
A4: PRODUITS | B4: TYPE | C4: Somme de NBRE VILLE | D4: Somme de QUANTITE | I4: SUD | J4: 3080 | K4: 2647 | L4: 3455 | M4: =+SUM(J4:L4) -> 9182
A5: Prod 1 | B5: A | C5: 217 | D5: 1736 | I5: CENTRE | J5: 1238 | K5: 1559 | L5: 1364 | M5: =+SUM(J5:L5) -> 4161
A6: Prod 2 | B6: A | C6: 140 | D6: 1120 | I6: total | J6: =SUM(J3:J5) -> 6668 | K6: =SUM(K3:K5) -> 6796 | L6: =SUM(L3:L5) -> 7141 | M6: =SUM(M3:M5) -> 20605
A7: Prod 3 | B7: A | C7: 92 | D7: 736
A8: Prod 4 | B8: B | C8: 165 | D8: 1320
A9: Prod 5 | B9: B | C9: 214 | D9: 1712 | I9: Mois | J9: REGION | K9: Prod 1 | L9: Prod 2 | M9: Prod 3 | N9: Prod 4 | O9: Prod 5 | P9: Prod 6
A10: Prod 6 | B10: B | C10: 157 | D10: 1256 | I10: JANVIER | J10: NORD | K10: =SUMPRODUCT((Feuil1!$A$2:$A$1000=K$9)*(Feuil1!$F$2:$F$1000=$J10)*(Feuil1!$G$2:$G$1000=$I10)*(Feuil1!$E$2:$E$1000)) -> 448 | L10: =SUMPRODUCT((Feuil1!$A$2:$A$1000=L$9)*(Feuil1!$F$2:$F$1000=$J10)*(Feuil1!$G$2:$G$1000=$I10)*(Feuil1!$E$2:$E$1000)) -> 1008 | M10: =SUMPRODUCT((Feuil1!$A$2:$A$1000=M$9)*(Feuil1!$F$2:$F$1000=$J10)*(Feuil1!$G$2:$G$1000=$I10)*(Feuil1!$E$2:$E$1000)) -> 808 | N10: =SUMPRODUCT((Feuil1!$A$2:$A$1000=N$9)*(Feuil1!$F$2:$F$1000=$J10)*(Feuil1!$G$2:$G$1000=$I10)*(Feuil1!$E$2:$E$1000)) -> 208 | O10: =SUMPRODUCT((Feuil1!$A$2:$A$1000=O$9)*(Feuil1!$F$2:$F$1000=$J10)*(Feuil1!$G$2:$G$1000=$I10)*(Feuil1!$E$2:$E$1000)) -> 760 | P10: =SUMPRODUCT((Feuil1!$A$2:$A$1000=P$9)*(Feuil1!$F$2:$F$1000=$J10)*(Feuil1!$G$2:$G$1000=$I10)*(Feuil1!$E$2:$E$1000)) -> 568
A11: Total général | C11: 985 | D11: 7880 | I11: FÉVRIER | J11: SUD | K11: =SUMPRODUCT((Feuil1!$A$2:$A$1000=K$9)*(Feuil1!$F$2:$F$1000=$J11)*(Feuil1!$G$2:$G$1000=$I11)*(Feuil1!$E$2:$E$1000)) -> 960 | L11: =SUMPRODUCT((Feuil1!$A$2:$A$1000=L$9)*(Feuil1!$F$2:$F$1000=$J11)*(Feuil1!$G$2:$G$1000=$I11)*(Feuil1!$E$2:$E$1000)) -> 224 | M11: =SUMPRODUCT((Feuil1!$A$2:$A$1000=M$9)*(Feuil1!$F$2:$F$1000=$J11)*(Feuil1!$G$2:$G$1000=$I11)*(Feuil1!$E$2:$E$1000)) -> 1136 | N11: =SUMPRODUCT((Feuil1!$A$2:$A$1000=N$9)*(Feuil1!$F$2:$F$1000=$J11)*(Feuil1!$G$2:$G$1000=$I11)*(Feuil1!$E$2:$E$1000)) -> 328 | O11: =SUMPRODUCT((Feuil1!$A$2:$A$1000=O$9)*(Feuil1!$F$2:$F$1000=$J11)*(Feuil1!$G$2:$G$1000=$I11)*(Feuil1!$E$2:$E$1000)) -> 1088 | P11: =SUMPRODUCT((Feuil1!$A$2:$A$1000=P$9)*(Feuil1!$F$2:$F$1000=$J11)*(Feuil1!$G$2:$G$1000=$I11)*(Feuil1!$E$2:$E$1000)) -> 968
I12: MARS | J12: CENTRE | K12: =SUMPRODUCT((Feuil1!$A$2:$A$1000=K$9)*(Feuil1!$F$2:$F$1000=$J12)*(Feuil1!$G$2:$G$1000=$I12)*(Feuil1!$E$2:$E$1000)) -> 1112 | L12: =SUMPRODUCT((Feuil1!$A$2:$A$1000=L$9)*(Feuil1!$F$2:$F$1000=$J12)*(Feuil1!$G$2:$G$1000=$I12)*(Feuil1!$E$2:$E$1000)) -> 744 | M12: =SUMPRODUCT((Feuil1!$A$2:$A$1000=M$9)*(Feuil1!$F$2:$F$1000=$J12)*(Feuil1!$G$2:$G$1000=$I12)*(Feuil1!$E$2:$E$1000)) -> 608 | N12: =SUMPRODUCT((Feuil1!$A$2:$A$1000=N$9)*(Feuil1!$F$2:$F$1000=$J12)*(Feuil1!$G$2:$G$1000=$I12)*(Feuil1!$E$2:$E$1000)) -> 1088 | O12: =SUMPRODUCT((Feuil1!$A$2:$A$1000=O$9)*(Feuil1!$F$2:$F$1000=$J12)*(Feuil1!$G$2:$G$1000=$I12)*(Feuil1!$E$2:$E$1000)) -> 1008 | P12: =SUMPRODUCT((Feuil1!$A$2:$A$1000=P$9)*(Feuil1!$F$2:$F$1000=$J12)*(Feuil1!$G$2:$G$1000=$I12)*(Feuil1!$E$2:$E$1000)) -> 1128
I13: =SUM(K13:P13) -> 14192 | J13: total | K13: =SUM(K10:K12) -> 2520 | L13: =SUM(L10:L12) -> 1976 | M13: =SUM(M10:M12) -> 2552 | N13: =SUM(N10:N12) -> 1624 | O13: =SUM(O10:O12) -> 2856 | P13: =SUM(P10:P12) -> 2664
C27: REPARTITION SUR 2 MOIS GLISSANT
A29: EXEMPLE
B30: BASE | C30: MOIS | D30: formule | E30: valeur
A31: prod 1 | B31: nord | C31: janvier | D31: SI(B2="nord";D5/H3;"") | E31: 0.02
A32: prod 1 | B32: tous | C32: tous | D32: D5/K6 | E32: 0.04
A33: prod 1 | B33: Sud | C33: tous | D33: SI(B2="sud";D5/(H4+I4)) | E33: 0.03

Sheet Feuil1
A1: PRODUITS | B1: TYPE | C1: FOURNISSEURS | D1: NBRE VILLE | E1: QUANTITE | F1: REGION | G1: MOIS | I1: =SUBTOTAL(9,E:E) -> 37712
A2: Prod 1 | B2: A | C2: ZAKO | D2: 56 | E2: 448 | F2: NORD | G2: JANVIER
A3: Prod 2 | B3: A | C3: ZAKO | D3: 126 | E3: 1008 | F3: NORD | G3: JANVIER
A4: Prod 3 | B4: A | C4: ZAKO | D4: 101 | E4: 808 | F4: NORD | G4: JANVIER
A5: Prod 4 | B5: B | C5: BAZIK | D5: 26 | E5: 208 | F5: NORD | G5: JANVIER
A6: Prod 5 | B6: B | C6: BAZIK | D6: 95 | E6: 760 | F6: NORD | G6: JANVIER
A7: Prod 6 | B7: B | C7: BAZIK | D7: 71 | E7: 568 | F7: NORD | G7: JANVIER
A8: Prod 1 | B8: A | C8: ZAKO | D8: 63 | E8: 504 | F8: SUD | G8: JANVIER
A9: Prod 2 | B9: A | C9: ZAKO | D9: 44 | E9: 352 | F9: SUD | G9: JANVIER
A10: Prod 3 | B10: A | C10: ZAKO | D10: 21 | E10: 168 | F10: SUD | G10: JANVIER
A11: Prod 4 | B11: B | C11: BAZIK | D11: 90 | E11: 720 | F11: SUD | G11: JANVIER
A12: Prod 5 | B12: B | C12: BAZIK | D12: 129 | E12: 1032 | F12: SUD | G12: JANVIER
A13: Prod 6 | B13: B | C13: BAZIK | D13: 109 | E13: 872 | F13: SUD | G13: JANVIER
... A55: Prod 6 | B55: B | C55: BAZIK | D55: 141 | E55: 1128 | F55: CENTRE | G55: MARS

Sheet Feuil2

Sheet Feuil3
