Workbook

Sheet Feuil1
B1: =[1]export!A2 -> 006 - 02 - Sur-stock (IM)
B3: =TODAY() -> 43419 | C3: ean | D3: qté | E3: code
A6: =[1]export!A6 -> Description & EAN
A7: =[1]export!A7 -> 0 | B7: =A11 -> Sequence: 1 | C7: =A9 -> 3463975174423 | E7: ="*"&A9&"*" -> *3463975174423*
A8: =[1]export!A8 -> TOLLENS BI SAT BLC 10L | B8: =A8 -> TOLLENS BI SAT BLC 10L
A9: =[1]export!A9 -> 3463975174423
A10: =[1]export!A10 -> UV: par pièce
A11: =[1]export!A11 -> Sequence: 1
A12: =[1]export!A12 -> 0 | B12: =A16 -> Sequence: 1 | C12: =A14 -> 3562010192870 | E12: ="*"&A14&"*" -> *3562010192870*
A13: =[1]export!A13 -> M & PL MAT ECO RENAULAC 10L | B13: =A13 -> M & PL MAT ECO RENAULAC 10L
A14: =[1]export!A14 -> 3562010192870
A15: =[1]export!A15 -> UV: par pièce
A16: =[1]export!A16 -> Sequence: 1
A17: =[1]export!A17 -> 0 | B17: =A21 -> Sequence: 1 | C17: =A19 -> 3562010192894 | E17: ="*"&A19&"*" -> *3562010192894*
A18: =[1]export!A18 -> M & PL ACRYL SATIN ECO RENAULAC 10L | B18: =A18 -> M & PL ACRYL SATIN ECO RENAULAC 10L
A19: =[1]export!A19 -> 3562010192894
A20: =[1]export!A20 -> UV: par pièce
A21: =[1]export!A21 -> Sequence: 1
A22: =[1]export!A22 -> 0 | B22: =A26 -> Sequence: 1 | C22: =A24 -> 3562010193921 | E22: ="*"&A24&"*" -> *3562010193921*
A23: =[1]export!A23 -> BASE FAC.PLIO.MONOC 10L, DEEP | B23: =A23 -> BASE FAC.PLIO.MONOC 10L, DEEP
A24: =[1]export!A24 -> 3562010193921
A25: =[1]export!A25 -> UV: par pièce
A26: =[1]export!A26 -> Sequence: 1
A27: =[1]export!A27 -> 0 | B27: =A31 -> Sequence: 1 | C27: =A29 -> 3562010193945 | E27: ="*"&A29&"*" -> *3562010193945*
A28: =[1]export!A28 -> BASE FAC.PLIO.MONOC 10L, EXTRA DEEP | B28: =A28 -> BASE FAC.PLIO.MONOC 10L, EXTRA DEEP
A29: =[1]export!A29 -> 3562010193945
A30: =[1]export!A30 -> UV: par pièce
A31: =[1]export!A31 -> Sequence: 1
A32: =[1]export!A32 -> 0 | B32: =A36 -> Sequence: 1 | C32: =A34 -> 3562010193969 | E32: ="*"&A34&"*" -> *3562010193969*
A33: =[1]export!A33 -> BASE FAC.PLIO.MONOC 10L, TRANSPARENT | B33: =A33 -> BASE FAC.PLIO.MONOC 10L, TRANSPARENT
A34: =[1]export!A34 -> 3562010193969
A35: =[1]export!A35 -> UV: par pièce
A36: =[1]export!A36 -> Sequence: 1
A37: =[1]export!A37 -> 0 | B37: =A41 -> Sequence: 1 | C37: =A39 -> 3562010193938 | E37: ="*"&A39&"*" -> *3562010193938*
A38: =[1]export!A38 -> BASE FAC.PLIO.MONO 2L5, DEEP | B38: =A38 -> BASE FAC.PLIO.MONO 2L5, DEEP
A39: =[1]export!A39 -> 3562010193938
A40: =[1]export!A40 -> UV: par pièce
A41: =[1]export!A41 -> Sequence: 1
A42: =[1]export!A42 -> 0 | B42: =A46 -> Sequence: 1 | C42: =A44 -> 3562010193952 | E42: ="*"&A44&"*" -> *3562010193952*
A43: =[1]export!A43 -> BASE FAC.PLIO.MONO 2L5, EXTRA DEEP | B43: =A43 -> BASE FAC.PLIO.MONO 2L5, EXTRA DEEP
A44: =[1]export!A44 -> 3562010193952
A45: =[1]export!A45 -> UV: par pièce
A46: =[1]export!A46 -> Sequence: 1
A47: =[1]export!A47 -> 0 | B47: =A51 -> Sequence: 1 | C47: =A49 -> 3562010193976 | E47: ="*"&A49&"*" -> *3562010193976*
A48: =[1]export!A48 -> BASE FAC.PLIO.MONO 2L5, TRANSPARENT | B48: =A48 -> BASE FAC.PLIO.MONO 2L5, TRANSPARENT
A49: =[1]export!A49 -> 3562010193976
A50: =[1]export!A50 -> UV: par pièce
A51: =[1]export!A51 -> Sequence: 1
A52: =[1]export!A52 -> 0 | B52: =A56 -> Sequence: 1 | C52: =A54 -> 3562010194362 | E52: ="*"&A54&"*" -> *3562010194362*
A53: =[1]export!A53 -> BASE FAC.ACRY.MONO 2L5, MEDIUM | B53: =A53 -> BASE FAC.ACRY.MONO 2L5, MEDIUM
A54: =[1]export!A54 -> 3562010194362
A55: =[1]export!A55 -> UV: par pièce
A56: =[1]export!A56 -> Sequence: 1
A57: =[1]export!A57 -> 0 | B57: =A61 -> Sequence: 1 | C57: =A59 -> 3562010194386 | E57: ="*"&A59&"*" -> *3562010194386*
A58: =[1]export!A58 -> BASE FAC.ACRY.MONO 2L5, DEEP | B58: =A58 -> BASE FAC.ACRY.MONO 2L5, DEEP
A59: =[1]export!A59 -> 3562010194386
A60: =[1]export!A60 -> UV: par pièce
A61: =[1]export!A61 -> Sequence: 1
A62: =[1]export!A62 -> 0 | B62: =A66 -> Sequence: 1 | C62: =A64 -> 3562010194409 | E62: ="*"&A64&"*" -> *3562010194409*
A63: =[1]export!A63 -> BASE FAC.ACRY.MONO 2L5, EXTRA DEEP | B63: =A63 -> BASE FAC.ACRY.MONO 2L5, EXTRA DEEP
A64: =[1]export!A64 -> 3562010194409
A65: =[1]export!A65 -> UV: par pièce
A66: =[1]export!A66 -> Sequence: 1
A67: =[1]export!A67 -> Désadresser | B67: =A71 -> 0 | C67: =A69 -> 0 | E67: ="*"&A69&"*" -> *0*
A68: =[1]export!A68 -> 0 | B68: =A68 -> 0
A69: =[1]export!A69 -> 0
A70: =[1]export!A70 -> 0
A71: =[1]export!A71 -> 0
A72: =[1]export!A72 -> 0 | B72: =A76 -> 0 | C72: =A74 -> 0 | E72: ="*"&A74&"*" -> *0*
A73: =[1]export!A73 -> 0 | B73: =A73 -> 0
A74: =[1]export!A74 -> 0
A75: =[1]export!A75 -> 0
A76: =[1]export!A76 -> 0
A77: =[1]export!A77 -> 0 | B77: =A81 -> 0 | C77: =A79 -> 0 | E77: ="*"&A79&"*" -> *0*
A78: =[1]export!A78 -> 0 | B78: =A78 -> 0
A79: =[1]export!A79 -> 0
A80: =[1]export!A80 -> 0
A81: =[1]export!A81 -> 0
A82: =[1]export!A82 -> 0 | B82: =A86 -> 0 | C82: =A84 -> 0 | E82: ="*"&A84&"*" -> *0*
A83: =[1]export!A83 -> 0 | B83: =A83 -> 0
A84: =[1]export!A84 -> 0
A85: =[1]export!A85 -> 0
A86: =[1]export!A86 -> 0
A87: =[1]export!A87 -> 0 | B87: =A91 -> 0 | C87: =A89 -> 0 | E87: ="*"&A89&"*" -> *0*
A88: =[1]export!A88 -> 0 | B88: =A88 -> 0
A89: =[1]export!A89 -> 0
A90: =[1]export!A90 -> 0
A91: =[1]export!A91 -> 0
A92: =[1]export!A92 -> 0 | B92: =A96 -> 0 | C92: =A94 -> 0 | E92: ="*"&A94&"*" -> *0*
A93: =[1]export!A93 -> 0 | B93: =A93 -> 0
A94: =[1]export!A94 -> 0
A95: =[1]export!A95 -> 0
A96: =[1]export!A96 -> 0
A97: =[1]export!A97 -> 0 | B97: =A101 -> 0 | C97: =A99 -> 0 | E97: ="*"&A99&"*" -> *0*
A98: =[1]export!A98 -> 0 | B98: =A98 -> 0
A99: =[1]export!A99 -> 0
A100: =[1]export!A100 -> 0
A101: =[1]export!A101 -> 0
A102: =[1]export!A102 -> 0 | B102: =A106 -> 0 | C102: =A104 -> 0 | E102: ="*"&A104&"*" -> *0*
A103: =[1]export!A103 -> 0 | B103: =A103 -> 0
...

Sheet Feuil2
A1: =IF(O1=0,"",INDIRECT("Feuil1!"&ADDRESS(N1,2))) -> TOLLENS BI SAT BLC 10L | E1: =IF(O1=0,"","QTE") -> QTE | G1: =IF(Q1=0,"",INDIRECT("Feuil1!"&ADDRESS(P1,2))) -> M & PL MAT ECO RENAULAC 10L | K1: =IF(Q1=0,"","QTE") -> QTE | N1: 8 | O1: =INDIRECT("Feuil1!"&ADDRESS(N1-1,3)) -> 3463975174423 | P1: =N1+5 -> 13 | Q1: =INDIRECT("Feuil1!"&ADDRESS(P1-1,3)) -> 3562010192870
A2: =IF(O1=0,"",INDIRECT("Feuil1!"&ADDRESS(N1-1,5))) -> *3463975174423* | G2: =IF(Q1=0,"",INDIRECT("Feuil1!"&ADDRESS(P1-1,5))) -> *3562010192870*
A6: =IF(O1=0,"",Feuil1!$C$3) -> ean | B6: =IF(O1=0,"",INDIRECT("Feuil1!"&ADDRESS(N1-1,3))) -> 3463975174423 | G6: =IF(Q1=0,"",Feuil1!$C$3) -> ean | H6: =IF(Q1=0,"",INDIRECT("Feuil1!"&ADDRESS(P1-1,3))) -> 3562010192870
A9: =IF(O9=0,"",INDIRECT("Feuil1!"&ADDRESS(N9,2))) -> M & PL ACRYL SATIN ECO RENAULAC 10L | E9: =IF(O9=0,"","QTE") -> QTE | G9: =IF(Q9=0,"",INDIRECT("Feuil1!"&ADDRESS(P9,2))) -> BASE FAC.PLIO.MONOC 10L, DEEP | K9: =IF(Q9=0,"","QTE") -> QTE | N9: =P1+5 -> 18 | O9: =INDIRECT("Feuil1!"&ADDRESS(N9-1,3)) -> 3562010192894 | P9: =N9+5 -> 23 | Q9: =INDIRECT("Feuil1!"&ADDRESS(P9-1,3)) -> 3562010193921
A10: =IF(O9=0,"",INDIRECT("Feuil1!"&ADDRESS(N9-1,5))) -> *3562010192894* | G10: =IF(Q9=0,"",INDIRECT("Feuil1!"&ADDRESS(P9-1,5))) -> *3562010193921*
A14: =IF(O9=0,"",Feuil1!$C$3) -> ean | B14: =IF(O9=0,"",INDIRECT("Feuil1!"&ADDRESS(N9-1,3))) -> 3562010192894 | G14: =IF(Q9=0,"",Feuil1!$C$3) -> ean | H14: =IF(Q9=0,"",INDIRECT("Feuil1!"&ADDRESS(P9-1,3))) -> 3562010193921
A17: =IF(O17=0,"",INDIRECT("Feuil1!"&ADDRESS(N17,2))) -> BASE FAC.PLIO.MONOC 10L, EXTRA DEEP | E17: =IF(O17=0,"","QTE") -> QTE | G17: =IF(Q17=0,"",INDIRECT("Feuil1!"&ADDRESS(P17,2))) -> BASE FAC.PLIO.MONOC 10L, TRANSPARENT | K17: =IF(Q17=0,"","QTE") -> QTE | N17: =P9+5 -> 28 | O17: =INDIRECT("Feuil1!"&ADDRESS(N17-1,3)) -> 3562010193945 | P17: =N17+5 -> 33 | Q17: =INDIRECT("Feuil1!"&ADDRESS(P17-1,3)) -> 3562010193969
A18: =IF(O17=0,"",INDIRECT("Feuil1!"&ADDRESS(N17-1,5))) -> *3562010193945* | G18: =IF(Q17=0,"",INDIRECT("Feuil1!"&ADDRESS(P17-1,5))) -> *3562010193969*
A22: =IF(O17=0,"",Feuil1!$C$3) -> ean | B22: =IF(O17=0,"",INDIRECT("Feuil1!"&ADDRESS(N17-1,3))) -> 3562010193945 | G22: =IF(Q17=0,"",Feuil1!$C$3) -> ean | H22: =IF(Q17=0,"",INDIRECT("Feuil1!"&ADDRESS(P17-1,3))) -> 3562010193969
A25: =IF(O25=0,"",INDIRECT("Feuil1!"&ADDRESS(N25,2))) -> BASE FAC.PLIO.MONO 2L5, DEEP | E25: =IF(O25=0,"","QTE") -> QTE | G25: =IF(Q25=0,"",INDIRECT("Feuil1!"&ADDRESS(P25,2))) -> BASE FAC.PLIO.MONO 2L5, EXTRA DEEP | K25: =IF(Q25=0,"","QTE") -> QTE | N25: =P17+5 -> 38 | O25: =INDIRECT("Feuil1!"&ADDRESS(N25-1,3)) -> 3562010193938 | P25: =N25+5 -> 43 | Q25: =INDIRECT("Feuil1!"&ADDRESS(P25-1,3)) -> 3562010193952
A26: =IF(O25=0,"",INDIRECT("Feuil1!"&ADDRESS(N25-1,5))) -> *3562010193938* | G26: =IF(Q25=0,"",INDIRECT("Feuil1!"&ADDRESS(P25-1,5))) -> *3562010193952*
A30: =IF(O25=0,"",Feuil1!$C$3) -> ean | B30: =IF(O25=0,"",INDIRECT("Feuil1!"&ADDRESS(N25-1,3))) -> 3562010193938 | G30: =IF(Q25=0,"",Feuil1!$C$3) -> ean | H30: =IF(Q25=0,"",INDIRECT("Feuil1!"&ADDRESS(P25-1,3))) -> 3562010193952
A33: =IF(O33=0,"",INDIRECT("Feuil1!"&ADDRESS(N33,2))) -> BASE FAC.PLIO.MONO 2L5, TRANSPARENT | E33: =IF(O33=0,"","QTE") -> QTE | G33: =IF(Q33=0,"",INDIRECT("Feuil1!"&ADDRESS(P33,2))) -> BASE FAC.ACRY.MONO 2L5, MEDIUM | K33: =IF(Q33=0,"","QTE") -> QTE | N33: =P25+5 -> 48 | O33: =INDIRECT("Feuil1!"&ADDRESS(N33-1,3)) -> 3562010193976 | P33: =N33+5 -> 53 | Q33: =INDIRECT("Feuil1!"&ADDRESS(P33-1,3)) -> 3562010194362
A34: =IF(O33=0,"",INDIRECT("Feuil1!"&ADDRESS(N33-1,5))) -> *3562010193976* | G34: =IF(Q33=0,"",INDIRECT("Feuil1!"&ADDRESS(P33-1,5))) -> *3562010194362*
A38: =IF(O33=0,"",Feuil1!$C$3) -> ean | B38: =IF(O33=0,"",INDIRECT("Feuil1!"&ADDRESS(N33-1,3))) -> 3562010193976 | G38: =IF(Q33=0,"",Feuil1!$C$3) -> ean | H38: =IF(Q33=0,"",INDIRECT("Feuil1!"&ADDRESS(P33-1,3))) -> 3562010194362
A41: =IF(O41=0,"",INDIRECT("Feuil1!"&ADDRESS(N41,2))) -> BASE FAC.ACRY.MONO 2L5, DEEP | E41: =IF(O41=0,"","QTE") -> QTE | G41: =IF(Q41=0,"",INDIRECT("Feuil1!"&ADDRESS(P41,2))) -> BASE FAC.ACRY.MONO 2L5, EXTRA DEEP | K41: =IF(Q41=0,"","QTE") -> QTE | N41: =P33+5 -> 58 | O41: =INDIRECT("Feuil1!"&ADDRESS(N41-1,3)) -> 3562010194386 | P41: =N41+5 -> 63 | Q41: =INDIRECT("Feuil1!"&ADDRESS(P41-1,3)) -> 3562010194409
A42: =IF(O41=0,"",INDIRECT("Feuil1!"&ADDRESS(N41-1,5))) -> *3562010194386* | G42: =IF(Q41=0,"",INDIRECT("Feuil1!"&ADDRESS(P41-1,5))) -> *3562010194409*
A46: =IF(O41=0,"",Feuil1!$C$3) -> ean | B46: =IF(O41=0,"",INDIRECT("Feuil1!"&ADDRESS(N41-1,3))) -> 3562010194386 | G46: =IF(Q41=0,"",Feuil1!$C$3) -> ean | H46: =IF(Q41=0,"",INDIRECT("Feuil1!"&ADDRESS(P41-1,3))) -> 3562010194409
A49: =IF(O49=0,"",INDIRECT("Feuil1!"&ADDRESS(N49,2))) | E49: =IF(O49=0,"","QTE") | G49: =IF(Q49=0,"",INDIRECT("Feuil1!"&ADDRESS(P49,2))) | K49: =IF(Q49=0,"","QTE") | N49: =P41+5 -> 68 | O49: =INDIRECT("Feuil1!"&ADDRESS(N49-1,3)) -> 0 | P49: =N49+5 -> 73 | Q49: =INDIRECT("Feuil1!"&ADDRESS(P49-1,3)) -> 0
A50: =IF(O49=0,"",INDIRECT("Feuil1!"&ADDRESS(N49-1,5))) | G50: =IF(Q49=0,"",INDIRECT("Feuil1!"&ADDRESS(P49-1,5)))
A54: =IF(O49=0,"",Feuil1!$C$3) | B54: =IF(O49=0,"",INDIRECT("Feuil1!"&ADDRESS(N49-1,3))) | G54: =IF(Q49=0,"",Feuil1!$C$3) | H54: =IF(Q49=0,"",INDIRECT("Feuil1!"&ADDRESS(P49-1,3)))
A57: =IF(O57=0,"",INDIRECT("Feuil1!"&ADDRESS(N57,2))) | E57: =IF(O57=0,"","QTE") | G57: =IF(Q57=0,"",INDIRECT("Feuil1!"&ADDRESS(P57,2))) | K57: =IF(Q57=0,"","QTE") | N57: =P49+5 -> 78 | O57: =INDIRECT("Feuil1!"&ADDRESS(N57-1,3)) -> 0 | P57: =N57+5 -> 83 | Q57: =INDIRECT("Feuil1!"&ADDRESS(P57-1,3)) -> 0
A58: =IF(O57=0,"",INDIRECT("Feuil1!"&ADDRESS(N57-1,5))) | G58: =IF(Q57=0,"",INDIRECT("Feuil1!"&ADDRESS(P57-1,5)))
A62: =IF(O57=0,"",Feuil1!$C$3) | B62: =IF(O57=0,"",INDIRECT("Feuil1!"&ADDRESS(N57-1,3))) | G62: =IF(Q57=0,"",Feuil1!$C$3) | H62: =IF(Q57=0,"",INDIRECT("Feuil1!"&ADDRESS(P57-1,3)))
A65: =IF(O65=0,"",INDIRECT("Feuil1!"&ADDRESS(N65,2))) | E65: =IF(O65=0,"","QTE") | G65: =IF(Q65=0,"",INDIRECT("Feuil1!"&ADDRESS(P65,2))) | K65: =IF(Q65=0,"","QTE") | N65: =P57+5 -> 88 | O65: =INDIRECT("Feuil1!"&ADDRESS(N65-1,3)) -> 0 | P65: =N65+5 -> 93 | Q65: =INDIRECT("Feuil1!"&ADDRESS(P65-1,3)) -> 0
A66: =IF(O65=0,"",INDIRECT("Feuil1!"&ADDRESS(N65-1,5))) | G66: =IF(Q65=0,"",INDIRECT("Feuil1!"&ADDRESS(P65-1,5)))
A70: =IF(O65=0,"",Feuil1!$C$3) | B70: =IF(O65=0,"",INDIRECT("Feuil1!"&ADDRESS(N65-1,3))) | G70: =IF(Q65=0,"",Feuil1!$C$3) | H70: =IF(Q65=0,"",INDIRECT("Feuil1!"&ADDRESS(P65-1,3)))
A73: =IF(O73=0,"",INDIRECT("Feuil1!"&ADDRESS(N73,2))) | E73: =IF(O73=0,"","QTE") | G73: =IF(Q73=0,"",INDIRECT("Feuil1!"&ADDRESS(P73,2))) | K73: =IF(Q73=0,"","QTE") | N73: =P65+5 -> 98 | O73: =INDIRECT("Feuil1!"&ADDRESS(N73-1,3)) -> 0 | P73: =N73+5 -> 103 | Q73: =INDIRECT("Feuil1!"&ADDRESS(P73-1,3)) -> 0
A74: =IF(O73=0,"",INDIRECT("Feuil1!"&ADDRESS(N73-1,5))) | G74: =IF(Q73=0,"",INDIRECT("Feuil1!"&ADDRESS(P73-1,5)))
A78: =IF(O73=0,"",Feuil1!$C$3) | B78: =IF(O73=0,"",INDIRECT("Feuil1!"&ADDRESS(N73-1,3))) | G78: =IF(Q73=0,"",Feuil1!$C$3) | H78: =IF(Q73=0,"",INDIRECT("Feuil1!"&ADDRESS(P73-1,3)))
A81: =IF(O81=0,"",INDIRECT("Feuil1!"&ADDRESS(N81,2))) | E81: =IF(O81=0,"","QTE") | G81: =IF(Q81=0,"",INDIRECT("Feuil1!"&ADDRESS(P81,2))) | K81: =IF(Q81=0,"","QTE") | N81: =P73+5 -> 108 | O81: =INDIRECT("Feuil1!"&ADDRESS(N81-1,3)) -> 0 | P81: =N81+5 -> 113 | Q81: =INDIRECT("Feuil1!"&ADDRESS(P81-1,3)) -> 0
A82: =IF(O81=0,"",INDIRECT("Feuil1!"&ADDRESS(N81-1,5))) | G82: =IF(Q81=0,"",INDIRECT("Feuil1!"&ADDRESS(P81-1,5)))
A86: =IF(O81=0,"",Feuil1!$C$3) | B86: =IF(O81=0,"",INDIRECT("Feuil1!"&ADDRESS(N81-1,3))) | G86: =IF(Q81=0,"",Feuil1!$C$3) | H86: =IF(Q81=0,"",INDIRECT("Feuil1!"&ADDRESS(P81-1,3)))
A89: =IF(O89=0,"",INDIRECT("Feuil1!"&ADDRESS(N89,2))) | E89: =IF(O89=0,"","QTE") | G89: =IF(Q89=0,"",INDIRECT("Feuil1!"&ADDRESS(P89,2))) | K89: =IF(Q89=0,"","QTE") | N89: =P81+5 -> 118 | O89: =INDIRECT("Feuil1!"&ADDRESS(N89-1,3)) -> 0 | P89: =N89+5 -> 123 | Q89: =INDIRECT("Feuil1!"&ADDRESS(P89-1,3)) -> 0
A90: =IF(O89=0,"",INDIRECT("Feuil1!"&ADDRESS(N89-1,5))) | G90: =IF(Q89=0,"",INDIRECT("Feuil1!"&ADDRESS(P89-1,5)))
A94: =IF(O89=0,"",Feuil1!$C$3) | B94: =IF(O89=0,"",INDIRECT("Feuil1!"&ADDRESS(N89-1,3))) | G94: =IF(Q89=0,"",Feuil1!$C$3) | H94: =IF(Q89=0,"",INDIRECT("Feuil1!"&ADDRESS(P89-1,3)))
A97: =IF(O97=0,"",INDIRECT("Feuil1!"&ADDRESS(N97,2))) | E97: =IF(O97=0,"","QTE") | G97: =IF(Q97=0,"",INDIRECT("Feuil1!"&ADDRESS(P97,2))) | K97: =IF(Q97=0,"","QTE") | N97: =P89+5 -> 128 | O97: =INDIRECT("Feuil1!"&ADDRESS(N97-1,3)) -> 0 | P97: =N97+5 -> 133 | Q97: =INDIRECT("Feuil1!"&ADDRESS(P97-1,3)) -> 0
A98: =IF(O97=0,"",INDIRECT("Feuil1!"&ADDRESS(N97-1,5))) | G98: =IF(Q97=0,"",INDIRECT("Feuil1!"&ADDRESS(P97-1,5)))
A102: =IF(O97=0,"",Feuil1!$C$3) | B102: =IF(O97=0,"",INDIRECT("Feuil1!"&ADDRESS(N97-1,3))) | G102: =IF(Q97=0,"",Feuil1!$C$3) | H102: =IF(Q97=0,"",INDIRECT("Feuil1!"&ADDRESS(P97-1,3)))
A105: =IF(O105=0,"",INDIRECT("Feuil1!"&ADDRESS(N105,2))) | E105: =IF(O105=0,"","QTE") | G105: =IF(Q105=0,"",INDIRECT("Feuil1!"&ADDRESS(P105,2))) | K105: =IF(Q105=0,"","QTE") | N105: =P97+5 -> 138 | O105: =INDIRECT("Feuil1!"&ADDRESS(N105-1,3)) -> 0 | P105: =N105+5 -> 143 | Q105: =INDIRECT("Feuil1!"&ADDRESS(P105-1,3)) -> 0
A106: =IF(O105=0,"",INDIRECT("Feuil1!"&ADDRESS(N105-1,5))) | G106: =IF(Q105=0,"",INDIRECT("Feuil1!"&ADDRESS(P105-1,5)))
A110: =IF(O105=0,"",Feuil1!$C$3) | B110: =IF(O105=0,"",INDIRECT("Feuil1!"&ADDRESS(N105-1,3))) | G110: =IF(Q105=0,"",Feuil1!$C$3) | H110: =IF(Q105=0,"",INDIRECT("Feuil1!"&ADDRESS(P105-1,3)))

Sheet Feuil3
