Workbook

Sheet Feuil1
C2: club1 | D2: F | E2: nom1
C3: club1 | D3: M | E3: nom2
C4: club1 | D4: M | E4: nom3
C5: club2 | D5: F | E5: nom4
C6: club2 | D6: F | E6: nom5
C7: club3 | D7: M | E7: nom6
C8: club3 | D8: M | E8: nom7

Sheet liste
J2: club3 | L2: {=IFERROR(INDEX(Feuil1!E:E,SMALL(IF(Feuil1!C:C=$J$2,ROW(Feuil1!C:C)),ROW(A1))),"")} -> nom6
L3: {=IFERROR(INDEX(Feuil1!E:E,SMALL(IF(Feuil1!C:C=$J$2,ROW(Feuil1!C:C)),ROW(A2))),"")} -> nom7
L4: {=IFERROR(INDEX(Feuil1!E:E,SMALL(IF(Feuil1!C:C=$J$2,ROW(Feuil1!C:C)),ROW(A3))),"")}
L5: {=IFERROR(INDEX(Feuil1!E:E,SMALL(IF(Feuil1!C:C=$J$2,ROW(Feuil1!C:C)),ROW(A4))),"")} | N5: =COUNTIFS(Feuil1!C:C,J2,Feuil1!D:D,"F") -> 0
L6: {=IFERROR(INDEX(Feuil1!E:E,SMALL(IF(Feuil1!C:C=$J$2,ROW(Feuil1!C:C)),ROW(A5))),"")}
L7: {=IFERROR(INDEX(Feuil1!E:E,SMALL(IF(Feuil1!C:C=$J$2,ROW(Feuil1!C:C)),ROW(A6))),"")} | N7: =COUNTIFS(Feuil1!C:C,J2,Feuil1!D:D,"M") -> 2
L8: {=IFERROR(INDEX(Feuil1!E:E,SMALL(IF(Feuil1!C:C=$J$2,ROW(Feuil1!C:C)),ROW(A7))),"")}
L9: {=IFERROR(INDEX(Feuil1!E:E,SMALL(IF(Feuil1!C:C=$J$2,ROW(Feuil1!C:C)),ROW(A8))),"")}
L10: {=IFERROR(INDEX(Feuil1!E:E,SMALL(IF(Feuil1!C:C=$J$2,ROW(Feuil1!C:C)),ROW(A9))),"")}
L11: {=IFERROR(INDEX(Feuil1!E:E,SMALL(IF(Feuil1!C:C=$J$2,ROW(Feuil1!C:C)),ROW(A10))),"")}
L12: {=IFERROR(INDEX(Feuil1!E:E,SMALL(IF(Feuil1!C:C=$J$2,ROW(Feuil1!C:C)),ROW(A11))),"")}
L13: {=IFERROR(INDEX(Feuil1!E:E,SMALL(IF(Feuil1!C:C=$J$2,ROW(Feuil1!C:C)),ROW(A12))),"")}
L14: {=IFERROR(INDEX(Feuil1!E:E,SMALL(IF(Feuil1!C:C=$J$2,ROW(Feuil1!C:C)),ROW(A13))),"")}
L15: {=IFERROR(INDEX(Feuil1!E:E,SMALL(IF(Feuil1!C:C=$J$2,ROW(Feuil1!C:C)),ROW(A14))),"")}
L16: {=IFERROR(INDEX(Feuil1!E:E,SMALL(IF(Feuil1!C:C=$J$2,ROW(Feuil1!C:C)),ROW(A15))),"")}
L17: {=IFERROR(INDEX(Feuil1!E:E,SMALL(IF(Feuil1!C:C=$J$2,ROW(Feuil1!C:C)),ROW(A16))),"")}
L18: {=IFERROR(INDEX(Feuil1!E:E,SMALL(IF(Feuil1!C:C=$J$2,ROW(Feuil1!C:C)),ROW(A17))),"")}
L19: {=IFERROR(INDEX(Feuil1!E:E,SMALL(IF(Feuil1!C:C=$J$2,ROW(Feuil1!C:C)),ROW(A18))),"")}
... L24: {=IFERROR(INDEX(Feuil1!E:E,SMALL(IF(Feuil1!C:C=$J$2,ROW(Feuil1!C:C)),ROW(A23))),"")}
