Workbook
Name n: MATCH("zzzzzzzzzzzzzzzz",Feuil1!$A:$A)

Sheet Feuil4
A1: MOIS | B1: (Tous) | G1: NBRE DE VILLE
A2: REGION | B2: (Tous) | G2: REGION | H2: JANVIER | I2: FéVRIER | J2: MARS | K2: (TOUS)
E3: poid signifie Quantité ? | G3: NORD | H3: 2350 | I3: 2590 | J3: 2322 | K3: 7262
A4: PRODUITS | B4: TYPE | C4: Somme de NBRE VILLE | D4: Somme de QUANTITE | E4: Poid | G4: SUD | H4: 3080 | I4: 2647 | J4: 3455 | K4: 9182
A5: Prod 1 | B5: A | C5: 896 | D5: 7168 | E5: =D5/C5 -> 8 | G5: CENTRE | H5: 1238 | I5: 1559 | J5: 1364 | K5: 4161
A6: Prod 2 | B6: A | C6: 749 | D6: 5992 | E6: =D6/C6 -> 8 | G6: total | H6: 6668 | I6: 6796 | J6: 7141 | K6: 20605
A7: Prod 3 | B7: A | C7: 642 | D7: 5136 | E7: =D7/C7 -> 8
A8: Prod 4 | B8: B | C8: 656 | D8: 5248 | E8: =D8/C8 -> 8 | K8: ? | L8: je ne comprend pas votre calcule du Nbr de Ville
A9: Prod 5 | B9: B | C9: 827 | D9: 6616 | E9: =D9/C9 -> 8
A10: Prod 6 | B10: B | C10: 944 | D10: 7552 | E10: =D10/C10 -> 8
A11: Total général | C11: 4714 | D11: 37712
G17: =SUM(I19:K21) -> 4714 | H17: NBRE DE VILLE
H18: REGION | I18: JANVIER | J18: FéVRIER | K18: MARS | L18: (TOUS)
H19: NORD | I19: =SUMPRODUCT(--(Feuil1!$G2:$G1000=I$18)*(Feuil1!$F2:$F1000=$H19)*(Feuil1!$D2:$D1000)) -> 475 | J19: =SUMPRODUCT(--(Feuil1!$G2:$G1000=J$18)*(Feuil1!$F2:$F1000=$H19)*(Feuil1!$D2:$D1000)) -> 587 | K19: =SUMPRODUCT(--(Feuil1!$G2:$G1000=K$18)*(Feuil1!$F2:$F1000=$H19)*(Feuil1!$D2:$D1000)) -> 542 | L19: =SUM(I19:K19) -> 1604
H20: SUD | I20: =SUMPRODUCT(--(Feuil1!$G3:$G1001=I$18)*(Feuil1!$F3:$F1001=$H20)*(Feuil1!$D3:$D1001)) -> 456 | J20: =SUMPRODUCT(--(Feuil1!$G3:$G1001=J$18)*(Feuil1!$F3:$F1001=$H20)*(Feuil1!$D3:$D1001)) -> 588 | K20: =SUMPRODUCT(--(Feuil1!$G3:$G1001=K$18)*(Feuil1!$F3:$F1001=$H20)*(Feuil1!$D3:$D1001)) -> 601 | L20: =SUM(I20:K20) -> 1645
H21: CENTRE | I21: =SUMPRODUCT(--(Feuil1!$G4:$G1002=I$18)*(Feuil1!$F4:$F1002=$H21)*(Feuil1!$D4:$D1002)) -> 274 | J21: =SUMPRODUCT(--(Feuil1!$G4:$G1002=J$18)*(Feuil1!$F4:$F1002=$H21)*(Feuil1!$D4:$D1002)) -> 480 | K21: =SUMPRODUCT(--(Feuil1!$G4:$G1002=K$18)*(Feuil1!$F4:$F1002=$H21)*(Feuil1!$D4:$D1002)) -> 711 | L21: =SUM(I21:K21) -> 1465
H22: total | I22: =SUM(I19:I21) -> 1205 | J22: =SUM(J19:J21) -> 1655 | K22: =SUM(K19:K21) -> 1854 | L22: =SUM(L19:L21) -> 4714
G25: =SUM(I27:K29) -> 37712 | H25: QUANTITE
H26: REGION | I26: JANVIER | J26: FéVRIER | K26: MARS | L26: (TOUS)
C27: REPARTITION SUR 2 MOIS GLISSANT | H27: NORD | I27: =SUMPRODUCT(--(Feuil1!$G2:$G1000=I$18)*(Feuil1!$F2:$F1000=$H19)*(Feuil1!$E2:$E1000)) -> 3800 | J27: =SUMPRODUCT(--(Feuil1!$G2:$G1000=J$18)*(Feuil1!$F2:$F1000=$H19)*(Feuil1!$E2:$E1000)) -> 4696 | K27: =SUMPRODUCT(--(Feuil1!$G2:$G1000=K$18)*(Feuil1!$F2:$F1000=$H19)*(Feuil1!$E2:$E1000)) -> 4336 | L27: =SUM(I27:K27) -> 12832
H28: SUD | I28: =SUMPRODUCT(--(Feuil1!$G3:$G1001=I$18)*(Feuil1!$F3:$F1001=$H20)*(Feuil1!$E3:$E1001)) -> 3648 | J28: =SUMPRODUCT(--(Feuil1!$G3:$G1001=J$18)*(Feuil1!$F3:$F1001=$H20)*(Feuil1!$E3:$E1001)) -> 4704 | K28: =SUMPRODUCT(--(Feuil1!$G3:$G1001=K$18)*(Feuil1!$F3:$F1001=$H20)*(Feuil1!$E3:$E1001)) -> 4808 | L28: =SUM(I28:K28) -> 13160
A29: EXEMPLE | H29: CENTRE | I29: =SUMPRODUCT(--(Feuil1!$G4:$G1002=I$18)*(Feuil1!$F4:$F1002=$H21)*(Feuil1!$E4:$E1002)) -> 2192 | J29: =SUMPRODUCT(--(Feuil1!$G4:$G1002=J$18)*(Feuil1!$F4:$F1002=$H21)*(Feuil1!$E4:$E1002)) -> 3840 | K29: =SUMPRODUCT(--(Feuil1!$G4:$G1002=K$18)*(Feuil1!$F4:$F1002=$H21)*(Feuil1!$E4:$E1002)) -> 5688 | L29: =SUM(I29:K29) -> 11720
B30: BASE | C30: MOIS | D30: formule | E30: valeur | H30: total | I30: =SUM(I27:I29) -> 9640 | J30: =SUM(J27:J29) -> 13240 | K30: =SUM(K27:K29) -> 14832 | L30: =SUM(L27:L29) -> 37712
A31: prod 1 | B31: nord | C31: janvier | D31: SI(B2="nord";D5/H3;"") | E31: 0.02
A32: prod 1 | B32: tous | C32: tous | D32: D5/K6 | E32: 0.04
A33: prod 1 | B33: Sud | C33: tous | D33: SI(B2="sud";D5/(H4+I4)) | E33: 0.03

Sheet Feuil1
A1: PRODUITS | B1: TYPE | C1: FOURNISSEURS | D1: NBRE VILLE | E1: QUANTITE | F1: REGION | G1: MOIS | J1: total NBRE VILLE | K1: total QUANTITE
A2: Prod 1 | B2: A | C2: ZAKO | D2: 56 | E2: 448 | F2: NORD | G2: JANVIER | J2: =SUM(D:D) -> 4714 | K2: =SUM(E:E) -> 37712
A3: Prod 2 | B3: A | C3: ZAKO | D3: 126 | E3: 1008 | F3: NORD | G3: JANVIER
A4: Prod 3 | B4: A | C4: ZAKO | D4: 101 | E4: 808 | F4: NORD | G4: JANVIER
A5: Prod 4 | B5: B | C5: BAZIK | D5: 26 | E5: 208 | F5: NORD | G5: JANVIER
A6: Prod 5 | B6: B | C6: BAZIK | D6: 95 | E6: 760 | F6: NORD | G6: JANVIER
A7: Prod 6 | B7: B | C7: BAZIK | D7: 71 | E7: 568 | F7: NORD | G7: JANVIER
A8: Prod 1 | B8: A | C8: ZAKO | D8: 63 | E8: 504 | F8: SUD | G8: JANVIER
A9: Prod 2 | B9: A | C9: ZAKO | D9: 44 | E9: 352 | F9: SUD | G9: JANVIER
A10: Prod 3 | B10: A | C10: ZAKO | D10: 21 | E10: 168 | F10: SUD | G10: JANVIER
A11: Prod 4 | B11: B | C11: BAZIK | D11: 90 | E11: 720 | F11: SUD | G11: JANVIER
A12: Prod 5 | B12: B | C12: BAZIK | D12: 129 | E12: 1032 | F12: SUD | G12: JANVIER
A13: Prod 6 | B13: B | C13: BAZIK | D13: 109 | E13: 872 | F13: SUD | G13: JANVIER
A14: Prod 1 | B14: A | C14: ZAKO | D14: 78 | E14: 624 | F14: CENTRE | G14: JANVIER
... A55: Prod 6 | B55: B | C55: BAZIK | D55: 141 | E55: 1128 | F55: CENTRE | G55: MARS

Sheet Feuil2

Sheet Feuil3
