Workbook
Name datedimanche: '[1]Etat staff'!$C$7
Name datedimanche: 'Etat staff'!$C$7
Name datejeudi: '[1]Etat staff'!$O$7
Name datejeudi: 'Etat staff'!$O$7
Name datelundi: '[1]Etat staff'!$F$7
Name datelundi: 'Etat staff'!$F$7
Name datemardi: '[1]Etat staff'!$I$7
Name datemardi: 'Etat staff'!$I$7
Name datemercredi: '[1]Etat staff'!$L$7
Name datemercredi: 'Etat staff'!$L$7
Name datesamedi: '[1]Etat staff'!$U$7
Name datesamedi: 'Etat staff'!$U$7
Name datevendredi: '[1]Etat staff'!$R$7
Name datevendredi: 'Etat staff'!$R$7
Name ECARTDIMANCHE: '[1]Etat staff'!$C$3
Name ECARTDIMANCHE: 'Etat staff'!$C$3
Name ECARTJEUDI: '[1]Etat staff'!$O$3
Name ECARTJEUDI: 'Etat staff'!$O$3
Name ECARTLUNDI: '[1]Etat staff'!$F$3
Name ECARTLUNDI: 'Etat staff'!$F$3
Name ECARTMARDI: '[1]Etat staff'!$I$3
Name ECARTMARDI: 'Etat staff'!$I$3
Name ECARTMERCREDI: '[1]Etat staff'!$L$3
Name ECARTMERCREDI: 'Etat staff'!$L$3
Name ECARTSAMEDI: '[1]Etat staff'!$U$3
Name ECARTSAMEDI: 'Etat staff'!$U$3
Name ECARTVENDREDI: '[1]Etat staff'!$R$3
Name ECARTVENDREDI: 'Etat staff'!$R$3
Name fctdimanche: '[1]Etat staff'!$C$2
Name fctdimanche: 'Etat staff'!$C$2
Name FCTJEUDI: '[1]Etat staff'!$O$2
Name FCTJEUDI: 'Etat staff'!$O$2
Name FCTLUNDI: '[1]Etat staff'!$F$2
Name FCTLUNDI: 'Etat staff'!$F$2
Name FCTMARDI: '[1]Etat staff'!$I$2
Name FCTMARDI: 'Etat staff'!$I$2
Name FCTMERCREDI: '[1]Etat staff'!$L$2
Name FCTMERCREDI: 'Etat staff'!$L$2
Name FCTSAMEDI: '[1]Etat staff'!$U$2
Name FCTSAMEDI: 'Etat staff'!$U$2
Name FCTVENDREDI: '[1]Etat staff'!$R$2
Name FCTVENDREDI: 'Etat staff'!$R$2
Name REELDIMANCHE: '[1]Etat staff'!$C$1
Name REELDIMANCHE: 'Etat staff'!$C$1
Name REELJEUDI: '[1]Etat staff'!$O$1
Name REELJEUDI: 'Etat staff'!$O$1
Name REELLUNDI: '[1]Etat staff'!$F$1
Name REELLUNDI: 'Etat staff'!$F$1
Name REELMARDI: '[1]Etat staff'!$I$1
Name REELMARDI: 'Etat staff'!$I$1
Name REELMERCREDI: '[1]Etat staff'!$L$1
Name REELMERCREDI: 'Etat staff'!$L$1
Name REELSAMEDI: '[1]Etat staff'!$U$1
Name REELSAMEDI: 'Etat staff'!$U$1
Name REELVENDREDI: '[1]Etat staff'!$R$1
Name REELVENDREDI: 'Etat staff'!$R$1

Sheet Etat staff
A1: REEL | C1: =C78 -> 32 | F1: =F78 -> 31 | I1: =I78 -> 29 | L1: =L78 -> 31 | O1: =O78 -> 31 | R1: =R78 -> 33 | U1: =U78 -> 38
A2: FORECAST | O2: 26.8
A3: ECART | C3: =C1-C2 -> 32 | F3: =F1-F2 -> 31 | I3: =I1-I2 -> 29 | L3: =L1-L2 -> 31 | O3: =O1-O2 -> 4.2 | R3: =R1-R2 -> 33 | U3: =U1-U2 -> 38
A4: LES LEGENDES Semaine
A7: Date | B7: DIMANCHE | C7: 31.03.2019 | D7: Date | E7: LUNDI | F7: 01.04.2019 | G7: Date | H7: MARDI | I7: 02.04.2019 | J7: Date | K7: MERCREDI | L7: 03.04.2019 | M7: Date | N7: JEUDI | O7: 04.04.2019 | P7: Date | Q7: VENDREDI | R7: 05.04.2019 | S7: Date | T7: SAMEDI | U7: 06.04.2019
A8: IN | B8: OUT | C8: NOM | D8: IN | E8: OUT | F8: NOM | G8: IN | H8: OUT | I8: NOM | J8: IN | K8: OUT | L8: NOM | M8: IN | N8: OUT | O8: NOM | P8: IN | Q8: OUT | R8: VENDREDI | S8: IN | T8: OUT | U8: NOM
A13: 43555.441 | B13: 43555.767 | C13: JULIE | G13: 43557.441 | H13: 43557.705 | I13: SOANJHARA | S13: 43561.441 | T13: 43561.767 | U13: OLFA
A14: 43555.566 | B14: 43555.872 | C14: LANCELOT | G14: 43557.587 | H14: 43557.913 | I14: KARINE | J14: 43558.587 | K14: 43558.913 | L14: DAISY | P14: 43560.545 | Q14: 43560.851 | R14: VIRGINIE | S14: 43561.587 | T14: 43561.955 | U14: CARLA
A15: 43555.316 | B15: 43555.642 | C15: LAURA | D15: 43556.316 | E15: 43556.642 | F15: MICHELA | G15: 43557.316 | H15: 43557.642 | I15: LAURA | J15: 43558.316 | K15: 43558.642 | L15: MARINE | M15: 43559.316 | N15: 43559.642 | O15: KAREN KANITHA | P15: 43560.316 | Q15: 43560.622 | R15: OLYMPE | S15: 43561.316 | T15: 43561.58 | U15: OLYMPE
A16: 43555.358 | B16: 43555.684 | C16: DAISY | D16: 43556.358 | E16: 43556.684 | F16: MARINE | G16: 43557.358 | H16: 43557.684 | I16: MARINE | J16: 43558.358 | K16: 43558.726 | L16: OLYMPE | M16: 43559.358 | N16: 43559.663 | O16: OLYMPE | P16: 43560.358 | Q16: 43560.663 | R16: PHILIPPINE | S16: 43561.358 | T16: 43561.663 | U16: PAGNA
A17: 43555.483 | B17: 43555.809 | C17: LAURA | D17: 43556.524 | E17: 43556.851 | F17: OLFA | G17: 43557.483 | H17: 43557.851 | I17: VIRGINIE | J17: 43558.524 | K17: 43558.851 | L17: ALADIN | M17: 43559.483 | N17: 43559.851 | O17: FATOUMATA | P17: 43560.483 | Q17: 43560.788 | R17: FATOUMATA | S17: 43561.524 | T17: 43561.851 | U17: ALADIN
A18: 43555.545 | B18: 43556 | C18: CAMILLE | D18: 43556.587 | E18: 43556.913 | F18: KAREN KANITHA | G18: 43557.587 | H18: 43557.913 | I18: ISARA | J18: 43558.587 | K18: 43558.913 | L18: KARINE | M18: 43559.587 | N18: 43559.913 | O18: MICHELA | P18: 43560.587 | Q18: 43560.913 | R18: CHARLENE | S18: 43561.628 | T18: 43561.955 | U18: ISARA
A21: 43555.358 | B21: 43555.684 | C21: OPHELIE | D21: 43556.358 | E21: 43556.663 | F21: MIKE | G21: 43557.358 | H21: 43557.663 | I21: ALEXANDRE | J21: 43558.358 | K21: 43558.622 | L21: MIKE | M21: 43559.441 | N21: 43559.767 | O21: OLFA | P21: 43560.441 | Q21: 43560.767 | R21: LAURA | S21: 43561.441 | T21: 43561.809 | U21: LYDIE
A22: 43555.441 | B22: 43555.767 | C22: CANDY | D22: 43556.441 | E22: 43556.809 | F22: TIMOTHE | G22: 43557.358 | H22: 43557.726 | I22: PHILIPPINE | J22: 43558.441 | K22: 43558.767 | L22: KAREN KANITHA | M22: 43559.524 | N22: 43559.851 | O22: ALADIN | P22: 43560.524 | Q22: 43560.851 | R22: OPHELIE | S22: 43561.441 | T22: 43561.767 | U22: LAURINE
A23: 43555.441 | B23: 43555.747 | C23: SOANJHARA | D23: 43556.441 | E23: 43556.767 | F23: CANDY | G23: 43557.524 | H23: 43557.851 | I23: OLFA | J23: 43558.524 | K23: 43558.83 | L23: ANDREA | M23: 43559.542 | N23: 43559.809 | O23: CAMILLE | P23: 43560.524 | Q23: 43560.851 | R23: ALADIN | S23: 43561.483 | T23: 43561.788 | U23: FATOUMATA
A24: 43555.483 | B24: 43555.851 | C24: DAVID | D24: 43556.441 | E24: 43556.747 | F24: MORGANE | G24: 43557.524 | H24: 43557.851 | I24: LAURA | J24: 43558.524 | K24: 43558.851 | L24: MATHILDE | M24: 43559.545 | N24: 43559.851 | O24: VIRGINIE | P24: 43560.587 | Q24: 43560.913 | R24: MICHELA | S24: 43561.483 | T24: 43561.809 | U24: CAMILLE
A25: 43555.503 | B25: 43555.872 | C25: SIKE BEM | D25: 43556.524 | E25: 43556.851 | F25: MATHILDE | G25: 43557.545 | H25: 43557.851 | I25: DAVID | J25: 43558.524 | K25: 43558.851 | L25: OPHELIE | M25: 43559.587 | N25: 43559.913 | O25: ISARA | P25: 43560.587 | Q25: 43560.913 | R25: ISARA | S25: 43561.524 | T25: 43561.892 | U25: MORGANE
A26: 43555.566 | B26: 43555.872 | C26: PAGNA | D26: 43556.608 | E26: 43556.872 | F26: PAGNA | G26: 43557.587 | H26: 43557.913 | I26: KAREN KANITHA | J26: 43558.587 | K26: 43558.913 | L26: CHARLENE | M26: 43559.587 | N26: 43559.851 | O26: DAVID | P26: 43560.587 | Q26: 43560.913 | R26: LAURA | S26: 43561.587 | T26: 43561.955 | U26: ALEXANDRE
D27: 43556.608 | E27: 43556.913 | F27: MEGANE | J27: 43558.587 | K27: 43558.913 | L27: ISARA | P27: 43560.587 | Q27: 43560.913 | R27: DAISY | S27: 43561.587 | T27: 43561.851 | U27: VIRGINIE
P28: 43560.587 | Q28: 43560.913 | R28: DAISY | S28: 43561.628 | T28: 43561.955 | U28: DAISY
S29: 43561.628 | T29: 43561.955 | U29: MICHELA
S30: 43561.649 | T30: 43561.913 | U30: CAMILLE
A31: 0.33333333 | B31: 43555.694 | C31: CELIA | D31: 43556.326 | E31: 43556.653 | F31: LAURA | G31: 43557.326 | H31: 43557.653 | I31: LAURINE | J31: 43558.326 | K31: 43558.59 | L31: AUDE | M31: 43559.326 | N31: 43559.632 | O31: PHILIPPINE | P31: 43560.326 | Q31: 43560.632 | R31: ERICKA | S31: 43561.358 | T31: 43561.622 | U31: PHILIPPINE
A32: 43555.326 | B32: 43555.694 | C32: AUDE | D32: 43556.326 | E32: 43556.653 | F32: LAURINE | G32: 43557.326 | H32: 43557.632 | I32: AUDE | J32: 43558.326 | K32: 43558.694 | L32: PHILIPPINE | M32: 43559.326 | N32: 43559.694 | O32: ERICKA | P32: 43560.326 | Q32: 43560.694 | R32: MEGANE | S32: 43561.326 | T32: 43561.632 | U32: ERICKA
A33: 43555.358 | B33: 43555.622 | C33: LOUIS | D33: 43556.326 | E33: 43556.632 | F33: AUDE | G33: 43557.326 | H33: 43557.694 | I33: OLYMPE | J33: 43558.337 | K33: 43558.663 | L33: LILIAN | M33: 43559.358 | N33: 43559.726 | O33: ANTHONY | P33: 43560.326 | Q33: 43560.653 | R33: SOAD | S33: 43561.358 | T33: 43561.663 | U33: ANTHONY
A34: 43555.326 | B34: 43555.653 | C34: SOAD | D34: 43556.337 | E34: 43556.663 | F34: DALIA | G34: 43557.337 | H34: 43557.663 | I34: DALIA | J34: 43558.326 | K34: 43558.653 | L34: SOAD | M34: 43559.326 | N34: 43559.653 | O34: SOAD | P34: 43560.358 | Q34: 43560.726 | R34: ANTHONY | S34: 43561.326 | T34: 43561.653 | U34: SOAD
A37: 43555.358 | B37: 43555.726 | C37: ALEXANDRE | D37: 43556.358 | E37: 43556.726 | F37: LUCAS | G37: 43557.358 | H37: 43557.726 | I37: LUCAS | J37: 43558.358 | K37: 43558.622 | L37: ALEXANDRE | M37: 43559.358 | N37: 43559.726 | O37: PAGNA | P37: 43560.358 | Q37: 43560.622 | R37: LUCAS | S37: 43561.358 | T37: 43561.726 | U37: ALEXANDRE
A38: 43555.358 | B38: 43555.726 | C38: MIKE | D38: 43556.358 | E38: 43556.663 | F38: ALEXANDRE | G38: 43557.358 | H38: 43557.663 | I38: MIKE | J38: 43558.358 | K38: 43558.663 | L38: LUCAS | M38: 43559.358 | N38: 43559.663 | O38: LUCAS | P38: 43560.358 | Q38: 43560.726 | R38: PAGNA | S38: 43561.358 | T38: 43561.726 | U38: MEGANE
A40: 43555.399 | B40: 43555.767 | C40: JULIAN | D40: 43556.399 | E40: 43556.705 | F40: JULIAN | G40: 43557.399 | H40: 43557.705 | I40: JULIAN | J40: 43558.378 | K40: 43558.642 | L40: JULIAN | M40: 43559.399 | N40: 43559.726 | O40: LILIAN | P40: 43560.399 | Q40: 43560.726 | R40: LILIAN | S40: 43561.441 | T40: 43561.809 | U40: LANCELOT
A41: 43555.441 | B41: 43555.767 | C41: ALADIN | D41: 43556.441 | E41: 43556.747 | F41: SOANJHARA | G41: 43557.441 | H41: 43557.767 | I41: JULIE | J41: 43558.441 | K41: 43558.705 | L41: MORGANE | M41: 43559.441 | N41: 43559.767 | O41: CANDY | P41: 43560.441 | Q41: 43560.809 | R41: LYDIE | S41: 43561.441 | T41: 43561.767 | U41: LAURA
A42: 43555.441 | B42: 43555.809 | C42: CARLA | D42: 43556.441 | E42: 43556.767 | F42: JULIE | G42: 43557.441 | H42: 43557.747 | I42: MORGANE | J42: 43558.441 | K42: 43558.767 | L42: JULIE | M42: 43559.441 | N42: 43559.809 | O42: MEGGIE | P42: 43560.441 | Q42: 43560.809 | R42: LANCELOT | S42: 43561.483 | T42: 43561.809 | U42: MARIE
A43: 43555.483 | B43: 43555.851 | C43: ALEXANDRE | D43: 43556.483 | E43: 43556.851 | F43: DAVID | G43: 43557.524 | H43: 43557.892 | I43: ANDREA | J43: 43558.483 | K43: 43558.851 | L43: MEGGIE | M43: 43559.483 | N43: 43559.809 | O43: OPHELIE | P43: 43560.483 | Q43: 43560.788 | R43: MEGGIE | S43: 43561.483 | T43: 43561.851 | U43: ALEXANDRE
A44: 43555.483 | B44: 43555.767 | C44: ANTHONY | D44: 43556.483 | E44: 43556.747 | F44: ANTHONY | G44: 43557.441 | H44: 43557.747 | I44: TIMOTHE | J44: 43558.441 | K44: 43558.747 | L44: TIMOTHE | M44: 43559.441 | N44: 43559.705 | O44: TIMOTHE | P44: 43560.524 | Q44: 43560.788 | R44: ANDREA | S44: 43561.483 | T44: 43561.788 | U44: MEGGIE
A45: 43555.503 | B45: 43555.872 | C45: TIMOTHE | D45: 43556.524 | E45: 43556.892 | F45: ANDREA | G45: 43557.524 | H45: 43557.851 | I45: MATHILDE | J45: 43558.483 | K45: 43558.851 | L45: VIRGINIE | M45: 43559.524 | N45: 43559.83 | O45: ANDREA | P45: 43560.524 | Q45: 43560.851 | R45: MELANIE | S45: 43561.483 | T45: 43561.851 | U45: JULIAN
... A56: 43555.608 | B56: 43555.872 | C56: ALICE | D56: 43556.608 | E56: 43556.913 | F56: LANCELOT | G56: 43557.649 | H56: 43557.913 | I56: MEGANE | J56: 43558.608 | K56: 43558.913 | L56: MATHIAS | M56: 43559.649 | N56: 43559.913 | O56: MATHIAS | P56: 43560.608 | Q56: 43560.913 | R56: CAMILLE | S56: 43561.587 | T56: 43561.955 | U56: SOANJHARA
A57: 43555.608 | B57: 43555.872 | C57: MEGGIE | J57: 43558.587 | K57: 43558.913 | L57: FRANCISCO | M57: 43559.587 | N57: 43559.913 | O57: KARINE | P57: 43560.587 | Q57: 43560.913 | R57: KARINE | S57: 43561.628 | T57: 43561.955 | U57: LAURA
A58: 43555.545 | B58: 43555.872 | C58: FRANCISCO DISPO | S58: 43561.628 | T58: 43561.955 | U58: CHARLENE
S59: 43561.649 | T59: 43561.955 | U59: ALICE
S60: 43561.649 | T60: 43561.955 | U60: LOUIS
A70: 0.6875 | B70: 43555.819 | C70: HASSINA | D70: 0.6875 | E70: 43556.819 | F70: HASSINA | M70: 0.6875 | N70: 43559.819 | O70: HASSINA | P70: 0.6875 | Q70: 43559.819 | R70: HASSINA | S70: 0.6875 | T70: 43561.819 | U70: HASSINA
A78: TOTAL | C78: =SUMPRODUCT(COUNTIF(C15:C77,C$83:C$101)*(F$83:F$101)) -> 32 | F78: =SUMPRODUCT(COUNTIF(F15:F77,C$83:C$101)*(F$83:F$101)) -> 31 | I78: =SUMPRODUCT(COUNTIF(I15:I77,C$83:C$101)*(F$83:F$101)) -> 29 | L78: =SUMPRODUCT(COUNTIF(L15:L77,C$83:C$101)*(F$83:F$101)) -> 31 | O78: =SUMPRODUCT(COUNTIF(O15:O77,C$83:C$101)*(F$83:F$101)) -> 31 | R78: =SUMPRODUCT(COUNTIF(R15:R77,C$83:C$101)*(F$83:F$101)) -> 33 | U78: =SUMPRODUCT(COUNTIF(U15:U77,C$83:C$101)*(F$83:F$101)) -> 38
A79: FCST
C81: 31.03.2019 | F81: 01.04.2019 | I81: 02.04.2019 | L81: 03.04.2019 | O81: 04.04.2019 | R81: 05.04.2019 | U81: 06.04.2019
A83: MI-TEMPS | C83: AURELIE | F83: -1
C84: SOAD | F84: -0.5
C85: HASSINA | F85: -0.5
A86: NOMS | C86: ="*" -> * | F86: 1
A87: DINAMIC SHIFT
C96: CLAIRE | F96: -1
C97: BESOIN | F97: -1

Sheet dimanche
A1: =datedimanche -> 31.03.2019 | H1: 0.33333333 | I1: =H$6+0.01042 -> 43555.344 | J1: =I$6+0.01042 -> 43555.354 | K1: =J$6+0.01042 -> 43555.365 | L1: =K$6+0.01042 -> 43555.375 | M1: =L$6+0.01042 -> 43555.385 | N1: =M$6+0.01042 -> 43555.396 | O1: =N$6+0.01042 -> 43555.406 | P1: =O$6+0.01042 -> 43555.417 | ... AB1: =AA$6+0.01042 -> 43555.542 | AC1: =AE$6+0.01042 -> 43555.583 | AD1: =AC$6+0.01042 -> 43555.563 | AE1: =AD$6+0.01042 -> 43555.573 | AF1: =#REF!+0.01042 -> #REF! | AG1: =AF$6+0.01042 -> 43555.594 | AH1: =AG$6+0.01042 -> 43555.604 | AI1: =AH$6+0.01042 -> 43555.615 | AJ1: =AI$6+0.01042 -> 43555.625 | AK1: =AJ$6+0.01042 -> 43555.635 | AL1: =AK$6+0.01042 -> 43555.646 | AM1: =AL$6+0.01042 -> 43555.656 | AN1: =AN$6+0.01042 -> 43555.677 | AO1: =#REF!+0.01042 -> #REF! | AP1: =AO$6+0.01042 -> 43555.688 | AQ1: =AP$6+0.01042 -> 43555.698 | AR1: =AQ$6+0.01042 -> 43555.708 | AS1: =AR$6+0.01042 -> 43555.719 | AT1: =AS$6+0.01042 -> 43555.729 | AU1: =AT$6+0.01042 -> 43555.74 | AV1: =AU$6+0.01042 -> 43555.75 | AW1: =AV$6+0.01042 -> 43555.76 | ... BT1: =BS$6+0.01042 -> 43556
A4: FRCST CM | B4: NBR REEL CM | C4: ECART
A5: =fctdimanche -> 0 | B5: =REELDIMANCHE -> 32 | C5: =ECARTDIMANCHE -> 32
B6: Support Caisse | C6: SHIFT | D6: SHIFT | E6: TEMPS | F6: départ de break | G6: depart de lunch | H6: =DATE(YEAR($C$8),MONTH($C$8),DAY($C$8))+(8/24) -> 43555.333 | I6: =H$6+(15/24/60) -> 43555.344 | J6: =I$6+(15/24/60) -> 43555.354 | K6: =J$6+(15/24/60) -> 43555.365 | L6: =K$6+(15/24/60) -> 43555.375 | M6: =L$6+(15/24/60) -> 43555.385 | N6: =M$6+(15/24/60) -> 43555.396 | O6: =N$6+(15/24/60) -> 43555.406 | P6: =O$6+(15/24/60) -> 43555.417 | ... BT6: =BS$6+(15/24/60) -> 43556
B8: ='Etat staff'!C15 -> LAURA | C8: ='Etat staff'!A15 -> 43555.316 | D8: ='Etat staff'!B15 -> 43555.642 | E8: =IF(BU8*24<5.75,0.25/24,IF(BU8*24<6.75,0.5/24,IF(BU8*24<9,1/24,IF(BU8*24<13.25,1.25/24,1.5/24)))) -> 0.041666667 | I8: MC | J8: MC | K8: MC | L8: OP | M8: OP | N8: OP | O8: OP | P8: B | Q8: OP | R8: OP | S8: OP | T8: OP | U8: OP | V8: OP | W8: OP | X8: L | Y8: L | Z8: L | AA8: OP | AB8: OP | AC8: OP | AD8: OP | AE8: OP | AF8: OP | AG8: OP | AH8: OP | AI8: OP | AJ8: OP | AK8: OP | BU8: =D8-C8+0.16666/24 -> 0.33333306
B9: ='Etat staff'!C16 -> DAISY | C9: ='Etat staff'!A16 -> 43555.358 | D9: ='Etat staff'!B16 -> 43555.684 | E9: =IF(BU9*24<5.75,0.25/24,IF(BU9*24<6.75,0.5/24,IF(BU9*24<9,1/24,IF(BU9*24<13.25,1.25/24,1.5/24)))) -> 0.041666667 | H9: / | I9: / | J9: / | K9: MC | L9: MC | M9: MC | N9: MC | O9: MC | P9: MC | Q9: MC | R9: MC | S9: MC | T9: MC | U9: OP | V9: OP | W9: OP | X9: OP | Y9: OP | Z9: OP | AA9: OP | AB9: L | AC9: L | AD9: L | AE9: MC | AF9: MC | AG9: MC | AH9: MC | AI9: MC | AJ9: OP | AK9: OP | AL9: OP | AM9: OP | AN9: OP | AO9: OP | BU9: =D9-C9+0.16666/24 -> 0.33333306
B10: ='Etat staff'!C17 -> LAURA | C10: ='Etat staff'!A17 -> 43555.483 | D10: ='Etat staff'!B17 -> 43555.809 | E10: =IF(BU10*24<5.75,0.25/24,IF(BU10*24<6.75,0.5/24,IF(BU10*24<9,1/24,IF(BU10*24<13.25,1.25/24,1.5/24)))) -> 0.041666667 | R10: / | S10: / | T10: / | U10: / | V10: MC | W10: MC | X10: MC | Y10: MC | Z10: MC | AA10: MC | AB10: MC | AC10: MC | AD10: MC | AE10: MC | AF10: L | AG10: L | AH10: L | AI10: MC | AJ10: MC | AK10: MC | AL10: MC | AM10: MC | AN10: MC | AO10: MC | AP10: MC | AQ10: MC | AR10: OP | AS10: OP | AT10: OP | AU10: OP | AV10: OP | AW10: OP | AX10: OP | AY10: OP | AZ10: OP | BA10: OP | BU10: =D10-C10+0.16666/24 -> 0.33333306
B11: ='Etat staff'!C18 -> CAMILLE | C11: ='Etat staff'!A18 -> 43555.545 | D11: ='Etat staff'!B18 -> 43556 | E11: =IF(BU11*24<5.75,0.25/24,IF(BU11*24<6.75,0.5/24,IF(BU11*24<9,1/24,IF(BU11*24<13.25,1.25/24,1.5/24)))) -> 0.052083333 | X11: / | Y11: / | Z11: / | AA11: / | AB11: OP | AC11: OP | AD11: OP | AE11: OP | AF11: OP | AG11: OP | AH11: OP | AI11: OP | AJ11: OP | AK11: OP | AL11: OP | AM11: OP | AN11: L | AO11: L | AP11: L | AQ11: MC | AR11: MC | AS11: MC | AT11: MC | AU11: MC | AV11: MC | AW11: MC | AX11: MC | AY11: MC | AZ11: MC | BA11: MC | BB11: MC | BC11: MC | BD11: MC | BE11: MC | BF11: MC | BG11: MC | BU11: =D11-C11+0.16666/24 -> 0.46180528
B12: ='Etat staff'!C19 -> 0 | C12: ='Etat staff'!A19 -> 0 | D12: ='Etat staff'!B19 -> 0 | E12: =IF(BU12*24<5.75,0.25/24,IF(BU12*24<6.75,0.5/24,IF(BU12*24<9,1/24,IF(BU12*24<13.25,1.25/24,1.5/24)))) -> 0.010416667 | BU12: =D12-C12+0.16666/24 -> 0.0069441667
B13: ='Etat staff'!C20 -> 0 | C13: ='Etat staff'!A20 -> 0 | D13: ='Etat staff'!B20 -> 0 | E13: =IF(BU13*24<5.75,0.25/24,IF(BU13*24<6.75,0.5/24,IF(BU13*24<9,1/24,IF(BU13*24<13.25,1.25/24,1.5/24)))) -> 0.010416667 | BU13: =D13-C13+0.16666/24 -> 0.0069441667
B15: FLOOR 1 | C15: SHIFT | D15: SHIFT | E15: TEMPS | F15: départ de break | G15: depart de lunch | H15: =DATE(YEAR($C$8),MONTH($C$8),DAY($C$8))+(8/24) -> 43555.333 | I15: =H$6+(15/24/60) -> 43555.344 | J15: =I$6+(15/24/60) -> 43555.354 | K15: =J$6+(15/24/60) -> 43555.365 | L15: =K$6+(15/24/60) -> 43555.375 | M15: =L$6+(15/24/60) -> 43555.385 | N15: =M$6+(15/24/60) -> 43555.396 | O15: =N$6+(15/24/60) -> 43555.406 | P15: =O$6+(15/24/60) -> 43555.417 | ... BT15: =BS$6+(15/24/60) -> 43556
B16: ='Etat staff'!C21 -> OPHELIE | C16: ='Etat staff'!A21 -> 43555.358 | D16: ='Etat staff'!B21 -> 43555.684 | E16: =IF(BU16*24<5.75,0.25/24,IF(BU16*24<6.75,0.5/24,IF(BU16*24<9,1/24,IF(BU16*24<13.25,1.25/24,1.5/24)))) -> 0.041666667 | BU16: =D16-C16+0.16666/24 -> 0.33333306
B17: ='Etat staff'!C22 -> CANDY | C17: ='Etat staff'!A22 -> 43555.441 | D17: ='Etat staff'!B22 -> 43555.767 | E17: =IF(BU17*24<5.75,0.25/24,IF(BU17*24<6.75,0.5/24,IF(BU17*24<9,1/24,IF(BU17*24<13.25,1.25/24,1.5/24)))) -> 0.041666667 | O17: / | P17: / | Q17: / | R17: / | S17: F | T17: BYOLS | U17: BYOLS | V17: BYOLS | W17: BYOLS | X17: F | Y17: F | Z17: F | AA17: F | AB17: BYOLS | AC17: BYOLS | AD17: BYOLS | AE17: BYOLS | AF17: L | AG17: L | AH17: L | AI17: F | AJ17: LOTS | AK17: LOTS | AL17: LOTS | AM17: LOTS | AN17: LOTS | AO17: LOTS | AP17: LOTS | AQ17: LOTS | AR17: BYOLS | AS17: BYOLS | AT17: BYOLS | AU17: BYOLS | AV17: F | AW17: F | BU17: =D17-C17+0.16666/24 -> 0.33333306
B18: ='Etat staff'!C23 -> SOANJHARA | C18: ='Etat staff'!A23 -> 43555.441 | D18: ='Etat staff'!B23 -> 43555.747 | E18: =IF(BU18*24<5.75,0.25/24,IF(BU18*24<6.75,0.5/24,IF(BU18*24<9,1/24,IF(BU18*24<13.25,1.25/24,1.5/24)))) -> 0.041666667 | P18: / | Q18: / | R18: / | S18: F | T18: LOTS | U18: LOTS | V18: LOTS | W18: LOTS | X18: LOTS | Y18: LOTS | Z18: LOTS | AA18: LOTS | AB18: LOTS | AC18: LOTS | AD18: LOTS | AE18: LOTS | AF18: L | AG18: L | AH18: L | AI18: LOTS | AJ18: BYOLS | AK18: BYOLS | AL18: BYOLS | AM18: BYOLS | AN18: F | AO18: F | AP18: F | AQ18: F | AR18: F | AS18: B | AT18: F | AU18: F | BU18: =D18-C18+0.16666/24 -> 0.31249972
B19: ='Etat staff'!C24 -> DAVID | C19: ='Etat staff'!A24 -> 43555.483 | D19: ='Etat staff'!B24 -> 43555.851 | E19: =IF(BU19*24<5.75,0.25/24,IF(BU19*24<6.75,0.5/24,IF(BU19*24<9,1/24,IF(BU19*24<13.25,1.25/24,1.5/24)))) -> 0.041666667 | S19: / | T19: / | U19: / | V19: / | W19: F | X19: BYOLS | Y19: BYOLS | Z19: BYOLS | AA19: BYOLS | AB19: F | AC19: F | AD19: F | AE19: F | AF19: F | AG19: F | AH19: F | AI19: F | AJ19: L | AK19: L | AL19: L | AM19: F | AN19: BYOLS | AO19: BYOLS | AP19: BYOLS | AQ19: BYOLS | AR19: B | AS19: F | AT19: F | AU19: F | AV19: BYOLS | AW19: BYOLS | AX19: BYOLS | AY19: BYOLS | AZ19: F | BA19: F | BB19: F | BC19: F | BD19: F | BE19: F | BU19: =D19-C19+0.16666/24 -> 0.37499972
B20: ='Etat staff'!C25 -> SIKE BEM | C20: ='Etat staff'!A25 -> 43555.503 | D20: ='Etat staff'!B25 -> 43555.872 | E20: =IF(BU20*24<5.75,0.25/24,IF(BU20*24<6.75,0.5/24,IF(BU20*24<9,1/24,IF(BU20*24<13.25,1.25/24,1.5/24)))) -> 0.041666667 | T20: / | U20: / | V20: / | W20: / | X20: F | Y20: F | Z20: F | AA20: F | AB20: F | AC20: F | AD20: F | AE20: F | AF20: F | AG20: F | AH20: F | AI20: F | AJ20: L | AK20: L | AL20: L | AM20: F | AN20: F | AO20: F | AP20: F | AQ20: F | AR20: F | AS20: F | AT20: F | AU20: F | AV20: F | AW20: F | AX20: F | AY20: F | AZ20: F | BA20: F | BB20: F | BC20: F | BD20: F | BE20: F | BF20: F | BG20: F | BU20: =D20-C20+0.16666/24 -> 0.37499972
B21: ='Etat staff'!C26 -> PAGNA | C21: ='Etat staff'!A26 -> 43555.566 | D21: ='Etat staff'!B26 -> 43555.872 | E21: =IF(BU21*24<5.75,0.25/24,IF(BU21*24<6.75,0.5/24,IF(BU21*24<9,1/24,IF(BU21*24<13.25,1.25/24,1.5/24)))) -> 0.041666667 | Z21: / | AA21: / | AB21: / | AC21: / | AD21: / | AE21: F | AF21: F | AG21: F | AH21: F | AI21: F | AJ21: F | AK21: F | AL21: F | AM21: F | AN21: L | AO21: L | AP21: L | AQ21: F | AR21: F | AS21: F | AT21: F | AU21: F | AV21: B | AW21: F | AX21: F | AY21: F | AZ21: F | BA21: F | BB21: F | BC21: F | BD21: F | BE21: F | BF21: F | BG21: F | BU21: =D21-C21+0.16666/24 -> 0.31249972
B22: ='Etat staff'!C27 -> 0 | C22: ='Etat staff'!A27 -> 0 | D22: ='Etat staff'!B27 -> 0 | E22: =IF(BU22*24<5.75,0.25/24,IF(BU22*24<6.75,0.5/24,IF(BU22*24<9,1/24,IF(BU22*24<13.25,1.25/24,1.5/24)))) -> 0.010416667 | X22: / | Y22: / | Z22: / | AA22: / | AB22: F | AC22: F | AD22: F | AE22: F | AF22: F | AG22: F | AH22: F | AI22: F | AJ22: F | AK22: F | AL22: F | AM22: F | AN22: F | AO22: F | AP22: F | AQ22: F | AR22: L | AS22: L | AT22: L | AU22: F | AV22: B | AW22: F | AX22: F | AY22: F | AZ22: F | BA22: F | BB22: F | BC22: F | BU22: =D22-C22+0.16666/24 -> 0.0069441667
B23: ='Etat staff'!C28 -> 0 | C23: ='Etat staff'!A28 -> 0 | D23: ='Etat staff'!B28 -> 0 | E23: =IF(BU23*24<5.75,0.25/24,IF(BU23*24<6.75,0.5/24,IF(BU23*24<9,1/24,IF(BU23*24<13.25,1.25/24,1.5/24)))) -> 0.010416667 | X23: / | Y23: / | Z23: / | AA23: / | AB23: F | AC23: F | AD23: F | AE23: F | AF23: F | AG23: F | AH23: F | AI23: F | AJ23: F | AK23: F | AL23: F | AM23: F | AN23: F | AO23: F | AP23: F | AQ23: F | AR23: L | AS23: L | AT23: L | AU23: F | AV23: F | AW23: F | AX23: F | AY23: F | AZ23: B | BA23: F | BB23: F | BC23: F | BD23: F | BE23: F | BF23: F | BG23: F | BU23: =D23-C23+0.16666/24 -> 0.0069441667
B24: ='Etat staff'!C29 -> 0 | C24: ='Etat staff'!A29 -> 0 | D24: ='Etat staff'!B29 -> 0 | E24: =IF(BU24*24<5.75,0.25/24,IF(BU24*24<6.75,0.5/24,IF(BU24*24<9,1/24,IF(BU24*24<13.25,1.25/24,1.5/24)))) -> 0.010416667 | X24: / | Y24: / | Z24: / | AA24: / | AB24: F | AC24: F | AD24: F | AE24: F | AF24: F | AG24: F | AH24: F | AI24: F | AJ24: F | AK24: F | AL24: F | AM24: F | AN24: L | AO24: L | AP24: L | AQ24: F | AR24: F | AS24: F | AT24: F | AU24: F | AV24: F | AW24: F | AX24: F | AY24: F | AZ24: B | BA24: F | BB24: F | BC24: F | BD24: F | BE24: F | BF24: F | BG24: F | BU24: =D24-C24+0.16666/24 -> 0.0069441667
B25: ='Etat staff'!C30 -> 0 | C25: ='Etat staff'!A30 -> 0 | D25: ='Etat staff'!B30 -> 0 | E25: =IF(BU25*24<5.75,0.25/24,IF(BU25*24<6.75,0.5/24,IF(BU25*24<9,1/24,IF(BU25*24<13.25,1.25/24,1.5/24)))) -> 0.010416667 | AB25: / | AC25: / | AD25: / | AE25: / | BU25: =D25-C25+0.16666/24 -> 0.0069441667
C27: SHIFT | D27: SHIFT | E27: TEMPS | F27: départ de break | G27: depart de lunch | H27: =DATE(YEAR($C$8),MONTH($C$8),DAY($C$8))+(8/24) -> 43555.333 | I27: =H$6+(15/24/60) -> 43555.344 | J27: =I$6+(15/24/60) -> 43555.354 | K27: =J$6+(15/24/60) -> 43555.365 | L27: =K$6+(15/24/60) -> 43555.375 | M27: =L$6+(15/24/60) -> 43555.385 | N27: =M$6+(15/24/60) -> 43555.396 | O27: =N$6+(15/24/60) -> 43555.406 | P27: =O$6+(15/24/60) -> 43555.417 | ... BT27: =BS$6+(15/24/60) -> 43556
B29: ='Etat staff'!C9 -> 0 | C29: ='Etat staff'!A9 -> 0 | D29: ='Etat staff'!B9 -> 0 | E29: Pandora | H29: VENTE | I29: VENTE | J29: VENTE | K29: VENTE | L29: VENTE | M29: VENTE | N29: VENTE | O29: VENTE | P29: VENTE | Q29: VENTE | R29: VENTE | S29: VENTE | T29: VENTE | U29: VENTE | V29: VENTE | W29: VENTE | X29: L | Y29: L | Z29: L | AA29: L | AB29: VENTE | AC29: VENTE | AD29: VENTE | AE29: VENTE | AF29: VENTE | AG29: VENTE | AH29: VENTE | AI29: VENTE | AJ29: VENTE | AK29: VENTE | AL29: VENTE | AM29: VENTE | BU29: =D29-C29+0.16666/24 -> 0.0069441667
B30: ='Etat staff'!C10 -> 0 | C30: ='Etat staff'!A10 -> 0 | D30: ='Etat staff'!B10 -> 0 | E30: Pandora | T30: VENTE | U30: VENTE | V30: VENTE | W30: VENTE | X30: VENTE | Y30: VENTE | Z30: VENTE | AA30: VENTE | AB30: VENTE | AC30: VENTE | AD30: VENTE | AE30: VENTE | AF30: L | AG30: L | AH30: L | AI30: L | AJ30: VENTE | AK30: VENTE | AL30: VENTE | AM30: VENTE | AN30: VENTE | AO30: VENTE | AP30: VENTE | AQ30: VENTE | AR30: VENTE | AS30: VENTE | AT30: VENTE | AU30: VENTE | AV30: VENTE | AW30: VENTE | AX30: VENTE | AY30: VENTE | BU30: =D30-C30+0.16666/24 -> 0.0069441667
B31: ='Etat staff'!C11 -> 0 | C31: ='Etat staff'!A11 -> 0 | D31: ='Etat staff'!B11 -> 0 | E31: Pandora | AB31: VENTE | AC31: VENTE | AD31: VENTE | AE31: VENTE | AF31: VENTE | AG31: VENTE | AH31: VENTE | AI31: VENTE | AJ31: VENTE | AK31: VENTE | AL31: VENTE | AM31: VENTE | AN31: L | AO31: L | AP31: L | AQ31: L | AR31: VENTE | AS31: VENTE | AT31: VENTE | AU31: VENTE | AV31: VENTE | AW31: VENTE | AX31: VENTE | AY31: VENTE | AZ31: VENTE | BA31: VENTE | BB31: VENTE | BC31: VENTE | BD31: VENTE | BE31: VENTE | BF31: VENTE | BG31: VENTE | BU31: =D31-C31+0.16666/24 -> 0.0069441667
B32: ='Etat staff'!C12 -> 0 | C32: ='Etat staff'!A12 -> 0 | D32: ='Etat staff'!B12 -> 0 | E32: Pandora | H32: VENTE | I32: VENTE | J32: VENTE | K32: VENTE | L32: VENTE | M32: VENTE | N32: VENTE | O32: VENTE | P32: VENTE | Q32: VENTE | R32: VENTE | S32: VENTE | T32: L | U32: L | V32: L | W32: VENTE | X32: VENTE | Y32: VENTE | Z32: VENTE | AA32: VENTE | AB32: VENTE | AC32: VENTE | AD32: VENTE | AE32: VENTE | AF32: VENTE | AG32: VENTE | AH32: VENTE | AI32: VENTE | AJ32: VENTE | AK32: VENTE | AL32: VENTE | AM32: VENTE | BU32: =D32-C32+0.16666/24 -> 0.0069441667
B33: ='Etat staff'!C13 -> JULIE | C33: ='Etat staff'!A13 -> 43555.441 | D33: ='Etat staff'!B13 -> 43555.767 | E33: Pandora | P33: VENTE | Q33: VENTE | R33: VENTE | S33: VENTE | T33: VENTE | U33: VENTE | V33: VENTE | W33: VENTE | X33: VENTE | Y33: VENTE | Z33: VENTE | AA33: VENTE | AB33: L | AC33: L | AD33: L | AE33: VENTE | AF33: VENTE | AG33: VENTE | AH33: VENTE | AI33: VENTE | AJ33: VENTE | AK33: VENTE | AL33: VENTE | AM33: VENTE | AN33: VENTE | AO33: VENTE | AP33: VENTE | AQ33: VENTE | AR33: VENTE | AS33: VENTE | AT33: VENTE | AU33: VENTE | BU33: =D33-C33+0.16666/24 -> 0.33333306
B34: ='Etat staff'!C14 -> LANCELOT | C34: ='Etat staff'!A14 -> 43555.566 | D34: ='Etat staff'!B14 -> 43555.872 | E34: Pandora | AB34: VENTE | AC34: VENTE | AD34: VENTE | AE34: VENTE | AF34: VENTE | AG34: VENTE | AH34: VENTE | AI34: VENTE | AJ34: VENTE | AK34: VENTE | AL34: VENTE | AM34: VENTE | AN34: L | AO34: L | AP34: L | AQ34: VENTE | AR34: VENTE | AS34: VENTE | AT34: VENTE | AU34: VENTE | AV34: VENTE | AW34: VENTE | AX34: VENTE | AY34: VENTE | AZ34: VENTE | BA34: VENTE | BB34: VENTE | BC34: VENTE | BD34: INV | BE34: INV | BF34: INV | BG34: INV | BU34: =D34-C34+0.16666/24 -> 0.31249972
B35: ='Etat staff'!C31 -> CELIA | C35: ='Etat staff'!A31 -> 0.33333333 | D35: ='Etat staff'!B31 -> 43555.694 | E35: =IF(BU35*24<5.75,0.25/24,IF(BU35*24<6.75,0.5/24,IF(BU35*24<9,1/24,IF(BU35*24<13.25,1.25/24,1.5/24)))) -> 0.0625 | H35: 1 | I35: 1 | J35: 1 | K35: 1 | L35: 1 | M35: 1 | N35: 1 | O35: 1 | P35: 1 | Q35: 1 | R35: 1 | S35: 1 | T35: L | U35: L | V35: L | W35: 35 | X35: 35 | Y35: 35 | Z35: 35 | AA35: F | AB35: F | AC35: F | AD35: F | AE35: F | AF35: B | AG35: CC | AH35: F | AI35: F | AJ35: F | AK35: F | AL35: F | AM35: F | AN35: F | AO35: F | AP35: F | AQ35: F | BU35: =D35-C35+0.16666/24 -> 43555.368
B36: ='Etat staff'!C32 -> AUDE | C36: ='Etat staff'!A32 -> 43555.326 | D36: ='Etat staff'!B32 -> 43555.694 | E36: =IF(BU36*24<5.75,0.25/24,IF(BU36*24<6.75,0.5/24,IF(BU36*24<9,1/24,IF(BU36*24<13.25,1.25/24,1.5/24)))) -> 0.041666667 | H36: 33 | I36: 33 | J36: 33 | K36: 33 | L36: 33 | M36: 33 | N36: 33 | O36: 33 | P36: B | Q36: 30 | R36: 30 | S36: 30 | T36: 39 | U36: 39 | V36: 39 | W36: 39 | X36: L | Y36: L | Z36: L | AA36: 37 | AB36: 37 | AC36: 37 | AD36: 37 | AE36: 37 | AF36: vente | AG36: vente | AH36: vente | AI36: vente | AJ36: WEL | AK36: WEL | AL36: WEL | AM36: WEL | AN36: B | AO36: CC | AP36: F | AQ36: F | BU36: =D36-C36+0.16666/24 -> 0.37499972
B37: ='Etat staff'!C33 -> LOUIS | C37: ='Etat staff'!A33 -> 43555.358 | D37: ='Etat staff'!B33 -> 43555.622 | E37: =IF(BU37*24<5.75,0.25/24,IF(BU37*24<6.75,0.5/24,IF(BU37*24<9,1/24,IF(BU37*24<13.25,1.25/24,1.5/24)))) -> 0.020833333 | K37: 39 | L37: 39 | M37: 39 | N37: 39 | O37: 39 | P37: 39 | Q37: 39 | R37: 39 | S37: 39 | T37: B | U37: 36 | V37: 36 | W37: 36 | X37: 36 | Y37: 36 | Z37: 36 | AA37: 36 | AB37: 36 | AC37: 36 | AD37: 36 | AE37: CC | AF37: B | AG37: TDC | AH37: TDC | AI37: TDC | BU37: =D37-C37+0.16666/24 -> 0.27083306
B38: ='Etat staff'!C34 -> SOAD | C38: ='Etat staff'!A34 -> 43555.326 | D38: ='Etat staff'!B34 -> 43555.653 | E38: =IF(BU38*24<5.75,0.25/24,IF(BU38*24<6.75,0.5/24,IF(BU38*24<9,1/24,IF(BU38*24<13.25,1.25/24,1.5/24)))) -> 0.041666667 | H38: F | I38: F | J38: F | K38: F | L38: B | M38: F | N38: F | O38: F | P38: WEL | Q38: WEL | R38: WEL | S38: WEL | T38: 30 | U38: 30 | V38: 30 | W38: 30 | X38: L | Y38: L | Z38: L | AA38: vente | AB38: vente | AC38: vente | AD38: vente | AE38: vente | AF38: BTDC | AG38: BTDC | AH38: BTDC | AI38: BTDC | AJ38: cc/ | AK38: cc/ | AL38: cc/ | AM38: cc/ | BU38: =D38-C38+0.16666/24 -> 0.33333306
B39: ='Etat staff'!C35 -> 0 | C39: ='Etat staff'!A35 -> 0 | D39: ='Etat staff'!B35 -> 0 | E39: =IF(BU39*24<5.75,0.25/24,IF(BU39*24<6.75,0.5/24,IF(BU39*24<9,1/24,IF(BU39*24<13.25,1.25/24,1.5/24)))) -> 0.010416667 | BU39: =D39-C39+0.16666/24 -> 0.0069441667
B40: ='Etat staff'!C36 -> 0 | C40: ='Etat staff'!A36 -> 0 | D40: ='Etat staff'!B36 -> 0 | E40: =IF(BU40*24<5.75,0.25/24,IF(BU40*24<6.75,0.5/24,IF(BU40*24<9,1/24,IF(BU40*24<13.25,1.25/24,1.5/24)))) -> 0.010416667 | BU40: =D40-C40+0.16666/24 -> 0.0069441667
B41: ='Etat staff'!C37 -> ALEXANDRE | C41: ='Etat staff'!A37 -> 43555.358 | D41: ='Etat staff'!B37 -> 43555.726 | E41: =IF(BU41*24<5.75,0.25/24,IF(BU41*24<6.75,0.5/24,IF(BU41*24<9,1/24,IF(BU41*24<13.25,1.25/24,1.5/24)))) -> 0.041666667 | H41: / | I41: / | J41: / | K41: / | L41: sac/pps | M41: sac/pps | N41: sac/pps | O41: sac/pps | P41: vente | Q41: vente | R41: vente | S41: vente | T41: 35 | U41: 35 | V41: 35 | W41: F | X41: L | Y41: L | Z41: L | AA41: 35 | AB41: 35 | AC41: 35 | AD41: 35 | AE41: 35 | AF41: RGT | AG41: RGT | AH41: RGT | AI41: RGT | AJ41: B | AK41: CC | AL41: TDC | AM41: TDC | AN41: F | AO41: F | AP41: F | AQ41: F | AR41: F | AS41: F | BU41: =D41-C41+0.16666/24 -> 0.37499972
B42: ='Etat staff'!C38 -> MIKE | C42: ='Etat staff'!A38 -> 43555.358 | D42: ='Etat staff'!B38 -> 43555.726 | E42: =IF(BU42*24<5.75,0.25/24,IF(BU42*24<6.75,0.5/24,IF(BU42*24<9,1/24,IF(BU42*24<13.25,1.25/24,1.5/24)))) -> 0.041666667 | H42: / | I42: / | J42: / | K42: / | L42: 30 | M42: 30 | N42: 30 | O42: 30 | P42: 30 | Q42: 38 | R42: 38 | S42: 38 | T42: 38 | U42: 38 | V42: 38 | W42: 38 | X42: L | Y42: L | Z42: L | AA42: 32 | AB42: 32 | AC42: 32 | AD42: 32 | AE42: 32 | AF42: 38 | AG42: 38 | AH42: 38 | AI42: 38 | AJ42: B | AK42: CC | AL42: TDC | AM42: TDC | AN42: F | AO42: F | AP42: F | AQ42: F | AR42: F | AS42: F | BU42: =D42-C42+0.16666/24 -> 0.37499972
B43: ='Etat staff'!C39 -> 0 | C43: ='Etat staff'!A39 -> 0 | D43: ='Etat staff'!B39 -> 0 | E43: =IF(BU43*24<5.75,0.25/24,IF(BU43*24<6.75,0.5/24,IF(BU43*24<9,1/24,IF(BU43*24<13.25,1.25/24,1.5/24)))) -> 0.010416667 | BU43: =D43-C43+0.16666/24 -> 0.0069441667
B44: ='Etat staff'!C40 -> JULIAN | C44: ='Etat staff'!A40 -> 43555.399 | D44: ='Etat staff'!B40 -> 43555.767 | E44: =IF(BU44*24<5.75,0.25/24,IF(BU44*24<6.75,0.5/24,IF(BU44*24<9,1/24,IF(BU44*24<13.25,1.25/24,1.5/24)))) -> 0.041666667 | L44: / | M44: / | N44: / | O44: / | P44: 33 | Q44: 33 | R44: 33 | S44: 33 | T44: 33 | U44: 33 | V44: 33 | W44: 33 | X44: 37 | Y44: 37 | Z44: 37 | AA44: F | AB44: L | AC44: L | AD44: L | AE44: 36 | AF44: 36 | AG44: 36 | AH44: 36 | AI44: 36 | AJ44: 36 | AK44: 36 | AL44: 36 | AM44: 36 | AN44: 36 | AO44: 36 | AP44: 36 | AQ44: F | AR44: B | AS44: CC | AT44: F | AU44: F | AV44: TDC | AW44: TDC | BU44: =D44-C44+0.16666/24 -> 0.37499972
B45: ='Etat staff'!C41 -> ALADIN | C45: ='Etat staff'!A41 -> 43555.441 | D45: ='Etat staff'!B41 -> 43555.767 | E45: =IF(BU45*24<5.75,0.25/24,IF(BU45*24<6.75,0.5/24,IF(BU45*24<9,1/24,IF(BU45*24<13.25,1.25/24,1.5/24)))) -> 0.041666667 | P45: / | Q45: / | R45: / | S45: / | T45: 1 | U45: 1 | V45: 1 | W45: 1 | X45: 1 | Y45: 1 | Z45: 1 | AA45: 1 | AB45: 1 | AC45: 1 | AD45: 1 | AE45: 1 | AF45: L | AG45: L | AH45: L | AI45: 39 | AJ45: 39 | AK45: 39 | AL45: 39 | AM45: 33 | AN45: 33 | AO45: 33 | AP45: 33 | AQ45: 33 | AR45: 33 | AS45: 33 | AT45: 33 | AU45: B | AV45: CC | AW45: F | BU45: =D45-C45+0.16666/24 -> 0.33333306
B46: ='Etat staff'!C42 -> CARLA | C46: ='Etat staff'!A42 -> 43555.441 | D46: ='Etat staff'!B42 -> 43555.809 | E46: =IF(BU46*24<5.75,0.25/24,IF(BU46*24<6.75,0.5/24,IF(BU46*24<9,1/24,IF(BU46*24<13.25,1.25/24,1.5/24)))) -> 0.041666667 | P46: / | Q46: / | R46: / | S46: / | T46: WEL | U46: WEL | V46: WEL | W46: WEL | X46: 30 | Y46: 30 | Z46: 30 | AA46: 30 | AB46: 30 | AC46: 30 | AD46: 30 | AE46: 30 | AF46: L | AG46: L | AH46: L | AI46: 33 | AJ46: 33 | AK46: 33 | AL46: 33 | AM46: 32 | AN46: 32 | AO46: 32 | AP46: 32 | AQ46: 32 | AR46: B | AS46: CC | AT46: F | AU46: F | AV46: F | AW46: F | AX46: F | AY46: F | AZ46: F | BA46: F | BU46: =D46-C46+0.16666/24 -> 0.37499972
B47: ='Etat staff'!C43 -> ALEXANDRE | C47: ='Etat staff'!A43 -> 43555.483 | D47: ='Etat staff'!B43 -> 43555.851 | E47: =IF(BU47*24<5.75,0.25/24,IF(BU47*24<6.75,0.5/24,IF(BU47*24<9,1/24,IF(BU47*24<13.25,1.25/24,1.5/24)))) -> 0.041666667 | T47: / | U47: / | V47: / | W47: / | X47: 33 | Y47: 33 | Z47: 33 | AA47: 33 | AB47: 33 | AC47: 33 | AD47: 33 | AE47: 33 | AF47: 33 | AG47: 33 | AH47: 33 | AI47: F | AJ47: L | AK47: L | AL47: L | AM47: 39 | AN47: 39 | AO47: 39 | AP47: 39 | AQ47: 39 | AR47: 39 | AS47: 39 | AT47: 39 | AU47: 39 | AV47: 39 | AW47: 39 | AX47: 39 | AY47: 39 | AZ47: B | BA47: CC | BB47: TDC | BC47: TDC | BD47: TDC | BE47: TDC | BU47: =D47-C47+0.16666/24 -> 0.37499972
B48: ='Etat staff'!C44 -> ANTHONY | C48: ='Etat staff'!A44 -> 43555.483 | D48: ='Etat staff'!B44 -> 43555.767 | E48: =IF(BU48*24<5.75,0.25/24,IF(BU48*24<6.75,0.5/24,IF(BU48*24<9,1/24,IF(BU48*24<13.25,1.25/24,1.5/24)))) -> 0.041666667 | T48: / | U48: / | V48: / | W48: / | X48: 39 | Y48: 39 | Z48: 39 | AA48: 39 | AB48: 39 | AC48: 39 | AD48: 39 | AE48: 39 | AF48: 39 | AG48: 39 | AH48: 39 | AI48: F | AJ48: L | AK48: L | AL48: L | AM48: 37 | AN48: 37 | AO48: 37 | AP48: 37 | AQ48: 37 | AR48: 37 | AS48: 37 | AT48: 37 | AU48: B | AV48: CC | AW48: F | BU48: =D48-C48+0.16666/24 -> 0.29166639
B49: ='Etat staff'!C45 -> TIMOTHE | C49: ='Etat staff'!A45 -> 43555.503 | D49: ='Etat staff'!B45 -> 43555.872 | E49: =IF(BU49*24<5.75,0.25/24,IF(BU49*24<6.75,0.5/24,IF(BU49*24<9,1/24,IF(BU49*24<13.25,1.25/24,1.5/24)))) -> 0.041666667 | T49: / | U49: / | V49: / | W49: / | X49: 38 | Y49: 38 | Z49: 38 | AA49: 38 | AB49: 38 | AC49: 38 | AD49: 38 | AE49: 38 | AF49: WEL | AG49: WEL | AH49: WEL | AI49: WEL | AJ49: L | AK49: L | AL49: L | AM49: cmo | AN49: cmo | AO49: cmo | AP49: cmo | AQ49: cmo | AR49: cmo | AS49: cmo | AT49: cmo | AU49: F | AV49: F | AW49: F | AX49: F | AY49: F | AZ49: BYOLS | BA49: BYOLS | BB49: BYOLS | BC49: BYOLS | BD49: F | BE49: F | BU49: =D49-C49+0.16666/24 -> 0.37499972
B50: ='Etat staff'!C46 -> 0 | C50: ='Etat staff'!A46 -> 0 | D50: ='Etat staff'!B46 -> 0 | E50: =IF(BU50*24<5.75,0.25/24,IF(BU50*24<6.75,0.5/24,IF(BU50*24<9,1/24,IF(BU50*24<13.25,1.25/24,1.5/24)))) -> 0.010416667 | BU50: =D50-C50+0.16666/24 -> 0.0069441667
B51: ='Etat staff'!C47 -> 0 | C51: ='Etat staff'!A47 -> 0 | D51: ='Etat staff'!B47 -> 0 | E51: =IF(BU51*24<5.75,0.25/24,IF(BU51*24<6.75,0.5/24,IF(BU51*24<9,1/24,IF(BU51*24<13.25,1.25/24,1.5/24)))) -> 0.010416667 | BU51: =D51-C51+0.16666/24 -> 0.0069441667
B52: ='Etat staff'!C48 -> 0 | C52: ='Etat staff'!A48 -> 0 | D52: ='Etat staff'!B48 -> 0 | E52: =IF(BU52*24<5.75,0.25/24,IF(BU52*24<6.75,0.5/24,IF(BU52*24<9,1/24,IF(BU52*24<13.25,1.25/24,1.5/24)))) -> 0.010416667 | BU52: =D52-C52+0.16666/24 -> 0.0069441667
B53: ='Etat staff'!C49 -> 0 | C53: ='Etat staff'!A49 -> 0 | D53: ='Etat staff'!B49 -> 0 | E53: =IF(BU53*24<5.75,0.25/24,IF(BU53*24<6.75,0.5/24,IF(BU53*24<9,1/24,IF(BU53*24<13.25,1.25/24,1.5/24)))) -> 0.010416667 | BU53: =D53-C53+0.16666/24 -> 0.0069441667
B54: ='Etat staff'!C50 -> MATHIAS | C54: ='Etat staff'!A50 -> 43555.503 | D54: ='Etat staff'!B50 -> 43555.872 | E54: =IF(BU54*24<5.75,0.25/24,IF(BU54*24<6.75,0.5/24,IF(BU54*24<9,1/24,IF(BU54*24<13.25,1.25/24,1.5/24)))) -> 0.041666667 | T54: / | U54: / | V54: / | W54: / | X54: vente | Y54: vente | Z54: vente | AA54: vente | AB54: cmo | AC54: cmo | AD54: cmo | AE54: cmo | AF54: cmo | AG54: cmo | AH54: cmo | AI54: cmo | AJ54: L | AK54: L | AL54: L | AM54: 1 | AN54: 1 | AO54: 1 | AP54: 1 | AQ54: 1 | AR54: 1 | AS54: 1 | AT54: 1 | AU54: 1 | AV54: 1 | AW54: 1 | AX54: 1 | AY54: 1 | AZ54: B | BA54: CC | BB54: F | BC54: F | BD54: F | BE54: F | BF54: F | BG54: F | BH54: F/ | BU54: =D54-C54+0.16666/24 -> 0.37499972
B55: ='Etat staff'!C51 -> ALEXANDRE | C55: ='Etat staff'!A51 -> 43555.503 | D55: ='Etat staff'!B51 -> 43555.872 | E55: =IF(BU55*24<5.75,0.25/24,IF(BU55*24<6.75,0.5/24,IF(BU55*24<9,1/24,IF(BU55*24<13.25,1.25/24,1.5/24)))) -> 0.041666667 | T55: / | U55: / | V55: / | W55: / | X55: WEL | Y55: WEL | Z55: WEL | AA55: WEL | AB55: RGT | AC55: RGT | AD55: RGT | AE55: RGT | AF55: sac/pps | AG55: sac/pps | AH55: sac/pps | AI55: sac/pps | AJ55: L | AK55: L | AL55: L | AM55: 35 | AN55: 35 | AO55: 35 | AP55: 35 | AQ55: 35 | AR55: 35 | AS55: 35 | AT55: 35 | AU55: 35 | AV55: 35 | AW55: 35 | AX55: 35 | AY55: 35 | AZ55: B | BA55: CC | BB55: F | BC55: F | BD55: F | BE55: F | BF55: F | BG55: F | BH55: F/ | BU55: =D55-C55+0.16666/24 -> 0.37499972
B56: ='Etat staff'!C52 -> MELANIE | C56: ='Etat staff'!A52 -> 43555.545 | D56: ='Etat staff'!B52 -> 43555.872 | E56: =IF(BU56*24<5.75,0.25/24,IF(BU56*24<6.75,0.5/24,IF(BU56*24<9,1/24,IF(BU56*24<13.25,1.25/24,1.5/24)))) -> 0.041666667 | X56: / | Y56: / | Z56: / | AA56: / | AB56: vente | AC56: vente | AD56: vente | AE56: vente | AF56: 35 | AG56: 35 | AH56: 35 | AI56: 35 | AJ56: 35 | AK56: 35 | AL56: 35 | AM56: F | AN56: L | AO56: L | AP56: L | AQ56: 38 | AR56: 38 | AS56: 38 | AT56: 38 | AU56: 38 | AV56: 38 | AW56: 38 | AX56: 38 | AY56: 38 | AZ56: B | BA56: CC | BB56: F | BC56: F | BD56: F | BE56: F | BF56: F | BG56: F | BH56: F/ | BU56: =D56-C56+0.16666/24 -> 0.33333306
B57: ='Etat staff'!C53 -> MARIE | C57: ='Etat staff'!A53 -> 43555.545 | D57: ='Etat staff'!B53 -> 43555.872 | E57: =IF(BU57*24<5.75,0.25/24,IF(BU57*24<6.75,0.5/24,IF(BU57*24<9,1/24,IF(BU57*24<13.25,1.25/24,1.5/24)))) -> 0.041666667 | X57: / | Y57: / | Z57: / | AA57: / | AB57: WEL | AC57: WEL | AD57: WEL | AE57: WEL | AF57: 30 | AG57: 30 | AH57: 30 | AI57: 30 | AJ57: 30 | AK57: 30 | AL57: 30 | AM57: F | AN57: L | AO57: L | AP57: L | AQ57: 36 | AR57: 36 | AS57: 36 | AT57: 36 | AU57: 36 | AV57: 36 | AW57: 36 | AX57: 36 | AY57: 36 | AZ57: B | BA57: CC | BB57: F | BC57: F | BD57: F | BE57: F | BF57: F | BG57: F | BH57: F/ | BU57: =D57-C57+0.16666/24 -> 0.33333306
B58: ='Etat staff'!C54 -> MEGANE | C58: ='Etat staff'!A54 -> 0.56597222 | D58: ='Etat staff'!B54 -> 0.87152778 | E58: =IF(BU58*24<5.75,0.25/24,IF(BU58*24<6.75,0.5/24,IF(BU58*24<9,1/24,IF(BU58*24<13.25,1.25/24,1.5/24)))) -> 0.041666667 | AB58: / | AC58: / | AD58: / | AE58: / | AF58: 1 | AG58: 1 | AH58: 1 | AI58: 1 | AJ58: 1 | AK58: 1 | AL58: 1 | AM58: 30 | AN58: 30 | AO58: 30 | AP58: 30 | AQ58: 30 | AR58: L | AS58: L | AT58: L | AU58: 33 | AV58: 33 | AW58: 33 | AX58: 33 | AY58: 33 | AZ58: B | BA58: CC | BB58: F | BC58: F | BD58: F | BE58: F | BF58: F | BG58: F | BH58: F/ | BU58: =D58-C58+0.16666/24 -> 0.31249972
B59: ='Etat staff'!C55 -> LYDIE | C59: ='Etat staff'!A55 -> 43555.566 | D59: ='Etat staff'!B55 -> 43555.872 | E59: =IF(BU59*24<5.75,0.25/24,IF(BU59*24<6.75,0.5/24,IF(BU59*24<9,1/24,IF(BU59*24<13.25,1.25/24,1.5/24)))) -> 0.041666667 | AB59: / | AC59: / | AD59: / | AE59: / | AF59: 37 | AG59: 37 | AH59: 37 | AI59: 37 | AJ59: 37 | AK59: 37 | AL59: 37 | AM59: WEL | AN59: WEL | AO59: WEL | AP59: WEL | AQ59: WEL | AR59: L | AS59: L | AT59: L | AU59: 37 | AV59: 37 | AW59: 37 | AX59: 37 | AY59: 37 | AZ59: B | BA59: CC | BB59: F | BC59: F | BD59: F | BE59: F | BF59: F | BG59: F | BH59: F/ | BU59: =D59-C59+0.16666/24 -> 0.31249972
B60: ='Etat staff'!C56 -> ALICE | C60: ='Etat staff'!A56 -> 43555.608 | D60: ='Etat staff'!B56 -> 43555.872 | E60: =IF(BU60*24<5.75,0.25/24,IF(BU60*24<6.75,0.5/24,IF(BU60*24<9,1/24,IF(BU60*24<13.25,1.25/24,1.5/24)))) -> 0.020833333 | AF60: / | AG60: / | AH60: / | AI60: / | AJ60: 38 | AK60: 38 | AL60: 38 | AM60: 38 | AN60: 38 | AO60: 38 | AP60: 38 | AQ60: B | AR60: 31 | AS60: 31 | AT60: 31 | AU60: cmo | AV60: cmo | AW60: cmo | AX60: cmo | AY60: cmo | AZ60: B | BA60: CC | BB60: F | BC60: F | BD60: F | BE60: F | BF60: F | BG60: F | BH60: F/ | BU60: =D60-C60+0.16666/24 -> 0.27083306
B61: ='Etat staff'!C57 -> MEGGIE | C61: ='Etat staff'!A57 -> 43555.608 | D61: ='Etat staff'!B57 -> 43555.872 | E61: =IF(BU61*24<5.75,0.25/24,IF(BU61*24<6.75,0.5/24,IF(BU61*24<9,1/24,IF(BU61*24<13.25,1.25/24,1.5/24)))) -> 0.020833333 | X61: / | AF61: / | AG61: / | AH61: / | AI61: / | AJ61: cmo | AK61: cmo | AL61: cmo | AM61: 2 | AN61: 2 | AO61: 2 | AP61: 2 | AQ61: B | AR61: 32 | AS61: 32 | AT61: 32 | AU61: 32 | AV61: 32 | AW61: 32 | AX61: 32 | AY61: 32 | AZ61: B | BA61: CC | BB61: F | BC61: F | BD61: F | BE61: F | BF61: F | BG61: F | BH61: F/ | BU61: =D61-C61+0.16666/24 -> 0.27083306
B62: ='Etat staff'!C58 -> FRANCISCO DISPO | C62: ='Etat staff'!A58 -> 43555.545 | D62: ='Etat staff'!B58 -> 43555.872 | E62: =IF(BU62*24<5.75,0.25/24,IF(BU62*24<6.75,0.5/24,IF(BU62*24<9,1/24,IF(BU62*24<13.25,1.25/24,1.5/24)))) -> 0.041666667 | X62: / | Y62: / | Z62: / | AA62: / | AB62: 31 | AC62: 31 | AD62: 31 | AE62: 31 | AF62: 32 | AG62: 32 | AH62: 32 | AI62: 32 | AJ62: 32 | AK62: 32 | AL62: 32 | AM62: 31 | AN62: 31 | AO62: 31 | AP62: 31 | AQ62: 31 | AR62: L | AS62: L | AT62: L | AU62: 2 | AV62: 2 | AW62: 2 | AX62: 2 | AY62: 2 | AZ62: B | BA62: CC | BB62: F | BC62: F | BD62: F | BE62: F | BF62: F | BG62: F | BH62: F/ | BU62: =D62-C62+0.16666/24 -> 0.33333306
B63: ='Etat staff'!C59 -> 0 | C63: ='Etat staff'!A59 -> 0 | D63: ='Etat staff'!B59 -> 0 | E63: =IF(BU63*24<5.75,0.25/24,IF(BU63*24<6.75,0.5/24,IF(BU63*24<9,1/24,IF(BU63*24<13.25,1.25/24,1.5/24)))) -> 0.010416667 | BU63: =D63-C63+0.16666/24 -> 0.0069441667
B64: ='Etat staff'!C60 -> 0 | C64: ='Etat staff'!A60 -> 0 | D64: ='Etat staff'!B60 -> 0 | E64: =IF(BU64*24<5.75,0.25/24,IF(BU64*24<6.75,0.5/24,IF(BU64*24<9,1/24,IF(BU64*24<13.25,1.25/24,1.5/24)))) -> 0.010416667 | BU64: =D64-C64+0.16666/24 -> 0.0069441667
B65: ='Etat staff'!C61 -> 0 | C65: ='Etat staff'!A61 -> 0 | D65: ='Etat staff'!B61 -> 0 | E65: =IF(BU65*24<5.75,0.25/24,IF(BU65*24<6.75,0.5/24,IF(BU65*24<9,1/24,IF(BU65*24<13.25,1.25/24,1.5/24)))) -> 0.010416667 | BU65: =D65-C65+0.16666/24 -> 0.0069441667
B66: ='Etat staff'!C62 -> 0 | C66: ='Etat staff'!A62 -> 0 | D66: ='Etat staff'!B62 -> 0 | E66: =IF(BU66*24<5.75,0.25/24,IF(BU66*24<6.75,0.5/24,IF(BU66*24<9,1/24,IF(BU66*24<13.25,1.25/24,1.5/24)))) -> 0.010416667 | BU66: =D66-C66+0.16666/24 -> 0.0069441667
B67: ='Etat staff'!C63 -> 0 | C67: ='Etat staff'!A63 -> 0 | D67: ='Etat staff'!B63 -> 0 | E67: =IF(BU67*24<5.75,0.25/24,IF(BU67*24<6.75,0.5/24,IF(BU67*24<9,1/24,IF(BU67*24<13.25,1.25/24,1.5/24)))) -> 0.010416667 | BU67: =D67-C67+0.16666/24 -> 0.0069441667
B68: ='Etat staff'!C64 -> 0 | C68: ='Etat staff'!A64 -> 0 | D68: ='Etat staff'!B64 -> 0 | E68: =IF(BU68*24<5.75,0.25/24,IF(BU68*24<6.75,0.5/24,IF(BU68*24<9,1/24,IF(BU68*24<13.25,1.25/24,1.5/24)))) -> 0.010416667 | BU68: =D68-C68+0.16666/24 -> 0.0069441667
B69: ='Etat staff'!C65 -> 0 | C69: ='Etat staff'!A65 -> 0 | D69: ='Etat staff'!B65 -> 0 | E69: =IF(BU69*24<5.75,0.25/24,IF(BU69*24<6.75,0.5/24,IF(BU69*24<9,1/24,IF(BU69*24<13.25,1.25/24,1.5/24)))) -> 0.010416667 | BU69: =D69-C69+0.16666/24 -> 0.0069441667
B70: ='Etat staff'!C66 -> 0 | C70: ='Etat staff'!A66 -> 0 | D70: ='Etat staff'!B66 -> 0 | E70: =IF(BU70*24<5.75,0.25/24,IF(BU70*24<6.75,0.5/24,IF(BU70*24<9,1/24,IF(BU70*24<13.25,1.25/24,1.5/24)))) -> 0.010416667 | BU70: =D70-C70+0.16666/24 -> 0.0069441667
B71: ='Etat staff'!C67 -> 0 | C71: ='Etat staff'!A67 -> 0 | D71: ='Etat staff'!B67 -> 0 | E71: =IF(BU71*24<5.75,0.25/24,IF(BU71*24<6.75,0.5/24,IF(BU71*24<9,1/24,IF(BU71*24<13.25,1.25/24,1.5/24)))) -> 0.010416667 | BU71: =D71-C71+0.16666/24 -> 0.0069441667
B72: ='Etat staff'!C68 -> 0 | C72: ='Etat staff'!A68 -> 0 | D72: ='Etat staff'!B68 -> 0 | E72: =IF(BU72*24<5.75,0.25/24,IF(BU72*24<6.75,0.5/24,IF(BU72*24<9,1/24,IF(BU72*24<13.25,1.25/24,1.5/24)))) -> 0.010416667 | BU72: =D72-C72+0.16666/24 -> 0.0069441667
B73: ='Etat staff'!C69 -> 0 | C73: ='Etat staff'!A69 -> 0 | D73: ='Etat staff'!B69 -> 0 | E73: =IF(BU73*24<5.75,0.25/24,IF(BU73*24<6.75,0.5/24,IF(BU73*24<9,1/24,IF(BU73*24<13.25,1.25/24,1.5/24)))) -> 0.010416667 | BD73: B | BE73: CC | BF73: F | BG73: F | BH73: F | BL73: F | BU73: =D73-C73+0.16666/24 -> 0.0069441667
B74: ='Etat staff'!C70 -> HASSINA | C74: ='Etat staff'!A70 -> 0.6875 | D74: ='Etat staff'!B70 -> 43555.819 | E74: =IF(BU74*24<5.75,0.25/24,IF(BU74*24<6.75,0.5/24,IF(BU74*24<9,1/24,IF(BU74*24<13.25,1.25/24,1.5/24)))) -> 0.0625 | AN74: / | AO74: / | AP74: / | AQ74: / | AR74: 30 | AS74: 30 | AT74: 30 | AU74: 30 | AV74: 30 | AW74: 30 | AX74: 30 | AY74: 30 | AZ74: B | BA74: CC | BB74: F | BC74: F | BU74: =D74-C74+0.16666/24 -> 43555.139
B75: ='Etat staff'!C71 -> 0 | C75: ='Etat staff'!A71 -> 0 | D75: ='Etat staff'!B71 -> 0 | E75: =IF(BU75*24<5.75,0.25/24,IF(BU75*24<6.75,0.5/24,IF(BU75*24<9,1/24,IF(BU75*24<13.25,1.25/24,1.5/24)))) -> 0.010416667 | BD75: B | BE75: CC | BF75: F | BG75: F | BH75: F | BL75: F | BU75: =D75-C75+0.16666/24 -> 0.0069441667
B76: ='Etat staff'!C72 -> 0 | C76: ='Etat staff'!A72 -> 0 | D76: ='Etat staff'!B72 -> 0 | E76: =IF(BU76*24<5.75,0.25/24,IF(BU76*24<6.75,0.5/24,IF(BU76*24<9,1/24,IF(BU76*24<13.25,1.25/24,1.5/24)))) -> 0.010416667 | BD76: B | BE76: CC | BF76: F | BG76: F | BH76: F | BL76: F | BU76: =D76-C76+0.16666/24 -> 0.0069441667
B77: ='Etat staff'!C73 -> 0 | C77: ='Etat staff'!A73 -> 0 | D77: ='Etat staff'!B73 -> 0 | E77: =IF(BU77*24<5.75,0.25/24,IF(BU77*24<6.75,0.5/24,IF(BU77*24<9,1/24,IF(BU77*24<13.25,1.25/24,1.5/24)))) -> 0.010416667 | BD77: B | BE77: CC | BF77: F | BG77: F | BH77: F | BL77: F | BU77: =D77-C77+0.16666/24 -> 0.0069441667
B78: ='Etat staff'!C74 -> 0 | C78: ='Etat staff'!A74 -> 0 | D78: ='Etat staff'!B74 -> 0 | E78: =IF(BU78*24<5.75,0.25/24,IF(BU78*24<6.75,0.5/24,IF(BU78*24<9,1/24,IF(BU78*24<13.25,1.25/24,1.5/24)))) -> 0.010416667 | BD78: B | BE78: CC | BF78: F | BG78: F | BH78: F | BL78: F | BU78: =D78-C78+0.16666/24 -> 0.0069441667
B79: ='Etat staff'!C75 -> 0 | C79: ='Etat staff'!A75 -> 0 | D79: ='Etat staff'!B75 -> 0 | E79: =IF(BU79*24<5.75,0.25/24,IF(BU79*24<6.75,0.5/24,IF(BU79*24<9,1/24,IF(BU79*24<13.25,1.25/24,1.5/24)))) -> 0.010416667 | BD79: B | BE79: CC | BF79: F | BG79: F | BH79: F | BL79: F | BU79: =D79-C79+0.16666/24 -> 0.0069441667
B80: ='Etat staff'!C76 -> 0 | C80: ='Etat staff'!A76 -> 0 | D80: ='Etat staff'!B76 -> 0 | E80: =IF(BU80*24<5.75,0.25/24,IF(BU80*24<6.75,0.5/24,IF(BU80*24<9,1/24,IF(BU80*24<13.25,1.25/24,1.5/24)))) -> 0.010416667 | BD80: B | BE80: CC | BF80: F | BG80: F | BH80: F | BL80: F | BU80: =D80-C80+0.16666/24 -> 0.0069441667
B81: ='Etat staff'!C77 -> 0 | C81: ='Etat staff'!A77 -> 0 | D81: ='Etat staff'!B77 -> 0 | E81: =IF(BU81*24<5.75,0.25/24,IF(BU81*24<6.75,0.5/24,IF(BU81*24<9,1/24,IF(BU81*24<13.25,1.25/24,1.5/24)))) -> 0.010416667 | BD81: B | BE81: CC | BF81: F | BG81: F | BH81: F | BL81: F | BU81: =D81-C81+0.16666/24 -> 0.0069441667
B82: TOTAL CAISSES | H82: =COUNT(H29:H81) -> 2 | I82: =COUNT(I29:I81) -> 2 | J82: =COUNT(J29:J81) -> 2 | K82: =COUNT(K29:K81) -> 3 | L82: =COUNT(L29:L81) -> 4 | M82: =COUNT(M29:M81) -> 4 | N82: =COUNT(N29:N81) -> 4 | O82: =COUNT(O29:O81) -> 4 | ... BH82: =COUNT(BH29:BH81) -> 0 | BL82: =COUNT(BL29:BL81) -> 0 | BP82: =COUNT(BP29:BP81) -> 0 | BT82: =COUNT(BT29:BT81) -> 0
B84: CM DISPO + HORAIRES | F84: CM transferé(s) : | P84: CM absent : | AJ84: CM en formation | AV84: Infos divers
F85: MOISES CT
D89: 30 | H89: =COUNTIF(H29:H81,"30") -> 0 | I89: =COUNTIF(I29:I81,"30") -> 0 | J89: =COUNTIF(J29:J81,"30") -> 0 | K89: =COUNTIF(K29:K81,"30") -> 0 | L89: =COUNTIF(L29:L81,"30") -> 1 | M89: =COUNTIF(M29:M81,"30") -> 1 | N89: =COUNTIF(N29:N81,"30") -> 1 | O89: =COUNTIF(O29:O81,"30") -> 1 | ... BP89: =COUNTIF(BP29:BP81,"30") -> 0
B90: , | D90: 31 | H90: =COUNTIF(H29:H81,"31") -> 0 | I90: =COUNTIF(I29:I81,"31") -> 0 | J90: =COUNTIF(J29:J81,"31") -> 0 | K90: =COUNTIF(K29:K81,"31") -> 0 | L90: =COUNTIF(L29:L81,"31") -> 0 | M90: =COUNTIF(M29:M81,"31") -> 0 | N90: =COUNTIF(N29:N81,"31") -> 0 | O90: =COUNTIF(O29:O81,"31") -> 0 | ... BP90: =COUNTIF(BP29:BP81,"31") -> 0
D91: 32 | H91: =COUNTIF(H29:H81,"32") -> 0 | I91: =COUNTIF(I29:I81,"32") -> 0 | J91: =COUNTIF(J29:J81,"32") -> 0 | K91: =COUNTIF(K29:K81,"32") -> 0 | L91: =COUNTIF(L29:L81,"32") -> 0 | M91: =COUNTIF(M29:M81,"32") -> 0 | N91: =COUNTIF(N29:N81,"32") -> 0 | O91: =COUNTIF(O29:O81,"32") -> 0 | ... BP91: =COUNTIF(BP29:BP81,"32") -> 0
D92: 33 | H92: =COUNTIF(H29:H81,"33") -> 1 | I92: =COUNTIF(I29:I81,"33") -> 1 | J92: =COUNTIF(J29:J81,"33") -> 1 | K92: =COUNTIF(K29:K81,"33") -> 1 | L92: =COUNTIF(L29:L81,"33") -> 1 | M92: =COUNTIF(M29:M81,"33") -> 1 | N92: =COUNTIF(N29:N81,"33") -> 1 | O92: =COUNTIF(O29:O81,"33") -> 1 | ... BP92: =COUNTIF(BP29:BP81,"33") -> 0
D93: 35 | H93: =COUNTIF(H29:H81,"35") -> 0 | I93: =COUNTIF(I29:I81,"35") -> 0 | J93: =COUNTIF(J29:J81,"35") -> 0 | K93: =COUNTIF(K29:K81,"35") -> 0 | L93: =COUNTIF(L29:L81,"35") -> 0 | M93: =COUNTIF(M29:M81,"35") -> 0 | N93: =COUNTIF(N29:N81,"35") -> 0 | O93: =COUNTIF(O29:O81,"35") -> 0 | ... BP93: =COUNTIF(BP29:BP81,"35") -> 0
D94: 36 | H94: =COUNTIF(H29:H81,"36") -> 0 | I94: =COUNTIF(I29:I81,"36") -> 0 | J94: =COUNTIF(J29:J81,"36") -> 0 | K94: =COUNTIF(K29:K81,"36") -> 0 | L94: =COUNTIF(L29:L81,"36") -> 0 | M94: =COUNTIF(M29:M81,"36") -> 0 | N94: =COUNTIF(N29:N81,"36") -> 0 | O94: =COUNTIF(O29:O81,"36") -> 0 | ... BP94: =COUNTIF(BP29:BP81,"36") -> 0
D95: 37 | H95: =COUNTIF(H29:H81,"37") -> 0 | I95: =COUNTIF(I29:I81,"37") -> 0 | J95: =COUNTIF(J29:J81,"37") -> 0 | K95: =COUNTIF(K29:K81,"37") -> 0 | L95: =COUNTIF(L29:L81,"37") -> 0 | M95: =COUNTIF(M29:M81,"37") -> 0 | N95: =COUNTIF(N29:N81,"37") -> 0 | O95: =COUNTIF(O29:O81,"37") -> 0 | ... BP95: =COUNTIF(BP29:BP81,"37") -> 0
D96: 38 | H96: =COUNTIF(H29:H81,"38") -> 0 | I96: =COUNTIF(I29:I81,"38") -> 0 | J96: =COUNTIF(J29:J81,"38") -> 0 | K96: =COUNTIF(K29:K81,"38") -> 0 | L96: =COUNTIF(L29:L81,"38") -> 0 | M96: =COUNTIF(M29:M81,"38") -> 0 | N96: =COUNTIF(N29:N81,"38") -> 0 | O96: =COUNTIF(O29:O81,"38") -> 0 | ... BP96: =COUNTIF(BP29:BP81,"38") -> 0
D97: 39 | H97: =COUNTIF(H29:H81,"39") -> 0 | I97: =COUNTIF(I29:I81,"39") -> 0 | J97: =COUNTIF(J29:J81,"39") -> 0 | K97: =COUNTIF(K29:K81,"39") -> 1 | L97: =COUNTIF(L29:L81,"39") -> 1 | M97: =COUNTIF(M29:M81,"39") -> 1 | N97: =COUNTIF(N29:N81,"39") -> 1 | O97: =COUNTIF(O29:O81,"39") -> 1 | ... BP97: =COUNTIF(BP29:BP81,"39") -> 0
D98: 1 | H98: =COUNTIF(H29:H81,"1") -> 1 | I98: =COUNTIF(I29:I81,"1") -> 1 | J98: =COUNTIF(J29:J81,"1") -> 1 | K98: =COUNTIF(K29:K81,"1") -> 1 | L98: =COUNTIF(L29:L81,"1") -> 1 | M98: =COUNTIF(M29:M81,"1") -> 1 | N98: =COUNTIF(N29:N81,"1") -> 1 | O98: =COUNTIF(O29:O81,"1") -> 1 | ... BP98: =COUNTIF(BP29:BP81,"1") -> 0
D99: 2 | H99: =COUNTIF(H29:H81,"2") -> 0 | I99: =COUNTIF(I29:I81,"2") -> 0 | J99: =COUNTIF(J29:J81,"2") -> 0 | K99: =COUNTIF(K29:K81,"2") -> 0 | L99: =COUNTIF(L29:L81,"2") -> 0 | M99: =COUNTIF(M29:M81,"2") -> 0 | N99: =COUNTIF(N29:N81,"2") -> 0 | O99: =COUNTIF(O29:O81,"2") -> 0 | ... BP99: =COUNTIF(BP29:BP81,"2") -> 0
D100: cmo | H100: =COUNTIF(H28:H81,"cmo") -> 0 | I100: =COUNTIF(I28:I81,"cmo") -> 0 | J100: =COUNTIF(J28:J81,"cmo") -> 0 | K100: =COUNTIF(K28:K81,"cmo") -> 0 | L100: =COUNTIF(L28:L81,"cmo") -> 0 | M100: =COUNTIF(M28:M81,"cmo") -> 0 | N100: =COUNTIF(N28:N81,"cmo") -> 0 | O100: =COUNTIF(O28:O81,"cmo") -> 0 | ... BP100: =COUNTIF(BP28:BP81,"cmo") -> 0
D101: F | H101: =COUNTIF(H29:H81,"F") -> 1 | I101: =COUNTIF(I29:I81,"F") -> 1 | J101: =COUNTIF(J29:J81,"F") -> 1 | K101: =COUNTIF(K29:K81,"F") -> 1 | L101: =COUNTIF(L29:L81,"F") -> 0 | M101: =COUNTIF(M29:M81,"F") -> 1 | N101: =COUNTIF(N29:N81,"F") -> 1 | O101: =COUNTIF(O29:O81,"F") -> 1 | ... BP101: =COUNTIF(BP29:BP81,"F") -> 0

Sheet Feuil1
D4: 43527.999
D5: =D4+1/24/60 -> 43527.999
D6: =D5+1/24/60 -> 43528
