Workbook
Name Produit: OFFSET(Feuil2!$A$2,,,COUNTA(Feuil2!$A:$A)-1)

Sheet Feuil1
A1: Référence | B1: Produit
A2: Abcxxxxxx | B2: {=INDEX(Feuil2!B:B,MATCH(LEFT(A2,3)&"*",Feuil2!A:A,0))} -> Joint hydrolyque | C2: initiale
A3: Produit 4 | B3: =INDEX(Feuil2!B:B,MATCH(LEFT(A2,3)&"*",Feuil2!A:A,0)) -> Joint hydrolyque | C3: version avec la nouvelle formule | E3: exemple:
A4: DIR145874 | B4: {=INDEX(Feuil2!B:B,MATCH(LEFT(A4,3)&"*",Feuil2!A:A,0))} -> leve plaque
B5: =IFERROR(VLOOKUP(A5,Feuil2!A:B,2,0),"") | E5: toutes les références commencent par ABC sont de la famille "joint hydrolique" mais quand je taperai la référence je mettrai la référence complete par exemple ABC125874
B6: =IFERROR(VLOOKUP(A6,Feuil2!A:B,2,0),"") | E6: toutes les références commencent par dir sont de la famille "leve plaque" mais quand je taperai la référence je mettrai la référence complete par exemple DIR145874
B7: =IFERROR(VLOOKUP(A7,Feuil2!A:B,2,0),"") | E7: etc..
B8: =IFERROR(VLOOKUP(A8,Feuil2!A:B,2,0),"") | E8: l'idée est juste de faire un copier coller de la référence dans la case référence et cela doit afficher la famille du produit dans la case produit
B9: =IFERROR(VLOOKUP(A9,Feuil2!A:B,2,0),"")
B10: =IFERROR(VLOOKUP(A10,Feuil2!A:B,2,0),"")
B11: =IFERROR(VLOOKUP(A11,Feuil2!A:B,2,0),"")
B12: =IFERROR(VLOOKUP(A12,Feuil2!A:B,2,0),"")
B13: =IFERROR(VLOOKUP(A13,Feuil2!A:B,2,0),"")
B14: =IFERROR(VLOOKUP(A14,Feuil2!A:B,2,0),"")
B15: =IFERROR(VLOOKUP(A15,Feuil2!A:B,2,0),"")
B16: =IFERROR(VLOOKUP(A16,Feuil2!A:B,2,0),"")
B17: =IFERROR(VLOOKUP(A17,Feuil2!A:B,2,0),"")
B18: =IFERROR(VLOOKUP(A18,Feuil2!A:B,2,0),"")
B19: =IFERROR(VLOOKUP(A19,Feuil2!A:B,2,0),"")
B20: =IFERROR(VLOOKUP(A20,Feuil2!A:B,2,0),"")
... B30: =IFERROR(VLOOKUP(A30,Feuil2!A:B,2,0),"")

Sheet Feuil2
A1: Référence | B1: Produit
A2: Abcxxxxxx | B2: Joint hydrolyque
A3: dirxxxxxx | B3: leve plaque
A4: upixxxxxx | B4: perceuse
A5: acrxxxxxx | B5: Pelle
A6: zeixxxxx | B6: truelle
A7: paixxxxx | B7: rateau
A8: trixxxxx | B8: brouette
A9: ibbxxxxx | B9: cordage
