Workbook

Sheet calcul heure f
B1: Date début plannif | C1: 43472 | P1: Total Heures | Q1: =SUM(Q3:Q51) -> 9
B2: Heure d'ouverture | C2: 0.20833333 | P2: Vérif | Q2: heure
B3: Heure de fermeture | C3: 0.91666667 | P3: 0
B4: Temps de fermeture | C4: =(24-C3)+C2 -> 23.291667 | P4: 1
J5: Explication : | P5: 2
J6: SI($C$1+TEMPSVAL("23:00")-D10<E10 | P6: 3
C7: Client | D7: Temps de gamme | E7: Date de début | F7: Heure de début | G7: Date de fin | H7: Heure de fin | J7: Si VRAI | K7: Si FAUX | L7: test | N7: Formule résultante | P7: 4
C8: =+TR.liste!A2 -> a | D8: =(TR.liste!B2/24) -> 0.20833333 | E8: =IF(C1=0,0,C1+C2) -> 43472.208 | F8: =IF(C2=0,0,C2) -> 0.20833333 | G8: =IF($C$1+TIMEVALUE("23:00")-D8<E8,$C$1+1+(E8-($C$1+TIMEVALUE("23:00")-D8)+TIMEVALUE("05:00")),E8+D8) -> 43472.417 | H8: =IF(D8=0,"",G8) -> 43472.417 | J8: =$C$1+1+(E8-($C$1+TIMEVALUE("23:00")-D8)+TIMEVALUE("04:00")) -> 43472.625 | K8: =E8+D8 -> 43472.417 | L8: =IF($C$1+TIMEVALUE("23:00")-D8<E8,J8,K8) -> 43472.417 | N8: =IF($C$1+TIMEVALUE("23:00")-D8<E8,$C$1+1+(E8-($C$1+TIMEVALUE("23:00")-D8)+TIMEVALUE("05:00")),E8+D8) -> 43472.417 | P8: 5
C9: =+TR.liste!A3 -> b | D9: =(TR.liste!B3/24) -> 0.25 | E9: =IF(G8=0,0,G8) -> 43472.417 | F9: =IF(H8=0,0,H8) -> 43472.417 | G9: =IF(D9=0,"",IF($C$1+TIMEVALUE("23:00")-D9<E9,$C$1+1+(E9-($C$1+TIMEVALUE("23:00")-D9)+TIMEVALUE("05:00")),E9+D9)) -> 43472.667 | H9: =IF(D9=0,0,G9) -> 43472.667 | J9: =$C$1+1+(E9-($C$1+TIMEVALUE("23:00")-D9)+TIMEVALUE("04:00")) -> 43472.875 | K9: =E9+D9 -> 43472.667 | L9: =IF($C$1+TIMEVALUE("23:00")-D9<E9,J9,K9) -> 43472.667 | N9: =IF($C$1+TIMEVALUE("23:00")-D9<E9,$C$1+1+(E9-($C$1+TIMEVALUE("23:00")-D9)+TIMEVALUE("05:00")),E9+D9) -> 43472.667 | P9: 6
C10: =+TR.liste!A4 -> c | D10: =(TR.liste!B4/24) -> 0.375 | E10: =IF(G9=0,0,G9) -> 43472.667 | F10: =IF(H9=0,0,H9) -> 43472.667 | G10: =IF(D10=0,"",IF($C$1+TIMEVALUE("23:00")-D10<E10,$C$1+1+(E10-($C$1+TIMEVALUE("23:00")-D10)+TIMEVALUE("05:00")),E10+D10)) -> 43473.292 | H10: =IF(D10=0,0,G10) -> 43473.292 | J10: =$C$1+1+(E10-($C$1+TIMEVALUE("23:00")-D10)+TIMEVALUE("05:00")) -> 43473.292 | K10: =E10+D10 -> 43473.042 | L10: =IF($C$1+TIMEVALUE("23:00")-D10<E10,J10,K10) -> 43473.292 | N10: =IF($C$1+TIMEVALUE("23:00")-D10<E10,$C$1+1+(E10-($C$1+TIMEVALUE("23:00")-D10)+TIMEVALUE("05:00")),E10+D10) -> 43473.292 | P10: 7
C11: =+TR.liste!A5 -> c | E11: =IF(G10=0,0,G10) -> 43473.292 | F11: =IF(H10=0,0,H10) -> 43473.292 | G11: =IF(D11=0,"",IF($C$1+TIMEVALUE("23:00")-D11<E11,$C$1+1+(E11-($C$1+TIMEVALUE("23:00")-D11)+TIMEVALUE("05:00")),E11+D11)) | H11: =IF(D11=0,0,G11) -> 0 | P11: 8
C12: =+TR.liste!A6 -> d | E12: =IF(G11=0,"",G11) | F12: =IF(H11=0,"",H11) | G12: =IF(D12=0,"",IF($C$1+TIMEVALUE("23:00")-D12<E12,$C$1+1+(E12-($C$1+TIMEVALUE("23:00")-D12)+TIMEVALUE("05:00")),E12+D12)) | H12: =IF(D12=0,0,G12) -> 0 | P12: 9
C13: =+TR.liste!A7 -> f | E13: =IF(G12=0,"",G12) | F13: =IF(H12=0,"",H12) | G13: =IF(D13=0,"",IF($C$1+TIMEVALUE("23:00")-D13<E13,$C$1+1+(E13-($C$1+TIMEVALUE("23:00")-D13)+TIMEVALUE("05:00")),E13+D13)) | H13: =IF(D13=0,0,G13) -> 0 | P13: 10
C14: =+TR.liste!A8 -> e | E14: =IF(G13=0,"",G13) | F14: =IF(H13=0,"",H13) | G14: =IF(D14=0,"",IF($C$1+TIMEVALUE("23:00")-D14<E14,$C$1+1+(E14-($C$1+TIMEVALUE("23:00")-D14)+TIMEVALUE("05:00")),E14+D14)) | H14: =IF(D14=0,0,G14) -> 0 | P14: 11
C15: =+TR.liste!A9 -> f | E15: =IF(G14=0,"",G14) | F15: =IF(H14=0,"",H14) | G15: =IF(D15=0,"",IF($C$1+TIMEVALUE("23:00")-D15<E15,$C$1+1+(E15-($C$1+TIMEVALUE("23:00")-D15)+TIMEVALUE("05:00")),E15+D15)) | H15: =IF(D15=0,0,G15) -> 0 | P15: 12
C16: =+TR.liste!A10 -> h | E16: =IF(G15=0,"",G15) | F16: =IF(H15=0,"",H15) | G16: =IF(D16=0,"",IF($C$1+TIMEVALUE("23:00")-D16<E16,$C$1+1+(E16-($C$1+TIMEVALUE("23:00")-D16)+TIMEVALUE("05:00")),E16+D16)) | H16: =IF(D16=0,0,G16) -> 0 | P16: 13
C17: =+TR.liste!A11 -> q | E17: =IF(G16=0,"",G16) | F17: =IF(H16=0,"",H16) | G17: =IF(D17=0,"",IF($C$1+TIMEVALUE("23:00")-D17<E17,$C$1+1+(E17-($C$1+TIMEVALUE("23:00")-D17)+TIMEVALUE("05:00")),E17+D17)) | H17: =IF(D17=0,0,G17) -> 0 | P17: 14
C18: =+TR.liste!A12 -> d | E18: =IF(G17=0,"",G17) | F18: =IF(H17=0,"",H17) | G18: =IF(D18=0,"",IF($C$1+TIMEVALUE("23:00")-D18<E18,$C$1+1+(E18-($C$1+TIMEVALUE("23:00")-D18)+TIMEVALUE("05:00")),E18+D18)) | H18: =IF(D18=0,0,G18) -> 0 | P18: 15
C19: =+TR.liste!A13 -> n | E19: =IF(G18=0,"",G18) | F19: =IF(H18=0,"",H18) | G19: =IF(D19=0,"",IF($C$1+TIMEVALUE("23:00")-D19<E19,$C$1+1+(E19-($C$1+TIMEVALUE("23:00")-D19)+TIMEVALUE("05:00")),E19+D19)) | H19: =IF(D19=0,0,G19) -> 0 | P19: 16
C20: =+TR.liste!A14 -> f | E20: =IF(G19=0,"",G19) | F20: =IF(H19=0,"",H19) | G20: =IF(D20=0,"",IF($C$1+TIMEVALUE("23:00")-D20<E20,$C$1+1+(E20-($C$1+TIMEVALUE("23:00")-D20)+TIMEVALUE("05:00")),E20+D20)) | H20: =IF(D20=0,0,G20) -> 0 | P20: 17 | Q20: 1
P21: 18 | Q21: 1
P22: 19 | Q22: 1
P23: 20 | Q23: 1
P24: 21 | Q24: 1
P25: 22 | Q25: 1
P26: 23 | Q26: 1 | R26: fin
P27: 24
P28: 1
P29: 2
P30: 3
P31: 4
P32: 5 | R32: début
P33: 6 | Q33: 1
P34: 7 | Q34: 1
P35: 8
P36: 9
P37: 10
P38: 11
P39: 12
P40: 13
...

Sheet TR.liste
A1: client | B1: tmp gamme
A2: a | B2: 5
A3: b | B3: 6
A4: c | B4: 9
A5: c | B5: 12.6
A6: d | B6: 33.77
A7: f | B7: 4.56
A8: e | B8: 7.56
A9: f | B9: 3.93
A10: h | B10: 2
A11: q | B11: 1.5
A12: d | B12: 3.6
A13: n | B13: 7.7
A14: f | B14: 10.1

Sheet jour férié
A1: jour férié 2019-fermeture machine
A2: 43466 | B2: mardi
A3: 43577 | B3: lundi
A4: 43586 | B4: mercredi
A5: 43593 | B5: mercredi
A6: 43615 | B6: jeudi
A7: 43626 | B7: lundi
A8: 43660 | B8: dimanche
A9: 43692 | B9: jeudi
A10: 43770 | B10: vendredi
A11: 43780 | B11: lundi
A12: 43824 | B12: mercredi
