Workbook
Name m: COUNTA('tableau racine'!$A:$A)-1

Sheet tableau racine
A1: PAYS | B1: CLASSEMENT | C1: QTT | D1: ECART | E1: POURCENTAGE
A2: USA | B2: =IF(B1="CLASSEMENT",1,B1+1) -> 1 | C2: 11140982 | D2: 87.4 | E2: =Tableau1[[#This Row],[QTT]]/Tableau1[[#Totals],[QTT]] -> 0.025975177
A3: URUGUAY | B3: =IF(B2="CLASSEMENT",1,B2+1) -> 2 | C3: 10994384 | D3: 86.285714 | E3: =Tableau1[[#This Row],[QTT]]/Tableau1[[#Totals],[QTT]] -> 0.025633383
A4: UKRAINE | B4: =IF(B3="CLASSEMENT",1,B3+1) -> 3 | C4: 10847786 | D4: 85.171429 | E4: =Tableau1[[#This Row],[QTT]]/Tableau1[[#Totals],[QTT]] -> 0.02529159
A5: TURQUIE | B5: =IF(B4="CLASSEMENT",1,B4+1) -> 4 | C5: 10701187 | D5: 84.057143 | E5: =Tableau1[[#This Row],[QTT]]/Tableau1[[#Totals],[QTT]] -> 0.024949796
A6: THAILANDE | B6: =IF(B5="CLASSEMENT",1,B5+1) -> 5 | C6: 10554589 | D6: 82.942857 | E6: =Tableau1[[#This Row],[QTT]]/Tableau1[[#Totals],[QTT]] -> 0.024608002
A7: TAIWAN | B7: =IF(B6="CLASSEMENT",1,B6+1) -> 6 | C7: 10407991 | D7: 81.828571 | E7: =Tableau1[[#This Row],[QTT]]/Tableau1[[#Totals],[QTT]] -> 0.024266208
A8: SUISSE | B8: =IF(B7="CLASSEMENT",1,B7+1) -> 7 | C8: 10261392 | D8: 80.714286 | E8: =Tableau1[[#This Row],[QTT]]/Tableau1[[#Totals],[QTT]] -> 0.023924414
A9: SUEDE | B9: =IF(B8="CLASSEMENT",1,B8+1) -> 8 | C9: 10114794 | D9: 79.6 | E9: =Tableau1[[#This Row],[QTT]]/Tableau1[[#Totals],[QTT]] -> 0.023582621
A10: SLOVENIE | B10: =IF(B9="CLASSEMENT",1,B9+1) -> 9 | C10: 9968195.5 | D10: 78.485714 | E10: =Tableau1[[#This Row],[QTT]]/Tableau1[[#Totals],[QTT]] -> 0.023240827
A11: SINGAPOUR | B11: =IF(B10="CLASSEMENT",1,B10+1) -> 10 | C11: 9821597.1 | D11: 77.371429 | E11: =Tableau1[[#This Row],[QTT]]/Tableau1[[#Totals],[QTT]] -> 0.022899033
A12: SERBIE | B12: =IF(B11="CLASSEMENT",1,B11+1) -> 11 | C12: 9674998.8 | D12: 76.257143 | E12: =Tableau1[[#This Row],[QTT]]/Tableau1[[#Totals],[QTT]] -> 0.022557239
A13: RUSSIE | B13: =IF(B12="CLASSEMENT",1,B12+1) -> 12 | C13: 9528400.4 | D13: 75.142857 | E13: =Tableau1[[#This Row],[QTT]]/Tableau1[[#Totals],[QTT]] -> 0.022215445
... A78: BAHREIN | B78: =IF(B77="CLASSEMENT",1,B77+1) -> 77 | C78: 36954 | D78: 2 | E78: =Tableau1[[#This Row],[QTT]]/Tableau1[[#Totals],[QTT]] -> 8.6158173e-05
C79: =SUBTOTAL(109,Tableau1[QTT]) -> 4.2890882e+08 | D79: =SUBTOTAL(109,Tableau1[ECART]) -> 3469.4 | E79: =SUBTOTAL(109,Tableau1[POURCENTAGE]) -> 1

Sheet tableau de bord
A8: Classement | B8: Pays | C8: QTT | D8: ECART | E8: 1
A9: =E8 -> 1 | B9: =INDEX('tableau racine'!A:A,MATCH($A9,'tableau racine'!$B:$B,0)) -> USA | C9: =INDEX('tableau racine'!C:C,MATCH($A9,'tableau racine'!$B:$B,0)) -> 11140982 | D9: =INDEX('tableau racine'!D:D,MATCH($A9,'tableau racine'!$B:$B,0)) -> 87.4
A10: =A9+1 -> 2 | B10: =INDEX('tableau racine'!A:A,MATCH($A10,'tableau racine'!$B:$B,0)) -> URUGUAY | C10: =INDEX('tableau racine'!C:C,MATCH($A10,'tableau racine'!$B:$B,0)) -> 10994384 | D10: =INDEX('tableau racine'!D:D,MATCH($A10,'tableau racine'!$B:$B,0)) -> 86.285714
A11: =A10+1 -> 3 | B11: =INDEX('tableau racine'!A:A,MATCH($A11,'tableau racine'!$B:$B,0)) -> UKRAINE | C11: =INDEX('tableau racine'!C:C,MATCH($A11,'tableau racine'!$B:$B,0)) -> 10847786 | D11: =INDEX('tableau racine'!D:D,MATCH($A11,'tableau racine'!$B:$B,0)) -> 85.171429
A12: =A11+1 -> 4 | B12: =INDEX('tableau racine'!A:A,MATCH($A12,'tableau racine'!$B:$B,0)) -> TURQUIE | C12: =INDEX('tableau racine'!C:C,MATCH($A12,'tableau racine'!$B:$B,0)) -> 10701187 | D12: =INDEX('tableau racine'!D:D,MATCH($A12,'tableau racine'!$B:$B,0)) -> 84.057143
A13: =A12+1 -> 5 | B13: =INDEX('tableau racine'!A:A,MATCH($A13,'tableau racine'!$B:$B,0)) -> THAILANDE | C13: =INDEX('tableau racine'!C:C,MATCH($A13,'tableau racine'!$B:$B,0)) -> 10554589 | D13: =INDEX('tableau racine'!D:D,MATCH($A13,'tableau racine'!$B:$B,0)) -> 82.942857
