Workbook
Name tb: OFFSET(Feuil1!$A$1,0,0,COUNTA(Feuil1!$A:$A),COUNTA(Feuil1!$1:$1))

Sheet Feuil1
A1: AFF_ID | B1: AFF_DATE_DEBUT | C1: AFF_DATE_FIN | D1: AFF_LOGIN_DETENTEUR | E1: LIG_ID | F1: Doublon
A2: 2840 | B2: 43643.423 | C2: NULL | D2: AUDIBERT_K | E2: 2076 | F2: =COUNTIF(E:E,E2) -> 4 | G2: =COUNTIF(B:B,B2) -> 1
A3: 2839 | B3: 43643.416 | C3: NULL | D3: BLANC_CL | E3: 2274 | F3: =COUNTIF(E:E,E3) -> 1 | G3: =COUNTIF(B:B,B3) -> 1
A4: 2838 | B4: 43643.413 | C4: NULL | D4: MEZOUED | E4: 2076 | F4: =COUNTIF(E:E,E4) -> 4 | G4: =COUNTIF(B:B,B4) -> 1
A5: 2837 | B5: 43643.411 | C5: NULL | D5: THILLIEZ | E5: 847 | F5: =COUNTIF(E:E,E5) -> 3 | G5: =COUNTIF(B:B,B5) -> 1
A6: 2836 | B6: 43642.726 | C6: NULL | D6: ELMESNAOUI | E6: 1778 | F6: =COUNTIF(E:E,E6) -> 2 | G6: =COUNTIF(B:B,B6) -> 1
A7: 2835 | B7: 43641.685 | C7: NULL | D7: LESUPERBE | E7: 1865 | F7: =COUNTIF(E:E,E7) -> 2 | G7: =COUNTIF(B:B,B7) -> 1
A8: 2834 | B8: 43641.684 | C8: NULL | D8: BOUYGUES | E8: 669 | F8: =COUNTIF(E:E,E8) -> 2 | G8: =COUNTIF(B:B,B8) -> 1
A9: 2833 | B9: 43641.682 | C9: NULL | D9: GOSSET_M | E9: 2151 | F9: =COUNTIF(E:E,E9) -> 2 | G9: =COUNTIF(B:B,B9) -> 1
A10: 2832 | B10: 43640.659 | C10: NULL | D10: WILLEM | E10: 693 | F10: =COUNTIF(E:E,E10) -> 2 | G10: =COUNTIF(B:B,B10) -> 1
A11: 2831 | B11: 43636.514 | C11: NULL | D11: BOSCHETTO | E11: 1696 | F11: =COUNTIF(E:E,E11) -> 2 | G11: =COUNTIF(B:B,B11) -> 1
A12: 2830 | B12: 43636.465 | C12: NULL | D12: BOUKHARI_R | E12: 1858 | F12: =COUNTIF(E:E,E12) -> 2 | G12: =COUNTIF(B:B,B12) -> 1
A13: 2829 | B13: 43636.46 | C13: NULL | D13: CHI_R | E13: 1453 | F13: =COUNTIF(E:E,E13) -> 2 | G13: =COUNTIF(B:B,B13) -> 1
... A42: 2800 | B42: 43601.486 | C42: NULL | D42: JUBLIN | E42: 1498 | F42: =COUNTIF(E:E,E42) -> 3 | G42: =COUNTIF(B:B,B42) -> 1
A43: 2799 | B43: 43600.695 | C43: NULL | D43: MOUSSARD_F | E43: NULL | F43: =COUNTIF(E:E,E43) -> 17 | G43: =COUNTIF(B:B,B43) -> 1
A44: 2798 | B44: 43599.643 | C44: NULL | D44: BREBAN | E44: 1992 | F44: =COUNTIF(E:E,E44) -> 2 | G44: =COUNTIF(B:B,B44) -> 1
A45: 2797 | B45: 43599.424 | C45: NULL | D45: MEROT | E45: 2273 | F45: =COUNTIF(E:E,E45) -> 1 | G45: =COUNTIF(B:B,B45) -> 1
A46: 2796 | B46: 43599.407 | C46: NULL | D46: LINARES | E46: 909 | F46: =COUNTIF(E:E,E46) -> 2 | G46: =COUNTIF(B:B,B46) -> 1
A47: 2795 | B47: 43599.401 | C47: NULL | D47: MARIE_R | E47: 1462 | F47: =COUNTIF(E:E,E47) -> 3 | G47: =COUNTIF(B:B,B47) -> 1
A48: 2794 | B48: 43599.397 | C48: NULL | D48: FORNEROD | E48: 2114 | F48: =COUNTIF(E:E,E48) -> 2 | G48: =COUNTIF(B:B,B48) -> 1
A49: 2793 | B49: 43594.677 | C49: NULL | D49: YAOU | E49: 1716 | F49: =COUNTIF(E:E,E49) -> 3 | G49: =COUNTIF(B:B,B49) -> 1
A50: 2792 | B50: 43594.674 | C50: NULL | D50: GOFFIN_A | E50: 1774 | F50: =COUNTIF(E:E,E50) -> 2 | G50: =COUNTIF(B:B,B50) -> 1
A51: 2791 | B51: 43594.67 | C51: NULL | D51: LOEMBETSIBA_S | E51: 1735 | F51: =COUNTIF(E:E,E51) -> 2 | G51: =COUNTIF(B:B,B51) -> 1
A52: 2790 | B52: 43594.662 | C52: NULL | D52: NICOLAS_GA | E52: 1349 | F52: =COUNTIF(E:E,E52) -> 2 | G52: =COUNTIF(B:B,B52) -> 1
A53: 2789 | B53: 43594.659 | C53: NULL | D53: FRADIN_P | E53: 1271 | F53: =COUNTIF(E:E,E53) -> 2 | G53: =COUNTIF(B:B,B53) -> 1
A54: 2788 | B54: 43594.651 | C54: NULL | D54: PINARD | E54: 1910 | F54: =COUNTIF(E:E,E54) -> 2 | G54: =COUNTIF(B:B,B54) -> 1
A55: 2787 | B55: 43594.648 | C55: NULL | D55: NUNEZLOPEZ | E55: 2272 | F55: =COUNTIF(E:E,E55) -> 1 | G55: =COUNTIF(B:B,B55) -> 1
... A61: 2781 | B61: 43594.455 | C61: NULL | D61: TERNET | E61: 2270 | F61: =COUNTIF(E:E,E61) -> 1 | G61: =COUNTIF(B:B,B61) -> 1
A62: 2780 | B62: 43594.455 | C62: 2019-05-09 10:55:08.687 | D62: TERNET | E62: NULL | F62: =COUNTIF(E:E,E62) -> 17 | G62: =COUNTIF(B:B,B62) -> 1
A63: 2779 | B63: 43585.604 | C63: NULL | D63: PECUCHET_B | E63: 2051 | F63: =COUNTIF(E:E,E63) -> 2 | G63: =COUNTIF(B:B,B63) -> 1
A64: 2778 | B64: 43585.602 | C64: NULL | D64: MOUREU | E64: 2269 | F64: =COUNTIF(E:E,E64) -> 1 | G64: =COUNTIF(B:B,B64) -> 1
A65: 2777 | B65: 43585.602 | C65: NULL | D65: VOTA | E65: 2201 | F65: =COUNTIF(E:E,E65) -> 2 | G65: =COUNTIF(B:B,B65) -> 1
A66: 2776 | B66: 43585.6 | C66: NULL | D66: ALENEOWONO | E66: 2268 | F66: =COUNTIF(E:E,E66) -> 1 | G66: =COUNTIF(B:B,B66) -> 1
A67: 2775 | B67: 43585.599 | C67: NULL | D67: AVERTY_P | E67: 2267 | F67: =COUNTIF(E:E,E67) -> 1 | G67: =COUNTIF(B:B,B67) -> 1
A68: 2774 | B68: 43585.521 | C68: NULL | D68: DANAIS | E68: 2266 | F68: =COUNTIF(E:E,E68) -> 1 | G68: =COUNTIF(B:B,B68) -> 1
A69: 2773 | B69: 43585.52 | C69: NULL | D69: RUEL | E69: 2200 | F69: =COUNTIF(E:E,E69) -> 2 | G69: =COUNTIF(B:B,B69) -> 1
A70: 2772 | B70: 43585.52 | C70: NULL | D70: BRIONE | E70: 879 | F70: =COUNTIF(E:E,E70) -> 2 | G70: =COUNTIF(B:B,B70) -> 1
A71: 2771 | B71: 43585.519 | C71: NULL | D71: MAHLER | E71: 2265 | F71: =COUNTIF(E:E,E71) -> 1 | G71: =COUNTIF(B:B,B71) -> 1
A72: 2770 | B72: 43585.517 | C72: NULL | D72: CAMBON | E72: 2264 | F72: =COUNTIF(E:E,E72) -> 1 | G72: =COUNTIF(B:B,B72) -> 1
A73: 2769 | B73: 43585.508 | C73: NULL | D73: VILLENEUVE_Y | E73: 2147 | F73: =COUNTIF(E:E,E73) -> 2 | G73: =COUNTIF(B:B,B73) -> 1
...

Sheet Feuil3
A1: Doublon | B1: LIG_ID | C1: Max de AFF_DATE_DEBUT | D1: ligne | E1: LIG_ID | F1: AFF_LOGIN_DETENTEUR | G1: AFF_DATE_FIN
A2: 2 | B2: 648 | C2: 43496.576 | D2: =MATCH(C2,Feuil1!B:B,0) -> 202 | E2: =INDEX(Feuil1!$A:$A,$D2) -> 2640 | F2: =INDEX(Feuil1!$D:$D,$D2) -> FLEURY_J | G2: =INDEX(Feuil1!$C:$C,$D2) -> NULL
B3: 661 | C3: 43553.449 | D3: =MATCH(C3,Feuil1!B:B,0) -> 103 | E3: =INDEX(Feuil1!$A:$A,$D3) -> 2739 | F3: =INDEX(Feuil1!$D:$D,$D3) -> BOUABOUD | G3: =INDEX(Feuil1!$C:$C,$D3) -> NULL
B4: 669 | C4: 43641.684 | D4: =MATCH(C4,Feuil1!B:B,0) -> 8 | E4: =INDEX(Feuil1!$A:$A,$D4) -> 2834 | F4: =INDEX(Feuil1!$D:$D,$D4) -> BOUYGUES | G4: =INDEX(Feuil1!$C:$C,$D4) -> NULL
B5: 672 | C5: 42818.6 | D5: =MATCH(C5,Feuil1!B:B,0) -> 692 | E5: =INDEX(Feuil1!$A:$A,$D5) -> 2150 | F5: =INDEX(Feuil1!$D:$D,$D5) -> HEIJMANNS | G5: =INDEX(Feuil1!$C:$C,$D5) -> NULL
B6: 674 | C6: 43447.487 | D6: =MATCH(C6,Feuil1!B:B,0) -> 273 | E6: =INDEX(Feuil1!$A:$A,$D6) -> 2569 | F6: =INDEX(Feuil1!$D:$D,$D6) -> BOUAZIZ | G6: =INDEX(Feuil1!$C:$C,$D6) -> NULL
B7: 676 | C7: 43629.451 | D7: =MATCH(C7,Feuil1!B:B,0) -> 22 | E7: =INDEX(Feuil1!$A:$A,$D7) -> 2820 | F7: =INDEX(Feuil1!$D:$D,$D7) -> LHERRON | G7: =INDEX(Feuil1!$C:$C,$D7) -> NULL
B8: 677 | C8: 43081.659 | D8: =MATCH(C8,Feuil1!B:B,0) -> 523 | E8: =INDEX(Feuil1!$A:$A,$D8) -> 2319 | F8: =INDEX(Feuil1!$D:$D,$D8) -> LAIROT | G8: =INDEX(Feuil1!$C:$C,$D8) -> NULL
B9: 678 | C9: 43629.454 | D9: =MATCH(C9,Feuil1!B:B,0) -> 21 | E9: =INDEX(Feuil1!$A:$A,$D9) -> 2821 | F9: =INDEX(Feuil1!$D:$D,$D9) -> MAURICE_F | G9: =INDEX(Feuil1!$C:$C,$D9) -> NULL
B10: 681 | C10: 43441.584 | D10: =MATCH(C10,Feuil1!B:B,0) -> 302 | E10: =INDEX(Feuil1!$A:$A,$D10) -> 2540 | F10: =INDEX(Feuil1!$D:$D,$D10) -> GRIFFOUL | G10: =INDEX(Feuil1!$C:$C,$D10) -> NULL
B11: 688 | C11: 43629.609 | D11: =MATCH(C11,Feuil1!B:B,0) -> 18 | E11: =INDEX(Feuil1!$A:$A,$D11) -> 2824 | F11: =INDEX(Feuil1!$D:$D,$D11) -> CHEMALI | G11: =INDEX(Feuil1!$C:$C,$D11) -> NULL
B12: 692 | C12: 43179.336 | D12: =MATCH(C12,Feuil1!B:B,0) -> 478 | E12: =INDEX(Feuil1!$A:$A,$D12) -> 2364 | F12: =INDEX(Feuil1!$D:$D,$D12) -> GAS | G12: =INDEX(Feuil1!$C:$C,$D12) -> NULL
B13: 693 | C13: 43640.659 | D13: =MATCH(C13,Feuil1!B:B,0) -> 10 | E13: =INDEX(Feuil1!$A:$A,$D13) -> 2832 | F13: =INDEX(Feuil1!$D:$D,$D13) -> WILLEM | G13: =INDEX(Feuil1!$C:$C,$D13) -> NULL
B14: 698 | C14: 43489.598 | D14: =MATCH(C14,Feuil1!B:B,0) -> 218 | E14: =INDEX(Feuil1!$A:$A,$D14) -> 2624 | F14: =INDEX(Feuil1!$D:$D,$D14) -> CORDE | G14: =INDEX(Feuil1!$C:$C,$D14) -> NULL
... B413: 2227 | C413: 43489.589 | D413: =MATCH(C413,Feuil1!B:B,0) -> 219 | E413: =INDEX(Feuil1!$A:$A,$D413) -> 2623 | F413: =INDEX(Feuil1!$D:$D,$D413) -> LEFEVRE_S | G413: =INDEX(Feuil1!$C:$C,$D413) -> NULL
A414: 3 | B414: 679 | C414: 43356.345 | D414: =MATCH(C414,Feuil1!B:B,0) -> 382 | E414: =INDEX(Feuil1!$A:$A,$D414) -> 2460 | F414: =INDEX(Feuil1!$D:$D,$D414) -> FONBONNE | G414: =INDEX(Feuil1!$C:$C,$D414) -> NULL
B415: 702 | C415: 43195.364 | D415: =MATCH(C415,Feuil1!B:B,0) -> 464 | E415: =INDEX(Feuil1!$A:$A,$D415) -> 2378 | F415: =INDEX(Feuil1!$D:$D,$D415) -> DERACHE | G415: =INDEX(Feuil1!$C:$C,$D415) -> NULL
B416: 708 | C416: 43252.443 | D416: =MATCH(C416,Feuil1!B:B,0) -> 451 | E416: =INDEX(Feuil1!$A:$A,$D416) -> 2391 | F416: =INDEX(Feuil1!$D:$D,$D416) -> MASSON | G416: =INDEX(Feuil1!$C:$C,$D416) -> NULL
B417: 777 | C417: 43441.591 | D417: =MATCH(C417,Feuil1!B:B,0) -> 290 | E417: =INDEX(Feuil1!$A:$A,$D417) -> 2552 | F417: =INDEX(Feuil1!$D:$D,$D417) -> CHATAGNIER | G417: =INDEX(Feuil1!$C:$C,$D417) -> NULL
B418: 787 | C418: 43546.61 | D418: =MATCH(C418,Feuil1!B:B,0) -> 104 | E418: =INDEX(Feuil1!$A:$A,$D418) -> 2738 | F418: =INDEX(Feuil1!$D:$D,$D418) -> DESCHAMPS_MA | G418: =INDEX(Feuil1!$C:$C,$D418) -> NULL
B419: 788 | C419: 43293.412 | D419: =MATCH(C419,Feuil1!B:B,0) -> 412 | E419: =INDEX(Feuil1!$A:$A,$D419) -> 2430 | F419: =INDEX(Feuil1!$D:$D,$D419) -> PELISSIER | G419: =INDEX(Feuil1!$C:$C,$D419) -> NULL
B420: 792 | C420: 43426.636 | D420: =MATCH(C420,Feuil1!B:B,0) -> 319 | E420: =INDEX(Feuil1!$A:$A,$D420) -> 2523 | F420: =INDEX(Feuil1!$D:$D,$D420) -> MARECHAL_D | G420: =INDEX(Feuil1!$C:$C,$D420) -> NULL
B421: 831 | C421: 43531.469 | D421: =MATCH(C421,Feuil1!B:B,0) -> 129 | E421: =INDEX(Feuil1!$A:$A,$D421) -> 2713 | F421: =INDEX(Feuil1!$D:$D,$D421) -> CARIOU_L | G421: =INDEX(Feuil1!$C:$C,$D421) -> NULL
B422: 838 | C422: 42774.497 | D422: =MATCH(C422,Feuil1!B:B,0) -> 729 | E422: =INDEX(Feuil1!$A:$A,$D422) -> 2113 | F422: =INDEX(Feuil1!$D:$D,$D422) -> THOLLOT | G422: =INDEX(Feuil1!$C:$C,$D422) -> NULL
B423: 847 | C423: 43643.411 | D423: =MATCH(C423,Feuil1!B:B,0) -> 5 | E423: =INDEX(Feuil1!$A:$A,$D423) -> 2837 | F423: =INDEX(Feuil1!$D:$D,$D423) -> THILLIEZ | G423: =INDEX(Feuil1!$C:$C,$D423) -> NULL
B424: 885 | C424: 43186.614 | D424: =MATCH(C424,Feuil1!B:B,0) -> 473 | E424: =INDEX(Feuil1!$A:$A,$D424) -> 2369 | F424: =INDEX(Feuil1!$D:$D,$D424) -> JOUANNIN | G424: =INDEX(Feuil1!$C:$C,$D424) -> NULL
B425: 911 | C425: 43571.678 | D425: =MATCH(C425,Feuil1!B:B,0) -> 79 | E425: =INDEX(Feuil1!$A:$A,$D425) -> 2763 | F425: =INDEX(Feuil1!$D:$D,$D425) -> DARDOUR | G425: =INDEX(Feuil1!$C:$C,$D425) -> NULL
B426: 916 | C426: 43356.357 | D426: =MATCH(C426,Feuil1!B:B,0) -> 376 | E426: =INDEX(Feuil1!$A:$A,$D426) -> 2466 | F426: =INDEX(Feuil1!$D:$D,$D426) -> DUVAL_G | G426: =INDEX(Feuil1!$C:$C,$D426) -> NULL
... B484: 2236 | C484: 43509.647 | D484: =MATCH(C484,Feuil1!B:B,0) -> 190 | E484: =INDEX(Feuil1!$A:$A,$D484) -> 2652 | F484: =INDEX(Feuil1!$D:$D,$D484) -> SALAVAGIONE | G484: =INDEX(Feuil1!$C:$C,$D484) -> NULL
A485: 4 | B485: 729 | C485: 43601.49 | D485: =MATCH(C485,Feuil1!B:B,0) -> 40 | E485: =INDEX(Feuil1!$A:$A,$D485) -> 2802 | F485: =INDEX(Feuil1!$D:$D,$D485) -> JAHAN | G485: =INDEX(Feuil1!$C:$C,$D485) -> NULL
B486: 868 | C486: 43607.489 | D486: =MATCH(C486,Feuil1!B:B,0) -> 36 | E486: =INDEX(Feuil1!$A:$A,$D486) -> 2806 | F486: =INDEX(Feuil1!$D:$D,$D486) -> END | G486: =INDEX(Feuil1!$C:$C,$D486) -> NULL
B487: 1382 | C487: 43594.645 | D487: =MATCH(C487,Feuil1!B:B,0) -> 56 | E487: =INDEX(Feuil1!$A:$A,$D487) -> 2786 | F487: =INDEX(Feuil1!$D:$D,$D487) -> GAUTHEREAU | G487: =INDEX(Feuil1!$C:$C,$D487) -> NULL
B488: 1577 | C488: 43382.624 | D488: =MATCH(C488,Feuil1!B:B,0) -> 361 | E488: =INDEX(Feuil1!$A:$A,$D488) -> 2481 | F488: =INDEX(Feuil1!$D:$D,$D488) -> LEMOINE_STE | G488: =INDEX(Feuil1!$C:$C,$D488) -> NULL
B489: 1836 | C489: 43524.659 | D489: =MATCH(C489,Feuil1!B:B,0) -> 146 | E489: =INDEX(Feuil1!$A:$A,$D489) -> 2696 | F489: =INDEX(Feuil1!$D:$D,$D489) -> KADMIRI | G489: =INDEX(Feuil1!$C:$C,$D489) -> NULL
B490: 2076 | C490: 43643.423 | D490: =MATCH(C490,Feuil1!B:B,0) -> 2 | E490: =INDEX(Feuil1!$A:$A,$D490) -> 2840 | F490: =INDEX(Feuil1!$D:$D,$D490) -> AUDIBERT_K | G490: =INDEX(Feuil1!$C:$C,$D490) -> NULL
A491: 5 | B491: 955 | C491: 43636.408 | D491: =MATCH(C491,Feuil1!B:B,0) -> 15 | E491: =INDEX(Feuil1!$A:$A,$D491) -> 2827 | F491: =INDEX(Feuil1!$D:$D,$D491) -> TCHIKLADZE | G491: =INDEX(Feuil1!$C:$C,$D491) -> NULL
B492: 1174 | C492: 43585.499 | D492: =MATCH(C492,Feuil1!B:B,0) -> 75 | E492: =INDEX(Feuil1!$A:$A,$D492) -> 2767 | F492: =INDEX(Feuil1!$D:$D,$D492) -> COUTINHO | G492: =INDEX(Feuil1!$C:$C,$D492) -> NULL
