Workbook

Sheet Sheet1
A1: Article | B1: Désignation article
A2: 100153410 | B2: BONDE DE VIDAGE FORMA LAVABO-BIDET CHR | C2: =IF(COUNTIF('[1]SH 2020 - PVCLB - Pro'!$B:$B,A6)>0,1,"")
A3: 100153394 | B3: USA FLEXIBLE ALIMENTATION LOUNGE B.H. | C3: =IF(COUNTIF('[1]SH 2020 - PVCLB - Pro'!$B:$B,A7)>0,1,"")
A4: 100153388 | B4: MOUSSEUR M22X1 FORMA BIDET CHROME | C4: =IF(COUNTIF('[1]SH 2020 - PVCLB - Pro'!$B:$B,A8)>0,1,"")
A5: 100153386 | B5: MOUSSEUR M24X1 FORMA LAVABO BEC HAUT | C5: =IF(COUNTIF('[1]SH 2020 - PVCLB - Pro'!$B:$B,A9)>0,1,"")
A6: 100153423 | B6: POIGNÉE FORMA LAVABO BIDET BEC HAUT | C6: =IF(COUNTIF('[1]SH 2020 - PVCLB - Pro'!$B:$B,A10)>0,1,"")
A7: 100153446 | B7: FLEX ALIM 700 EAU FROIDE FORMA B.H. | C7: =IF(COUNTIF('[1]SH 2020 - PVCLB - Pro'!$B:$B,A11)>0,1,"")
A8: 100123831 | B8: ABATTANT WC NK PROGRAM SOFT CLOSE EU | C8: =IF(COUNTIF('[1]SH 2020 - PVCLB - Pro'!$B:$B,A12)>0,1,"")
A9: 100117422 | B9: ABATTANT. SC CITY SURELEVEE | C9: =IF(COUNTIF('[1]SH 2020 - PVCLB - Pro'!$B:$B,A13)>0,1,"")
A10: 100088961 | B10: ABBATANT CITY DESCENTE RETENUE | C10: =IF(COUNTIF('[1]SH 2020 - PVCLB - Pro'!$B:$B,A14)>0,1,"")
A11: 100144803 | B11: ABBATANT CUVETTE THERMODUR | C11: =IF(COUNTIF('[1]SH 2020 - PVCLB - Pro'!$B:$B,A15)>0,1,"")
A12: 100099846 | B12: ABBATTANT CUVETTE ESSENCE C DESCENTE RET | C12: =IF(COUNTIF('[1]SH 2020 - PVCLB - Pro'!$B:$B,A16)>0,1,"")
A13: 100166291 | B13: ABBEY WHITE GLOSS 33,3X59,2(A) | C13: =IF(COUNTIF('[1]SH 2020 - PVCLB - Pro'!$B:$B,A17)>0,1,"")
... A21277: 100226258 | B21277: NEWPORT NATURAL NATURE 59,6X59,6(A) | C21277: =IF(COUNTIF('[1]SH 2020 - PVCLB - Pro'!$B:$B,A21281)>0,1,"")
A21278: 100226303 | B21278: NEWPORT NATURAL NATURE 59,6X59,6(B) | C21278: =IF(COUNTIF('[1]SH 2020 - PVCLB - Pro'!$B:$B,#REF!)>0,1,"")
A21279: 100226277 | B21279: NEWPORT NATURAL NATURE 59,6X59,6(C) | C21279: =IF(COUNTIF('[1]SH 2020 - PVCLB - Pro'!$B:$B,#REF!)>0,1,"")
A21280: 100226266 | B21280: NEWPORT NATURAL NATURE 80X80(A) | C21280: =IF(COUNTIF('[1]SH 2020 - PVCLB - Pro'!$B:$B,#REF!)>0,1,"")
A21281: 100226304 | B21281: NEWPORT NATURAL NATURE 80X80(B) | C21281: =IF(COUNTIF('[1]SH 2020 - PVCLB - Pro'!$B:$B,#REF!)>0,1,"")

Sheet SH 2020 - PVCLB - Pro
B4: Code SAP | C4: Désignation | E4: Format | G4: UV | I4: PVP ht | J4: PV Pro ht
G5: m2 | H5: Pièce
A6: FAIENCES | B6: 100269469 | C6: JERSEY MIX | E6: 25X44,3 | G6: x | K6: =IF(COUNTIF(Sheet1!A:A,'SH 2020 - PVCLB - Pro'!B6)>0,1,"")
B7: 100272939 | C7: CHINA BLANCO | E7: 25X44,3 | G7: x | K7: =IF(COUNTIF(Sheet1!A:A,'SH 2020 - PVCLB - Pro'!B7)>0,1,"")
B8: 100272958 | C8: TECNOS BLANCO | E8: 25X44,3 | G8: x | K8: =IF(COUNTIF(Sheet1!A:A,'SH 2020 - PVCLB - Pro'!B8)>0,1,"")
B9: 100273285 | C9: MALAGA WHITE | E9: 25X44,3 | G9: x | K9: =IF(COUNTIF(Sheet1!A:A,'SH 2020 - PVCLB - Pro'!B9)>0,1,"")
B10: 100273301 | C10: MALAGA OCEAN | E10: 25X44,3 | G10: x | K10: =IF(COUNTIF(Sheet1!A:A,'SH 2020 - PVCLB - Pro'!B10)>0,1,"")
B11: 100273258 | C11: MALAGA ACERO | E11: 25X44,3 | G11: x | K11: =IF(COUNTIF(Sheet1!A:A,'SH 2020 - PVCLB - Pro'!B11)>0,1,"")
B12: 100273300 | C12: MALAGA AQUA | E12: 25X44,3 | G12: x | K12: =IF(COUNTIF(Sheet1!A:A,'SH 2020 - PVCLB - Pro'!B12)>0,1,"")
B13: 100273310 | C13: MALAGA BEIGE | E13: 25X44,3 | G13: x | K13: =IF(COUNTIF(Sheet1!A:A,'SH 2020 - PVCLB - Pro'!B13)>0,1,"")
B14: 100273286 | C14: RONDA AQUA | E14: 25X44,3 | G14: x | K14: =IF(COUNTIF(Sheet1!A:A,'SH 2020 - PVCLB - Pro'!B14)>0,1,"")
B15: 100273259 | C15: RONDA WHITE | E15: 25X44,3 | G15: x | K15: =IF(COUNTIF(Sheet1!A:A,'SH 2020 - PVCLB - Pro'!B15)>0,1,"")
B16: 100273264 | C16: RONDA MINT | E16: 25X44,3 | G16: x | K16: =IF(COUNTIF(Sheet1!A:A,'SH 2020 - PVCLB - Pro'!B16)>0,1,"")
B17: 100269420 | C17: PARK GRIS | E17: 25X44,3 | G17: x | K17: =IF(COUNTIF(Sheet1!A:A,'SH 2020 - PVCLB - Pro'!B17)>0,1,"")
B18: 100269398 | C18: PARK LINEAL GRIS | E18: 25X44,3 | G18: x | K18: =IF(COUNTIF(Sheet1!A:A,'SH 2020 - PVCLB - Pro'!B18)>0,1,"")
... B33: 100271627 | C33: SHINE ALUMINIO | E33: 25X44,3 | G33: x | K33: =IF(COUNTIF(Sheet1!A:A,'SH 2020 - PVCLB - Pro'!B33)>0,1,"")
A34: SOLS & PLINTHES | B34: 100123819 | C34: RODANO TAUPE | D34: U2SP3E3C2 | E34: 44,3X44,3 | G34: x | K34: =IF(COUNTIF(Sheet1!A:A,'SH 2020 - PVCLB - Pro'!B34)>0,1,"")
B35: 100123818 | C35: RODANO CALIZA | D35: U3P3E3C2 | E35: 44,3X44,3 | G35: x | K35: =IF(COUNTIF(Sheet1!A:A,'SH 2020 - PVCLB - Pro'!B35)>0,1,"")
B36: 100123817 | C36: RODANO ACERO | D36: U3P3E3C2 | E36: 44,3X44,3 | G36: x | K36: =IF(COUNTIF(Sheet1!A:A,'SH 2020 - PVCLB - Pro'!B36)>0,1,"")
B37: 100141846 | C37: ZOC.RODANO TAUPE | D37: plinthes | E37: 10X44,3 | H37: x | K37: =IF(COUNTIF(Sheet1!A:A,'SH 2020 - PVCLB - Pro'!B37)>0,1,"")
B38: 100130259 | C38: ZOC.RODANO CALIZA | D38: plinthes | E38: 10X44,3 | H38: x | K38: =IF(COUNTIF(Sheet1!A:A,'SH 2020 - PVCLB - Pro'!B38)>0,1,"")
B39: 100141845 | C39: ZOC.RODANO ACERO | D39: plinthes | E39: 10X44,3 | H39: x | K39: =IF(COUNTIF(Sheet1!A:A,'SH 2020 - PVCLB - Pro'!B39)>0,1,"")
B40: 100157357 | C40: DOVER CALIZA | D40: U3P3E3C2 | E40: 44,3X44,3 | G40: x | K40: =IF(COUNTIF(Sheet1!A:A,'SH 2020 - PVCLB - Pro'!B40)>0,1,"") -> 1
B41: 100157354 | C41: DOVER ACERO | D41: U3P3E3C2 | E41: 44,3X44,3 | G41: x | K41: =IF(COUNTIF(Sheet1!A:A,'SH 2020 - PVCLB - Pro'!B41)>0,1,"") -> 1
B42: 100159646 | C42: ZOC.DOVER CALIZA | D42: plinthes | E42: 10X44,3 | H42: x | K42: =IF(COUNTIF(Sheet1!A:A,'SH 2020 - PVCLB - Pro'!B42)>0,1,"")
B43: 100159645 | C43: ZOC.DOVER ACERO | D43: plinthes | E43: 10X44,3 | H43: x | K43: =IF(COUNTIF(Sheet1!A:A,'SH 2020 - PVCLB - Pro'!B43)>0,1,"")
B44: 100157370 | C44: PARK GRIS | D44: U2SP3E3C2 | E44: 44,3X44,3 | G44: x | K44: =IF(COUNTIF(Sheet1!A:A,'SH 2020 - PVCLB - Pro'!B44)>0,1,"")
B45: 100219091 | C45: PARK BLANCO | D45: U3P3E3C2 | E45: 44,3X44,3 | G45: x | K45: =IF(COUNTIF(Sheet1!A:A,'SH 2020 - PVCLB - Pro'!B45)>0,1,"")
B46: 100158749 | C46: ZOC. PARK GRIS | D46: plinthes | E46: 10X44,3 | H46: x | K46: =IF(COUNTIF(Sheet1!A:A,'SH 2020 - PVCLB - Pro'!B46)>0,1,"")
B47: 100219158 | C47: ZOC. PARK BLANCO | D47: plinthes | E47: 10X44,3 | H47: x | K47: =IF(COUNTIF(Sheet1!A:A,'SH 2020 - PVCLB - Pro'!B47)>0,1,"")
B48: 100225065 | C48: BOTTEGA CALIZA | E48: 44,3X44,3 | G48: x | K48: =IF(COUNTIF(Sheet1!A:A,'SH 2020 - PVCLB - Pro'!B48)>0,1,"") -> 1
B49: 100236404 | C49: BOTTEGA CALIZA ANT. | D49: Antidérrapant | E49: 44,3X44,3 | G49: x | K49: =IF(COUNTIF(Sheet1!A:A,'SH 2020 - PVCLB - Pro'!B49)>0,1,"") -> 1
B50: 100225055 | C50: BOTTEGA ACERO | E50: 44,3X44,3 | G50: x | K50: =IF(COUNTIF(Sheet1!A:A,'SH 2020 - PVCLB - Pro'!B50)>0,1,"") -> 1
B51: 100236432 | C51: BOTTEGA ACERO ANT. | D51: Antidérrapant | E51: 44,3X44,3 | G51: x | K51: =IF(COUNTIF(Sheet1!A:A,'SH 2020 - PVCLB - Pro'!B51)>0,1,"") -> 1
B52: 100242728 | C52: BOTTEGA WHITE | E52: 44,3X44,3 | G52: x | K52: =IF(COUNTIF(Sheet1!A:A,'SH 2020 - PVCLB - Pro'!B52)>0,1,"") -> 1
B53: 100243138 | C53: ZOC. BOTTEGA ACERO | D53: plinthes | E53: 10X44,3 | H53: x | K53: =IF(COUNTIF(Sheet1!A:A,'SH 2020 - PVCLB - Pro'!B53)>0,1,"")
B54: 100243165 | C54: ZOC. BOTTEGA CALIZA | D54: plinthes | E54: 10X44,3 | H54: x | K54: =IF(COUNTIF(Sheet1!A:A,'SH 2020 - PVCLB - Pro'!B54)>0,1,"")
B55: 100243208 | C55: ZOC. BOTTEGA WHITE | D55: plinthes | E55: 10X44,3 | H55: x | K55: =IF(COUNTIF(Sheet1!A:A,'SH 2020 - PVCLB - Pro'!B55)>0,1,"")
B56: 100146459 | C56: CHAMBORD ACERO | D56: U3P3E3C2 | E56: 44,3X44,3 | G56: x | K56: =IF(COUNTIF(Sheet1!A:A,'SH 2020 - PVCLB - Pro'!B56)>0,1,"") -> 1
B57: 100146491 | C57: CHAMBORD SILVER | D57: U3P3E3C2 | E57: 44,3X44,3 | G57: x | K57: =IF(COUNTIF(Sheet1!A:A,'SH 2020 - PVCLB - Pro'!B57)>0,1,"") -> 1
...
