Workbook

Sheet Feuil1
A1: Salariés | B1: Société | C1: Fonction | D1: SST Initial 12 mois | E1: SST Recyclage 24 mois | F1: Habilitation électrique H0 B0 3 ans | G1: Gestes et postures manutentions manuelles | H1: CACES 1 10 ans | I1: CACES 2 10 ans | J1: CACES 4 10 ans | K1: CACES 9 10 ans | L1: CACES 10 10 ans | M1: CACES GRUE 10 ans | N1: FCO 5 ans | O1: Soudeurs | P1: Joints Isolés Collants | Q1: Voie et ADV | R1: Intervention sur réseaux 5 ans | S1: Agrément travail chef machine bourrage mécanique lourd | T1: C1 Loco 3 ans | U1: C2 Bourreuse 3 ans
D2: 1 | E2: 2 | F2: 3 | G2: 0 | H2: 10 | I2: 10 | J2: 10 | K2: 10 | L2: 10 | M2: 10 | N2: 5 | O2: 0 | P2: 0 | Q2: 0 | R2: 5 | S2: 0 | T2: 3 | U2: 3
A3: DA SILVA Mario | B3: FOURCHARD | C3: Direc Exploi
A4: AGRO Nathalie | B4: FOURCHARD | C4: Secrt Adm
A5: CLAIRET Cédric | B5: FOURCHARD | C5: Resp Adm/Gst
A6: FLEURET Amélie | B6: FOURCHARD | C6: Techn QSE | R6: 43088
A7: LECHAUDEL Julie | B7: FOURCHARD | C7: Assist Cmpt/Gst
A9: DOS SANTOS José | B9: SOTRAMEST | C9: Chef Atelier | G9: 38744 | I9: 43054 | J9: 43054 | L9: 43054 | M9: 42697 | N9: 38611
A10: ROCHER Phillipe | B10: SOTRAMEST | C10: Techn Atelier | I10: 42402 | J10: 42402 | M10: 42402
A12: BLANCHON Fabrice | B12: SOTRAMEST | C12: Conduc Trav | O12: 41355
A13: DURAND Gérald | B13: FOURCHARD | C13: Conduc Trav
A14: ZANOTTI Claude | B14: SOTRAMEST | C14: Conduc Trav | R14: 43088
A15: THIRY Antoine | B15: SOTRAMEST | C15: Aide conduc Trav
A17: BLAISE Patrick | B17: SOTRAMEST | C17: Chef Equipe | N17: 39857
A18: GIRARD Hervé | B18: SOTRAMEST | C18: Conduc Charg | F18: 38740 | G18: 38741 | H18: 42892 | I18: 42892 | J18: 42892 | R18: 43087
A19: DAMAS Sylvain | B19: SOTRAMEST | C19: Conduc Pelle | I19: 42277 | J19: 42277 | K19: 42277 | L19: 42277
A20: HUFSCHMITT Kévin | B20: SOTRAMEST | C20: Conduc Pelle | H20: 42101 | J20: 42101
A21: MORIOT Eric | B21: SOTRAMEST | C21: Conduc Pelle | F21: 38740 | G21: 38743
A23: BLAISE Thibaut | B23: SOTRAMEST | C23: Conduc Machine
A24: BAILLON Thomas | B24: SOTRAMEST | C24: Aide Cond Mach | T24: 42748 | U24: 43314
A25: CHAPLET Jonathan | B25: SOTRAMEST | C25: Aide Cond Mach | U25: 43318
A26: DA SILVA Cédric | B26: SOTRAMEST | C26: Chef Machine | S26: 41458 | U26: 42520
A27: DA SILVA Frédéric | B27: SOTRAMEST | C27: Chef Machine | S27: 41458 | U27: 42761
A28: FEUTRY Yannick | B28: SOTRAMEST | C28: Conduc Machine | T28: 43118
A29: GUERARD Jean-Sébastien | B29: SOTRAMEST | C29: Chef Machine | S29: 41458 | T29: 42748 | U29: 43514
A30: GUERARD Jonathan | B30: SOTRAMEST | C30: Aide Cond Mach
A31: KOLP Romain | B31: SOTRAMEST | C31: Conduc Machine | T31: 43118
A32: KOMMER Fabrice | B32: SOTRAMEST | C32: Chef Machine | U32: 42756
A33: LAABED Malik | B33: SOTRAMEST | C33: Aide Cond Mach | U33: 42885
A34: LORETTE Thomas | B34: SOTRAMEST | C34: Aide Cond Mach | U34: 43271
A35: MICHEL Brice | B35: SOTRAMEST | C35: Conduc Machine | U35: 41102
A36: PECHEUR Gaëtan | B36: SOTRAMEST | C36: Aide Cond Mach | O36: 43284
A37: PHILLIPPOT Vincent | B37: SOTRAMEST | C37: Conduc Machine | U37: 42768
A38: RAUSSIN Loïc | B38: SOTRAMEST | C38: Chef Machine | U38: 43271
A39: ROGER Nicolas | B39: SOTRAMEST | C39: Aide Cond Mach | U39: 43353
A40: TUANI Mikaël | B40: SOTRAMEST | C40: Conduc Machine | U40: 42747
A41: VERSTRAET Francis | B41: SOTRAMEST | C41: Conduc Machine | U41: 42580
A42: WEGRIN Didier | B42: SOTRAMEST | C42: Conduc Machine | S42: 41458 | U42: 42768
A44: AHMA Abdurrahim | B44: SOTRAMEST | C44: Soudeur
A45: AHMA Arbardh | B45: SOTRAMEST | C45: Soudeur
A46: LECOMTE Laurent | B46: SOTRAMEST | C46: Soudeur | O46: 41248
A48: AHMA Shpejtim | B48: SOTRAMEST | C48: Aide Soudeur
A49: ATAMNA Mustapha | B49: SOTRAMEST | C49: Aide Soudeur
A50: IBISHI Bedri | B50: SOTRAMEST | C50: Aide Soudeur
A52: ARNOULD David | B52: S.T.F. | C52: Chef Equipe | E52: 43109 | F52: 38740 | G52: 38744 | R52: 43087
A53: CHEVALIER David | B53: S.T.F. | C53: Chef Equipe | F53: 38740 | G53: 38742 | R53: 43087
A54: SCHUNEMANN Julien | B54: S.T.F. | C54: Chef Equipe | G54: 38744
A56: BOHN Frédéric | B56: S.T.F. | C56: Chef Chantier | F56: 38740 | G56: 38741 | I56: 41654 | J56: 41654 | K56: 41744 | Q56: 42466 | R56: 43088
A57: FISCHER Jean-Paul | B57: S.T.F. | C57: Chef Chantier | E57: 43109 | G57: 38741 | Q57: 41202 | R57: 43088
A58: HURST-ILIEN Jordan | B58: S.T.F. | C58: Techn Chantier
A59: MASSON Sylvain | B59: S.T.F. | C59: Conduc Charg | J59: 39921 | R59: 43087
A61: ARNOULD Brayan | B61: S.T.F. | C61: Poseur Voies
A62: ARSLANTURK Cem | B62: S.T.F. | C62: Poseur Voies
A63: BASTARD Tony | B63: S.T.F. | C63: Poseur Voies | I63: 43536
A64: CHEVALIER Daniel | B64: S.T.F. | C64: Poseur Voies
A65: CIRASELLA Christhophe | B65: S.T.F. | C65: Poseur Voies | D65: 41262 | G65: 38741
A66: COLLET Didier | B66: S.T.F. | C66: Poseur Voies | G66: 38742
A67: DALICHAMPT Laurent | B67: S.T.F. | C67: Poseur Voies | E67: 43109 | G67: 38742
A68: FARES Tarek | B68: S.T.F. | C68: Poseur Voies
A69: FISCHER Aurélien | B69: S.T.F. | C69: Poseur Voies
A70: FRANCO Antonio | B70: S.T.F. | C70: Poseur Voies | O70: 41201
A71: GARNIER Mikaël | B71: S.T.F. | C71: Poseur Voies | I71: 43536 | J71: 43536
A72: GIRARD Dylan | B72: S.T.F. | C72: Poseur Voies
A73: GRANDJEAN Fabrice | B73: S.T.F. | C73: Poseur Voies | G73: 38744 | P73: 40585
A74: GUNEY Ufuk | B74: S.T.F. | C74: Poseur Voies
A75: JEANSON Pascal | B75: S.T.F. | C75: Poseur Voies
A76: MASSON Thomas | B76: S.T.F. | C76: Poseur Voies | H76: 43159 | J76: 43178
A77: MOSCHIONI Laurent | B77: S.T.F. | C77: Poseur Voies | G77: 38743
A78: MOSCHIONI Pascal | B78: S.T.F. | C78: Poseur Voies | F78: 38740 | G78: 38743
A79: ROLLAND Brayan | B79: S.T.F. | C79: Poseur Voies | I79: 43536
A80: ROLLAND Kevin | B80: S.T.F. | C80: Poseur Voies
A81: TABUR Emre | B81: S.T.F. | C81: Poseur Voies
A82: TAVAN Aldo | B82: S.T.F. | C82: Poseur Voies
A83: TEIXEIRA BATIST Manuel | B83: S.T.F. | C83: Poseur Voies

Sheet Feuil2
D3: =AND(Feuil1!D3<>0,DATE(YEAR(Feuil1!D3),MONTH(Feuil1!D3)+10,DAY(Feuil1!D3))<TODAY()) -> FALSE | E3: =DATE(YEAR(Feuil1!E3)+Feuil1!E$2,MONTH(Feuil1!E3),DAY(Feuil1!E3))>TODAY() -> FALSE | F3: =DATE(YEAR(Feuil1!F3)+Feuil1!F$2,MONTH(Feuil1!F3),DAY(Feuil1!F3))>TODAY() -> FALSE | G3: =DATE(YEAR(Feuil1!G3)+Feuil1!G$2,MONTH(Feuil1!G3),DAY(Feuil1!G3))>TODAY() -> FALSE | H3: =DATE(YEAR(Feuil1!H3)+Feuil1!H$2,MONTH(Feuil1!H3),DAY(Feuil1!H3))>TODAY() -> FALSE | I3: =DATE(YEAR(Feuil1!I3)+Feuil1!I$2,MONTH(Feuil1!I3),DAY(Feuil1!I3))>TODAY() -> FALSE | J3: =DATE(YEAR(Feuil1!J3)+Feuil1!J$2,MONTH(Feuil1!J3),DAY(Feuil1!J3))>TODAY() -> FALSE | K3: =DATE(YEAR(Feuil1!K3)+Feuil1!K$2,MONTH(Feuil1!K3),DAY(Feuil1!K3))>TODAY() -> FALSE | L3: =DATE(YEAR(Feuil1!L3)+Feuil1!L$2,MONTH(Feuil1!L3),DAY(Feuil1!L3))>TODAY() -> FALSE | ... U3: =DATE(YEAR(Feuil1!U3)+Feuil1!U$2,MONTH(Feuil1!U3),DAY(Feuil1!U3))>TODAY() -> FALSE
D4: =DATE(YEAR(Feuil1!D4)+Feuil1!D$2,MONTH(Feuil1!D4),DAY(Feuil1!D4))>TODAY() -> FALSE | E4: =DATE(YEAR(Feuil1!E4)+Feuil1!E$2,MONTH(Feuil1!E4),DAY(Feuil1!E4))>TODAY() -> FALSE | F4: =DATE(YEAR(Feuil1!F4)+Feuil1!F$2,MONTH(Feuil1!F4),DAY(Feuil1!F4))>TODAY() -> FALSE | G4: =DATE(YEAR(Feuil1!G4)+Feuil1!G$2,MONTH(Feuil1!G4),DAY(Feuil1!G4))>TODAY() -> FALSE | H4: =DATE(YEAR(Feuil1!H4)+Feuil1!H$2,MONTH(Feuil1!H4),DAY(Feuil1!H4))>TODAY() -> FALSE | I4: =DATE(YEAR(Feuil1!I4)+Feuil1!I$2,MONTH(Feuil1!I4),DAY(Feuil1!I4))>TODAY() -> FALSE | J4: =DATE(YEAR(Feuil1!J4)+Feuil1!J$2,MONTH(Feuil1!J4),DAY(Feuil1!J4))>TODAY() -> FALSE | K4: =DATE(YEAR(Feuil1!K4)+Feuil1!K$2,MONTH(Feuil1!K4),DAY(Feuil1!K4))>TODAY() -> FALSE | ... U4: =DATE(YEAR(Feuil1!U4)+Feuil1!U$2,MONTH(Feuil1!U4),DAY(Feuil1!U4))>TODAY() -> FALSE
D5: =DATE(YEAR(Feuil1!D5)+Feuil1!D$2,MONTH(Feuil1!D5),DAY(Feuil1!D5))>TODAY() -> FALSE | E5: =DATE(YEAR(Feuil1!E5)+Feuil1!E$2,MONTH(Feuil1!E5),DAY(Feuil1!E5))>TODAY() -> FALSE | F5: =DATE(YEAR(Feuil1!F5)+Feuil1!F$2,MONTH(Feuil1!F5),DAY(Feuil1!F5))>TODAY() -> FALSE | G5: =DATE(YEAR(Feuil1!G5)+Feuil1!G$2,MONTH(Feuil1!G5),DAY(Feuil1!G5))>TODAY() -> FALSE | H5: =DATE(YEAR(Feuil1!H5)+Feuil1!H$2,MONTH(Feuil1!H5),DAY(Feuil1!H5))>TODAY() -> FALSE | I5: =DATE(YEAR(Feuil1!I5)+Feuil1!I$2,MONTH(Feuil1!I5),DAY(Feuil1!I5))>TODAY() -> FALSE | J5: =DATE(YEAR(Feuil1!J5)+Feuil1!J$2,MONTH(Feuil1!J5),DAY(Feuil1!J5))>TODAY() -> FALSE | K5: =DATE(YEAR(Feuil1!K5)+Feuil1!K$2,MONTH(Feuil1!K5),DAY(Feuil1!K5))>TODAY() -> FALSE | ... U5: =DATE(YEAR(Feuil1!U5)+Feuil1!U$2,MONTH(Feuil1!U5),DAY(Feuil1!U5))>TODAY() -> FALSE
D6: =DATE(YEAR(Feuil1!D6)+Feuil1!D$2,MONTH(Feuil1!D6),DAY(Feuil1!D6))>TODAY() -> FALSE | E6: =DATE(YEAR(Feuil1!E6)+Feuil1!E$2,MONTH(Feuil1!E6),DAY(Feuil1!E6))>TODAY() -> FALSE | F6: =DATE(YEAR(Feuil1!F6)+Feuil1!F$2,MONTH(Feuil1!F6),DAY(Feuil1!F6))>TODAY() -> FALSE | G6: =DATE(YEAR(Feuil1!G6)+Feuil1!G$2,MONTH(Feuil1!G6),DAY(Feuil1!G6))>TODAY() -> FALSE | H6: =DATE(YEAR(Feuil1!H6)+Feuil1!H$2,MONTH(Feuil1!H6),DAY(Feuil1!H6))>TODAY() -> FALSE | I6: =DATE(YEAR(Feuil1!I6)+Feuil1!I$2,MONTH(Feuil1!I6),DAY(Feuil1!I6))>TODAY() -> FALSE | J6: =DATE(YEAR(Feuil1!J6)+Feuil1!J$2,MONTH(Feuil1!J6),DAY(Feuil1!J6))>TODAY() -> FALSE | K6: =DATE(YEAR(Feuil1!K6)+Feuil1!K$2,MONTH(Feuil1!K6),DAY(Feuil1!K6))>TODAY() -> FALSE | ... U6: =DATE(YEAR(Feuil1!U6)+Feuil1!U$2,MONTH(Feuil1!U6),DAY(Feuil1!U6))>TODAY() -> FALSE
D7: =DATE(YEAR(Feuil1!D7)+Feuil1!D$2,MONTH(Feuil1!D7),DAY(Feuil1!D7))>TODAY() -> FALSE | E7: =DATE(YEAR(Feuil1!E7)+Feuil1!E$2,MONTH(Feuil1!E7),DAY(Feuil1!E7))>TODAY() -> FALSE | F7: =DATE(YEAR(Feuil1!F7)+Feuil1!F$2,MONTH(Feuil1!F7),DAY(Feuil1!F7))>TODAY() -> FALSE | G7: =DATE(YEAR(Feuil1!G7)+Feuil1!G$2,MONTH(Feuil1!G7),DAY(Feuil1!G7))>TODAY() -> FALSE | H7: =DATE(YEAR(Feuil1!H7)+Feuil1!H$2,MONTH(Feuil1!H7),DAY(Feuil1!H7))>TODAY() -> FALSE | I7: =DATE(YEAR(Feuil1!I7)+Feuil1!I$2,MONTH(Feuil1!I7),DAY(Feuil1!I7))>TODAY() -> FALSE | J7: =DATE(YEAR(Feuil1!J7)+Feuil1!J$2,MONTH(Feuil1!J7),DAY(Feuil1!J7))>TODAY() -> FALSE | K7: =DATE(YEAR(Feuil1!K7)+Feuil1!K$2,MONTH(Feuil1!K7),DAY(Feuil1!K7))>TODAY() -> FALSE | ... U7: =DATE(YEAR(Feuil1!U7)+Feuil1!U$2,MONTH(Feuil1!U7),DAY(Feuil1!U7))>TODAY() -> FALSE
D8: =DATE(YEAR(Feuil1!D8)+Feuil1!D$2,MONTH(Feuil1!D8),DAY(Feuil1!D8))>TODAY() -> FALSE | E8: =DATE(YEAR(Feuil1!E8)+Feuil1!E$2,MONTH(Feuil1!E8),DAY(Feuil1!E8))>TODAY() -> FALSE | F8: =DATE(YEAR(Feuil1!F8)+Feuil1!F$2,MONTH(Feuil1!F8),DAY(Feuil1!F8))>TODAY() -> FALSE | G8: =DATE(YEAR(Feuil1!G8)+Feuil1!G$2,MONTH(Feuil1!G8),DAY(Feuil1!G8))>TODAY() -> FALSE | H8: =DATE(YEAR(Feuil1!H8)+Feuil1!H$2,MONTH(Feuil1!H8),DAY(Feuil1!H8))>TODAY() -> FALSE | I8: =DATE(YEAR(Feuil1!I8)+Feuil1!I$2,MONTH(Feuil1!I8),DAY(Feuil1!I8))>TODAY() -> FALSE | J8: =DATE(YEAR(Feuil1!J8)+Feuil1!J$2,MONTH(Feuil1!J8),DAY(Feuil1!J8))>TODAY() -> FALSE | K8: =DATE(YEAR(Feuil1!K8)+Feuil1!K$2,MONTH(Feuil1!K8),DAY(Feuil1!K8))>TODAY() -> FALSE | ... U8: =DATE(YEAR(Feuil1!U8)+Feuil1!U$2,MONTH(Feuil1!U8),DAY(Feuil1!U8))>TODAY() -> FALSE
D9: =DATE(YEAR(Feuil1!D9)+Feuil1!D$2,MONTH(Feuil1!D9),DAY(Feuil1!D9))>TODAY() -> FALSE | E9: =DATE(YEAR(Feuil1!E9)+Feuil1!E$2,MONTH(Feuil1!E9),DAY(Feuil1!E9))>TODAY() -> FALSE | F9: =DATE(YEAR(Feuil1!F9)+Feuil1!F$2,MONTH(Feuil1!F9),DAY(Feuil1!F9))>TODAY() -> FALSE | G9: =DATE(YEAR(Feuil1!G9)+Feuil1!G$2,MONTH(Feuil1!G9),DAY(Feuil1!G9))>TODAY() -> FALSE | H9: =DATE(YEAR(Feuil1!H9)+Feuil1!H$2,MONTH(Feuil1!H9),DAY(Feuil1!H9))>TODAY() -> FALSE | I9: =DATE(YEAR(Feuil1!I9)+Feuil1!I$2,MONTH(Feuil1!I9),DAY(Feuil1!I9))>TODAY() -> TRUE | J9: =DATE(YEAR(Feuil1!J9)+Feuil1!J$2,MONTH(Feuil1!J9),DAY(Feuil1!J9))>TODAY() -> TRUE | K9: =DATE(YEAR(Feuil1!K9)+Feuil1!K$2,MONTH(Feuil1!K9),DAY(Feuil1!K9))>TODAY() -> FALSE | ... U9: =DATE(YEAR(Feuil1!U9)+Feuil1!U$2,MONTH(Feuil1!U9),DAY(Feuil1!U9))>TODAY() -> FALSE
D10: =DATE(YEAR(Feuil1!D10)+Feuil1!D$2,MONTH(Feuil1!D10),DAY(Feuil1!D10))>TODAY() -> FALSE | E10: =DATE(YEAR(Feuil1!E10)+Feuil1!E$2,MONTH(Feuil1!E10),DAY(Feuil1!E10))>TODAY() -> FALSE | F10: =DATE(YEAR(Feuil1!F10)+Feuil1!F$2,MONTH(Feuil1!F10),DAY(Feuil1!F10))>TODAY() -> FALSE | G10: =DATE(YEAR(Feuil1!G10)+Feuil1!G$2,MONTH(Feuil1!G10),DAY(Feuil1!G10))>TODAY() -> FALSE | H10: =DATE(YEAR(Feuil1!H10)+Feuil1!H$2,MONTH(Feuil1!H10),DAY(Feuil1!H10))>TODAY() -> FALSE | I10: =DATE(YEAR(Feuil1!I10)+Feuil1!I$2,MONTH(Feuil1!I10),DAY(Feuil1!I10))>TODAY() -> TRUE | J10: =DATE(YEAR(Feuil1!J10)+Feuil1!J$2,MONTH(Feuil1!J10),DAY(Feuil1!J10))>TODAY() -> TRUE | K10: =DATE(YEAR(Feuil1!K10)+Feuil1!K$2,MONTH(Feuil1!K10),DAY(Feuil1!K10))>TODAY() -> FALSE | ... U10: =DATE(YEAR(Feuil1!U10)+Feuil1!U$2,MONTH(Feuil1!U10),DAY(Feuil1!U10))>TODAY() -> FALSE
D11: =DATE(YEAR(Feuil1!D11)+Feuil1!D$2,MONTH(Feuil1!D11),DAY(Feuil1!D11))>TODAY() -> FALSE | E11: =DATE(YEAR(Feuil1!E11)+Feuil1!E$2,MONTH(Feuil1!E11),DAY(Feuil1!E11))>TODAY() -> FALSE | F11: =DATE(YEAR(Feuil1!F11)+Feuil1!F$2,MONTH(Feuil1!F11),DAY(Feuil1!F11))>TODAY() -> FALSE | G11: =DATE(YEAR(Feuil1!G11)+Feuil1!G$2,MONTH(Feuil1!G11),DAY(Feuil1!G11))>TODAY() -> FALSE | H11: =DATE(YEAR(Feuil1!H11)+Feuil1!H$2,MONTH(Feuil1!H11),DAY(Feuil1!H11))>TODAY() -> FALSE | I11: =DATE(YEAR(Feuil1!I11)+Feuil1!I$2,MONTH(Feuil1!I11),DAY(Feuil1!I11))>TODAY() -> FALSE | J11: =DATE(YEAR(Feuil1!J11)+Feuil1!J$2,MONTH(Feuil1!J11),DAY(Feuil1!J11))>TODAY() -> FALSE | K11: =DATE(YEAR(Feuil1!K11)+Feuil1!K$2,MONTH(Feuil1!K11),DAY(Feuil1!K11))>TODAY() -> FALSE | ... U11: =DATE(YEAR(Feuil1!U11)+Feuil1!U$2,MONTH(Feuil1!U11),DAY(Feuil1!U11))>TODAY() -> FALSE
D12: =DATE(YEAR(Feuil1!D12)+Feuil1!D$2,MONTH(Feuil1!D12),DAY(Feuil1!D12))>TODAY() -> FALSE | E12: =DATE(YEAR(Feuil1!E12)+Feuil1!E$2,MONTH(Feuil1!E12),DAY(Feuil1!E12))>TODAY() -> FALSE | F12: =DATE(YEAR(Feuil1!F12)+Feuil1!F$2,MONTH(Feuil1!F12),DAY(Feuil1!F12))>TODAY() -> FALSE | G12: =DATE(YEAR(Feuil1!G12)+Feuil1!G$2,MONTH(Feuil1!G12),DAY(Feuil1!G12))>TODAY() -> FALSE | H12: =DATE(YEAR(Feuil1!H12)+Feuil1!H$2,MONTH(Feuil1!H12),DAY(Feuil1!H12))>TODAY() -> FALSE | I12: =DATE(YEAR(Feuil1!I12)+Feuil1!I$2,MONTH(Feuil1!I12),DAY(Feuil1!I12))>TODAY() -> FALSE | J12: =DATE(YEAR(Feuil1!J12)+Feuil1!J$2,MONTH(Feuil1!J12),DAY(Feuil1!J12))>TODAY() -> FALSE | K12: =DATE(YEAR(Feuil1!K12)+Feuil1!K$2,MONTH(Feuil1!K12),DAY(Feuil1!K12))>TODAY() -> FALSE | ... U12: =DATE(YEAR(Feuil1!U12)+Feuil1!U$2,MONTH(Feuil1!U12),DAY(Feuil1!U12))>TODAY() -> FALSE
D13: =DATE(YEAR(Feuil1!D13)+Feuil1!D$2,MONTH(Feuil1!D13),DAY(Feuil1!D13))>TODAY() -> FALSE | E13: =DATE(YEAR(Feuil1!E13)+Feuil1!E$2,MONTH(Feuil1!E13),DAY(Feuil1!E13))>TODAY() -> FALSE | F13: =DATE(YEAR(Feuil1!F13)+Feuil1!F$2,MONTH(Feuil1!F13),DAY(Feuil1!F13))>TODAY() -> FALSE | G13: =DATE(YEAR(Feuil1!G13)+Feuil1!G$2,MONTH(Feuil1!G13),DAY(Feuil1!G13))>TODAY() -> FALSE | H13: =DATE(YEAR(Feuil1!H13)+Feuil1!H$2,MONTH(Feuil1!H13),DAY(Feuil1!H13))>TODAY() -> FALSE | I13: =DATE(YEAR(Feuil1!I13)+Feuil1!I$2,MONTH(Feuil1!I13),DAY(Feuil1!I13))>TODAY() -> FALSE | J13: =DATE(YEAR(Feuil1!J13)+Feuil1!J$2,MONTH(Feuil1!J13),DAY(Feuil1!J13))>TODAY() -> FALSE | K13: =DATE(YEAR(Feuil1!K13)+Feuil1!K$2,MONTH(Feuil1!K13),DAY(Feuil1!K13))>TODAY() -> FALSE | ... U13: =DATE(YEAR(Feuil1!U13)+Feuil1!U$2,MONTH(Feuil1!U13),DAY(Feuil1!U13))>TODAY() -> FALSE
D14: =DATE(YEAR(Feuil1!D14)+Feuil1!D$2,MONTH(Feuil1!D14),DAY(Feuil1!D14))>TODAY() -> FALSE | E14: =DATE(YEAR(Feuil1!E14)+Feuil1!E$2,MONTH(Feuil1!E14),DAY(Feuil1!E14))>TODAY() -> FALSE | F14: =DATE(YEAR(Feuil1!F14)+Feuil1!F$2,MONTH(Feuil1!F14),DAY(Feuil1!F14))>TODAY() -> FALSE | G14: =DATE(YEAR(Feuil1!G14)+Feuil1!G$2,MONTH(Feuil1!G14),DAY(Feuil1!G14))>TODAY() -> FALSE | H14: =DATE(YEAR(Feuil1!H14)+Feuil1!H$2,MONTH(Feuil1!H14),DAY(Feuil1!H14))>TODAY() -> FALSE | I14: =DATE(YEAR(Feuil1!I14)+Feuil1!I$2,MONTH(Feuil1!I14),DAY(Feuil1!I14))>TODAY() -> FALSE | J14: =DATE(YEAR(Feuil1!J14)+Feuil1!J$2,MONTH(Feuil1!J14),DAY(Feuil1!J14))>TODAY() -> FALSE | K14: =DATE(YEAR(Feuil1!K14)+Feuil1!K$2,MONTH(Feuil1!K14),DAY(Feuil1!K14))>TODAY() -> FALSE | ... U14: =DATE(YEAR(Feuil1!U14)+Feuil1!U$2,MONTH(Feuil1!U14),DAY(Feuil1!U14))>TODAY() -> FALSE
D15: =DATE(YEAR(Feuil1!D15)+Feuil1!D$2,MONTH(Feuil1!D15),DAY(Feuil1!D15))>TODAY() -> FALSE | E15: =DATE(YEAR(Feuil1!E15)+Feuil1!E$2,MONTH(Feuil1!E15),DAY(Feuil1!E15))>TODAY() -> FALSE | F15: =DATE(YEAR(Feuil1!F15)+Feuil1!F$2,MONTH(Feuil1!F15),DAY(Feuil1!F15))>TODAY() -> FALSE | G15: =DATE(YEAR(Feuil1!G15)+Feuil1!G$2,MONTH(Feuil1!G15),DAY(Feuil1!G15))>TODAY() -> FALSE | H15: =DATE(YEAR(Feuil1!H15)+Feuil1!H$2,MONTH(Feuil1!H15),DAY(Feuil1!H15))>TODAY() -> FALSE | I15: =DATE(YEAR(Feuil1!I15)+Feuil1!I$2,MONTH(Feuil1!I15),DAY(Feuil1!I15))>TODAY() -> FALSE | J15: =DATE(YEAR(Feuil1!J15)+Feuil1!J$2,MONTH(Feuil1!J15),DAY(Feuil1!J15))>TODAY() -> FALSE | K15: =DATE(YEAR(Feuil1!K15)+Feuil1!K$2,MONTH(Feuil1!K15),DAY(Feuil1!K15))>TODAY() -> FALSE | ... U15: =DATE(YEAR(Feuil1!U15)+Feuil1!U$2,MONTH(Feuil1!U15),DAY(Feuil1!U15))>TODAY() -> FALSE
... D83: =DATE(YEAR(Feuil1!D83)+Feuil1!D$2,MONTH(Feuil1!D83),DAY(Feuil1!D83))>TODAY() -> FALSE | E83: =DATE(YEAR(Feuil1!E83)+Feuil1!E$2,MONTH(Feuil1!E83),DAY(Feuil1!E83))>TODAY() -> FALSE | F83: =DATE(YEAR(Feuil1!F83)+Feuil1!F$2,MONTH(Feuil1!F83),DAY(Feuil1!F83))>TODAY() -> FALSE | G83: =DATE(YEAR(Feuil1!G83)+Feuil1!G$2,MONTH(Feuil1!G83),DAY(Feuil1!G83))>TODAY() -> FALSE | H83: =DATE(YEAR(Feuil1!H83)+Feuil1!H$2,MONTH(Feuil1!H83),DAY(Feuil1!H83))>TODAY() -> FALSE | I83: =DATE(YEAR(Feuil1!I83)+Feuil1!I$2,MONTH(Feuil1!I83),DAY(Feuil1!I83))>TODAY() -> FALSE | J83: =DATE(YEAR(Feuil1!J83)+Feuil1!J$2,MONTH(Feuil1!J83),DAY(Feuil1!J83))>TODAY() -> FALSE | K83: =DATE(YEAR(Feuil1!K83)+Feuil1!K$2,MONTH(Feuil1!K83),DAY(Feuil1!K83))>TODAY() -> FALSE | ... U83: =DATE(YEAR(Feuil1!U83)+Feuil1!U$2,MONTH(Feuil1!U83),DAY(Feuil1!U83))>TODAY() -> FALSE

Sheet Feuil3
