Workbook
Name Réparateurs: 'Base de données - Réparations'!$F$2:$F$17
Name Zone_recherche: 'Base de données - Réparations'!$A$2:$H$17

Sheet Base de données - Réparations
A1: Numéro dossier | B1: Gestionnaire | C1: Numéro article | D1: Désignation | E1: Date arrivée | F1: Technicien | G1: Statut | H1: Date de livraison
A2: D5263 | B2: Martin | C2: 28F658 | D2: TV LCD | E2: 43449 | F2: Eric | G2: Livré | H2: 43477 | L2: {=SMALL(IF($F$1:$F$17="Antoine",ROW($1:$17)),ROW(A1))} -> 3
A3: D5264 | B3: Gérard | C3: 28G942 | D3: Décodeur | E3: 43450 | F3: Antoine | G3: Livré | H3: 43527 | L3: {=SMALL(IF($F$1:$F$17="Antoine",ROW($1:$17)),ROW(A2))} -> 8
A4: D5265 | B4: Gérard | C4: 31A785 | D4: Micro-onde | E4: 43462 | F4: Sylvain | G4: Livré | H4: 43571 | L4: {=SMALL(IF($F$1:$F$17="Antoine",ROW($1:$17)),ROW(A3))} -> 11
A5: D5266 | B5: Isabelle | C5: 12T187 | D5: Lave-vaisselle | E5: 43467 | F5: Patrick | G5: En cours | L5: {=SMALL(IF($F$1:$F$17="Antoine",ROW($1:$17)),ROW(A4))} -> 15
A6: D5267 | B6: Laurence | C6: 65L425 | D6: Lecteur DVD | E6: 43468 | F6: Eric | G6: En cours | L6: {=SMALL(IF($F$1:$F$17="Antoine",ROW($1:$17)),ROW(A5))} -> #NUM!
A7: D5268 | B7: Isabelle | C7: 91M241 | D7: Magnétoscope | E7: 43470 | F7: Jean-Paul | G7: En cours | L7: {=SMALL(IF($F$1:$F$17="Antoine",ROW($1:$17)),ROW(A6))} -> #NUM!
A8: D5269 | B8: Martin | C8: 64G726 | D8: Chaine Hi-Fi | E8: 43481 | F8: Antoine | G8: En cours
A9: D5270 | B9: Isabelle | C9: 80Z200 | D9: Lave-linge | E9: 43498 | F9: Patrick | G9: En cours
A10: D5271 | B10: Isabelle | C10: 74V256 | D10: Rétroprojecteur | E10: 43515 | F10: Mathilde | G10: En cours
A11: D5272 | B11: Gérard | C11: 28G942 | D11: Décodeur | E11: 43523 | F11: Antoine | G11: En cours
A12: D5273 | B12: Isabelle | C12: 12T187 | D12: Lave-vaisselle | E12: 43530 | F12: Patrick | G12: En cours
A13: D5274 | B13: Laurence | C13: 65Q259 | D13: Aspirateur | E13: 43536 | F13: Rémi | G13: En cours
A14: D5275 | B14: Martin | C14: 60M122 | D14: Nettoyeur vapeur | E14: 43543 | F14: Patrick | G14: En cours
A15: D5276 | B15: Martin | C15: 97P001 | D15: Home-cinéma | E15: 43553 | F15: Antoine | G15: En cours
A16: D5277 | B16: Laurence | C16: 55J215 | D16: TV plasma | E16: 43560 | F16: Eric | G16: En cours
A17: D5278 | B17: Isabelle | C17: 61X881 | D17: Cafetière | E17: 43565 | F17: Sylvain | G17: En cours

Sheet Liste techniciens
A1: Antoine
A2: Eric
A3: Jean-Paul
A4: Laurent
A5: Mathilde
A6: Patrick
A7: Pierre
A8: Rémi
A9: Sylvain

Sheet Bilan
A1: Technicien : | B1: Antoine
C4: Numéro dossier | D4: Numéro article | E4: Désignation | F4: Date arrivée | G4: Statut
B5: {=IFERROR(SMALL(IF('Base de données - Réparations'!$F$1:$F$17=Bilan!$B$1,ROW($1:$17)),ROW(A1)),"")} -> 3 | C5: =IFERROR(INDEX('Base de données - Réparations'!A:A,Bilan!$B5),"") -> D5264 | D5: =IFERROR(INDEX('Base de données - Réparations'!C:C,Bilan!$B5),"") -> 28G942 | E5: =IFERROR(INDEX('Base de données - Réparations'!D:D,Bilan!$B5),"") -> Décodeur | F5: =IFERROR(INDEX('Base de données - Réparations'!E:E,Bilan!$B5),"") -> 43450 | G5: =IFERROR(INDEX('Base de données - Réparations'!G:G,Bilan!$B5),"") -> Livré
B6: {=IFERROR(SMALL(IF('Base de données - Réparations'!$F$1:$F$17=Bilan!$B$1,ROW($1:$17)),ROW(A2)),"")} -> 8 | C6: =IFERROR(INDEX('Base de données - Réparations'!A:A,Bilan!$B6),"") -> D5269 | D6: =IFERROR(INDEX('Base de données - Réparations'!C:C,Bilan!$B6),"") -> 64G726 | E6: =IFERROR(INDEX('Base de données - Réparations'!D:D,Bilan!$B6),"") -> Chaine Hi-Fi | F6: =IFERROR(INDEX('Base de données - Réparations'!E:E,Bilan!$B6),"") -> 43481 | G6: =IFERROR(INDEX('Base de données - Réparations'!G:G,Bilan!$B6),"") -> En cours
B7: {=IFERROR(SMALL(IF('Base de données - Réparations'!$F$1:$F$17=Bilan!$B$1,ROW($1:$17)),ROW(A3)),"")} -> 11 | C7: =IFERROR(INDEX('Base de données - Réparations'!A:A,Bilan!$B7),"") -> D5272 | D7: =IFERROR(INDEX('Base de données - Réparations'!C:C,Bilan!$B7),"") -> 28G942 | E7: =IFERROR(INDEX('Base de données - Réparations'!D:D,Bilan!$B7),"") -> Décodeur | F7: =IFERROR(INDEX('Base de données - Réparations'!E:E,Bilan!$B7),"") -> 43523 | G7: =IFERROR(INDEX('Base de données - Réparations'!G:G,Bilan!$B7),"") -> En cours
B8: {=IFERROR(SMALL(IF('Base de données - Réparations'!$F$1:$F$17=Bilan!$B$1,ROW($1:$17)),ROW(A4)),"")} -> 15 | C8: =IFERROR(INDEX('Base de données - Réparations'!A:A,Bilan!$B8),"") -> D5276 | D8: =IFERROR(INDEX('Base de données - Réparations'!C:C,Bilan!$B8),"") -> 97P001 | E8: =IFERROR(INDEX('Base de données - Réparations'!D:D,Bilan!$B8),"") -> Home-cinéma | F8: =IFERROR(INDEX('Base de données - Réparations'!E:E,Bilan!$B8),"") -> 43553 | G8: =IFERROR(INDEX('Base de données - Réparations'!G:G,Bilan!$B8),"") -> En cours
B9: {=IFERROR(SMALL(IF('Base de données - Réparations'!$F$1:$F$17=Bilan!$B$1,ROW($1:$17)),ROW(A5)),"")} | C9: =IFERROR(INDEX('Base de données - Réparations'!A:A,Bilan!$B9),"") | D9: =IFERROR(INDEX('Base de données - Réparations'!C:C,Bilan!$B9),"") | E9: =IFERROR(INDEX('Base de données - Réparations'!D:D,Bilan!$B9),"") | F9: =IFERROR(INDEX('Base de données - Réparations'!E:E,Bilan!$B9),"") | G9: =IFERROR(INDEX('Base de données - Réparations'!G:G,Bilan!$B9),"")
B10: {=IFERROR(SMALL(IF('Base de données - Réparations'!$F$1:$F$17=Bilan!$B$1,ROW($1:$17)),ROW(A6)),"")} | C10: =IFERROR(INDEX('Base de données - Réparations'!A:A,Bilan!$B10),"") | D10: =IFERROR(INDEX('Base de données - Réparations'!C:C,Bilan!$B10),"") | E10: =IFERROR(INDEX('Base de données - Réparations'!D:D,Bilan!$B10),"") | F10: =IFERROR(INDEX('Base de données - Réparations'!E:E,Bilan!$B10),"") | G10: =IFERROR(INDEX('Base de données - Réparations'!G:G,Bilan!$B10),"")
B11: {=IFERROR(SMALL(IF('Base de données - Réparations'!$F$1:$F$17=Bilan!$B$1,ROW($1:$17)),ROW(A7)),"")} | C11: =IFERROR(INDEX('Base de données - Réparations'!A:A,Bilan!$B11),"") | D11: =IFERROR(INDEX('Base de données - Réparations'!C:C,Bilan!$B11),"") | E11: =IFERROR(INDEX('Base de données - Réparations'!D:D,Bilan!$B11),"") | F11: =IFERROR(INDEX('Base de données - Réparations'!E:E,Bilan!$B11),"") | G11: =IFERROR(INDEX('Base de données - Réparations'!G:G,Bilan!$B11),"")
B12: {=IFERROR(SMALL(IF('Base de données - Réparations'!$F$1:$F$17=Bilan!$B$1,ROW($1:$17)),ROW(A8)),"")} | C12: =IFERROR(INDEX('Base de données - Réparations'!A:A,Bilan!$B12),"") | D12: =IFERROR(INDEX('Base de données - Réparations'!C:C,Bilan!$B12),"") | E12: =IFERROR(INDEX('Base de données - Réparations'!D:D,Bilan!$B12),"") | F12: =IFERROR(INDEX('Base de données - Réparations'!E:E,Bilan!$B12),"") | G12: =IFERROR(INDEX('Base de données - Réparations'!G:G,Bilan!$B12),"")
B13: {=IFERROR(SMALL(IF('Base de données - Réparations'!$F$1:$F$17=Bilan!$B$1,ROW($1:$17)),ROW(A9)),"")} | C13: =IFERROR(INDEX('Base de données - Réparations'!A:A,Bilan!$B13),"") | D13: =IFERROR(INDEX('Base de données - Réparations'!C:C,Bilan!$B13),"") | E13: =IFERROR(INDEX('Base de données - Réparations'!D:D,Bilan!$B13),"") | F13: =IFERROR(INDEX('Base de données - Réparations'!E:E,Bilan!$B13),"") | G13: =IFERROR(INDEX('Base de données - Réparations'!G:G,Bilan!$B13),"")
B14: {=IFERROR(SMALL(IF('Base de données - Réparations'!$F$1:$F$17=Bilan!$B$1,ROW($1:$17)),ROW(A10)),"")} | C14: =IFERROR(INDEX('Base de données - Réparations'!A:A,Bilan!$B14),"") | D14: =IFERROR(INDEX('Base de données - Réparations'!C:C,Bilan!$B14),"") | E14: =IFERROR(INDEX('Base de données - Réparations'!D:D,Bilan!$B14),"") | F14: =IFERROR(INDEX('Base de données - Réparations'!E:E,Bilan!$B14),"") | G14: =IFERROR(INDEX('Base de données - Réparations'!G:G,Bilan!$B14),"")
B15: {=IFERROR(SMALL(IF('Base de données - Réparations'!$F$1:$F$17=Bilan!$B$1,ROW($1:$17)),ROW(A11)),"")} | C15: =IFERROR(INDEX('Base de données - Réparations'!A:A,Bilan!$B15),"") | D15: =IFERROR(INDEX('Base de données - Réparations'!C:C,Bilan!$B15),"") | E15: =IFERROR(INDEX('Base de données - Réparations'!D:D,Bilan!$B15),"") | F15: =IFERROR(INDEX('Base de données - Réparations'!E:E,Bilan!$B15),"") | G15: =IFERROR(INDEX('Base de données - Réparations'!G:G,Bilan!$B15),"")
B16: {=IFERROR(SMALL(IF('Base de données - Réparations'!$F$1:$F$17=Bilan!$B$1,ROW($1:$17)),ROW(A12)),"")} | C16: =IFERROR(INDEX('Base de données - Réparations'!A:A,Bilan!$B16),"") | D16: =IFERROR(INDEX('Base de données - Réparations'!C:C,Bilan!$B16),"") | E16: =IFERROR(INDEX('Base de données - Réparations'!D:D,Bilan!$B16),"") | F16: =IFERROR(INDEX('Base de données - Réparations'!E:E,Bilan!$B16),"") | G16: =IFERROR(INDEX('Base de données - Réparations'!G:G,Bilan!$B16),"")
... B21: {=IFERROR(SMALL(IF('Base de données - Réparations'!$F$1:$F$17=Bilan!$B$1,ROW($1:$17)),ROW(A17)),"")} | C21: =IFERROR(INDEX('Base de données - Réparations'!A:A,Bilan!$B21),"") | D21: =IFERROR(INDEX('Base de données - Réparations'!C:C,Bilan!$B21),"") | E21: =IFERROR(INDEX('Base de données - Réparations'!D:D,Bilan!$B21),"") | F21: =IFERROR(INDEX('Base de données - Réparations'!E:E,Bilan!$B21),"") | G21: =IFERROR(INDEX('Base de données - Réparations'!G:G,Bilan!$B21),"")
