Workbook

Sheet Feuil1
A1: p1s | B1: Eric
A6: p2p | B6: fabien
A9: p1s | B9: pierre
A12: p3s | B12: thomas
A14: p2s | B14: pierre
A17: p1p | B17: marc
A20: p3p | B20: carole

Sheet Feuil2
D4: p1s | E4: p1p | F4: p2p | G4: p2s | H4: p3s | I4: p3p
D5: =INDEX(Feuil1!B:B,MATCH(Feuil2!D4,Feuil1!A:A,0)) -> Eric | E5: marc | F5: fabien | G5: pierre | H5: thomas | I5: carole
D7: {=IFERROR(INDEX(Feuil1!$B$1:$B$20,SMALL(IF(Feuil1!$A$1:$A$20=D$4,ROW(INDIRECT("1:"&ROWS($A$1:$A$20)))),ROW(A1))),"")} -> Eric | E7: {=IFERROR(INDEX(Feuil1!$B$1:$B$20,SMALL(IF(Feuil1!$A$1:$A$20=E$4,ROW(INDIRECT("1:"&ROWS($A$1:$A$20)))),ROW(B1))),"")} -> marc | F7: {=IFERROR(INDEX(Feuil1!$B$1:$B$20,SMALL(IF(Feuil1!$A$1:$A$20=F$4,ROW(INDIRECT("1:"&ROWS($A$1:$A$20)))),ROW(C1))),"")} -> fabien | G7: {=IFERROR(INDEX(Feuil1!$B$1:$B$20,SMALL(IF(Feuil1!$A$1:$A$20=G$4,ROW(INDIRECT("1:"&ROWS($A$1:$A$20)))),ROW(D1))),"")} -> pierre | H7: {=IFERROR(INDEX(Feuil1!$B$1:$B$20,SMALL(IF(Feuil1!$A$1:$A$20=H$4,ROW(INDIRECT("1:"&ROWS($A$1:$A$20)))),ROW(E1))),"")} -> thomas | I7: {=IFERROR(INDEX(Feuil1!$B$1:$B$20,SMALL(IF(Feuil1!$A$1:$A$20=I$4,ROW(INDIRECT("1:"&ROWS($A$1:$A$20)))),ROW(F1))),"")} -> carole
D8: {=IFERROR(INDEX(Feuil1!$B$1:$B$20,SMALL(IF(Feuil1!$A$1:$A$20=D$4,ROW(INDIRECT("1:"&ROWS($A$1:$A$20)))),ROW(A2))),"")} -> pierre | E8: {=IFERROR(INDEX(Feuil1!$B$1:$B$20,SMALL(IF(Feuil1!$A$1:$A$20=E$4,ROW(INDIRECT("1:"&ROWS($A$1:$A$20)))),ROW(B2))),"")} | F8: {=IFERROR(INDEX(Feuil1!$B$1:$B$20,SMALL(IF(Feuil1!$A$1:$A$20=F$4,ROW(INDIRECT("1:"&ROWS($A$1:$A$20)))),ROW(C2))),"")} | G8: {=IFERROR(INDEX(Feuil1!$B$1:$B$20,SMALL(IF(Feuil1!$A$1:$A$20=G$4,ROW(INDIRECT("1:"&ROWS($A$1:$A$20)))),ROW(D2))),"")} | H8: {=IFERROR(INDEX(Feuil1!$B$1:$B$20,SMALL(IF(Feuil1!$A$1:$A$20=H$4,ROW(INDIRECT("1:"&ROWS($A$1:$A$20)))),ROW(E2))),"")} | I8: {=IFERROR(INDEX(Feuil1!$B$1:$B$20,SMALL(IF(Feuil1!$A$1:$A$20=I$4,ROW(INDIRECT("1:"&ROWS($A$1:$A$20)))),ROW(F2))),"")}
D9: {=IFERROR(INDEX(Feuil1!$B$1:$B$20,SMALL(IF(Feuil1!$A$1:$A$20=D$4,ROW(INDIRECT("1:"&ROWS($A$1:$A$20)))),ROW(A3))),"")} | E9: {=IFERROR(INDEX(Feuil1!$B$1:$B$20,SMALL(IF(Feuil1!$A$1:$A$20=E$4,ROW(INDIRECT("1:"&ROWS($A$1:$A$20)))),ROW(B3))),"")} | F9: {=IFERROR(INDEX(Feuil1!$B$1:$B$20,SMALL(IF(Feuil1!$A$1:$A$20=F$4,ROW(INDIRECT("1:"&ROWS($A$1:$A$20)))),ROW(C3))),"")} | G9: {=IFERROR(INDEX(Feuil1!$B$1:$B$20,SMALL(IF(Feuil1!$A$1:$A$20=G$4,ROW(INDIRECT("1:"&ROWS($A$1:$A$20)))),ROW(D3))),"")} | H9: {=IFERROR(INDEX(Feuil1!$B$1:$B$20,SMALL(IF(Feuil1!$A$1:$A$20=H$4,ROW(INDIRECT("1:"&ROWS($A$1:$A$20)))),ROW(E3))),"")} | I9: {=IFERROR(INDEX(Feuil1!$B$1:$B$20,SMALL(IF(Feuil1!$A$1:$A$20=I$4,ROW(INDIRECT("1:"&ROWS($A$1:$A$20)))),ROW(F3))),"")}
D10: {=IFERROR(INDEX(Feuil1!$B$1:$B$20,SMALL(IF(Feuil1!$A$1:$A$20=D$4,ROW(INDIRECT("1:"&ROWS($A$1:$A$20)))),ROW(A4))),"")} | E10: {=IFERROR(INDEX(Feuil1!$B$1:$B$20,SMALL(IF(Feuil1!$A$1:$A$20=E$4,ROW(INDIRECT("1:"&ROWS($A$1:$A$20)))),ROW(B4))),"")} | F10: {=IFERROR(INDEX(Feuil1!$B$1:$B$20,SMALL(IF(Feuil1!$A$1:$A$20=F$4,ROW(INDIRECT("1:"&ROWS($A$1:$A$20)))),ROW(C4))),"")} | G10: {=IFERROR(INDEX(Feuil1!$B$1:$B$20,SMALL(IF(Feuil1!$A$1:$A$20=G$4,ROW(INDIRECT("1:"&ROWS($A$1:$A$20)))),ROW(D4))),"")} | H10: {=IFERROR(INDEX(Feuil1!$B$1:$B$20,SMALL(IF(Feuil1!$A$1:$A$20=H$4,ROW(INDIRECT("1:"&ROWS($A$1:$A$20)))),ROW(E4))),"")} | I10: {=IFERROR(INDEX(Feuil1!$B$1:$B$20,SMALL(IF(Feuil1!$A$1:$A$20=I$4,ROW(INDIRECT("1:"&ROWS($A$1:$A$20)))),ROW(F4))),"")}
D11: {=IFERROR(INDEX(Feuil1!$B$1:$B$20,SMALL(IF(Feuil1!$A$1:$A$20=D$4,ROW(INDIRECT("1:"&ROWS($A$1:$A$20)))),ROW(A5))),"")} | E11: {=IFERROR(INDEX(Feuil1!$B$1:$B$20,SMALL(IF(Feuil1!$A$1:$A$20=E$4,ROW(INDIRECT("1:"&ROWS($A$1:$A$20)))),ROW(B5))),"")} | F11: {=IFERROR(INDEX(Feuil1!$B$1:$B$20,SMALL(IF(Feuil1!$A$1:$A$20=F$4,ROW(INDIRECT("1:"&ROWS($A$1:$A$20)))),ROW(C5))),"")} | G11: {=IFERROR(INDEX(Feuil1!$B$1:$B$20,SMALL(IF(Feuil1!$A$1:$A$20=G$4,ROW(INDIRECT("1:"&ROWS($A$1:$A$20)))),ROW(D5))),"")} | H11: {=IFERROR(INDEX(Feuil1!$B$1:$B$20,SMALL(IF(Feuil1!$A$1:$A$20=H$4,ROW(INDIRECT("1:"&ROWS($A$1:$A$20)))),ROW(E5))),"")} | I11: {=IFERROR(INDEX(Feuil1!$B$1:$B$20,SMALL(IF(Feuil1!$A$1:$A$20=I$4,ROW(INDIRECT("1:"&ROWS($A$1:$A$20)))),ROW(F5))),"")}
D12: {=IFERROR(INDEX(Feuil1!$B$1:$B$20,SMALL(IF(Feuil1!$A$1:$A$20=D$4,ROW(INDIRECT("1:"&ROWS($A$1:$A$20)))),ROW(A6))),"")} | E12: {=IFERROR(INDEX(Feuil1!$B$1:$B$20,SMALL(IF(Feuil1!$A$1:$A$20=E$4,ROW(INDIRECT("1:"&ROWS($A$1:$A$20)))),ROW(B6))),"")} | F12: {=IFERROR(INDEX(Feuil1!$B$1:$B$20,SMALL(IF(Feuil1!$A$1:$A$20=F$4,ROW(INDIRECT("1:"&ROWS($A$1:$A$20)))),ROW(C6))),"")} | G12: {=IFERROR(INDEX(Feuil1!$B$1:$B$20,SMALL(IF(Feuil1!$A$1:$A$20=G$4,ROW(INDIRECT("1:"&ROWS($A$1:$A$20)))),ROW(D6))),"")} | H12: {=IFERROR(INDEX(Feuil1!$B$1:$B$20,SMALL(IF(Feuil1!$A$1:$A$20=H$4,ROW(INDIRECT("1:"&ROWS($A$1:$A$20)))),ROW(E6))),"")} | I12: {=IFERROR(INDEX(Feuil1!$B$1:$B$20,SMALL(IF(Feuil1!$A$1:$A$20=I$4,ROW(INDIRECT("1:"&ROWS($A$1:$A$20)))),ROW(F6))),"")}
D13: {=IFERROR(INDEX(Feuil1!$B$1:$B$20,SMALL(IF(Feuil1!$A$1:$A$20=D$4,ROW(INDIRECT("1:"&ROWS($A$1:$A$20)))),ROW(A7))),"")} | E13: {=IFERROR(INDEX(Feuil1!$B$1:$B$20,SMALL(IF(Feuil1!$A$1:$A$20=E$4,ROW(INDIRECT("1:"&ROWS($A$1:$A$20)))),ROW(B7))),"")} | F13: {=IFERROR(INDEX(Feuil1!$B$1:$B$20,SMALL(IF(Feuil1!$A$1:$A$20=F$4,ROW(INDIRECT("1:"&ROWS($A$1:$A$20)))),ROW(C7))),"")} | G13: {=IFERROR(INDEX(Feuil1!$B$1:$B$20,SMALL(IF(Feuil1!$A$1:$A$20=G$4,ROW(INDIRECT("1:"&ROWS($A$1:$A$20)))),ROW(D7))),"")} | H13: {=IFERROR(INDEX(Feuil1!$B$1:$B$20,SMALL(IF(Feuil1!$A$1:$A$20=H$4,ROW(INDIRECT("1:"&ROWS($A$1:$A$20)))),ROW(E7))),"")} | I13: {=IFERROR(INDEX(Feuil1!$B$1:$B$20,SMALL(IF(Feuil1!$A$1:$A$20=I$4,ROW(INDIRECT("1:"&ROWS($A$1:$A$20)))),ROW(F7))),"")}
D14: {=IFERROR(INDEX(Feuil1!$B$1:$B$20,SMALL(IF(Feuil1!$A$1:$A$20=D$4,ROW(INDIRECT("1:"&ROWS($A$1:$A$20)))),ROW(A8))),"")} | E14: {=IFERROR(INDEX(Feuil1!$B$1:$B$20,SMALL(IF(Feuil1!$A$1:$A$20=E$4,ROW(INDIRECT("1:"&ROWS($A$1:$A$20)))),ROW(B8))),"")} | F14: {=IFERROR(INDEX(Feuil1!$B$1:$B$20,SMALL(IF(Feuil1!$A$1:$A$20=F$4,ROW(INDIRECT("1:"&ROWS($A$1:$A$20)))),ROW(C8))),"")} | G14: {=IFERROR(INDEX(Feuil1!$B$1:$B$20,SMALL(IF(Feuil1!$A$1:$A$20=G$4,ROW(INDIRECT("1:"&ROWS($A$1:$A$20)))),ROW(D8))),"")} | H14: {=IFERROR(INDEX(Feuil1!$B$1:$B$20,SMALL(IF(Feuil1!$A$1:$A$20=H$4,ROW(INDIRECT("1:"&ROWS($A$1:$A$20)))),ROW(E8))),"")} | I14: {=IFERROR(INDEX(Feuil1!$B$1:$B$20,SMALL(IF(Feuil1!$A$1:$A$20=I$4,ROW(INDIRECT("1:"&ROWS($A$1:$A$20)))),ROW(F8))),"")}
D15: {=IFERROR(INDEX(Feuil1!$B$1:$B$20,SMALL(IF(Feuil1!$A$1:$A$20=D$4,ROW(INDIRECT("1:"&ROWS($A$1:$A$20)))),ROW(A9))),"")} | E15: {=IFERROR(INDEX(Feuil1!$B$1:$B$20,SMALL(IF(Feuil1!$A$1:$A$20=E$4,ROW(INDIRECT("1:"&ROWS($A$1:$A$20)))),ROW(B9))),"")} | F15: {=IFERROR(INDEX(Feuil1!$B$1:$B$20,SMALL(IF(Feuil1!$A$1:$A$20=F$4,ROW(INDIRECT("1:"&ROWS($A$1:$A$20)))),ROW(C9))),"")} | G15: {=IFERROR(INDEX(Feuil1!$B$1:$B$20,SMALL(IF(Feuil1!$A$1:$A$20=G$4,ROW(INDIRECT("1:"&ROWS($A$1:$A$20)))),ROW(D9))),"")} | H15: {=IFERROR(INDEX(Feuil1!$B$1:$B$20,SMALL(IF(Feuil1!$A$1:$A$20=H$4,ROW(INDIRECT("1:"&ROWS($A$1:$A$20)))),ROW(E9))),"")} | I15: {=IFERROR(INDEX(Feuil1!$B$1:$B$20,SMALL(IF(Feuil1!$A$1:$A$20=I$4,ROW(INDIRECT("1:"&ROWS($A$1:$A$20)))),ROW(F9))),"")}
D16: {=IFERROR(INDEX(Feuil1!$B$1:$B$20,SMALL(IF(Feuil1!$A$1:$A$20=D$4,ROW(INDIRECT("1:"&ROWS($A$1:$A$20)))),ROW(A10))),"")} | E16: {=IFERROR(INDEX(Feuil1!$B$1:$B$20,SMALL(IF(Feuil1!$A$1:$A$20=E$4,ROW(INDIRECT("1:"&ROWS($A$1:$A$20)))),ROW(B10))),"")} | F16: {=IFERROR(INDEX(Feuil1!$B$1:$B$20,SMALL(IF(Feuil1!$A$1:$A$20=F$4,ROW(INDIRECT("1:"&ROWS($A$1:$A$20)))),ROW(C10))),"")} | G16: {=IFERROR(INDEX(Feuil1!$B$1:$B$20,SMALL(IF(Feuil1!$A$1:$A$20=G$4,ROW(INDIRECT("1:"&ROWS($A$1:$A$20)))),ROW(D10))),"")} | H16: {=IFERROR(INDEX(Feuil1!$B$1:$B$20,SMALL(IF(Feuil1!$A$1:$A$20=H$4,ROW(INDIRECT("1:"&ROWS($A$1:$A$20)))),ROW(E10))),"")} | I16: {=IFERROR(INDEX(Feuil1!$B$1:$B$20,SMALL(IF(Feuil1!$A$1:$A$20=I$4,ROW(INDIRECT("1:"&ROWS($A$1:$A$20)))),ROW(F10))),"")}
D17: {=IFERROR(INDEX(Feuil1!$B$1:$B$20,SMALL(IF(Feuil1!$A$1:$A$20=D$4,ROW(INDIRECT("1:"&ROWS($A$1:$A$20)))),ROW(A11))),"")} | E17: {=IFERROR(INDEX(Feuil1!$B$1:$B$20,SMALL(IF(Feuil1!$A$1:$A$20=E$4,ROW(INDIRECT("1:"&ROWS($A$1:$A$20)))),ROW(B11))),"")} | F17: {=IFERROR(INDEX(Feuil1!$B$1:$B$20,SMALL(IF(Feuil1!$A$1:$A$20=F$4,ROW(INDIRECT("1:"&ROWS($A$1:$A$20)))),ROW(C11))),"")} | G17: {=IFERROR(INDEX(Feuil1!$B$1:$B$20,SMALL(IF(Feuil1!$A$1:$A$20=G$4,ROW(INDIRECT("1:"&ROWS($A$1:$A$20)))),ROW(D11))),"")} | H17: {=IFERROR(INDEX(Feuil1!$B$1:$B$20,SMALL(IF(Feuil1!$A$1:$A$20=H$4,ROW(INDIRECT("1:"&ROWS($A$1:$A$20)))),ROW(E11))),"")} | I17: {=IFERROR(INDEX(Feuil1!$B$1:$B$20,SMALL(IF(Feuil1!$A$1:$A$20=I$4,ROW(INDIRECT("1:"&ROWS($A$1:$A$20)))),ROW(F11))),"")}
D18: {=IFERROR(INDEX(Feuil1!$B$1:$B$20,SMALL(IF(Feuil1!$A$1:$A$20=D$4,ROW(INDIRECT("1:"&ROWS($A$1:$A$20)))),ROW(A12))),"")} | E18: {=IFERROR(INDEX(Feuil1!$B$1:$B$20,SMALL(IF(Feuil1!$A$1:$A$20=E$4,ROW(INDIRECT("1:"&ROWS($A$1:$A$20)))),ROW(B12))),"")} | F18: {=IFERROR(INDEX(Feuil1!$B$1:$B$20,SMALL(IF(Feuil1!$A$1:$A$20=F$4,ROW(INDIRECT("1:"&ROWS($A$1:$A$20)))),ROW(C12))),"")} | G18: {=IFERROR(INDEX(Feuil1!$B$1:$B$20,SMALL(IF(Feuil1!$A$1:$A$20=G$4,ROW(INDIRECT("1:"&ROWS($A$1:$A$20)))),ROW(D12))),"")} | H18: {=IFERROR(INDEX(Feuil1!$B$1:$B$20,SMALL(IF(Feuil1!$A$1:$A$20=H$4,ROW(INDIRECT("1:"&ROWS($A$1:$A$20)))),ROW(E12))),"")} | I18: {=IFERROR(INDEX(Feuil1!$B$1:$B$20,SMALL(IF(Feuil1!$A$1:$A$20=I$4,ROW(INDIRECT("1:"&ROWS($A$1:$A$20)))),ROW(F12))),"")}
... D34: {=IFERROR(INDEX(Feuil1!$B$1:$B$20,SMALL(IF(Feuil1!$A$1:$A$20=D$4,ROW(INDIRECT("1:"&ROWS($A$1:$A$20)))),ROW(A28))),"")} | E34: {=IFERROR(INDEX(Feuil1!$B$1:$B$20,SMALL(IF(Feuil1!$A$1:$A$20=E$4,ROW(INDIRECT("1:"&ROWS($A$1:$A$20)))),ROW(B28))),"")} | F34: {=IFERROR(INDEX(Feuil1!$B$1:$B$20,SMALL(IF(Feuil1!$A$1:$A$20=F$4,ROW(INDIRECT("1:"&ROWS($A$1:$A$20)))),ROW(C28))),"")} | G34: {=IFERROR(INDEX(Feuil1!$B$1:$B$20,SMALL(IF(Feuil1!$A$1:$A$20=G$4,ROW(INDIRECT("1:"&ROWS($A$1:$A$20)))),ROW(D28))),"")} | H34: {=IFERROR(INDEX(Feuil1!$B$1:$B$20,SMALL(IF(Feuil1!$A$1:$A$20=H$4,ROW(INDIRECT("1:"&ROWS($A$1:$A$20)))),ROW(E28))),"")} | I34: {=IFERROR(INDEX(Feuil1!$B$1:$B$20,SMALL(IF(Feuil1!$A$1:$A$20=I$4,ROW(INDIRECT("1:"&ROWS($A$1:$A$20)))),ROW(F28))),"")}
