Workbook
Name Réparateurs: Feuil1!#REF!
Name Zone_recherche: Feuil1!$A$2:$C$17

Sheet Feuil1
A1: Dossier | B1: Catégorie
A2: AAA | B2: 1
A3: BBB | B3: 2
A4: CCC | B4: 1
A5: DDD | B5: 3
A6: EEE | B6: 4
A7: FFF | B7: 5
A8: GGG | B8: 6
A9: HHH | B9: 1
A10: III | B10: 2
A11: JJJ | B11: 1
A12: KKK | B12: 3
A13: LLL | B13: 4
... A23: ZZZ | B23: 1

Sheet Feuil2
B2: 1 | C2: 2 | D2: 3 | E2: 4 | F2: 5 | G2: 6
B3: {=IFERROR(INDEX(Feuil1!$A:$A,SMALL(IF(Feuil1!$B$1:$B$100=B$2,ROW($B$1:$B$100)),ROW(Feuil1!$A1))),"")} -> AAA | C3: {=IFERROR(INDEX(Feuil1!$A:$A,SMALL(IF(Feuil1!$B$1:$B$100=C$2,ROW($B$1:$B$100)),ROW(Feuil1!$A1))),"")} -> BBB | D3: {=IFERROR(INDEX(Feuil1!$A:$A,SMALL(IF(Feuil1!$B$1:$B$100=D$2,ROW($B$1:$B$100)),ROW(Feuil1!$A1))),"")} -> DDD | E3: {=IFERROR(INDEX(Feuil1!$A:$A,SMALL(IF(Feuil1!$B$1:$B$100=E$2,ROW($B$1:$B$100)),ROW(Feuil1!$A1))),"")} -> EEE | F3: {=IFERROR(INDEX(Feuil1!$A:$A,SMALL(IF(Feuil1!$B$1:$B$100=F$2,ROW($B$1:$B$100)),ROW(Feuil1!$A1))),"")} -> FFF | G3: {=IFERROR(INDEX(Feuil1!$A:$A,SMALL(IF(Feuil1!$B$1:$B$100=G$2,ROW($B$1:$B$100)),ROW(Feuil1!$A1))),"")} -> GGG
B4: {=IFERROR(INDEX(Feuil1!$A:$A,SMALL(IF(Feuil1!$B$1:$B$100=B$2,ROW($B$1:$B$100)),ROW(Feuil1!$A2))),"")} -> CCC | C4: {=IFERROR(INDEX(Feuil1!$A:$A,SMALL(IF(Feuil1!$B$1:$B$100=C$2,ROW($B$1:$B$100)),ROW(Feuil1!$A2))),"")} -> III | D4: {=IFERROR(INDEX(Feuil1!$A:$A,SMALL(IF(Feuil1!$B$1:$B$100=D$2,ROW($B$1:$B$100)),ROW(Feuil1!$A2))),"")} -> KKK | E4: {=IFERROR(INDEX(Feuil1!$A:$A,SMALL(IF(Feuil1!$B$1:$B$100=E$2,ROW($B$1:$B$100)),ROW(Feuil1!$A2))),"")} -> LLL | F4: {=IFERROR(INDEX(Feuil1!$A:$A,SMALL(IF(Feuil1!$B$1:$B$100=F$2,ROW($B$1:$B$100)),ROW(Feuil1!$A2))),"")} -> MMM | G4: {=IFERROR(INDEX(Feuil1!$A:$A,SMALL(IF(Feuil1!$B$1:$B$100=G$2,ROW($B$1:$B$100)),ROW(Feuil1!$A2))),"")} -> NNN
B5: {=IFERROR(INDEX(Feuil1!$A:$A,SMALL(IF(Feuil1!$B$1:$B$100=B$2,ROW($B$1:$B$100)),ROW(Feuil1!$A3))),"")} -> HHH | C5: {=IFERROR(INDEX(Feuil1!$A:$A,SMALL(IF(Feuil1!$B$1:$B$100=C$2,ROW($B$1:$B$100)),ROW(Feuil1!$A3))),"")} -> PPP | D5: {=IFERROR(INDEX(Feuil1!$A:$A,SMALL(IF(Feuil1!$B$1:$B$100=D$2,ROW($B$1:$B$100)),ROW(Feuil1!$A3))),"")} -> RRR | E5: {=IFERROR(INDEX(Feuil1!$A:$A,SMALL(IF(Feuil1!$B$1:$B$100=E$2,ROW($B$1:$B$100)),ROW(Feuil1!$A3))),"")} -> SSS | F5: {=IFERROR(INDEX(Feuil1!$A:$A,SMALL(IF(Feuil1!$B$1:$B$100=F$2,ROW($B$1:$B$100)),ROW(Feuil1!$A3))),"")} -> TTT | G5: {=IFERROR(INDEX(Feuil1!$A:$A,SMALL(IF(Feuil1!$B$1:$B$100=G$2,ROW($B$1:$B$100)),ROW(Feuil1!$A3))),"")} -> UUU
B6: {=IFERROR(INDEX(Feuil1!$A:$A,SMALL(IF(Feuil1!$B$1:$B$100=B$2,ROW($B$1:$B$100)),ROW(Feuil1!$A4))),"")} -> JJJ | C6: {=IFERROR(INDEX(Feuil1!$A:$A,SMALL(IF(Feuil1!$B$1:$B$100=C$2,ROW($B$1:$B$100)),ROW(Feuil1!$A4))),"")} | D6: {=IFERROR(INDEX(Feuil1!$A:$A,SMALL(IF(Feuil1!$B$1:$B$100=D$2,ROW($B$1:$B$100)),ROW(Feuil1!$A4))),"")} | E6: {=IFERROR(INDEX(Feuil1!$A:$A,SMALL(IF(Feuil1!$B$1:$B$100=E$2,ROW($B$1:$B$100)),ROW(Feuil1!$A4))),"")} | F6: {=IFERROR(INDEX(Feuil1!$A:$A,SMALL(IF(Feuil1!$B$1:$B$100=F$2,ROW($B$1:$B$100)),ROW(Feuil1!$A4))),"")} | G6: {=IFERROR(INDEX(Feuil1!$A:$A,SMALL(IF(Feuil1!$B$1:$B$100=G$2,ROW($B$1:$B$100)),ROW(Feuil1!$A4))),"")}
B7: {=IFERROR(INDEX(Feuil1!$A:$A,SMALL(IF(Feuil1!$B$1:$B$100=B$2,ROW($B$1:$B$100)),ROW(Feuil1!$A5))),"")} -> OOO | C7: {=IFERROR(INDEX(Feuil1!$A:$A,SMALL(IF(Feuil1!$B$1:$B$100=C$2,ROW($B$1:$B$100)),ROW(Feuil1!$A5))),"")} | D7: {=IFERROR(INDEX(Feuil1!$A:$A,SMALL(IF(Feuil1!$B$1:$B$100=D$2,ROW($B$1:$B$100)),ROW(Feuil1!$A5))),"")} | E7: {=IFERROR(INDEX(Feuil1!$A:$A,SMALL(IF(Feuil1!$B$1:$B$100=E$2,ROW($B$1:$B$100)),ROW(Feuil1!$A5))),"")} | F7: {=IFERROR(INDEX(Feuil1!$A:$A,SMALL(IF(Feuil1!$B$1:$B$100=F$2,ROW($B$1:$B$100)),ROW(Feuil1!$A5))),"")} | G7: {=IFERROR(INDEX(Feuil1!$A:$A,SMALL(IF(Feuil1!$B$1:$B$100=G$2,ROW($B$1:$B$100)),ROW(Feuil1!$A5))),"")}
B8: {=IFERROR(INDEX(Feuil1!$A:$A,SMALL(IF(Feuil1!$B$1:$B$100=B$2,ROW($B$1:$B$100)),ROW(Feuil1!$A6))),"")} -> QQQ | C8: {=IFERROR(INDEX(Feuil1!$A:$A,SMALL(IF(Feuil1!$B$1:$B$100=C$2,ROW($B$1:$B$100)),ROW(Feuil1!$A6))),"")} | D8: {=IFERROR(INDEX(Feuil1!$A:$A,SMALL(IF(Feuil1!$B$1:$B$100=D$2,ROW($B$1:$B$100)),ROW(Feuil1!$A6))),"")} | E8: {=IFERROR(INDEX(Feuil1!$A:$A,SMALL(IF(Feuil1!$B$1:$B$100=E$2,ROW($B$1:$B$100)),ROW(Feuil1!$A6))),"")} | F8: {=IFERROR(INDEX(Feuil1!$A:$A,SMALL(IF(Feuil1!$B$1:$B$100=F$2,ROW($B$1:$B$100)),ROW(Feuil1!$A6))),"")} | G8: {=IFERROR(INDEX(Feuil1!$A:$A,SMALL(IF(Feuil1!$B$1:$B$100=G$2,ROW($B$1:$B$100)),ROW(Feuil1!$A6))),"")}
B9: {=IFERROR(INDEX(Feuil1!$A:$A,SMALL(IF(Feuil1!$B$1:$B$100=B$2,ROW($B$1:$B$100)),ROW(Feuil1!$A7))),"")} -> ZZZ | C9: {=IFERROR(INDEX(Feuil1!$A:$A,SMALL(IF(Feuil1!$B$1:$B$100=C$2,ROW($B$1:$B$100)),ROW(Feuil1!$A7))),"")} | D9: {=IFERROR(INDEX(Feuil1!$A:$A,SMALL(IF(Feuil1!$B$1:$B$100=D$2,ROW($B$1:$B$100)),ROW(Feuil1!$A7))),"")} | E9: {=IFERROR(INDEX(Feuil1!$A:$A,SMALL(IF(Feuil1!$B$1:$B$100=E$2,ROW($B$1:$B$100)),ROW(Feuil1!$A7))),"")} | F9: {=IFERROR(INDEX(Feuil1!$A:$A,SMALL(IF(Feuil1!$B$1:$B$100=F$2,ROW($B$1:$B$100)),ROW(Feuil1!$A7))),"")} | G9: {=IFERROR(INDEX(Feuil1!$A:$A,SMALL(IF(Feuil1!$B$1:$B$100=G$2,ROW($B$1:$B$100)),ROW(Feuil1!$A7))),"")}
B10: {=IFERROR(INDEX(Feuil1!$A:$A,SMALL(IF(Feuil1!$B$1:$B$100=B$2,ROW($B$1:$B$100)),ROW(Feuil1!$A8))),"")} | C10: {=IFERROR(INDEX(Feuil1!$A:$A,SMALL(IF(Feuil1!$B$1:$B$100=C$2,ROW($B$1:$B$100)),ROW(Feuil1!$A8))),"")} | D10: {=IFERROR(INDEX(Feuil1!$A:$A,SMALL(IF(Feuil1!$B$1:$B$100=D$2,ROW($B$1:$B$100)),ROW(Feuil1!$A8))),"")} | E10: {=IFERROR(INDEX(Feuil1!$A:$A,SMALL(IF(Feuil1!$B$1:$B$100=E$2,ROW($B$1:$B$100)),ROW(Feuil1!$A8))),"")} | F10: {=IFERROR(INDEX(Feuil1!$A:$A,SMALL(IF(Feuil1!$B$1:$B$100=F$2,ROW($B$1:$B$100)),ROW(Feuil1!$A8))),"")} | G10: {=IFERROR(INDEX(Feuil1!$A:$A,SMALL(IF(Feuil1!$B$1:$B$100=G$2,ROW($B$1:$B$100)),ROW(Feuil1!$A8))),"")}
B11: {=IFERROR(INDEX(Feuil1!$A:$A,SMALL(IF(Feuil1!$B$1:$B$100=B$2,ROW($B$1:$B$100)),ROW(Feuil1!$A9))),"")} | C11: {=IFERROR(INDEX(Feuil1!$A:$A,SMALL(IF(Feuil1!$B$1:$B$100=C$2,ROW($B$1:$B$100)),ROW(Feuil1!$A9))),"")} | D11: {=IFERROR(INDEX(Feuil1!$A:$A,SMALL(IF(Feuil1!$B$1:$B$100=D$2,ROW($B$1:$B$100)),ROW(Feuil1!$A9))),"")} | E11: {=IFERROR(INDEX(Feuil1!$A:$A,SMALL(IF(Feuil1!$B$1:$B$100=E$2,ROW($B$1:$B$100)),ROW(Feuil1!$A9))),"")} | F11: {=IFERROR(INDEX(Feuil1!$A:$A,SMALL(IF(Feuil1!$B$1:$B$100=F$2,ROW($B$1:$B$100)),ROW(Feuil1!$A9))),"")} | G11: {=IFERROR(INDEX(Feuil1!$A:$A,SMALL(IF(Feuil1!$B$1:$B$100=G$2,ROW($B$1:$B$100)),ROW(Feuil1!$A9))),"")}
B12: {=IFERROR(INDEX(Feuil1!$A:$A,SMALL(IF(Feuil1!$B$1:$B$100=B$2,ROW($B$1:$B$100)),ROW(Feuil1!$A10))),"")} | C12: {=IFERROR(INDEX(Feuil1!$A:$A,SMALL(IF(Feuil1!$B$1:$B$100=C$2,ROW($B$1:$B$100)),ROW(Feuil1!$A10))),"")} | D12: {=IFERROR(INDEX(Feuil1!$A:$A,SMALL(IF(Feuil1!$B$1:$B$100=D$2,ROW($B$1:$B$100)),ROW(Feuil1!$A10))),"")} | E12: {=IFERROR(INDEX(Feuil1!$A:$A,SMALL(IF(Feuil1!$B$1:$B$100=E$2,ROW($B$1:$B$100)),ROW(Feuil1!$A10))),"")} | F12: {=IFERROR(INDEX(Feuil1!$A:$A,SMALL(IF(Feuil1!$B$1:$B$100=F$2,ROW($B$1:$B$100)),ROW(Feuil1!$A10))),"")} | G12: {=IFERROR(INDEX(Feuil1!$A:$A,SMALL(IF(Feuil1!$B$1:$B$100=G$2,ROW($B$1:$B$100)),ROW(Feuil1!$A10))),"")}
B13: {=IFERROR(INDEX(Feuil1!$A:$A,SMALL(IF(Feuil1!$B$1:$B$100=B$2,ROW($B$1:$B$100)),ROW(Feuil1!$A11))),"")} | C13: {=IFERROR(INDEX(Feuil1!$A:$A,SMALL(IF(Feuil1!$B$1:$B$100=C$2,ROW($B$1:$B$100)),ROW(Feuil1!$A11))),"")} | D13: {=IFERROR(INDEX(Feuil1!$A:$A,SMALL(IF(Feuil1!$B$1:$B$100=D$2,ROW($B$1:$B$100)),ROW(Feuil1!$A11))),"")} | E13: {=IFERROR(INDEX(Feuil1!$A:$A,SMALL(IF(Feuil1!$B$1:$B$100=E$2,ROW($B$1:$B$100)),ROW(Feuil1!$A11))),"")} | F13: {=IFERROR(INDEX(Feuil1!$A:$A,SMALL(IF(Feuil1!$B$1:$B$100=F$2,ROW($B$1:$B$100)),ROW(Feuil1!$A11))),"")} | G13: {=IFERROR(INDEX(Feuil1!$A:$A,SMALL(IF(Feuil1!$B$1:$B$100=G$2,ROW($B$1:$B$100)),ROW(Feuil1!$A11))),"")}
B14: {=IFERROR(INDEX(Feuil1!$A:$A,SMALL(IF(Feuil1!$B$1:$B$100=B$2,ROW($B$1:$B$100)),ROW(Feuil1!$A12))),"")} | C14: {=IFERROR(INDEX(Feuil1!$A:$A,SMALL(IF(Feuil1!$B$1:$B$100=C$2,ROW($B$1:$B$100)),ROW(Feuil1!$A12))),"")} | D14: {=IFERROR(INDEX(Feuil1!$A:$A,SMALL(IF(Feuil1!$B$1:$B$100=D$2,ROW($B$1:$B$100)),ROW(Feuil1!$A12))),"")} | E14: {=IFERROR(INDEX(Feuil1!$A:$A,SMALL(IF(Feuil1!$B$1:$B$100=E$2,ROW($B$1:$B$100)),ROW(Feuil1!$A12))),"")} | F14: {=IFERROR(INDEX(Feuil1!$A:$A,SMALL(IF(Feuil1!$B$1:$B$100=F$2,ROW($B$1:$B$100)),ROW(Feuil1!$A12))),"")} | G14: {=IFERROR(INDEX(Feuil1!$A:$A,SMALL(IF(Feuil1!$B$1:$B$100=G$2,ROW($B$1:$B$100)),ROW(Feuil1!$A12))),"")}
... B20: {=IFERROR(INDEX(Feuil1!$A:$A,SMALL(IF(Feuil1!$B$1:$B$100=B$2,ROW($B$1:$B$100)),ROW(Feuil1!$A18))),"")} | C20: {=IFERROR(INDEX(Feuil1!$A:$A,SMALL(IF(Feuil1!$B$1:$B$100=C$2,ROW($B$1:$B$100)),ROW(Feuil1!$A18))),"")} | D20: {=IFERROR(INDEX(Feuil1!$A:$A,SMALL(IF(Feuil1!$B$1:$B$100=D$2,ROW($B$1:$B$100)),ROW(Feuil1!$A18))),"")} | E20: {=IFERROR(INDEX(Feuil1!$A:$A,SMALL(IF(Feuil1!$B$1:$B$100=E$2,ROW($B$1:$B$100)),ROW(Feuil1!$A18))),"")} | F20: {=IFERROR(INDEX(Feuil1!$A:$A,SMALL(IF(Feuil1!$B$1:$B$100=F$2,ROW($B$1:$B$100)),ROW(Feuil1!$A18))),"")} | G20: {=IFERROR(INDEX(Feuil1!$A:$A,SMALL(IF(Feuil1!$B$1:$B$100=G$2,ROW($B$1:$B$100)),ROW(Feuil1!$A18))),"")}
B21: {=IFERROR(SMALL(IF(Feuil1!$B$1:$B$17=B$2,ROW($B$2:$B$18)),ROW(Feuil1!$A19)),"")}
