Workbook
Name plg: tarif!$A$1:$F$21
Name tarif: tarif!$A$2:$F$21

Sheet tarif
A1: FEUILLE TARIF | H1: FEUILLE IMPORT
A2: reference 1 | B2: référence 2 | C2: designation | D2: article voir | E2: tarif fournisseur | F2: tarif vendeur | H2: référence 1 | I2: désignation | J2: tarif vendeur
A3: 519000113 | B3: 70751162 | C3: VOIR 70123110 | D3: 70123110 | E3: 0 | F3: =E3*2 -> 0 | H3: 519000113 | I3: =IF(E3=0,INDEX($A$3:$F$21,MATCH(MID(C3,6,8)*1,$B$3:$B$21,0),3),INDEX($A$3:$F$21,MATCH(H3,$A$3:$A$21,0),3)) -> VOIR 70123980 | J3: =IF(E3=0,INDEX($A$3:$F$21,MATCH(MID(C3,6,8)*1,$B$3:$B$21,0),5),INDEX($A$3:$F$21,MATCH(H3,$A$3:$A$21,0),6)) -> 0
A4: 3914014 | B4: 70402532 | C4: VOIR 70123116 | D4: 70123116 | E4: 0 | F4: =E4*2 -> 0 | H4: 3914014 | I4: =IF(E4=0,INDEX($A$3:$F$21,MATCH(MID(C4,6,8)*1,$B$3:$B$21,0),3),INDEX($A$3:$F$21,MATCH(H4,$A$3:$A$21,0),3)) -> ECROU NYLSTOP | J4: =IF(E4=0,INDEX($A$3:$F$21,MATCH(MID(C4,6,8)*1,$B$3:$B$21,0),5),INDEX($A$3:$F$21,MATCH(H4,$A$3:$A$21,0),6)) -> 7
A5: 3914014R | B5: 70402532 | C5: VOIR 70123116 | D5: 70123116 | E5: 0 | F5: =E5*2 -> 0 | H5: 3914014R | I5: =IF(E5=0,INDEX($A$3:$F$21,MATCH(MID(C5,6,8)*1,$B$3:$B$21,0),3),INDEX($A$3:$F$21,MATCH(H5,$A$3:$A$21,0),3)) -> ECROU NYLSTOP | J5: =IF(E5=0,INDEX($A$3:$F$21,MATCH(MID(C5,6,8)*1,$B$3:$B$21,0),5),INDEX($A$3:$F$21,MATCH(H5,$A$3:$A$21,0),6)) -> 7
A6: 519002439 | B6: 70754126 | C6: ENJOLIVEUR DE RESERVOIR BLEU | E6: 1 | F6: =E6*2 -> 2 | H6: 519002439 | I6: =IF(E6=0,INDEX($A$3:$F$21,MATCH(MID(C6,6,8)*1,$B$3:$B$21,0),3),INDEX($A$3:$F$21,MATCH(H6,$A$3:$A$21,0),3)) -> ENJOLIVEUR DE RESERVOIR BLEU | J6: =IF(E6=0,INDEX($A$3:$F$21,MATCH(MID(C6,6,8)*1,$B$3:$B$21,0),5),INDEX($A$3:$F$21,MATCH(H6,$A$3:$A$21,0),6)) -> 2
A7: 12126 | B7: 70123110 | C7: VOIR 70123980 | D7: 70123980 | E7: 0 | F7: =E7*2 -> 0 | H7: 12126 | I7: =IF(E7=0,INDEX($A$3:$F$21,MATCH(MID(C7,6,8)*1,$B$3:$B$21,0),3),INDEX($A$3:$F$21,MATCH(H7,$A$3:$A$21,0),3)) -> POIGNEE CAOUTCHOUC | J7: =IF(E7=0,INDEX($A$3:$F$21,MATCH(MID(C7,6,8)*1,$B$3:$B$21,0),5),INDEX($A$3:$F$21,MATCH(H7,$A$3:$A$21,0),6)) -> 5
A8: 341000036 | B8: 70123110 | C8: VOIR 70123980 | D8: 70123980 | E8: 0 | F8: =E8*2 -> 0 | H8: 341000036 | I8: =IF(E8=0,INDEX($A$3:$F$21,MATCH(MID(C8,6,8)*1,$B$3:$B$21,0),3),INDEX($A$3:$F$21,MATCH(H8,$A$3:$A$21,0),3)) -> POIGNEE CAOUTCHOUC | J8: =IF(E8=0,INDEX($A$3:$F$21,MATCH(MID(C8,6,8)*1,$B$3:$B$21,0),5),INDEX($A$3:$F$21,MATCH(H8,$A$3:$A$21,0),6)) -> 5
A9: 12126 | B9: 70123110 | C9: VOIR 70123980 | D9: 70123980 | E9: 0 | F9: =E9*2 -> 0 | H9: 12126 | I9: =IF(E9=0,INDEX($A$3:$F$21,MATCH(MID(C9,6,8)*1,$B$3:$B$21,0),3),INDEX($A$3:$F$21,MATCH(H9,$A$3:$A$21,0),3)) -> POIGNEE CAOUTCHOUC | J9: =IF(E9=0,INDEX($A$3:$F$21,MATCH(MID(C9,6,8)*1,$B$3:$B$21,0),5),INDEX($A$3:$F$21,MATCH(H9,$A$3:$A$21,0),6)) -> 5
A10: KV100054 | B10: 70123980 | C10: POIGNEE CAOUTCHOUC | E10: 5 | F10: =E10*2 -> 10 | H10: KV100054 | I10: =IF(E10=0,INDEX($A$3:$F$21,MATCH(MID(C10,6,8)*1,$B$3:$B$21,0),3),INDEX($A$3:$F$21,MATCH(H10,$A$3:$A$21,0),3)) -> POIGNEE CAOUTCHOUC | J10: =IF(E10=0,INDEX($A$3:$F$21,MATCH(MID(C10,6,8)*1,$B$3:$B$21,0),5),INDEX($A$3:$F$21,MATCH(H10,$A$3:$A$21,0),6)) -> 10
A11: P11485 | B11: 70123116 | C11: ECROU NYLSTOP | E11: 7 | F11: =E11*2 -> 14 | H11: P11485 | I11: =IF(E11=0,INDEX($A$3:$F$21,MATCH(MID(C11,6,8)*1,$B$3:$B$21,0),3),INDEX($A$3:$F$21,MATCH(H11,$A$3:$A$21,0),3)) -> ECROU NYLSTOP | J11: =IF(E11=0,INDEX($A$3:$F$21,MATCH(MID(C11,6,8)*1,$B$3:$B$21,0),5),INDEX($A$3:$F$21,MATCH(H11,$A$3:$A$21,0),6)) -> 14
A12: SU76161E | B12: 70761208 | C12: VOIR 70761132 | D12: 70761132 | E12: 0 | F12: =E12*2 -> 0 | H12: SU76161E | I12: =IF(E12=0,INDEX($A$3:$F$21,MATCH(MID(C12,6,8)*1,$B$3:$B$21,0),3),INDEX($A$3:$F$21,MATCH(H12,$A$3:$A$21,0),3)) -> ENS. POIGNEES + SECURITE8/9000 | J12: =IF(E12=0,INDEX($A$3:$F$21,MATCH(MID(C12,6,8)*1,$B$3:$B$21,0),5),INDEX($A$3:$F$21,MATCH(H12,$A$3:$A$21,0),6)) -> 24
A13: SU76010 | B13: 70761132 | C13: ENS. POIGNEES + SECURITE8/9000 | E13: 24 | F13: =E13*2 -> 48 | H13: SU76010 | I13: =IF(E13=0,INDEX($A$3:$F$21,MATCH(MID(C13,6,8)*1,$B$3:$B$21,0),3),INDEX($A$3:$F$21,MATCH(H13,$A$3:$A$21,0),3)) -> ENS. POIGNEES + SECURITE8/9000 | J13: =IF(E13=0,INDEX($A$3:$F$21,MATCH(MID(C13,6,8)*1,$B$3:$B$21,0),5),INDEX($A$3:$F$21,MATCH(H13,$A$3:$A$21,0),6)) -> 48
A14: SG532085323913 | B14: 70260762 | C14: PROTECTION THERMIQUE | E14: 13.03 | F14: =E14*2 -> 26.06 | H14: SG532085323913 | I14: =IF(E14=0,INDEX($A$3:$F$21,MATCH(MID(C14,6,8)*1,$B$3:$B$21,0),3),INDEX($A$3:$F$21,MATCH(H14,$A$3:$A$21,0),3)) -> PROTECTION THERMIQUE | J14: =IF(E14=0,INDEX($A$3:$F$21,MATCH(MID(C14,6,8)*1,$B$3:$B$21,0),5),INDEX($A$3:$F$21,MATCH(H14,$A$3:$A$21,0),6)) -> 26.06
A15: 61210047R | B15: 70414172 | C15: PROTECTION THERMIQUE | E15: 1.87 | F15: =E15*2 -> 3.74 | H15: 61210047R | I15: =IF(E15=0,INDEX($A$3:$F$21,MATCH(MID(C15,6,8)*1,$B$3:$B$21,0),3),INDEX($A$3:$F$21,MATCH(H15,$A$3:$A$21,0),3)) -> PROTECTION THERMIQUE | J15: =IF(E15=0,INDEX($A$3:$F$21,MATCH(MID(C15,6,8)*1,$B$3:$B$21,0),5),INDEX($A$3:$F$21,MATCH(H15,$A$3:$A$21,0),6)) -> 3.74
A16: SG532085323913 | B16: 70260762 | C16: PROTECTION THERMIQUE | E16: 13.03 | F16: =E16*2 -> 26.06 | H16: SG532085323913 | I16: =IF(E16=0,INDEX($A$3:$F$21,MATCH(MID(C16,6,8)*1,$B$3:$B$21,0),3),INDEX($A$3:$F$21,MATCH(H16,$A$3:$A$21,0),3)) -> PROTECTION THERMIQUE | J16: =IF(E16=0,INDEX($A$3:$F$21,MATCH(MID(C16,6,8)*1,$B$3:$B$21,0),5),INDEX($A$3:$F$21,MATCH(H16,$A$3:$A$21,0),6)) -> 26.06
A17: 61210047R | B17: 70414172 | C17: PROTECTION THERMIQUE | E17: 1.87 | F17: =E17*2 -> 3.74 | H17: 61210047R | I17: =IF(E17=0,INDEX($A$3:$F$21,MATCH(MID(C17,6,8)*1,$B$3:$B$21,0),3),INDEX($A$3:$F$21,MATCH(H17,$A$3:$A$21,0),3)) -> PROTECTION THERMIQUE | J17: =IF(E17=0,INDEX($A$3:$F$21,MATCH(MID(C17,6,8)*1,$B$3:$B$21,0),5),INDEX($A$3:$F$21,MATCH(H17,$A$3:$A$21,0),6)) -> 3.74
A18: SG532085426823 | B18: 70260790 | C18: PROTECTION TUBE ECHAPPEMENT | E18: 22.68 | F18: =E18*2 -> 45.36 | I18: =IF(E18=0,INDEX($A$3:$F$21,MATCH(MID(C18,6,8)*1,$B$3:$B$21,0),3),INDEX($A$3:$F$21,MATCH(H18,$A$3:$A$21,0),3)) -> #N/A | J18: =IF(E18=0,INDEX($A$3:$F$21,MATCH(MID(C18,6,8)*1,$B$3:$B$21,0),5),INDEX($A$3:$F$21,MATCH(H18,$A$3:$A$21,0),6)) -> #N/A
A19: 532085426823 | B19: 70260790 | C19: PROTECTION TUBE ECHAPPEMENT | E19: 22.68 | F19: =E19*2 -> 45.36 | H19: 532085426823 | I19: =IF(E19=0,INDEX($A$3:$F$21,MATCH(MID(C19,6,8)*1,$B$3:$B$21,0),3),INDEX($A$3:$F$21,MATCH(H19,$A$3:$A$21,0),3)) -> PROTECTION TUBE ECHAPPEMENT | J19: =IF(E19=0,INDEX($A$3:$F$21,MATCH(MID(C19,6,8)*1,$B$3:$B$21,0),5),INDEX($A$3:$F$21,MATCH(H19,$A$3:$A$21,0),6)) -> 45.36
A20: S532085426823 | B20: 70260790 | C20: PROTECTION TUBE ECHAPPEMENT | E20: 22.68 | F20: =E20*2 -> 45.36 | H20: S532085426823 | I20: =IF(E20=0,INDEX($A$3:$F$21,MATCH(MID(C20,6,8)*1,$B$3:$B$21,0),3),INDEX($A$3:$F$21,MATCH(H20,$A$3:$A$21,0),3)) -> PROTECTION TUBE ECHAPPEMENT | J20: =IF(E20=0,INDEX($A$3:$F$21,MATCH(MID(C20,6,8)*1,$B$3:$B$21,0),5),INDEX($A$3:$F$21,MATCH(H20,$A$3:$A$21,0),6)) -> 45.36
A21: SG532085426823 | B21: 70260790 | C21: PROTECTION TUBE ECHAPPEMENT | E21: 22.68 | F21: =E21*2 -> 45.36 | H21: SG532085426823 | I21: =IF(E21=0,INDEX($A$3:$F$21,MATCH(MID(C21,6,8)*1,$B$3:$B$21,0),3),INDEX($A$3:$F$21,MATCH(H21,$A$3:$A$21,0),3)) -> PROTECTION TUBE ECHAPPEMENT | J21: =IF(E21=0,INDEX($A$3:$F$21,MATCH(MID(C21,6,8)*1,$B$3:$B$21,0),5),INDEX($A$3:$F$21,MATCH(H21,$A$3:$A$21,0),6)) -> 45.36

Sheet tcd
C1: =IFERROR(ADDRESS(C2+7,2),"") | D1: =IFERROR(ADDRESS(D2+7,2),"") | E1: =IFERROR(ADDRESS(E2+7,2),"") | F1: =IFERROR(ADDRESS(F2+7,2),"") | G1: =IFERROR(ADDRESS(G2+7,2),"") -> $B$9 | H1: =IFERROR(ADDRESS(H2+7,2),"") -> $B$13 | I1: =IFERROR(ADDRESS(I2+7,2),"") | J1: =IFERROR(ADDRESS(J2+7,2),"") -> $B$12 | ... Q1: =IFERROR(ADDRESS(Q2+7,2),"")
C2: =IF(C3<>0,MATCH(C3,C8:C17,0),"") | D2: =IF(D3<>0,MATCH(D3,D8:D17,0),"") | E2: =IF(E3<>0,MATCH(E3,E8:E17,0),"") | F2: =IF(F3<>0,MATCH(F3,F8:F17,0),"") | G2: =IF(G3<>0,MATCH(G3,G8:G17,0),"") -> 2 | H2: =IF(H3<>0,MATCH(H3,H8:H17,0),"") -> 6 | I2: =IF(I3<>0,MATCH(I3,I8:I17,0),"") | J2: =IF(J3<>0,MATCH(J3,J8:J17,0),"") -> 5 | ... Q2: =IF(Q3<>0,MATCH(Q3,Q8:Q17,0),"")
C3: =INDIRECT(ADDRESS(MATCH(SUM(C8:C17),C8:C17,0)+7,COLUMN())) -> 0 | D3: =INDIRECT(ADDRESS(MATCH(SUM(D8:D17),D8:D17,0)+7,COLUMN())) -> 0 | E3: =INDIRECT(ADDRESS(MATCH(SUM(E8:E17),E8:E17,0)+7,COLUMN())) -> 0 | F3: =INDIRECT(ADDRESS(MATCH(SUM(F8:F17),F8:F17,0)+7,COLUMN())) -> 0 | G3: =INDIRECT(ADDRESS(MATCH(SUM(G8:G17),G8:G17,0)+7,COLUMN())) -> 1 | H3: =INDIRECT(ADDRESS(MATCH(SUM(H8:H17),H8:H17,0)+7,COLUMN())) -> 22.68 | I3: =INDIRECT(ADDRESS(MATCH(SUM(I8:I17),I8:I17,0)+7,COLUMN())) -> 0 | J3: =INDIRECT(ADDRESS(MATCH(SUM(J8:J17),J8:J17,0)+7,COLUMN())) -> 1.87 | ... Q3: =INDIRECT(ADDRESS(MATCH(SUM(Q8:Q17),Q8:Q17,0)+7,COLUMN())) -> 0
B4: Max de tarif fournisseur | C4: Réf.
C5: 12126 | D5: 3914014 | E5: 341000036 | F5: 519000113 | G5: 519002439 | H5: 532085426823 | I5: 3914014R | J5: 61210047R | K5: KV100054 | L5: P11485 | M5: S532085426823 | N5: SG532085323913 | O5: SG532085426823 | P5: SU76010 | Q5: SU76161E
C6: 70123110 | D6: 70402532 | E6: 70123110 | F6: 70751162 | G6: 70754126 | H6: 70260790 | I6: 70402532 | J6: 70414172 | K6: 70123980 | L6: 70123116 | M6: 70260790 | N6: 70260762 | O6: 70260790 | P6: 70761132 | Q6: 70761208
B7: Étiquettes de lignes | C7: 70123980 | D7: 70123116 | E7: 70123980 | F7: 70123110 | G7: (vide) | H7: (vide) | I7: 70123116 | J7: (vide) | K7: (vide) | L7: (vide) | M7: (vide) | N7: (vide) | O7: (vide) | P7: (vide) | Q7: 70761132
B8: ECROU NYLSTOP | L8: 7
B9: ENJOLIVEUR DE RESERVOIR BLEU | G9: 1
B10: ENS. POIGNEES + SECURITE8/9000 | P10: 24
B11: POIGNEE CAOUTCHOUC | K11: 5
B12: PROTECTION THERMIQUE | J12: 1.87 | N12: 13.03
B13: PROTECTION TUBE ECHAPPEMENT | H13: 22.68 | M13: 22.68 | O13: 22.68
B14: VOIR 70123110 | F14: 0
B15: VOIR 70123116 | D15: 0 | I15: 0
B16: VOIR 70123980 | C16: 0 | E16: 0
B17: VOIR 70761132 | Q17: 0

Sheet import
A1: référence 1 | B1: désignation | C1: tarif vendeur | F1: colonne TCD
A2: 519000113 | F2: =IFERROR(MATCH($A2,tcd!$5:$5,0),"") -> 6 | G2: =IFERROR(INDEX(tcd!B:B,INDIRECT("tcd!"&ADDRESS(2,F2))),"") | I2: =INDIRECT("tcd!"&ADDRESS(1,F2))
A3: 3914014 | F3: =IFERROR(MATCH($A3,tcd!$5:$5,0),"") -> 4 | G3: =IFERROR(INDEX(tcd!B:B,INDIRECT("tcd!"&ADDRESS(2,F3))),"") | I3: =INDIRECT("tcd!"&ADDRESS(1,F3))
A4: 3914014R | F4: =IFERROR(MATCH($A4,tcd!$5:$5,0),"") -> 9 | G4: =IFERROR(INDEX(tcd!B:B,INDIRECT("tcd!"&ADDRESS(2,F4))),"") | I4: =INDIRECT("tcd!"&ADDRESS(1,F4))
A5: 519002439 | F5: =IFERROR(MATCH($A5,tcd!$5:$5,0),"") -> 7 | G5: =IFERROR(INDEX(tcd!B:B,INDIRECT("tcd!"&ADDRESS(2,F5))),"") -> 0 | I5: =INDIRECT("tcd!"&ADDRESS(1,F5)) -> $B$9
A6: 12126 | F6: =IFERROR(MATCH($A6,tcd!$5:$5,0),"") -> 3 | G6: =IFERROR(INDEX(tcd!B:B,INDIRECT("tcd!"&ADDRESS(2,F6))),"") | I6: =INDIRECT("tcd!"&ADDRESS(1,F6))
A7: 341000036 | F7: =IFERROR(MATCH($A7,tcd!$5:$5,0),"") -> 5 | G7: =IFERROR(INDEX(tcd!B:B,INDIRECT("tcd!"&ADDRESS(2,F7))),"") | I7: =INDIRECT("tcd!"&ADDRESS(1,F7))
A8: 12126 | F8: =IFERROR(MATCH($A8,tcd!$5:$5,0),"") -> 3 | G8: =IFERROR(INDEX(tcd!B:B,INDIRECT("tcd!"&ADDRESS(2,F8))),"") | I8: =INDIRECT("tcd!"&ADDRESS(1,F8))
A9: KV100054 | F9: =IFERROR(MATCH($A9,tcd!$5:$5,0),"") -> 11 | G9: =IFERROR(INDEX(tcd!B:B,INDIRECT("tcd!"&ADDRESS(2,F9))),"") -> Max de tarif fournisseur | I9: =INDIRECT("tcd!"&ADDRESS(1,F9)) -> $B$11
A10: P11485 | F10: =IFERROR(MATCH($A10,tcd!$5:$5,0),"") -> 12 | G10: =IFERROR(INDEX(tcd!B:B,INDIRECT("tcd!"&ADDRESS(2,F10))),"") -> 0 | I10: =INDIRECT("tcd!"&ADDRESS(1,F10)) -> $B$8
A11: SU76161E | F11: =IFERROR(MATCH($A11,tcd!$5:$5,0),"") -> 17 | G11: =IFERROR(INDEX(tcd!B:B,INDIRECT("tcd!"&ADDRESS(2,F11))),"") | I11: =INDIRECT("tcd!"&ADDRESS(1,F11))
A12: SU76010 | F12: =IFERROR(MATCH($A12,tcd!$5:$5,0),"") -> 16 | G12: =IFERROR(INDEX(tcd!B:B,INDIRECT("tcd!"&ADDRESS(2,F12))),"") -> 0 | I12: =INDIRECT("tcd!"&ADDRESS(1,F12)) -> $B$10
A13: SG532085323913 | F13: =IFERROR(MATCH($A13,tcd!$5:$5,0),"") -> 14 | G13: =IFERROR(INDEX(tcd!B:B,INDIRECT("tcd!"&ADDRESS(2,F13))),"") -> 0 | I13: =INDIRECT("tcd!"&ADDRESS(1,F13)) -> $B$12
A14: 61210047R | F14: =IFERROR(MATCH($A14,tcd!$5:$5,0),"") -> 10 | G14: =IFERROR(INDEX(tcd!B:B,INDIRECT("tcd!"&ADDRESS(2,F14))),"") -> 0 | I14: =INDIRECT("tcd!"&ADDRESS(1,F14)) -> $B$12
A15: SG532085323913 | F15: =IFERROR(MATCH($A15,tcd!$5:$5,0),"") -> 14 | G15: =IFERROR(INDEX(tcd!B:B,INDIRECT("tcd!"&ADDRESS(2,F15))),"") -> 0 | I15: =INDIRECT("tcd!"&ADDRESS(1,F15)) -> $B$12
A16: 61210047R | F16: =IFERROR(MATCH($A16,tcd!$5:$5,0),"") -> 10 | G16: =IFERROR(INDEX(tcd!B:B,INDIRECT("tcd!"&ADDRESS(2,F16))),"") -> 0 | I16: =INDIRECT("tcd!"&ADDRESS(1,F16)) -> $B$12
F17: =IFERROR(MATCH($A17,tcd!$5:$5,0),"") | G17: =IFERROR(INDEX(tcd!B:B,INDIRECT("tcd!"&ADDRESS(2,F17))),"") | I17: =INDIRECT("tcd!"&ADDRESS(1,F17)) -> #VALUE!
A18: 532085426823 | F18: =IFERROR(MATCH($A18,tcd!$5:$5,0),"") -> 8 | G18: =IFERROR(INDEX(tcd!B:B,INDIRECT("tcd!"&ADDRESS(2,F18))),"") -> 0 | I18: =INDIRECT("tcd!"&ADDRESS(1,F18)) -> $B$13
A19: S532085426823 | F19: =IFERROR(MATCH($A19,tcd!$5:$5,0),"") -> 13 | G19: =IFERROR(INDEX(tcd!B:B,INDIRECT("tcd!"&ADDRESS(2,F19))),"") -> 0 | I19: =INDIRECT("tcd!"&ADDRESS(1,F19)) -> $B$13
A20: SG532085426823 | F20: =IFERROR(MATCH($A20,tcd!$5:$5,0),"") -> 15 | G20: =IFERROR(INDEX(tcd!B:B,INDIRECT("tcd!"&ADDRESS(2,F20))),"") -> 0 | I20: =INDIRECT("tcd!"&ADDRESS(1,F20)) -> $B$13
