Workbook

Sheet Feuil1
A1: ر.ت | B1: nom | C1: prenom | D1: genre | E1: arabe | F1: français | G1: math | H1: geo | I1: sciences | J1: somme | K1: moyenne | L1: classement | M1: Resultat
A2: 2 | B2: nom2 | C2: prénom2 | D2: أنثى | E2: 9.5 | F2: 8.31 | G2: 8 | H2: 8.5 | I2: 7.5 | J2: =IF(AND(E2<>"",F2<>"",G2<>"",H2<>"",I2<>""),SUM(E2:I2),"") -> 41.81 | K2: =IF(J2="","",J2/5) -> 8.362 | L2: =IF(K2="","",RANK(K2,$K$2:$K$493)) -> 2 | M2: =IF(K2="","",IF(K2>=5,"admis","non admis")) -> admis
A3: 5 | B3: nom5 | C3: prénom5 | D3: أنثى | E3: 8.4 | F3: 7.21 | G3: 9 | H3: 8.94 | I3: 8 | J3: =IF(AND(E3<>"",F3<>"",G3<>"",H3<>"",I3<>""),SUM(E3:I3),"") -> 41.55 | K3: =IF(J3="","",J3/5) -> 8.31 | L3: =IF(K3="","",RANK(K3,$K$2:$K$493)) -> 5 | M3: =IF(K3="","",IF(K3>=5,"admis","non admis")) -> admis
A4: 7 | B4: nom7 | C4: prénom7 | D4: أنثى | E4: 8.38 | F4: 6.86 | G4: 7.75 | H4: 9.25 | I4: 8 | J4: =IF(AND(E4<>"",F4<>"",G4<>"",H4<>"",I4<>""),SUM(E4:I4),"") -> 40.24 | K4: =IF(J4="","",J4/5) -> 8.048 | L4: =IF(K4="","",RANK(K4,$K$2:$K$493)) -> 7 | M4: =IF(K4="","",IF(K4>=5,"admis","non admis")) -> admis
A5: 8 | B5: nom8 | C5: prénom8 | D5: أنثى | E5: 8.65 | F5: 6.29 | G5: 9 | H5: 8.38 | I5: 7.5 | J5: =IF(AND(E5<>"",F5<>"",G5<>"",H5<>"",I5<>""),SUM(E5:I5),"") -> 39.82 | K5: =IF(J5="","",J5/5) -> 7.964 | L5: =IF(K5="","",RANK(K5,$K$2:$K$493)) -> 8 | M5: =IF(K5="","",IF(K5>=5,"admis","non admis")) -> admis
A6: 11 | B6: nom11 | C6: prénom11 | D6: أنثى | E6: 7.54 | F6: 5.36 | G6: 6 | H6: 8.88 | I6: 7.5 | J6: =IF(AND(E6<>"",F6<>"",G6<>"",H6<>"",I6<>""),SUM(E6:I6),"") -> 35.28 | K6: =IF(J6="","",J6/5) -> 7.056 | L6: =IF(K6="","",RANK(K6,$K$2:$K$493)) -> 11 | M6: =IF(K6="","",IF(K6>=5,"admis","non admis")) -> admis
A7: 12 | B7: nom12 | C7: prénom12 | D7: أنثى | E7: 6.89 | F7: 7.32 | G7: 5.5 | H7: 8 | I7: 7.5 | J7: =IF(AND(E7<>"",F7<>"",G7<>"",H7<>"",I7<>""),SUM(E7:I7),"") -> 35.21 | K7: =IF(J7="","",J7/5) -> 7.042 | L7: =IF(K7="","",RANK(K7,$K$2:$K$493)) -> 12 | M7: =IF(K7="","",IF(K7>=5,"admis","non admis")) -> admis
A8: 13 | B8: nom13 | C8: prénom13 | D8: أنثى | E8: 6 | F8: 8.88 | G8: 7.5 | H8: 6 | I8: 6.5 | J8: =IF(AND(E8<>"",F8<>"",G8<>"",H8<>"",I8<>""),SUM(E8:I8),"") -> 34.88 | K8: =IF(J8="","",J8/5) -> 6.976 | L8: =IF(K8="","",RANK(K8,$K$2:$K$493)) -> 13 | M8: =IF(K8="","",IF(K8>=5,"admis","non admis")) -> admis
A9: 14 | B9: nom14 | C9: prénom14 | D9: أنثى | E9: 6.6 | F9: 5.57 | G9: 7.5 | H9: 7.06 | I9: 8 | J9: =IF(AND(E9<>"",F9<>"",G9<>"",H9<>"",I9<>""),SUM(E9:I9),"") -> 34.73 | K9: =IF(J9="","",J9/5) -> 6.946 | L9: =IF(K9="","",RANK(K9,$K$2:$K$493)) -> 14 | M9: =IF(K9="","",IF(K9>=5,"admis","non admis")) -> admis
A10: 16 | B10: nom16 | C10: prénom16 | D10: أنثى | E10: 6.23 | F10: 6.96 | G10: 5.5 | H10: 6.88 | I10: 8 | J10: =IF(AND(E10<>"",F10<>"",G10<>"",H10<>"",I10<>""),SUM(E10:I10),"") -> 33.57 | K10: =IF(J10="","",J10/5) -> 6.714 | L10: =IF(K10="","",RANK(K10,$K$2:$K$493)) -> 16 | M10: =IF(K10="","",IF(K10>=5,"admis","non admis")) -> admis
A11: 19 | B11: nom19 | C11: prénom19 | D11: أنثى | E11: 6.54 | F11: 5.43 | G11: 4.5 | H11: 6.44 | I11: 8 | J11: =IF(AND(E11<>"",F11<>"",G11<>"",H11<>"",I11<>""),SUM(E11:I11),"") -> 30.91 | K11: =IF(J11="","",J11/5) -> 6.182 | L11: =IF(K11="","",RANK(K11,$K$2:$K$493)) -> 19 | M11: =IF(K11="","",IF(K11>=5,"admis","non admis")) -> admis
A12: 22 | B12: nom22 | C12: prénom22 | D12: أنثى | E12: 5.5 | F12: 6.62 | G12: 7 | H12: 5 | I12: 6 | J12: =IF(AND(E12<>"",F12<>"",G12<>"",H12<>"",I12<>""),SUM(E12:I12),"") -> 30.12 | K12: =IF(J12="","",J12/5) -> 6.024 | L12: =IF(K12="","",RANK(K12,$K$2:$K$493)) -> 22 | M12: =IF(K12="","",IF(K12>=5,"admis","non admis")) -> admis
A13: 26 | B13: nom26 | C13: prénom26 | D13: أنثى | E13: 4.77 | F13: 6 | G13: 6 | H13: 4.38 | I13: 7.75 | J13: =IF(AND(E13<>"",F13<>"",G13<>"",H13<>"",I13<>""),SUM(E13:I13),"") -> 28.9 | K13: =IF(J13="","",J13/5) -> 5.78 | L13: =IF(K13="","",RANK(K13,$K$2:$K$493)) -> 26 | M13: =IF(K13="","",IF(K13>=5,"admis","non admis")) -> admis
... A43: 40 | B43: nom40 | C43: prénom40 | D43: ذكر | E43: 3 | F43: 2.5 | G43: 7 | H43: 3 | I43: 6 | J43: =IF(AND(E43<>"",F43<>"",G43<>"",H43<>"",I43<>""),SUM(E43:I43),"") -> 21.5 | K43: =IF(J43="","",J43/5) -> 4.3 | L43: =IF(K43="","",RANK(K43,$K$2:$K$493)) -> 40 | M43: =IF(K43="","",IF(K43>=5,"admis","non admis")) -> non admis
A48: =IF(B48="","",ROW(A40))
A49: =IF(B49="","",ROW(A41))
A50: =IF(B50="","",ROW(A42))
A51: =IF(B51="","",ROW(A43))
A52: =IF(B52="","",ROW(A44))
A53: =IF(B53="","",ROW(A45))
A54: =IF(B54="","",ROW(A46))
A55: =IF(B55="","",ROW(A47))
A56: =IF(B56="","",ROW(A48))
A57: =IF(B57="","",ROW(A49))
A58: =IF(B58="","",ROW(A50))
A59: =IF(B59="","",ROW(A51))
... A61: =IF(B61="","",ROW(A53))

Sheet Feuil2
C2: الاسم الكامل
C3: =Feuil1!C2&" "&Feuil1!B2 -> prénom2 nom2
C4: =Feuil1!C3&" "&Feuil1!B3 -> prénom5 nom5
C5: =Feuil1!C4&" "&Feuil1!B4 -> prénom7 nom7
C6: =Feuil1!C5&" "&Feuil1!B5 -> prénom8 nom8
C7: =Feuil1!C6&" "&Feuil1!B6 -> prénom11 nom11
C8: =Feuil1!C7&" "&Feuil1!B7 -> prénom12 nom12
C9: =Feuil1!C8&" "&Feuil1!B8 -> prénom13 nom13
C10: =Feuil1!C9&" "&Feuil1!B9 -> prénom14 nom14
C11: =Feuil1!C10&" "&Feuil1!B10 -> prénom16 nom16
C12: =Feuil1!C11&" "&Feuil1!B11 -> prénom19 nom19
C13: =Feuil1!C12&" "&Feuil1!B12 -> prénom22 nom22
C14: =Feuil1!C13&" "&Feuil1!B13 -> prénom26 nom26
... C44: =Feuil1!C43&" "&Feuil1!B43 -> prénom40 nom40
