Workbook

Sheet Feuil1
A1: Airline | B1: Location
A2: AFR - Air France | B2: =VLOOKUP(A2,Feuil2!A:C,3,0) -> Western Europe
A3: DAL - Delta Airline | B3: =VLOOKUP(A3,Feuil2!A:C,3,0) -> North America
A4: DLH - Lufthansa | B4: =VLOOKUP(A4,Feuil2!A:C,3,0) -> Western Europe
A5: QFA - Qantas | B5: =VLOOKUP(A5,Feuil2!A:C,3,0) -> Oceania
A6: DAL - Delta Airline | B6: =VLOOKUP(A6,Feuil2!A:C,3,0) -> North America
A7: IGO - Indigo | B7: =VLOOKUP(A7,Feuil2!A:C,3,0) -> Asia
A8: ARG - Aerolineas Argentinas | B8: =VLOOKUP(A8,Feuil2!A:C,3,0) -> South America
A9: UAE - Emirates | B9: =VLOOKUP(A9,Feuil2!A:C,3,0) -> Africa
A10: UAE - Emirates | B10: =VLOOKUP(A10,Feuil2!A:C,3,0) -> Africa
A11: AFR - Air France | B11: =VLOOKUP(A11,Feuil2!A:C,3,0) -> Western Europe
A12: DLH - Lufthansa | B12: =VLOOKUP(A12,Feuil2!A:C,3,0) -> Western Europe
A13: QFA - Qantas | B13: =VLOOKUP(A13,Feuil2!A:C,3,0) -> Oceania
... A18: UAE - Emirates | B18: =VLOOKUP(A18,Feuil2!A:C,3,0) -> Africa

Sheet Feuil2
A1: OACI - Airline | B1: Country | C1: Area | E1: International Area
A2: AFR - Air France | B2: France | C2: =IF(B2="Austria",E$2, IF(B2="Belgium",E$2, IF(B2="Bulgaria",E$2, IF(B2="Czech Republic",E$2, IF(B2="Denmark",E$2, IF(B2="France",E$2, IF(B2="Germany",E$2, IF(B2="Greece",E$2, IF(B2="Hungary",E$2, IF(B2="Iceland",E$2, IF(B2="Ireland",E$2, IF(B2="Italy",E$2, IF(B2="Malta",E$2, IF(B2="Netherlands",E$2, IF(B2="Poland",E$2, IF(B2="Portugal",E$2, IF(B2="Serbia",E$2, IF(B2="Slovenia",E$2, IF(B2="Spain",E$2, IF(B2="Swiss",E$2, IF(B2="United Kingdom",E$2, IF(B2="Estonia",E$3, IF(B2="Finland",E$3, IF(B2="Letvia",E$3, IF(B2="Lithuania",E$3, IF(B2="Moldavia",E$3, IF(B2="Norway",E$3, IF(B2="Romania",E$3, IF(B2="Russia",E$3, IF(B2="Sweden",E$3, IF(B2="Ukraine",E$3, IF(B2="Canada",E$5, IF(B2="Mexico",E$5, IF(B2="United States of America",E$5, IF(B2="Argentina",E$4, IF(B2="Brazil",E$4, IF(B2="Bolivia",E$4, IF(B2="Chile",E$4, IF(B2="Colombia",E$4, IF(B2="Paraguay",E$4, IF(B2="Peru",E$4, IF(B2="Uruguay",E$4, IF(B2="Australia",E$7, IF(B2="China",E$8, IF(B2="Hong Kong",E$8, IF(B2="India",E$8, IF(B2="Indonesia",E$8, IF(B2="Kazakhstan",E$8, IF(B2="Japan",E$8, IF(B2="Macau",E$8, IF(B2="Malesia",E$8, IF(B2="Mongolia",E$8, IF(B2="North Korea",E$8, IF(B2="Pakistan",E$8, IF(B2="Singapore",E$8, IF(B2="South Korea",E$8, IF(B2="Egypt",E$6, IF(B2="Ivory Coast",E$6, IF(B2="Jordan",E$6, IF(B2="Libya",E$6, IF(B2="Morroco",E$6, IF(B2="Mauritius",E$6, IF(B2="South Africa",E$6, IF(B2="United Arab Emirates",E$6," ""CAUTIONMISSINGINFORMATION")))))))))))))))))))))))))))))))))))))))))))))))))))))))))))))))) -> Western Europe | E2: Western Europe
A3: EZY - Eazy Jet | B3: United Kingdom | C3: =IF(B3="Austria",E$2, IF(B3="Belgium",E$2, IF(B3="Bulgaria",E$2, IF(B3="Czech Republic",E$2, IF(B3="Denmark",E$2, IF(B3="France",E$2, IF(B3="Germany",E$2, IF(B3="Greece",E$2, IF(B3="Hungary",E$2, IF(B3="Iceland",E$2, IF(B3="Ireland",E$2, IF(B3="Italy",E$2, IF(B3="Malta",E$2, IF(B3="Netherlands",E$2, IF(B3="Poland",E$2, IF(B3="Portugal",E$2, IF(B3="Serbia",E$2, IF(B3="Slovenia",E$2, IF(B3="Spain",E$2, IF(B3="Swiss",E$2, IF(B3="United Kingdom",E$2, IF(B3="Estonia",E$3, IF(B3="Finland",E$3, IF(B3="Letvia",E$3, IF(B3="Lithuania",E$3, IF(B3="Moldavia",E$3, IF(B3="Norway",E$3, IF(B3="Romania",E$3, IF(B3="Russia",E$3, IF(B3="Sweden",E$3, IF(B3="Ukraine",E$3, IF(B3="Canada",E$5, IF(B3="Mexico",E$5, IF(B3="United States of America",E$5, IF(B3="Argentina",E$4, IF(B3="Brazil",E$4, IF(B3="Bolivia",E$4, IF(B3="Chile",E$4, IF(B3="Colombia",E$4, IF(B3="Paraguay",E$4, IF(B3="Peru",E$4, IF(B3="Uruguay",E$4, IF(B3="Australia",E$7, IF(B3="China",E$8, IF(B3="Hong Kong",E$8, IF(B3="India",E$8, IF(B3="Indonesia",E$8, IF(B3="Kazakhstan",E$8, IF(B3="Japan",E$8, IF(B3="Macau",E$8, IF(B3="Malesia",E$8, IF(B3="Mongolia",E$8, IF(B3="North Korea",E$8, IF(B3="Pakistan",E$8, IF(B3="Singapore",E$8, IF(B3="South Korea",E$8, IF(B3="Egypt",E$6, IF(B3="Ivory Coast",E$6, IF(B3="Jordan",E$6, IF(B3="Libya",E$6, IF(B3="Morroco",E$6, IF(B3="Mauritius",E$6, IF(B3="South Africa",E$6, IF(B3="United Arab Emirates",E$6," ""CAUTIONMISSINGINFORMATION")))))))))))))))))))))))))))))))))))))))))))))))))))))))))))))))) -> Western Europe | E3: Eastern Europe
A4: DAL - Delta Airline | B4: United States of America | C4: =IF(B4="Austria",E$2, IF(B4="Belgium",E$2, IF(B4="Bulgaria",E$2, IF(B4="Czech Republic",E$2, IF(B4="Denmark",E$2, IF(B4="France",E$2, IF(B4="Germany",E$2, IF(B4="Greece",E$2, IF(B4="Hungary",E$2, IF(B4="Iceland",E$2, IF(B4="Ireland",E$2, IF(B4="Italy",E$2, IF(B4="Malta",E$2, IF(B4="Netherlands",E$2, IF(B4="Poland",E$2, IF(B4="Portugal",E$2, IF(B4="Serbia",E$2, IF(B4="Slovenia",E$2, IF(B4="Spain",E$2, IF(B4="Swiss",E$2, IF(B4="United Kingdom",E$2, IF(B4="Estonia",E$3, IF(B4="Finland",E$3, IF(B4="Letvia",E$3, IF(B4="Lithuania",E$3, IF(B4="Moldavia",E$3, IF(B4="Norway",E$3, IF(B4="Romania",E$3, IF(B4="Russia",E$3, IF(B4="Sweden",E$3, IF(B4="Ukraine",E$3, IF(B4="Canada",E$5, IF(B4="Mexico",E$5, IF(B4="United States of America",E$5, IF(B4="Argentina",E$4, IF(B4="Brazil",E$4, IF(B4="Bolivia",E$4, IF(B4="Chile",E$4, IF(B4="Colombia",E$4, IF(B4="Paraguay",E$4, IF(B4="Peru",E$4, IF(B4="Uruguay",E$4, IF(B4="Australia",E$7, IF(B4="China",E$8, IF(B4="Hong Kong",E$8, IF(B4="India",E$8, IF(B4="Indonesia",E$8, IF(B4="Kazakhstan",E$8, IF(B4="Japan",E$8, IF(B4="Macau",E$8, IF(B4="Malesia",E$8, IF(B4="Mongolia",E$8, IF(B4="North Korea",E$8, IF(B4="Pakistan",E$8, IF(B4="Singapore",E$8, IF(B4="South Korea",E$8, IF(B4="Egypt",E$6, IF(B4="Ivory Coast",E$6, IF(B4="Jordan",E$6, IF(B4="Libya",E$6, IF(B4="Morroco",E$6, IF(B4="Mauritius",E$6, IF(B4="South Africa",E$6, IF(B4="United Arab Emirates",E$6," ""CAUTIONMISSINGINFORMATION")))))))))))))))))))))))))))))))))))))))))))))))))))))))))))))))) -> North America | E4: South America
A5: DLH - Lufthansa | B5: Germany | C5: =IF(B5="Austria",E$2, IF(B5="Belgium",E$2, IF(B5="Bulgaria",E$2, IF(B5="Czech Republic",E$2, IF(B5="Denmark",E$2, IF(B5="France",E$2, IF(B5="Germany",E$2, IF(B5="Greece",E$2, IF(B5="Hungary",E$2, IF(B5="Iceland",E$2, IF(B5="Ireland",E$2, IF(B5="Italy",E$2, IF(B5="Malta",E$2, IF(B5="Netherlands",E$2, IF(B5="Poland",E$2, IF(B5="Portugal",E$2, IF(B5="Serbia",E$2, IF(B5="Slovenia",E$2, IF(B5="Spain",E$2, IF(B5="Swiss",E$2, IF(B5="United Kingdom",E$2, IF(B5="Estonia",E$3, IF(B5="Finland",E$3, IF(B5="Letvia",E$3, IF(B5="Lithuania",E$3, IF(B5="Moldavia",E$3, IF(B5="Norway",E$3, IF(B5="Romania",E$3, IF(B5="Russia",E$3, IF(B5="Sweden",E$3, IF(B5="Ukraine",E$3, IF(B5="Canada",E$5, IF(B5="Mexico",E$5, IF(B5="United States of America",E$5, IF(B5="Argentina",E$4, IF(B5="Brazil",E$4, IF(B5="Bolivia",E$4, IF(B5="Chile",E$4, IF(B5="Colombia",E$4, IF(B5="Paraguay",E$4, IF(B5="Peru",E$4, IF(B5="Uruguay",E$4, IF(B5="Australia",E$7, IF(B5="China",E$8, IF(B5="Hong Kong",E$8, IF(B5="India",E$8, IF(B5="Indonesia",E$8, IF(B5="Kazakhstan",E$8, IF(B5="Japan",E$8, IF(B5="Macau",E$8, IF(B5="Malesia",E$8, IF(B5="Mongolia",E$8, IF(B5="North Korea",E$8, IF(B5="Pakistan",E$8, IF(B5="Singapore",E$8, IF(B5="South Korea",E$8, IF(B5="Egypt",E$6, IF(B5="Ivory Coast",E$6, IF(B5="Jordan",E$6, IF(B5="Libya",E$6, IF(B5="Morroco",E$6, IF(B5="Mauritius",E$6, IF(B5="South Africa",E$6, IF(B5="United Arab Emirates",E$6," ""CAUTIONMISSINGINFORMATION")))))))))))))))))))))))))))))))))))))))))))))))))))))))))))))))) -> Western Europe | E5: North America
A6: GWI - German Wings | B6: Germany | C6: =IF(B6="Austria",E$2, IF(B6="Belgium",E$2, IF(B6="Bulgaria",E$2, IF(B6="Czech Republic",E$2, IF(B6="Denmark",E$2, IF(B6="France",E$2, IF(B6="Germany",E$2, IF(B6="Greece",E$2, IF(B6="Hungary",E$2, IF(B6="Iceland",E$2, IF(B6="Ireland",E$2, IF(B6="Italy",E$2, IF(B6="Malta",E$2, IF(B6="Netherlands",E$2, IF(B6="Poland",E$2, IF(B6="Portugal",E$2, IF(B6="Serbia",E$2, IF(B6="Slovenia",E$2, IF(B6="Spain",E$2, IF(B6="Swiss",E$2, IF(B6="United Kingdom",E$2, IF(B6="Estonia",E$3, IF(B6="Finland",E$3, IF(B6="Letvia",E$3, IF(B6="Lithuania",E$3, IF(B6="Moldavia",E$3, IF(B6="Norway",E$3, IF(B6="Romania",E$3, IF(B6="Russia",E$3, IF(B6="Sweden",E$3, IF(B6="Ukraine",E$3, IF(B6="Canada",E$5, IF(B6="Mexico",E$5, IF(B6="United States of America",E$5, IF(B6="Argentina",E$4, IF(B6="Brazil",E$4, IF(B6="Bolivia",E$4, IF(B6="Chile",E$4, IF(B6="Colombia",E$4, IF(B6="Paraguay",E$4, IF(B6="Peru",E$4, IF(B6="Uruguay",E$4, IF(B6="Australia",E$7, IF(B6="China",E$8, IF(B6="Hong Kong",E$8, IF(B6="India",E$8, IF(B6="Indonesia",E$8, IF(B6="Kazakhstan",E$8, IF(B6="Japan",E$8, IF(B6="Macau",E$8, IF(B6="Malesia",E$8, IF(B6="Mongolia",E$8, IF(B6="North Korea",E$8, IF(B6="Pakistan",E$8, IF(B6="Singapore",E$8, IF(B6="South Korea",E$8, IF(B6="Egypt",E$6, IF(B6="Ivory Coast",E$6, IF(B6="Jordan",E$6, IF(B6="Libya",E$6, IF(B6="Morroco",E$6, IF(B6="Mauritius",E$6, IF(B6="South Africa",E$6, IF(B6="United Arab Emirates",E$6," ""CAUTIONMISSINGINFORMATION")))))))))))))))))))))))))))))))))))))))))))))))))))))))))))))))) -> Western Europe | E6: Africa
A7: ACA - Air Canada | B7: Canada | C7: =IF(B7="Austria",E$2, IF(B7="Belgium",E$2, IF(B7="Bulgaria",E$2, IF(B7="Czech Republic",E$2, IF(B7="Denmark",E$2, IF(B7="France",E$2, IF(B7="Germany",E$2, IF(B7="Greece",E$2, IF(B7="Hungary",E$2, IF(B7="Iceland",E$2, IF(B7="Ireland",E$2, IF(B7="Italy",E$2, IF(B7="Malta",E$2, IF(B7="Netherlands",E$2, IF(B7="Poland",E$2, IF(B7="Portugal",E$2, IF(B7="Serbia",E$2, IF(B7="Slovenia",E$2, IF(B7="Spain",E$2, IF(B7="Swiss",E$2, IF(B7="United Kingdom",E$2, IF(B7="Estonia",E$3, IF(B7="Finland",E$3, IF(B7="Letvia",E$3, IF(B7="Lithuania",E$3, IF(B7="Moldavia",E$3, IF(B7="Norway",E$3, IF(B7="Romania",E$3, IF(B7="Russia",E$3, IF(B7="Sweden",E$3, IF(B7="Ukraine",E$3, IF(B7="Canada",E$5, IF(B7="Mexico",E$5, IF(B7="United States of America",E$5, IF(B7="Argentina",E$4, IF(B7="Brazil",E$4, IF(B7="Bolivia",E$4, IF(B7="Chile",E$4, IF(B7="Colombia",E$4, IF(B7="Paraguay",E$4, IF(B7="Peru",E$4, IF(B7="Uruguay",E$4, IF(B7="Australia",E$7, IF(B7="China",E$8, IF(B7="Hong Kong",E$8, IF(B7="India",E$8, IF(B7="Indonesia",E$8, IF(B7="Kazakhstan",E$8, IF(B7="Japan",E$8, IF(B7="Macau",E$8, IF(B7="Malesia",E$8, IF(B7="Mongolia",E$8, IF(B7="North Korea",E$8, IF(B7="Pakistan",E$8, IF(B7="Singapore",E$8, IF(B7="South Korea",E$8, IF(B7="Egypt",E$6, IF(B7="Ivory Coast",E$6, IF(B7="Jordan",E$6, IF(B7="Libya",E$6, IF(B7="Morroco",E$6, IF(B7="Mauritius",E$6, IF(B7="South Africa",E$6, IF(B7="United Arab Emirates",E$6," ""CAUTIONMISSINGINFORMATION")))))))))))))))))))))))))))))))))))))))))))))))))))))))))))))))) -> North America | E7: Oceania
A8: QFA - Qantas | B8: Australia | C8: =IF(B8="Austria",E$2, IF(B8="Belgium",E$2, IF(B8="Bulgaria",E$2, IF(B8="Czech Republic",E$2, IF(B8="Denmark",E$2, IF(B8="France",E$2, IF(B8="Germany",E$2, IF(B8="Greece",E$2, IF(B8="Hungary",E$2, IF(B8="Iceland",E$2, IF(B8="Ireland",E$2, IF(B8="Italy",E$2, IF(B8="Malta",E$2, IF(B8="Netherlands",E$2, IF(B8="Poland",E$2, IF(B8="Portugal",E$2, IF(B8="Serbia",E$2, IF(B8="Slovenia",E$2, IF(B8="Spain",E$2, IF(B8="Swiss",E$2, IF(B8="United Kingdom",E$2, IF(B8="Estonia",E$3, IF(B8="Finland",E$3, IF(B8="Letvia",E$3, IF(B8="Lithuania",E$3, IF(B8="Moldavia",E$3, IF(B8="Norway",E$3, IF(B8="Romania",E$3, IF(B8="Russia",E$3, IF(B8="Sweden",E$3, IF(B8="Ukraine",E$3, IF(B8="Canada",E$5, IF(B8="Mexico",E$5, IF(B8="United States of America",E$5, IF(B8="Argentina",E$4, IF(B8="Brazil",E$4, IF(B8="Bolivia",E$4, IF(B8="Chile",E$4, IF(B8="Colombia",E$4, IF(B8="Paraguay",E$4, IF(B8="Peru",E$4, IF(B8="Uruguay",E$4, IF(B8="Australia",E$7, IF(B8="China",E$8, IF(B8="Hong Kong",E$8, IF(B8="India",E$8, IF(B8="Indonesia",E$8, IF(B8="Kazakhstan",E$8, IF(B8="Japan",E$8, IF(B8="Macau",E$8, IF(B8="Malesia",E$8, IF(B8="Mongolia",E$8, IF(B8="North Korea",E$8, IF(B8="Pakistan",E$8, IF(B8="Singapore",E$8, IF(B8="South Korea",E$8, IF(B8="Egypt",E$6, IF(B8="Ivory Coast",E$6, IF(B8="Jordan",E$6, IF(B8="Libya",E$6, IF(B8="Morroco",E$6, IF(B8="Mauritius",E$6, IF(B8="South Africa",E$6, IF(B8="United Arab Emirates",E$6," ""CAUTIONMISSINGINFORMATION")))))))))))))))))))))))))))))))))))))))))))))))))))))))))))))))) -> Oceania | E8: Asia
A9: AFL - Aero Flot | B9: Russia | C9: =IF(B9="Austria",E$2, IF(B9="Belgium",E$2, IF(B9="Bulgaria",E$2, IF(B9="Czech Republic",E$2, IF(B9="Denmark",E$2, IF(B9="France",E$2, IF(B9="Germany",E$2, IF(B9="Greece",E$2, IF(B9="Hungary",E$2, IF(B9="Iceland",E$2, IF(B9="Ireland",E$2, IF(B9="Italy",E$2, IF(B9="Malta",E$2, IF(B9="Netherlands",E$2, IF(B9="Poland",E$2, IF(B9="Portugal",E$2, IF(B9="Serbia",E$2, IF(B9="Slovenia",E$2, IF(B9="Spain",E$2, IF(B9="Swiss",E$2, IF(B9="United Kingdom",E$2, IF(B9="Estonia",E$3, IF(B9="Finland",E$3, IF(B9="Letvia",E$3, IF(B9="Lithuania",E$3, IF(B9="Moldavia",E$3, IF(B9="Norway",E$3, IF(B9="Romania",E$3, IF(B9="Russia",E$3, IF(B9="Sweden",E$3, IF(B9="Ukraine",E$3, IF(B9="Canada",E$5, IF(B9="Mexico",E$5, IF(B9="United States of America",E$5, IF(B9="Argentina",E$4, IF(B9="Brazil",E$4, IF(B9="Bolivia",E$4, IF(B9="Chile",E$4, IF(B9="Colombia",E$4, IF(B9="Paraguay",E$4, IF(B9="Peru",E$4, IF(B9="Uruguay",E$4, IF(B9="Australia",E$7, IF(B9="China",E$8, IF(B9="Hong Kong",E$8, IF(B9="India",E$8, IF(B9="Indonesia",E$8, IF(B9="Kazakhstan",E$8, IF(B9="Japan",E$8, IF(B9="Macau",E$8, IF(B9="Malesia",E$8, IF(B9="Mongolia",E$8, IF(B9="North Korea",E$8, IF(B9="Pakistan",E$8, IF(B9="Singapore",E$8, IF(B9="South Korea",E$8, IF(B9="Egypt",E$6, IF(B9="Ivory Coast",E$6, IF(B9="Jordan",E$6, IF(B9="Libya",E$6, IF(B9="Morroco",E$6, IF(B9="Mauritius",E$6, IF(B9="South Africa",E$6, IF(B9="United Arab Emirates",E$6," ""CAUTIONMISSINGINFORMATION")))))))))))))))))))))))))))))))))))))))))))))))))))))))))))))))) -> Eastern Europe
A10: CES - China Eastern Airline | B10: China | C10: =IF(B10="Austria",E$2, IF(B10="Belgium",E$2, IF(B10="Bulgaria",E$2, IF(B10="Czech Republic",E$2, IF(B10="Denmark",E$2, IF(B10="France",E$2, IF(B10="Germany",E$2, IF(B10="Greece",E$2, IF(B10="Hungary",E$2, IF(B10="Iceland",E$2, IF(B10="Ireland",E$2, IF(B10="Italy",E$2, IF(B10="Malta",E$2, IF(B10="Netherlands",E$2, IF(B10="Poland",E$2, IF(B10="Portugal",E$2, IF(B10="Serbia",E$2, IF(B10="Slovenia",E$2, IF(B10="Spain",E$2, IF(B10="Swiss",E$2, IF(B10="United Kingdom",E$2, IF(B10="Estonia",E$3, IF(B10="Finland",E$3, IF(B10="Letvia",E$3, IF(B10="Lithuania",E$3, IF(B10="Moldavia",E$3, IF(B10="Norway",E$3, IF(B10="Romania",E$3, IF(B10="Russia",E$3, IF(B10="Sweden",E$3, IF(B10="Ukraine",E$3, IF(B10="Canada",E$5, IF(B10="Mexico",E$5, IF(B10="United States of America",E$5, IF(B10="Argentina",E$4, IF(B10="Brazil",E$4, IF(B10="Bolivia",E$4, IF(B10="Chile",E$4, IF(B10="Colombia",E$4, IF(B10="Paraguay",E$4, IF(B10="Peru",E$4, IF(B10="Uruguay",E$4, IF(B10="Australia",E$7, IF(B10="China",E$8, IF(B10="Hong Kong",E$8, IF(B10="India",E$8, IF(B10="Indonesia",E$8, IF(B10="Kazakhstan",E$8, IF(B10="Japan",E$8, IF(B10="Macau",E$8, IF(B10="Malesia",E$8, IF(B10="Mongolia",E$8, IF(B10="North Korea",E$8, IF(B10="Pakistan",E$8, IF(B10="Singapore",E$8, IF(B10="South Korea",E$8, IF(B10="Egypt",E$6, IF(B10="Ivory Coast",E$6, IF(B10="Jordan",E$6, IF(B10="Libya",E$6, IF(B10="Morroco",E$6, IF(B10="Mauritius",E$6, IF(B10="South Africa",E$6, IF(B10="United Arab Emirates",E$6," ""CAUTIONMISSINGINFORMATION")))))))))))))))))))))))))))))))))))))))))))))))))))))))))))))))) -> Asia
A11: BAW - British Airways | B11: United Kingdom | C11: =IF(B11="Austria",E$2, IF(B11="Belgium",E$2, IF(B11="Bulgaria",E$2, IF(B11="Czech Republic",E$2, IF(B11="Denmark",E$2, IF(B11="France",E$2, IF(B11="Germany",E$2, IF(B11="Greece",E$2, IF(B11="Hungary",E$2, IF(B11="Iceland",E$2, IF(B11="Ireland",E$2, IF(B11="Italy",E$2, IF(B11="Malta",E$2, IF(B11="Netherlands",E$2, IF(B11="Poland",E$2, IF(B11="Portugal",E$2, IF(B11="Serbia",E$2, IF(B11="Slovenia",E$2, IF(B11="Spain",E$2, IF(B11="Swiss",E$2, IF(B11="United Kingdom",E$2, IF(B11="Estonia",E$3, IF(B11="Finland",E$3, IF(B11="Letvia",E$3, IF(B11="Lithuania",E$3, IF(B11="Moldavia",E$3, IF(B11="Norway",E$3, IF(B11="Romania",E$3, IF(B11="Russia",E$3, IF(B11="Sweden",E$3, IF(B11="Ukraine",E$3, IF(B11="Canada",E$5, IF(B11="Mexico",E$5, IF(B11="United States of America",E$5, IF(B11="Argentina",E$4, IF(B11="Brazil",E$4, IF(B11="Bolivia",E$4, IF(B11="Chile",E$4, IF(B11="Colombia",E$4, IF(B11="Paraguay",E$4, IF(B11="Peru",E$4, IF(B11="Uruguay",E$4, IF(B11="Australia",E$7, IF(B11="China",E$8, IF(B11="Hong Kong",E$8, IF(B11="India",E$8, IF(B11="Indonesia",E$8, IF(B11="Kazakhstan",E$8, IF(B11="Japan",E$8, IF(B11="Macau",E$8, IF(B11="Malesia",E$8, IF(B11="Mongolia",E$8, IF(B11="North Korea",E$8, IF(B11="Pakistan",E$8, IF(B11="Singapore",E$8, IF(B11="South Korea",E$8, IF(B11="Egypt",E$6, IF(B11="Ivory Coast",E$6, IF(B11="Jordan",E$6, IF(B11="Libya",E$6, IF(B11="Morroco",E$6, IF(B11="Mauritius",E$6, IF(B11="South Africa",E$6, IF(B11="United Arab Emirates",E$6," ""CAUTIONMISSINGINFORMATION")))))))))))))))))))))))))))))))))))))))))))))))))))))))))))))))) -> Western Europe
A12: IGO - Indigo | B12: India | C12: =IF(B12="Austria",E$2, IF(B12="Belgium",E$2, IF(B12="Bulgaria",E$2, IF(B12="Czech Republic",E$2, IF(B12="Denmark",E$2, IF(B12="France",E$2, IF(B12="Germany",E$2, IF(B12="Greece",E$2, IF(B12="Hungary",E$2, IF(B12="Iceland",E$2, IF(B12="Ireland",E$2, IF(B12="Italy",E$2, IF(B12="Malta",E$2, IF(B12="Netherlands",E$2, IF(B12="Poland",E$2, IF(B12="Portugal",E$2, IF(B12="Serbia",E$2, IF(B12="Slovenia",E$2, IF(B12="Spain",E$2, IF(B12="Swiss",E$2, IF(B12="United Kingdom",E$2, IF(B12="Estonia",E$3, IF(B12="Finland",E$3, IF(B12="Letvia",E$3, IF(B12="Lithuania",E$3, IF(B12="Moldavia",E$3, IF(B12="Norway",E$3, IF(B12="Romania",E$3, IF(B12="Russia",E$3, IF(B12="Sweden",E$3, IF(B12="Ukraine",E$3, IF(B12="Canada",E$5, IF(B12="Mexico",E$5, IF(B12="United States of America",E$5, IF(B12="Argentina",E$4, IF(B12="Brazil",E$4, IF(B12="Bolivia",E$4, IF(B12="Chile",E$4, IF(B12="Colombia",E$4, IF(B12="Paraguay",E$4, IF(B12="Peru",E$4, IF(B12="Uruguay",E$4, IF(B12="Australia",E$7, IF(B12="China",E$8, IF(B12="Hong Kong",E$8, IF(B12="India",E$8, IF(B12="Indonesia",E$8, IF(B12="Kazakhstan",E$8, IF(B12="Japan",E$8, IF(B12="Macau",E$8, IF(B12="Malesia",E$8, IF(B12="Mongolia",E$8, IF(B12="North Korea",E$8, IF(B12="Pakistan",E$8, IF(B12="Singapore",E$8, IF(B12="South Korea",E$8, IF(B12="Egypt",E$6, IF(B12="Ivory Coast",E$6, IF(B12="Jordan",E$6, IF(B12="Libya",E$6, IF(B12="Morroco",E$6, IF(B12="Mauritius",E$6, IF(B12="South Africa",E$6, IF(B12="United Arab Emirates",E$6," ""CAUTIONMISSINGINFORMATION")))))))))))))))))))))))))))))))))))))))))))))))))))))))))))))))) -> Asia
A13: UAE - Emirates | B13: United Arab Emirates | C13: =IF(B13="Austria",E$2, IF(B13="Belgium",E$2, IF(B13="Bulgaria",E$2, IF(B13="Czech Republic",E$2, IF(B13="Denmark",E$2, IF(B13="France",E$2, IF(B13="Germany",E$2, IF(B13="Greece",E$2, IF(B13="Hungary",E$2, IF(B13="Iceland",E$2, IF(B13="Ireland",E$2, IF(B13="Italy",E$2, IF(B13="Malta",E$2, IF(B13="Netherlands",E$2, IF(B13="Poland",E$2, IF(B13="Portugal",E$2, IF(B13="Serbia",E$2, IF(B13="Slovenia",E$2, IF(B13="Spain",E$2, IF(B13="Swiss",E$2, IF(B13="United Kingdom",E$2, IF(B13="Estonia",E$3, IF(B13="Finland",E$3, IF(B13="Letvia",E$3, IF(B13="Lithuania",E$3, IF(B13="Moldavia",E$3, IF(B13="Norway",E$3, IF(B13="Romania",E$3, IF(B13="Russia",E$3, IF(B13="Sweden",E$3, IF(B13="Ukraine",E$3, IF(B13="Canada",E$5, IF(B13="Mexico",E$5, IF(B13="United States of America",E$5, IF(B13="Argentina",E$4, IF(B13="Brazil",E$4, IF(B13="Bolivia",E$4, IF(B13="Chile",E$4, IF(B13="Colombia",E$4, IF(B13="Paraguay",E$4, IF(B13="Peru",E$4, IF(B13="Uruguay",E$4, IF(B13="Australia",E$7, IF(B13="China",E$8, IF(B13="Hong Kong",E$8, IF(B13="India",E$8, IF(B13="Indonesia",E$8, IF(B13="Kazakhstan",E$8, IF(B13="Japan",E$8, IF(B13="Macau",E$8, IF(B13="Malesia",E$8, IF(B13="Mongolia",E$8, IF(B13="North Korea",E$8, IF(B13="Pakistan",E$8, IF(B13="Singapore",E$8, IF(B13="South Korea",E$8, IF(B13="Egypt",E$6, IF(B13="Ivory Coast",E$6, IF(B13="Jordan",E$6, IF(B13="Libya",E$6, IF(B13="Morroco",E$6, IF(B13="Mauritius",E$6, IF(B13="South Africa",E$6, IF(B13="United Arab Emirates",E$6," ""CAUTIONMISSINGINFORMATION")))))))))))))))))))))))))))))))))))))))))))))))))))))))))))))))) -> Africa
A14: CPA - Cathay Pacific | B14: Hong Kong | C14: =IF(B14="Austria",E$2, IF(B14="Belgium",E$2, IF(B14="Bulgaria",E$2, IF(B14="Czech Republic",E$2, IF(B14="Denmark",E$2, IF(B14="France",E$2, IF(B14="Germany",E$2, IF(B14="Greece",E$2, IF(B14="Hungary",E$2, IF(B14="Iceland",E$2, IF(B14="Ireland",E$2, IF(B14="Italy",E$2, IF(B14="Malta",E$2, IF(B14="Netherlands",E$2, IF(B14="Poland",E$2, IF(B14="Portugal",E$2, IF(B14="Serbia",E$2, IF(B14="Slovenia",E$2, IF(B14="Spain",E$2, IF(B14="Swiss",E$2, IF(B14="United Kingdom",E$2, IF(B14="Estonia",E$3, IF(B14="Finland",E$3, IF(B14="Letvia",E$3, IF(B14="Lithuania",E$3, IF(B14="Moldavia",E$3, IF(B14="Norway",E$3, IF(B14="Romania",E$3, IF(B14="Russia",E$3, IF(B14="Sweden",E$3, IF(B14="Ukraine",E$3, IF(B14="Canada",E$5, IF(B14="Mexico",E$5, IF(B14="United States of America",E$5, IF(B14="Argentina",E$4, IF(B14="Brazil",E$4, IF(B14="Bolivia",E$4, IF(B14="Chile",E$4, IF(B14="Colombia",E$4, IF(B14="Paraguay",E$4, IF(B14="Peru",E$4, IF(B14="Uruguay",E$4, IF(B14="Australia",E$7, IF(B14="China",E$8, IF(B14="Hong Kong",E$8, IF(B14="India",E$8, IF(B14="Indonesia",E$8, IF(B14="Kazakhstan",E$8, IF(B14="Japan",E$8, IF(B14="Macau",E$8, IF(B14="Malesia",E$8, IF(B14="Mongolia",E$8, IF(B14="North Korea",E$8, IF(B14="Pakistan",E$8, IF(B14="Singapore",E$8, IF(B14="South Korea",E$8, IF(B14="Egypt",E$6, IF(B14="Ivory Coast",E$6, IF(B14="Jordan",E$6, IF(B14="Libya",E$6, IF(B14="Morroco",E$6, IF(B14="Mauritius",E$6, IF(B14="South Africa",E$6, IF(B14="United Arab Emirates",E$6," ""CAUTIONMISSINGINFORMATION")))))))))))))))))))))))))))))))))))))))))))))))))))))))))))))))) -> Asia
A15: CCA - Air China | B15: China | C15: =IF(B15="Austria",E$2, IF(B15="Belgium",E$2, IF(B15="Bulgaria",E$2, IF(B15="Czech Republic",E$2, IF(B15="Denmark",E$2, IF(B15="France",E$2, IF(B15="Germany",E$2, IF(B15="Greece",E$2, IF(B15="Hungary",E$2, IF(B15="Iceland",E$2, IF(B15="Ireland",E$2, IF(B15="Italy",E$2, IF(B15="Malta",E$2, IF(B15="Netherlands",E$2, IF(B15="Poland",E$2, IF(B15="Portugal",E$2, IF(B15="Serbia",E$2, IF(B15="Slovenia",E$2, IF(B15="Spain",E$2, IF(B15="Swiss",E$2, IF(B15="United Kingdom",E$2, IF(B15="Estonia",E$3, IF(B15="Finland",E$3, IF(B15="Letvia",E$3, IF(B15="Lithuania",E$3, IF(B15="Moldavia",E$3, IF(B15="Norway",E$3, IF(B15="Romania",E$3, IF(B15="Russia",E$3, IF(B15="Sweden",E$3, IF(B15="Ukraine",E$3, IF(B15="Canada",E$5, IF(B15="Mexico",E$5, IF(B15="United States of America",E$5, IF(B15="Argentina",E$4, IF(B15="Brazil",E$4, IF(B15="Bolivia",E$4, IF(B15="Chile",E$4, IF(B15="Colombia",E$4, IF(B15="Paraguay",E$4, IF(B15="Peru",E$4, IF(B15="Uruguay",E$4, IF(B15="Australia",E$7, IF(B15="China",E$8, IF(B15="Hong Kong",E$8, IF(B15="India",E$8, IF(B15="Indonesia",E$8, IF(B15="Kazakhstan",E$8, IF(B15="Japan",E$8, IF(B15="Macau",E$8, IF(B15="Malesia",E$8, IF(B15="Mongolia",E$8, IF(B15="North Korea",E$8, IF(B15="Pakistan",E$8, IF(B15="Singapore",E$8, IF(B15="South Korea",E$8, IF(B15="Egypt",E$6, IF(B15="Ivory Coast",E$6, IF(B15="Jordan",E$6, IF(B15="Libya",E$6, IF(B15="Morroco",E$6, IF(B15="Mauritius",E$6, IF(B15="South Africa",E$6, IF(B15="United Arab Emirates",E$6," ""CAUTIONMISSINGINFORMATION")))))))))))))))))))))))))))))))))))))))))))))))))))))))))))))))) -> Asia
A16: ARG - Aerolineas Argentinas | B16: Argentina | C16: =IF(B16="Austria",E$2, IF(B16="Belgium",E$2, IF(B16="Bulgaria",E$2, IF(B16="Czech Republic",E$2, IF(B16="Denmark",E$2, IF(B16="France",E$2, IF(B16="Germany",E$2, IF(B16="Greece",E$2, IF(B16="Hungary",E$2, IF(B16="Iceland",E$2, IF(B16="Ireland",E$2, IF(B16="Italy",E$2, IF(B16="Malta",E$2, IF(B16="Netherlands",E$2, IF(B16="Poland",E$2, IF(B16="Portugal",E$2, IF(B16="Serbia",E$2, IF(B16="Slovenia",E$2, IF(B16="Spain",E$2, IF(B16="Swiss",E$2, IF(B16="United Kingdom",E$2, IF(B16="Estonia",E$3, IF(B16="Finland",E$3, IF(B16="Letvia",E$3, IF(B16="Lithuania",E$3, IF(B16="Moldavia",E$3, IF(B16="Norway",E$3, IF(B16="Romania",E$3, IF(B16="Russia",E$3, IF(B16="Sweden",E$3, IF(B16="Ukraine",E$3, IF(B16="Canada",E$5, IF(B16="Mexico",E$5, IF(B16="United States of America",E$5, IF(B16="Argentina",E$4, IF(B16="Brazil",E$4, IF(B16="Bolivia",E$4, IF(B16="Chile",E$4, IF(B16="Colombia",E$4, IF(B16="Paraguay",E$4, IF(B16="Peru",E$4, IF(B16="Uruguay",E$4, IF(B16="Australia",E$7, IF(B16="China",E$8, IF(B16="Hong Kong",E$8, IF(B16="India",E$8, IF(B16="Indonesia",E$8, IF(B16="Kazakhstan",E$8, IF(B16="Japan",E$8, IF(B16="Macau",E$8, IF(B16="Malesia",E$8, IF(B16="Mongolia",E$8, IF(B16="North Korea",E$8, IF(B16="Pakistan",E$8, IF(B16="Singapore",E$8, IF(B16="South Korea",E$8, IF(B16="Egypt",E$6, IF(B16="Ivory Coast",E$6, IF(B16="Jordan",E$6, IF(B16="Libya",E$6, IF(B16="Morroco",E$6, IF(B16="Mauritius",E$6, IF(B16="South Africa",E$6, IF(B16="United Arab Emirates",E$6," ""CAUTIONMISSINGINFORMATION")))))))))))))))))))))))))))))))))))))))))))))))))))))))))))))))) -> South America
A17: PDF - Pelican Airways | B17: South Africa | C17: =IF(B17="Austria",E$2, IF(B17="Belgium",E$2, IF(B17="Bulgaria",E$2, IF(B17="Czech Republic",E$2, IF(B17="Denmark",E$2, IF(B17="France",E$2, IF(B17="Germany",E$2, IF(B17="Greece",E$2, IF(B17="Hungary",E$2, IF(B17="Iceland",E$2, IF(B17="Ireland",E$2, IF(B17="Italy",E$2, IF(B17="Malta",E$2, IF(B17="Netherlands",E$2, IF(B17="Poland",E$2, IF(B17="Portugal",E$2, IF(B17="Serbia",E$2, IF(B17="Slovenia",E$2, IF(B17="Spain",E$2, IF(B17="Swiss",E$2, IF(B17="United Kingdom",E$2, IF(B17="Estonia",E$3, IF(B17="Finland",E$3, IF(B17="Letvia",E$3, IF(B17="Lithuania",E$3, IF(B17="Moldavia",E$3, IF(B17="Norway",E$3, IF(B17="Romania",E$3, IF(B17="Russia",E$3, IF(B17="Sweden",E$3, IF(B17="Ukraine",E$3, IF(B17="Canada",E$5, IF(B17="Mexico",E$5, IF(B17="United States of America",E$5, IF(B17="Argentina",E$4, IF(B17="Brazil",E$4, IF(B17="Bolivia",E$4, IF(B17="Chile",E$4, IF(B17="Colombia",E$4, IF(B17="Paraguay",E$4, IF(B17="Peru",E$4, IF(B17="Uruguay",E$4, IF(B17="Australia",E$7, IF(B17="China",E$8, IF(B17="Hong Kong",E$8, IF(B17="India",E$8, IF(B17="Indonesia",E$8, IF(B17="Kazakhstan",E$8, IF(B17="Japan",E$8, IF(B17="Macau",E$8, IF(B17="Malesia",E$8, IF(B17="Mongolia",E$8, IF(B17="North Korea",E$8, IF(B17="Pakistan",E$8, IF(B17="Singapore",E$8, IF(B17="South Korea",E$8, IF(B17="Egypt",E$6, IF(B17="Ivory Coast",E$6, IF(B17="Jordan",E$6, IF(B17="Libya",E$6, IF(B17="Morroco",E$6, IF(B17="Mauritius",E$6, IF(B17="South Africa",E$6, IF(B17="United Arab Emirates",E$6," ""CAUTIONMISSINGINFORMATION")))))))))))))))))))))))))))))))))))))))))))))))))))))))))))))))) -> Africa
A18: AUI - Ukraine international Airlines | B18: Ukraine | C18: =IF(B18="Austria",E$2, IF(B18="Belgium",E$2, IF(B18="Bulgaria",E$2, IF(B18="Czech Republic",E$2, IF(B18="Denmark",E$2, IF(B18="France",E$2, IF(B18="Germany",E$2, IF(B18="Greece",E$2, IF(B18="Hungary",E$2, IF(B18="Iceland",E$2, IF(B18="Ireland",E$2, IF(B18="Italy",E$2, IF(B18="Malta",E$2, IF(B18="Netherlands",E$2, IF(B18="Poland",E$2, IF(B18="Portugal",E$2, IF(B18="Serbia",E$2, IF(B18="Slovenia",E$2, IF(B18="Spain",E$2, IF(B18="Swiss",E$2, IF(B18="United Kingdom",E$2, IF(B18="Estonia",E$3, IF(B18="Finland",E$3, IF(B18="Letvia",E$3, IF(B18="Lithuania",E$3, IF(B18="Moldavia",E$3, IF(B18="Norway",E$3, IF(B18="Romania",E$3, IF(B18="Russia",E$3, IF(B18="Sweden",E$3, IF(B18="Ukraine",E$3, IF(B18="Canada",E$5, IF(B18="Mexico",E$5, IF(B18="United States of America",E$5, IF(B18="Argentina",E$4, IF(B18="Brazil",E$4, IF(B18="Bolivia",E$4, IF(B18="Chile",E$4, IF(B18="Colombia",E$4, IF(B18="Paraguay",E$4, IF(B18="Peru",E$4, IF(B18="Uruguay",E$4, IF(B18="Australia",E$7, IF(B18="China",E$8, IF(B18="Hong Kong",E$8, IF(B18="India",E$8, IF(B18="Indonesia",E$8, IF(B18="Kazakhstan",E$8, IF(B18="Japan",E$8, IF(B18="Macau",E$8, IF(B18="Malesia",E$8, IF(B18="Mongolia",E$8, IF(B18="North Korea",E$8, IF(B18="Pakistan",E$8, IF(B18="Singapore",E$8, IF(B18="South Korea",E$8, IF(B18="Egypt",E$6, IF(B18="Ivory Coast",E$6, IF(B18="Jordan",E$6, IF(B18="Libya",E$6, IF(B18="Morroco",E$6, IF(B18="Mauritius",E$6, IF(B18="South Africa",E$6, IF(B18="United Arab Emirates",E$6," ""CAUTIONMISSINGINFORMATION")))))))))))))))))))))))))))))))))))))))))))))))))))))))))))))))) -> Eastern Europe
A19: ADR - Adria airways | B19: Slovenia | C19: =IF(B19="Austria",E$2, IF(B19="Belgium",E$2, IF(B19="Bulgaria",E$2, IF(B19="Czech Republic",E$2, IF(B19="Denmark",E$2, IF(B19="France",E$2, IF(B19="Germany",E$2, IF(B19="Greece",E$2, IF(B19="Hungary",E$2, IF(B19="Iceland",E$2, IF(B19="Ireland",E$2, IF(B19="Italy",E$2, IF(B19="Malta",E$2, IF(B19="Netherlands",E$2, IF(B19="Poland",E$2, IF(B19="Portugal",E$2, IF(B19="Serbia",E$2, IF(B19="Slovenia",E$2, IF(B19="Spain",E$2, IF(B19="Swiss",E$2, IF(B19="United Kingdom",E$2, IF(B19="Estonia",E$3, IF(B19="Finland",E$3, IF(B19="Letvia",E$3, IF(B19="Lithuania",E$3, IF(B19="Moldavia",E$3, IF(B19="Norway",E$3, IF(B19="Romania",E$3, IF(B19="Russia",E$3, IF(B19="Sweden",E$3, IF(B19="Ukraine",E$3, IF(B19="Canada",E$5, IF(B19="Mexico",E$5, IF(B19="United States of America",E$5, IF(B19="Argentina",E$4, IF(B19="Brazil",E$4, IF(B19="Bolivia",E$4, IF(B19="Chile",E$4, IF(B19="Colombia",E$4, IF(B19="Paraguay",E$4, IF(B19="Peru",E$4, IF(B19="Uruguay",E$4, IF(B19="Australia",E$7, IF(B19="China",E$8, IF(B19="Hong Kong",E$8, IF(B19="India",E$8, IF(B19="Indonesia",E$8, IF(B19="Kazakhstan",E$8, IF(B19="Japan",E$8, IF(B19="Macau",E$8, IF(B19="Malesia",E$8, IF(B19="Mongolia",E$8, IF(B19="North Korea",E$8, IF(B19="Pakistan",E$8, IF(B19="Singapore",E$8, IF(B19="South Korea",E$8, IF(B19="Egypt",E$6, IF(B19="Ivory Coast",E$6, IF(B19="Jordan",E$6, IF(B19="Libya",E$6, IF(B19="Morroco",E$6, IF(B19="Mauritius",E$6, IF(B19="South Africa",E$6, IF(B19="United Arab Emirates",E$6," ""CAUTIONMISSINGINFORMATION")))))))))))))))))))))))))))))))))))))))))))))))))))))))))))))))) -> Western Europe
A20: AEE - Aegean Airlines | B20: Greece | C20: =IF(B20="Austria",E$2, IF(B20="Belgium",E$2, IF(B20="Bulgaria",E$2, IF(B20="Czech Republic",E$2, IF(B20="Denmark",E$2, IF(B20="France",E$2, IF(B20="Germany",E$2, IF(B20="Greece",E$2, IF(B20="Hungary",E$2, IF(B20="Iceland",E$2, IF(B20="Ireland",E$2, IF(B20="Italy",E$2, IF(B20="Malta",E$2, IF(B20="Netherlands",E$2, IF(B20="Poland",E$2, IF(B20="Portugal",E$2, IF(B20="Serbia",E$2, IF(B20="Slovenia",E$2, IF(B20="Spain",E$2, IF(B20="Swiss",E$2, IF(B20="United Kingdom",E$2, IF(B20="Estonia",E$3, IF(B20="Finland",E$3, IF(B20="Letvia",E$3, IF(B20="Lithuania",E$3, IF(B20="Moldavia",E$3, IF(B20="Norway",E$3, IF(B20="Romania",E$3, IF(B20="Russia",E$3, IF(B20="Sweden",E$3, IF(B20="Ukraine",E$3, IF(B20="Canada",E$5, IF(B20="Mexico",E$5, IF(B20="United States of America",E$5, IF(B20="Argentina",E$4, IF(B20="Brazil",E$4, IF(B20="Bolivia",E$4, IF(B20="Chile",E$4, IF(B20="Colombia",E$4, IF(B20="Paraguay",E$4, IF(B20="Peru",E$4, IF(B20="Uruguay",E$4, IF(B20="Australia",E$7, IF(B20="China",E$8, IF(B20="Hong Kong",E$8, IF(B20="India",E$8, IF(B20="Indonesia",E$8, IF(B20="Kazakhstan",E$8, IF(B20="Japan",E$8, IF(B20="Macau",E$8, IF(B20="Malesia",E$8, IF(B20="Mongolia",E$8, IF(B20="North Korea",E$8, IF(B20="Pakistan",E$8, IF(B20="Singapore",E$8, IF(B20="South Korea",E$8, IF(B20="Egypt",E$6, IF(B20="Ivory Coast",E$6, IF(B20="Jordan",E$6, IF(B20="Libya",E$6, IF(B20="Morroco",E$6, IF(B20="Mauritius",E$6, IF(B20="South Africa",E$6, IF(B20="United Arab Emirates",E$6," ""CAUTIONMISSINGINFORMATION")))))))))))))))))))))))))))))))))))))))))))))))))))))))))))))))) -> Western Europe
... A40: MLD - Air Moldova | B40: Moldavia | C40: =IF(B40="Austria",E$2, IF(B40="Belgium",E$2, IF(B40="Bulgaria",E$2, IF(B40="Czech Republic",E$2, IF(B40="Denmark",E$2, IF(B40="France",E$2, IF(B40="Germany",E$2, IF(B40="Greece",E$2, IF(B40="Hungary",E$2, IF(B40="Iceland",E$2, IF(B40="Ireland",E$2, IF(B40="Italy",E$2, IF(B40="Malta",E$2, IF(B40="Netherlands",E$2, IF(B40="Poland",E$2, IF(B40="Portugal",E$2, IF(B40="Serbia",E$2, IF(B40="Slovenia",E$2, IF(B40="Spain",E$2, IF(B40="Swiss",E$2, IF(B40="United Kingdom",E$2, IF(B40="Estonia",E$3, IF(B40="Finland",E$3, IF(B40="Letvia",E$3, IF(B40="Lithuania",E$3, IF(B40="Moldavia",E$3, IF(B40="Norway",E$3, IF(B40="Romania",E$3, IF(B40="Russia",E$3, IF(B40="Sweden",E$3, IF(B40="Ukraine",E$3, IF(B40="Canada",E$5, IF(B40="Mexico",E$5, IF(B40="United States of America",E$5, IF(B40="Argentina",E$4, IF(B40="Brazil",E$4, IF(B40="Bolivia",E$4, IF(B40="Chile",E$4, IF(B40="Colombia",E$4, IF(B40="Paraguay",E$4, IF(B40="Peru",E$4, IF(B40="Uruguay",E$4, IF(B40="Australia",E$7, IF(B40="China",E$8, IF(B40="Hong Kong",E$8, IF(B40="India",E$8, IF(B40="Indonesia",E$8, IF(B40="Kazakhstan",E$8, IF(B40="Japan",E$8, IF(B40="Macau",E$8, IF(B40="Malesia",E$8, IF(B40="Mongolia",E$8, IF(B40="North Korea",E$8, IF(B40="Pakistan",E$8, IF(B40="Singapore",E$8, IF(B40="South Korea",E$8, IF(B40="Egypt",E$6, IF(B40="Ivory Coast",E$6, IF(B40="Jordan",E$6, IF(B40="Libya",E$6, IF(B40="Morroco",E$6, IF(B40="Mauritius",E$6, IF(B40="South Africa",E$6, IF(B40="United Arab Emirates",E$6," ""CAUTIONMISSINGINFORMATION")))))))))))))))))))))))))))))))))))))))))))))))))))))))))))))))) -> Eastern Europe

Sheet Feuil3
