Workbook
Name devise: VLOOKUP(Balance!$A1,Devises!$P$4:$Q$15,2,0)
Name Taux: IFERROR(SUMPRODUCT((Devises!$A$4:$A$16=devise)*(Devises!$B$3:$M$3=Balance!XEQ$1)*(Devises!$B$4:$M$16)),1)

Sheet Balance
A1: Cy | B1: BU | C1: O Acc | D1: Sub | E1: Subledger | F1: Sbl Type | G1: Bal FWD | H1: 42736 | I1: 42767 | J1: 42795 | K1: 42826 | L1: 42856 | M1: 42887 | N1: 42917 | O1: 42948 | P1: 42979 | Q1: 43009 | R1: 43040 | S1: 43070 | T1: fff | U1: Cumul LC | V1: Cumul EUR
A2: 310 | B2: 31042100 | C2: 5121 | D2: 1 | E2: P&L | U2: 0 | V2: =IF(ISTEXT(devise),SUMPRODUCT(($H2:$S2)*(OFFSET(Devises!$A$3,MATCH(devise,Devises!$A$4:$A$16,0),1,1,12))),SUM($H2:$S2)) -> 0
A3: 310 | B3: 31042100 | C3: 5826 | D3: 611 | E3: P&L | H3: -1656.64 | U3: -1656.64 | V3: =IF(ISTEXT(devise),SUMPRODUCT(($H3:$S3)*(OFFSET(Devises!$A$3,MATCH(devise,Devises!$A$4:$A$16,0),1,1,12))),SUM($H3:$S3)) -> -1656.64
A4: 310 | B4: 31042100 | C4: 5826 | D4: 810 | E4: P&L | H4: -2573.25 | U4: -2573.25 | V4: =IF(ISTEXT(devise),SUMPRODUCT(($H4:$S4)*(OFFSET(Devises!$A$3,MATCH(devise,Devises!$A$4:$A$16,0),1,1,12))),SUM($H4:$S4)) -> -2573.25
A5: 310 | B5: 31070100 | C5: 5121 | D5: 1 | E5: P&L | H5: 18246.97 | U5: 18246.97 | V5: =IF(ISTEXT(devise),SUMPRODUCT(($H5:$S5)*(OFFSET(Devises!$A$3,MATCH(devise,Devises!$A$4:$A$16,0),1,1,12))),SUM($H5:$S5)) -> 18246.97
A6: 310 | B6: 31070100 | C6: 5122 | E6: P&L | H6: 1741.61 | U6: 1741.61 | V6: =IF(ISTEXT(devise),SUMPRODUCT(($H6:$S6)*(OFFSET(Devises!$A$3,MATCH(devise,Devises!$A$4:$A$16,0),1,1,12))),SUM($H6:$S6)) -> 1741.61
A7: 310 | B7: 31070100 | C7: 5124 | E7: P&L | H7: 6.1 | U7: 6.1 | V7: =IF(ISTEXT(devise),SUMPRODUCT(($H7:$S7)*(OFFSET(Devises!$A$3,MATCH(devise,Devises!$A$4:$A$16,0),1,1,12))),SUM($H7:$S7)) -> 6.1
A8: 310 | B8: 31070100 | C8: 5124 | E8: P&L | U8: 0 | V8: =IF(ISTEXT(devise),SUMPRODUCT(($H8:$S8)*(OFFSET(Devises!$A$3,MATCH(devise,Devises!$A$4:$A$16,0),1,1,12))),SUM($H8:$S8)) -> 0
A9: 310 | B9: 31070100 | C9: 5125 | E9: P&L | H9: 165.72 | U9: 165.72 | V9: =IF(ISTEXT(devise),SUMPRODUCT(($H9:$S9)*(OFFSET(Devises!$A$3,MATCH(devise,Devises!$A$4:$A$16,0),1,1,12))),SUM($H9:$S9)) -> 165.72
A10: 310 | B10: 31070100 | C10: 5132 | D10: 2 | E10: P&L | H10: 1800 | U10: 1800 | V10: =IF(ISTEXT(devise),SUMPRODUCT(($H10:$S10)*(OFFSET(Devises!$A$3,MATCH(devise,Devises!$A$4:$A$16,0),1,1,12))),SUM($H10:$S10)) -> 1800
A11: 310 | B11: 31070100 | C11: 5221 | E11: P&L | H11: -24.98 | U11: -24.98 | V11: =IF(ISTEXT(devise),SUMPRODUCT(($H11:$S11)*(OFFSET(Devises!$A$3,MATCH(devise,Devises!$A$4:$A$16,0),1,1,12))),SUM($H11:$S11)) -> -24.98
A12: 310 | B12: 31070100 | C12: 5224 | E12: P&L | H12: 157.26 | U12: 157.26 | V12: =IF(ISTEXT(devise),SUMPRODUCT(($H12:$S12)*(OFFSET(Devises!$A$3,MATCH(devise,Devises!$A$4:$A$16,0),1,1,12))),SUM($H12:$S12)) -> 157.26
A13: 310 | B13: 31070100 | C13: 5226 | E13: P&L | H13: 2433.39 | U13: 2433.39 | V13: =IF(ISTEXT(devise),SUMPRODUCT(($H13:$S13)*(OFFSET(Devises!$A$3,MATCH(devise,Devises!$A$4:$A$16,0),1,1,12))),SUM($H13:$S13)) -> 2433.39
A14: 310 | B14: 31070100 | C14: 5227 | E14: P&L | H14: -97.14 | U14: -97.14 | V14: =IF(ISTEXT(devise),SUMPRODUCT(($H14:$S14)*(OFFSET(Devises!$A$3,MATCH(devise,Devises!$A$4:$A$16,0),1,1,12))),SUM($H14:$S14)) -> -97.14
A15: 310 | B15: 31070100 | C15: 5124 | E15: P&L | U15: 0 | V15: =IF(ISTEXT(devise),SUMPRODUCT(($H15:$S15)*(OFFSET(Devises!$A$3,MATCH(devise,Devises!$A$4:$A$16,0),1,1,12))),SUM($H15:$S15)) -> 0
A16: 310 | B16: 31070100 | C16: 5239 | D16: 1 | E16: P&L | H16: 635.72 | U16: 635.72 | V16: =IF(ISTEXT(devise),SUMPRODUCT(($H16:$S16)*(OFFSET(Devises!$A$3,MATCH(devise,Devises!$A$4:$A$16,0),1,1,12))),SUM($H16:$S16)) -> 635.72
A17: 310 | B17: 31070100 | C17: 5239 | D17: 2 | E17: P&L | H17: 101.98 | U17: 101.98 | V17: =IF(ISTEXT(devise),SUMPRODUCT(($H17:$S17)*(OFFSET(Devises!$A$3,MATCH(devise,Devises!$A$4:$A$16,0),1,1,12))),SUM($H17:$S17)) -> 101.98
A18: 310 | B18: 31070100 | C18: 5252 | D18: 1 | E18: P&L | H18: 6085.43 | U18: 6085.43 | V18: =IF(ISTEXT(devise),SUMPRODUCT(($H18:$S18)*(OFFSET(Devises!$A$3,MATCH(devise,Devises!$A$4:$A$16,0),1,1,12))),SUM($H18:$S18)) -> 6085.43
A19: 310 | B19: 31070100 | C19: 5252 | D19: 2 | E19: P&L | H19: 2.1 | U19: 2.1 | V19: =IF(ISTEXT(devise),SUMPRODUCT(($H19:$S19)*(OFFSET(Devises!$A$3,MATCH(devise,Devises!$A$4:$A$16,0),1,1,12))),SUM($H19:$S19)) -> 2.1
A20: 310 | B20: 31070100 | C20: 5321 | E20: P&L | H20: 55.1 | U20: 55.1 | V20: =IF(ISTEXT(devise),SUMPRODUCT(($H20:$S20)*(OFFSET(Devises!$A$3,MATCH(devise,Devises!$A$4:$A$16,0),1,1,12))),SUM($H20:$S20)) -> 55.1
A21: 310 | B21: 31070100 | C21: 6011 | E21: P&L | H21: -12.88 | U21: -12.88 | V21: =IF(ISTEXT(devise),SUMPRODUCT(($H21:$S21)*(OFFSET(Devises!$A$3,MATCH(devise,Devises!$A$4:$A$16,0),1,1,12))),SUM($H21:$S21)) -> -12.88
A22: 310 | B22: 31070100 | C22: 6111 | E22: P&L | H22: 6423.85 | U22: 6423.85 | V22: =IF(ISTEXT(devise),SUMPRODUCT(($H22:$S22)*(OFFSET(Devises!$A$3,MATCH(devise,Devises!$A$4:$A$16,0),1,1,12))),SUM($H22:$S22)) -> 6423.85
A23: 310 | B23: 31070100 | C23: 6131 | D23: 2 | E23: P&L | H23: 1500 | U23: 1500 | V23: =IF(ISTEXT(devise),SUMPRODUCT(($H23:$S23)*(OFFSET(Devises!$A$3,MATCH(devise,Devises!$A$4:$A$16,0),1,1,12))),SUM($H23:$S23)) -> 1500
A24: 310 | B24: 31070100 | C24: 6211 | E24: P&L | H24: 60 | U24: 60 | V24: =IF(ISTEXT(devise),SUMPRODUCT(($H24:$S24)*(OFFSET(Devises!$A$3,MATCH(devise,Devises!$A$4:$A$16,0),1,1,12))),SUM($H24:$S24)) -> 60
A25: 310 | B25: 31070100 | C25: 6219 | E25: P&L | H25: 16.43 | U25: 16.43 | V25: =IF(ISTEXT(devise),SUMPRODUCT(($H25:$S25)*(OFFSET(Devises!$A$3,MATCH(devise,Devises!$A$4:$A$16,0),1,1,12))),SUM($H25:$S25)) -> 16.43
A26: 310 | B26: 31070100 | C26: 6221 | D26: 1 | E26: P&L | H26: 500 | U26: 500 | V26: =IF(ISTEXT(devise),SUMPRODUCT(($H26:$S26)*(OFFSET(Devises!$A$3,MATCH(devise,Devises!$A$4:$A$16,0),1,1,12))),SUM($H26:$S26)) -> 500
A27: 310 | B27: 31070100 | C27: 6241 | E27: P&L | H27: 373.19 | U27: 373.19 | V27: =IF(ISTEXT(devise),SUMPRODUCT(($H27:$S27)*(OFFSET(Devises!$A$3,MATCH(devise,Devises!$A$4:$A$16,0),1,1,12))),SUM($H27:$S27)) -> 373.19
A28: 310 | B28: 31070100 | C28: 6242 | E28: P&L | H28: 50.74 | U28: 50.74 | V28: =IF(ISTEXT(devise),SUMPRODUCT(($H28:$S28)*(OFFSET(Devises!$A$3,MATCH(devise,Devises!$A$4:$A$16,0),1,1,12))),SUM($H28:$S28)) -> 50.74
A29: 310 | B29: 31070100 | C29: 6247 | E29: P&L | H29: 89.85 | U29: 89.85 | V29: =IF(ISTEXT(devise),SUMPRODUCT(($H29:$S29)*(OFFSET(Devises!$A$3,MATCH(devise,Devises!$A$4:$A$16,0),1,1,12))),SUM($H29:$S29)) -> 89.85
A30: 310 | B30: 31070100 | C30: 6315 | D30: 2 | E30: P&L | H30: 220.2 | U30: 220.2 | V30: =IF(ISTEXT(devise),SUMPRODUCT(($H30:$S30)*(OFFSET(Devises!$A$3,MATCH(devise,Devises!$A$4:$A$16,0),1,1,12))),SUM($H30:$S30)) -> 220.2
A31: 310 | B31: 31070100 | C31: 6418 | D31: 2 | E31: P&L | H31: 130 | U31: 130 | V31: =IF(ISTEXT(devise),SUMPRODUCT(($H31:$S31)*(OFFSET(Devises!$A$3,MATCH(devise,Devises!$A$4:$A$16,0),1,1,12))),SUM($H31:$S31)) -> 130
A32: 310 | B32: 31070100 | C32: 6418 | D32: 3 | E32: P&L | H32: 11.19 | U32: 11.19 | V32: =IF(ISTEXT(devise),SUMPRODUCT(($H32:$S32)*(OFFSET(Devises!$A$3,MATCH(devise,Devises!$A$4:$A$16,0),1,1,12))),SUM($H32:$S32)) -> 11.19
A33: 310 | B33: 31070100 | C33: 6426 | D33: 1 | E33: P&L | H33: 851.91 | U33: 851.91 | V33: =IF(ISTEXT(devise),SUMPRODUCT(($H33:$S33)*(OFFSET(Devises!$A$3,MATCH(devise,Devises!$A$4:$A$16,0),1,1,12))),SUM($H33:$S33)) -> 851.91
A34: 310 | B34: 31070100 | C34: 6426 | D34: 3 | E34: P&L | H34: 244.81 | U34: 244.81 | V34: =IF(ISTEXT(devise),SUMPRODUCT(($H34:$S34)*(OFFSET(Devises!$A$3,MATCH(devise,Devises!$A$4:$A$16,0),1,1,12))),SUM($H34:$S34)) -> 244.81
A35: 310 | B35: 31070100 | C35: 6426 | D35: 7 | E35: P&L | H35: -346.64 | U35: -346.64 | V35: =IF(ISTEXT(devise),SUMPRODUCT(($H35:$S35)*(OFFSET(Devises!$A$3,MATCH(devise,Devises!$A$4:$A$16,0),1,1,12))),SUM($H35:$S35)) -> -346.64
A36: 310 | B36: 31070100 | C36: 6426 | D36: 8 | E36: P&L | H36: -41.54 | U36: -41.54 | V36: =IF(ISTEXT(devise),SUMPRODUCT(($H36:$S36)*(OFFSET(Devises!$A$3,MATCH(devise,Devises!$A$4:$A$16,0),1,1,12))),SUM($H36:$S36)) -> -41.54
A37: 310 | B37: 31070100 | C37: 6513 | D37: 1 | E37: P&L | H37: 10388.34 | U37: 10388.34 | V37: =IF(ISTEXT(devise),SUMPRODUCT(($H37:$S37)*(OFFSET(Devises!$A$3,MATCH(devise,Devises!$A$4:$A$16,0),1,1,12))),SUM($H37:$S37)) -> 10388.34
A38: 310 | B38: 31070100 | C38: 6519 | D38: 2 | E38: P&L | H38: 244.9 | U38: 244.9 | V38: =IF(ISTEXT(devise),SUMPRODUCT(($H38:$S38)*(OFFSET(Devises!$A$3,MATCH(devise,Devises!$A$4:$A$16,0),1,1,12))),SUM($H38:$S38)) -> 244.9
A39: 310 | B39: 31070100 | C39: 6631 | E39: P&L | H39: 4881.23 | U39: 4881.23 | V39: =IF(ISTEXT(devise),SUMPRODUCT(($H39:$S39)*(OFFSET(Devises!$A$3,MATCH(devise,Devises!$A$4:$A$16,0),1,1,12))),SUM($H39:$S39)) -> 4881.23
A40: 310 | B40: 31070100 | C40: 6632 | E40: P&L | H40: 3416.67 | U40: 3416.67 | V40: =IF(ISTEXT(devise),SUMPRODUCT(($H40:$S40)*(OFFSET(Devises!$A$3,MATCH(devise,Devises!$A$4:$A$16,0),1,1,12))),SUM($H40:$S40)) -> 3416.67
A41: 310 | B41: 31070100 | C41: 6725 | E41: P&L | H41: 498.12 | U41: 498.12 | V41: =IF(ISTEXT(devise),SUMPRODUCT(($H41:$S41)*(OFFSET(Devises!$A$3,MATCH(devise,Devises!$A$4:$A$16,0),1,1,12))),SUM($H41:$S41)) -> 498.12
A42: 310 | B42: 31070100 | C42: 6729 | E42: P&L | H42: 1481.31 | U42: 1481.31 | V42: =IF(ISTEXT(devise),SUMPRODUCT(($H42:$S42)*(OFFSET(Devises!$A$3,MATCH(devise,Devises!$A$4:$A$16,0),1,1,12))),SUM($H42:$S42)) -> 1481.31
A43: 310 | B43: 31070100 | C43: 6731 | E43: P&L | H43: 752.46 | U43: 752.46 | V43: =IF(ISTEXT(devise),SUMPRODUCT(($H43:$S43)*(OFFSET(Devises!$A$3,MATCH(devise,Devises!$A$4:$A$16,0),1,1,12))),SUM($H43:$S43)) -> 752.46
A44: 310 | B44: 31070100 | C44: 6733 | E44: P&L | H44: 31.19 | U44: 31.19 | V44: =IF(ISTEXT(devise),SUMPRODUCT(($H44:$S44)*(OFFSET(Devises!$A$3,MATCH(devise,Devises!$A$4:$A$16,0),1,1,12))),SUM($H44:$S44)) -> 31.19
A45: 310 | B45: 31070100 | C45: 6735 | E45: P&L | H45: 77.4 | U45: 77.4 | V45: =IF(ISTEXT(devise),SUMPRODUCT(($H45:$S45)*(OFFSET(Devises!$A$3,MATCH(devise,Devises!$A$4:$A$16,0),1,1,12))),SUM($H45:$S45)) -> 77.4
A46: 310 | B46: 31070100 | C46: 6777 | D46: 1 | E46: P&L | H46: 150 | U46: 150 | V46: =IF(ISTEXT(devise),SUMPRODUCT(($H46:$S46)*(OFFSET(Devises!$A$3,MATCH(devise,Devises!$A$4:$A$16,0),1,1,12))),SUM($H46:$S46)) -> 150
A47: 310 | B47: 31070100 | C47: 6777 | D47: 2 | E47: P&L | H47: 4.45 | U47: 4.45 | V47: =IF(ISTEXT(devise),SUMPRODUCT(($H47:$S47)*(OFFSET(Devises!$A$3,MATCH(devise,Devises!$A$4:$A$16,0),1,1,12))),SUM($H47:$S47)) -> 4.45
A48: 310 | B48: 31070100 | C48: 6777 | D48: 3 | E48: P&L | H48: 3160.75 | U48: 3160.75 | V48: =IF(ISTEXT(devise),SUMPRODUCT(($H48:$S48)*(OFFSET(Devises!$A$3,MATCH(devise,Devises!$A$4:$A$16,0),1,1,12))),SUM($H48:$S48)) -> 3160.75
A49: 310 | B49: 31070100 | C49: 6819 | E49: P&L | H49: 0.59 | U49: 0.59 | V49: =IF(ISTEXT(devise),SUMPRODUCT(($H49:$S49)*(OFFSET(Devises!$A$3,MATCH(devise,Devises!$A$4:$A$16,0),1,1,12))),SUM($H49:$S49)) -> 0.59
A50: 310 | B50: 31070100 | C50: 6822 | E50: P&L | H50: 223.6 | U50: 223.6 | V50: =IF(ISTEXT(devise),SUMPRODUCT(($H50:$S50)*(OFFSET(Devises!$A$3,MATCH(devise,Devises!$A$4:$A$16,0),1,1,12))),SUM($H50:$S50)) -> 223.6
A51: 310 | B51: 31070100 | C51: 6823 | D51: 3 | E51: P&L | H51: 965.18 | U51: 965.18 | V51: =IF(ISTEXT(devise),SUMPRODUCT(($H51:$S51)*(OFFSET(Devises!$A$3,MATCH(devise,Devises!$A$4:$A$16,0),1,1,12))),SUM($H51:$S51)) -> 965.18
A52: 310 | B52: 31070100 | C52: 6823 | D52: 5 | E52: P&L | H52: 13.07 | U52: 13.07 | V52: =IF(ISTEXT(devise),SUMPRODUCT(($H52:$S52)*(OFFSET(Devises!$A$3,MATCH(devise,Devises!$A$4:$A$16,0),1,1,12))),SUM($H52:$S52)) -> 13.07
A53: 310 | B53: 31070100 | C53: 6823 | D53: 6 | E53: P&L | H53: 688.73 | U53: 688.73 | V53: =IF(ISTEXT(devise),SUMPRODUCT(($H53:$S53)*(OFFSET(Devises!$A$3,MATCH(devise,Devises!$A$4:$A$16,0),1,1,12))),SUM($H53:$S53)) -> 688.73
A54: 310 | B54: 31077100 | C54: 6316 | E54: P&L | H54: 187.5 | U54: 187.5 | V54: =IF(ISTEXT(devise),SUMPRODUCT(($H54:$S54)*(OFFSET(Devises!$A$3,MATCH(devise,Devises!$A$4:$A$16,0),1,1,12))),SUM($H54:$S54)) -> 187.5
A55: 310 | B55: 31077100 | C55: 6732 | E55: P&L | H55: 1060 | U55: 1060 | V55: =IF(ISTEXT(devise),SUMPRODUCT(($H55:$S55)*(OFFSET(Devises!$A$3,MATCH(devise,Devises!$A$4:$A$16,0),1,1,12))),SUM($H55:$S55)) -> 1060
A56: 310 | B56: 31099600 | C56: 7011 | D56: 6 | E56: P&L | H56: 747.01 | U56: 747.01 | V56: =IF(ISTEXT(devise),SUMPRODUCT(($H56:$S56)*(OFFSET(Devises!$A$3,MATCH(devise,Devises!$A$4:$A$16,0),1,1,12))),SUM($H56:$S56)) -> 747.01
A57: 310 | B57: 31099600 | C57: 7019 | D57: 3 | E57: P&L | H57: 110.61 | U57: 110.61 | V57: =IF(ISTEXT(devise),SUMPRODUCT(($H57:$S57)*(OFFSET(Devises!$A$3,MATCH(devise,Devises!$A$4:$A$16,0),1,1,12))),SUM($H57:$S57)) -> 110.61
A58: 310 | B58: 31099600 | C58: 7021 | D58: 530 | E58: P&L | H58: 200150.14 | U58: 200150.14 | V58: =IF(ISTEXT(devise),SUMPRODUCT(($H58:$S58)*(OFFSET(Devises!$A$3,MATCH(devise,Devises!$A$4:$A$16,0),1,1,12))),SUM($H58:$S58)) -> 200150.14
A59: 310 | B59: 31099600 | C59: 7031 | D59: USD | E59: P&L | H59: -470 | U59: -470 | V59: =IF(ISTEXT(devise),SUMPRODUCT(($H59:$S59)*(OFFSET(Devises!$A$3,MATCH(devise,Devises!$A$4:$A$16,0),1,1,12))),SUM($H59:$S59)) -> -470
A60: 310 | B60: 31099600 | C60: 7035 | D60: GBP | E60: P&L | H60: 32.72 | U60: 32.72 | V60: =IF(ISTEXT(devise),SUMPRODUCT(($H60:$S60)*(OFFSET(Devises!$A$3,MATCH(devise,Devises!$A$4:$A$16,0),1,1,12))),SUM($H60:$S60)) -> 32.72
A61: 310 | B61: 31099600 | C61: 7035 | D61: OTR | E61: P&L | H61: -2.83 | U61: -2.83 | V61: =IF(ISTEXT(devise),SUMPRODUCT(($H61:$S61)*(OFFSET(Devises!$A$3,MATCH(devise,Devises!$A$4:$A$16,0),1,1,12))),SUM($H61:$S61)) -> -2.83
A62: 310 | B62: 31099600 | C62: 7035 | D62: SEK | E62: P&L | H62: -3.68 | U62: -3.68 | V62: =IF(ISTEXT(devise),SUMPRODUCT(($H62:$S62)*(OFFSET(Devises!$A$3,MATCH(devise,Devises!$A$4:$A$16,0),1,1,12))),SUM($H62:$S62)) -> -3.68
A63: 310 | B63: 31099600 | C63: 7035 | D63: TRY | E63: P&L | H63: 23.56 | U63: 23.56 | V63: =IF(ISTEXT(devise),SUMPRODUCT(($H63:$S63)*(OFFSET(Devises!$A$3,MATCH(devise,Devises!$A$4:$A$16,0),1,1,12))),SUM($H63:$S63)) -> 23.56
A64: 310 | B64: 31099600 | C64: 7035 | D64: USD | E64: P&L | H64: -5567.88 | U64: -5567.88 | V64: =IF(ISTEXT(devise),SUMPRODUCT(($H64:$S64)*(OFFSET(Devises!$A$3,MATCH(devise,Devises!$A$4:$A$16,0),1,1,12))),SUM($H64:$S64)) -> -5567.88
A65: 310 | B65: 31099600 | C65: 7037 | D65: USD | E65: P&L | H65: -1292.25 | U65: -1292.25 | V65: =IF(ISTEXT(devise),SUMPRODUCT(($H65:$S65)*(OFFSET(Devises!$A$3,MATCH(devise,Devises!$A$4:$A$16,0),1,1,12))),SUM($H65:$S65)) -> -1292.25
A66: 310 | B66: 31099600 | C66: 7095 | D66: 810 | E66: P&L | H66: -859469.98 | U66: -859469.98 | V66: =IF(ISTEXT(devise),SUMPRODUCT(($H66:$S66)*(OFFSET(Devises!$A$3,MATCH(devise,Devises!$A$4:$A$16,0),1,1,12))),SUM($H66:$S66)) -> -859469.98
A67: 310 | B67: 31100100 | C67: 3121 | E67: P&L | H67: 300.83 | U67: 300.83 | V67: =IF(ISTEXT(devise),SUMPRODUCT(($H67:$S67)*(OFFSET(Devises!$A$3,MATCH(devise,Devises!$A$4:$A$16,0),1,1,12))),SUM($H67:$S67)) -> 300.83
A68: 310 | B68: 31100100 | C68: 3133 | E68: P&L | H68: -27239.46 | U68: -27239.46 | V68: =IF(ISTEXT(devise),SUMPRODUCT(($H68:$S68)*(OFFSET(Devises!$A$3,MATCH(devise,Devises!$A$4:$A$16,0),1,1,12))),SUM($H68:$S68)) -> -27239.46
A69: 310 | B69: 31100100 | C69: 3311 | D69: 440 | E69: P&L | H69: -11356.12 | U69: -11356.12 | V69: =IF(ISTEXT(devise),SUMPRODUCT(($H69:$S69)*(OFFSET(Devises!$A$3,MATCH(devise,Devises!$A$4:$A$16,0),1,1,12))),SUM($H69:$S69)) -> -11356.12
A70: 310 | B70: 31100100 | C70: 3311 | D70: 530 | E70: P&L | H70: -7199732.1 | U70: -7199732.1 | V70: =IF(ISTEXT(devise),SUMPRODUCT(($H70:$S70)*(OFFSET(Devises!$A$3,MATCH(devise,Devises!$A$4:$A$16,0),1,1,12))),SUM($H70:$S70)) -> -7199732.1
A71: 310 | B71: 31100100 | C71: 3311 | D71: 531 | E71: P&L | H71: -229315.35 | U71: -229315.35 | V71: =IF(ISTEXT(devise),SUMPRODUCT(($H71:$S71)*(OFFSET(Devises!$A$3,MATCH(devise,Devises!$A$4:$A$16,0),1,1,12))),SUM($H71:$S71)) -> -229315.35
A72: 310 | B72: 31100100 | C72: 3331 | D72: 330 | E72: P&L | H72: -6299.91 | U72: -6299.91 | V72: =IF(ISTEXT(devise),SUMPRODUCT(($H72:$S72)*(OFFSET(Devises!$A$3,MATCH(devise,Devises!$A$4:$A$16,0),1,1,12))),SUM($H72:$S72)) -> -6299.91
A73: 310 | B73: 31100100 | C73: 3331 | D73: 440 | E73: P&L | H73: -51343.82 | U73: -51343.82 | V73: =IF(ISTEXT(devise),SUMPRODUCT(($H73:$S73)*(OFFSET(Devises!$A$3,MATCH(devise,Devises!$A$4:$A$16,0),1,1,12))),SUM($H73:$S73)) -> -51343.82
A74: 310 | B74: 31100100 | C74: 3331 | D74: 460 | E74: P&L | H74: -4004.22 | U74: -4004.22 | V74: =IF(ISTEXT(devise),SUMPRODUCT(($H74:$S74)*(OFFSET(Devises!$A$3,MATCH(devise,Devises!$A$4:$A$16,0),1,1,12))),SUM($H74:$S74)) -> -4004.22
A75: 310 | B75: 31100100 | C75: 3331 | D75: 530 | E75: P&L | H75: -10046.38 | U75: -10046.38 | V75: =IF(ISTEXT(devise),SUMPRODUCT(($H75:$S75)*(OFFSET(Devises!$A$3,MATCH(devise,Devises!$A$4:$A$16,0),1,1,12))),SUM($H75:$S75)) -> -10046.38
A76: 310 | B76: 31100100 | C76: 3331 | D76: 570 | E76: P&L | H76: -43736.06 | U76: -43736.06 | V76: =IF(ISTEXT(devise),SUMPRODUCT(($H76:$S76)*(OFFSET(Devises!$A$3,MATCH(devise,Devises!$A$4:$A$16,0),1,1,12))),SUM($H76:$S76)) -> -43736.06
A77: 310 | B77: 31100100 | C77: 3331 | D77: 611 | E77: P&L | H77: -217022.4 | U77: -217022.4 | V77: =IF(ISTEXT(devise),SUMPRODUCT(($H77:$S77)*(OFFSET(Devises!$A$3,MATCH(devise,Devises!$A$4:$A$16,0),1,1,12))),SUM($H77:$S77)) -> -217022.4
A78: 310 | B78: 31100100 | C78: 3331 | D78: 810 | E78: P&L | H78: -3231.25 | U78: -3231.25 | V78: =IF(ISTEXT(devise),SUMPRODUCT(($H78:$S78)*(OFFSET(Devises!$A$3,MATCH(devise,Devises!$A$4:$A$16,0),1,1,12))),SUM($H78:$S78)) -> -3231.25
A79: 310 | B79: 31100100 | C79: 3332 | D79: 330 | E79: P&L | H79: -955.83 | U79: -955.83 | V79: =IF(ISTEXT(devise),SUMPRODUCT(($H79:$S79)*(OFFSET(Devises!$A$3,MATCH(devise,Devises!$A$4:$A$16,0),1,1,12))),SUM($H79:$S79)) -> -955.83
A80: 310 | B80: 31100100 | C80: 3332 | D80: 440 | E80: P&L | H80: -2521.74 | U80: -2521.74 | V80: =IF(ISTEXT(devise),SUMPRODUCT(($H80:$S80)*(OFFSET(Devises!$A$3,MATCH(devise,Devises!$A$4:$A$16,0),1,1,12))),SUM($H80:$S80)) -> -2521.74
... A115: 310 | B115: 31100100 | C115: 4563 | D115: 91 | E115: P&L | H115: 23280 | U115: 23280 | V115: =IF(ISTEXT(devise),SUMPRODUCT(($H115:$S115)*(OFFSET(Devises!$A$3,MATCH(devise,Devises!$A$4:$A$16,0),1,1,12))),SUM($H115:$S115)) -> 23280
A116: 310 | B116: 31100100 | C116: 4564 | E116: P&L | H116: 2.91 | U116: 2.91 | V116: =IF(ISTEXT(devise),SUMPRODUCT(($H116:$S116)*(OFFSET(Devises!$A$3,MATCH(devise,Devises!$A$4:$A$16,0),1,1,12))),SUM($H116:$S116)) -> 2.91
A117: 310 | B117: 31100100 | C117: 4567 | D117: 6 | E117: P&L | H117: 167.49 | U117: 167.49 | V117: =IF(ISTEXT(devise),SUMPRODUCT(($H117:$S117)*(OFFSET(Devises!$A$3,MATCH(devise,Devises!$A$4:$A$16,0),1,1,12))),SUM($H117:$S117)) -> 167.49
A118: 310 | B118: 31100100 | C118: 4606 | D118: A1 | E118: P&L | H118: 54935.11 | U118: 54935.11 | V118: =IF(ISTEXT(devise),SUMPRODUCT(($H118:$S118)*(OFFSET(Devises!$A$3,MATCH(devise,Devises!$A$4:$A$16,0),1,1,12))),SUM($H118:$S118)) -> 54935.11
A119: 310 | B119: 31100100 | C119: 4611 | D119: B1 | E119: P&L | H119: 52606.21 | U119: 52606.21 | V119: =IF(ISTEXT(devise),SUMPRODUCT(($H119:$S119)*(OFFSET(Devises!$A$3,MATCH(devise,Devises!$A$4:$A$16,0),1,1,12))),SUM($H119:$S119)) -> 52606.21
A120: 310 | B120: 31100100 | C120: 4612 | D120: B2 | E120: P&L | H120: 32804.13 | U120: 32804.13 | V120: =IF(ISTEXT(devise),SUMPRODUCT(($H120:$S120)*(OFFSET(Devises!$A$3,MATCH(devise,Devises!$A$4:$A$16,0),1,1,12))),SUM($H120:$S120)) -> 32804.13
A121: 310 | B121: 31100100 | C121: 4613 | D121: B1 | E121: P&L | H121: -374240.99 | U121: -374240.99 | V121: =IF(ISTEXT(devise),SUMPRODUCT(($H121:$S121)*(OFFSET(Devises!$A$3,MATCH(devise,Devises!$A$4:$A$16,0),1,1,12))),SUM($H121:$S121)) -> -374240.99
A122: 310 | B122: 31100100 | C122: 4614 | D122: B2 | E122: P&L | H122: -59263.16 | U122: -59263.16 | V122: =IF(ISTEXT(devise),SUMPRODUCT(($H122:$S122)*(OFFSET(Devises!$A$3,MATCH(devise,Devises!$A$4:$A$16,0),1,1,12))),SUM($H122:$S122)) -> -59263.16
A123: 310 | B123: 31100100 | C123: 4621 | D123: C3 | E123: P&L | H123: 47484.28 | U123: 47484.28 | V123: =IF(ISTEXT(devise),SUMPRODUCT(($H123:$S123)*(OFFSET(Devises!$A$3,MATCH(devise,Devises!$A$4:$A$16,0),1,1,12))),SUM($H123:$S123)) -> 47484.28
A124: 310 | B124: 31100100 | C124: 4622 | D124: C4 | E124: P&L | H124: 97299.15 | U124: 97299.15 | V124: =IF(ISTEXT(devise),SUMPRODUCT(($H124:$S124)*(OFFSET(Devises!$A$3,MATCH(devise,Devises!$A$4:$A$16,0),1,1,12))),SUM($H124:$S124)) -> 97299.15
A125: 310 | B125: 31100100 | C125: 4623 | D125: C3 | E125: P&L | H125: -345257.34 | U125: -345257.34 | V125: =IF(ISTEXT(devise),SUMPRODUCT(($H125:$S125)*(OFFSET(Devises!$A$3,MATCH(devise,Devises!$A$4:$A$16,0),1,1,12))),SUM($H125:$S125)) -> -345257.34
A126: 310 | B126: 31100100 | C126: 4625 | D126: C4 | E126: P&L | H126: -685693.08 | U126: -685693.08 | V126: =IF(ISTEXT(devise),SUMPRODUCT(($H126:$S126)*(OFFSET(Devises!$A$3,MATCH(devise,Devises!$A$4:$A$16,0),1,1,12))),SUM($H126:$S126)) -> -685693.08
A127: 310 | B127: 31100100 | C127: 4651 | D127: 440 | E127: P&L | H127: 1300 | U127: 1300 | V127: =IF(ISTEXT(devise),SUMPRODUCT(($H127:$S127)*(OFFSET(Devises!$A$3,MATCH(devise,Devises!$A$4:$A$16,0),1,1,12))),SUM($H127:$S127)) -> 1300
A128: 310 | B128: 31100100 | C128: 4651 | D128: 530 | E128: P&L | H128: 117.79 | U128: 117.79 | V128: =IF(ISTEXT(devise),SUMPRODUCT(($H128:$S128)*(OFFSET(Devises!$A$3,MATCH(devise,Devises!$A$4:$A$16,0),1,1,12))),SUM($H128:$S128)) -> 117.79
A129: 310 | B129: 31100100 | C129: 4651 | D129: 537 | E129: P&L | H129: 59.01 | U129: 59.01 | V129: =IF(ISTEXT(devise),SUMPRODUCT(($H129:$S129)*(OFFSET(Devises!$A$3,MATCH(devise,Devises!$A$4:$A$16,0),1,1,12))),SUM($H129:$S129)) -> 59.01
A130: 310 | B130: 31100100 | C130: 4651 | D130: 570 | E130: P&L | H130: 55.77 | U130: 55.77 | V130: =IF(ISTEXT(devise),SUMPRODUCT(($H130:$S130)*(OFFSET(Devises!$A$3,MATCH(devise,Devises!$A$4:$A$16,0),1,1,12))),SUM($H130:$S130)) -> 55.77
A131: 310 | B131: 31100100 | C131: 4661 | D131: 330 | E131: P&L | H131: -32.06 | U131: -32.06 | V131: =IF(ISTEXT(devise),SUMPRODUCT(($H131:$S131)*(OFFSET(Devises!$A$3,MATCH(devise,Devises!$A$4:$A$16,0),1,1,12))),SUM($H131:$S131)) -> -32.06
A132: 310 | B132: 31100100 | C132: 4661 | D132: 440 | E132: P&L | H132: 1207.5 | U132: 1207.5 | V132: =IF(ISTEXT(devise),SUMPRODUCT(($H132:$S132)*(OFFSET(Devises!$A$3,MATCH(devise,Devises!$A$4:$A$16,0),1,1,12))),SUM($H132:$S132)) -> 1207.5
A133: 310 | B133: 31100100 | C133: 4661 | D133: 570 | E133: P&L | H133: -0.01 | U133: -0.01 | V133: =IF(ISTEXT(devise),SUMPRODUCT(($H133:$S133)*(OFFSET(Devises!$A$3,MATCH(devise,Devises!$A$4:$A$16,0),1,1,12))),SUM($H133:$S133)) -> -0.01
A134: 310 | B134: 31100100 | C134: 4713 | D134: 2 | E134: P&L | H134: 25709.83 | U134: 25709.83 | V134: =IF(ISTEXT(devise),SUMPRODUCT(($H134:$S134)*(OFFSET(Devises!$A$3,MATCH(devise,Devises!$A$4:$A$16,0),1,1,12))),SUM($H134:$S134)) -> 25709.83
...

Sheet Devises
A1: TAUX MOYEN DES DEVISES / AVERAGE EXCHANGE RATE
B3: 42736 | C3: 42767 | D3: 42795 | E3: 42826 | F3: 42856 | G3: 42887 | H3: 42917 | I3: 42948 | J3: 42979 | K3: 43009 | L3: 43040 | M3: 43070 | P3: CY | Q3: DEVISES
A4: USD | B4: 1.0614 | C4: 1.0643 | P4: 330 | Q4: gbp
A5: GBP | B5: 0.861 | C5: 0.8527 | P5: 335 | Q5: gbp
A6: SEK | B6: 9.511 | C6: 9.4762 | P6: 360 | Q6: ZAR
A7: CHF | B7: 1.0714 | C7: 1.066 | P7: 460 | Q7: PLN
A8: PLN | B8: 4.3671 | C8: 4.3081 | P8: 465 | Q8: PLN
A9: TRY | B9: 3.9869 | C9: 3.9011 | P9: 500 | Q9: RUB
A10: RUB | B10: 63.4978 | C10: 62.152 | P10: 533 | Q10: gbp
A11: THB | B11: 37.6448 | C11: 37.2584 | P11: 536 | Q11: PLN
A12: ZAR | B12: 14.4012 | C12: 14.0389 | P12: 540 | Q12: TRY
A13: HUF | B13: 308.9868 | C13: 308.502 | P13: 562 | Q13: gbp
A14: AED | B14: 3.9043 | C14: 3.90864 | P14: 566 | Q14: LPB
A15: LBP | B15: 1603.766 | C15: 1605.6461 | P15: 580 | Q15: ARS
A16: ARS | B16: 16.903369 | C16: 16.5749
