Workbook
Name devise: VLOOKUP(Balance!$A1,Devises!$P$4:$Q$15,2,0)
Name Taux: IFERROR(SUMPRODUCT((Devises!$A$4:$A$16=devise)*(Devises!$B$3:$M$3=Balance!XEQ$1)*(Devises!$B$4:$M$16)),1)

Sheet Balance
A1: Cy | B1: BU | C1: O Acc | D1: Sub | E1: Subledger | F1: Sbl Type | G1: Bal FWD | H1: 42736 | I1: 42767 | J1: 42795 | K1: 42826 | L1: 42856 | M1: 42887 | N1: 42917 | O1: 42948 | P1: 42979 | Q1: 43009 | R1: 43040 | S1: 43070 | T1: fff | U1: Cumul LC | V1: Cumul EUR
A2: 310 | B2: 31042100 | C2: 5121 | D2: 1 | E2: P&L | U2: 0 | V2: =IF(ISTEXT(devise),SUMPRODUCT(($H2:$S2)*(OFFSET(Devises!$A$3,MATCH(devise,Devises!$A$4:$A$16,0),1,1,12))),SUM($H2:$S2)) -> 0
A3: 310 | B3: 31042100 | C3: 5826 | D3: 611 | E3: P&L | H3: -1656.64 | U3: -1656.64 | V3: =IF(ISTEXT(devise),SUMPRODUCT(($H3:$S3)*(OFFSET(Devises!$A$3,MATCH(devise,Devises!$A$4:$A$16,0),1,1,12))),SUM($H3:$S3)) -> -1656.64
A4: 310 | B4: 31042100 | C4: 5826 | D4: 810 | E4: P&L | H4: -2573.25 | U4: -2573.25 | V4: =IF(ISTEXT(devise),SUMPRODUCT(($H4:$S4)*(OFFSET(Devises!$A$3,MATCH(devise,Devises!$A$4:$A$16,0),1,1,12))),SUM($H4:$S4)) -> -2573.25
A5: 310 | B5: 31070100 | C5: 5121 | D5: 1 | E5: P&L | H5: 18246.97 | U5: 18246.97 | V5: =IF(ISTEXT(devise),SUMPRODUCT(($H5:$S5)*(OFFSET(Devises!$A$3,MATCH(devise,Devises!$A$4:$A$16,0),1,1,12))),SUM($H5:$S5)) -> 18246.97
A6: 310 | B6: 31070100 | C6: 5122 | E6: P&L | H6: 1741.61 | U6: 1741.61 | V6: =IF(ISTEXT(devise),SUMPRODUCT(($H6:$S6)*(OFFSET(Devises!$A$3,MATCH(devise,Devises!$A$4:$A$16,0),1,1,12))),SUM($H6:$S6)) -> 1741.61
A7: 310 | B7: 31070100 | C7: 5124 | E7: P&L | H7: 6.1 | U7: 6.1 | V7: =IF(ISTEXT(devise),SUMPRODUCT(($H7:$S7)*(OFFSET(Devises!$A$3,MATCH(devise,Devises!$A$4:$A$16,0),1,1,12))),SUM($H7:$S7)) -> 6.1
A8: 310 | B8: 31070100 | C8: 5124 | E8: P&L | U8: 0 | V8: =IF(ISTEXT(devise),SUMPRODUCT(($H8:$S8)*(OFFSET(Devises!$A$3,MATCH(devise,Devises!$A$4:$A$16,0),1,1,12))),SUM($H8:$S8)) -> 0
A9: 310 | B9: 31070100 | C9: 5125 | E9: P&L | H9: 165.72 | U9: 165.72 | V9: =IF(ISTEXT(devise),SUMPRODUCT(($H9:$S9)*(OFFSET(Devises!$A$3,MATCH(devise,Devises!$A$4:$A$16,0),1,1,12))),SUM($H9:$S9)) -> 165.72
A10: 310 | B10: 31070100 | C10: 5132 | D10: 2 | E10: P&L | H10: 1800 | U10: 1800 | V10: =IF(ISTEXT(devise),SUMPRODUCT(($H10:$S10)*(OFFSET(Devises!$A$3,MATCH(devise,Devises!$A$4:$A$16,0),1,1,12))),SUM($H10:$S10)) -> 1800
A11: 310 | B11: 31070100 | C11: 5221 | E11: P&L | H11: -24.98 | U11: -24.98 | V11: =IF(ISTEXT(devise),SUMPRODUCT(($H11:$S11)*(OFFSET(Devises!$A$3,MATCH(devise,Devises!$A$4:$A$16,0),1,1,12))),SUM($H11:$S11)) -> -24.98
A12: 310 | B12: 31070100 | C12: 5224 | E12: P&L | H12: 157.26 | U12: 157.26 | V12: =IF(ISTEXT(devise),SUMPRODUCT(($H12:$S12)*(OFFSET(Devises!$A$3,MATCH(devise,Devises!$A$4:$A$16,0),1,1,12))),SUM($H12:$S12)) -> 157.26
A13: 310 | B13: 31070100 | C13: 5226 | E13: P&L | H13: 2433.39 | U13: 2433.39 | V13: =IF(ISTEXT(devise),SUMPRODUCT(($H13:$S13)*(OFFSET(Devises!$A$3,MATCH(devise,Devises!$A$4:$A$16,0),1,1,12))),SUM($H13:$S13)) -> 2433.39
A14: 310 | B14: 31070100 | C14: 5227 | E14: P&L | H14: -97.14 | U14: -97.14 | V14: =IF(ISTEXT(devise),SUMPRODUCT(($H14:$S14)*(OFFSET(Devises!$A$3,MATCH(devise,Devises!$A$4:$A$16,0),1,1,12))),SUM($H14:$S14)) -> -97.14
A15: 310 | B15: 31070100 | C15: 5124 | E15: P&L | U15: 0 | V15: =IF(ISTEXT(devise),SUMPRODUCT(($H15:$S15)*(OFFSET(Devises!$A$3,MATCH(devise,Devises!$A$4:$A$16,0),1,1,12))),SUM($H15:$S15)) -> 0
A16: 310 | B16: 31070100 | C16: 5239 | D16: 1 | E16: P&L | H16: 635.72 | U16: 635.72 | V16: =IF(ISTEXT(devise),SUMPRODUCT(($H16:$S16)*(OFFSET(Devises!$A$3,MATCH(devise,Devises!$A$4:$A$16,0),1,1,12))),SUM($H16:$S16)) -> 635.72
A17: 310 | B17: 31070100 | C17: 5239 | D17: 2 | E17: P&L | H17: 101.98 | U17: 101.98 | V17: =IF(ISTEXT(devise),SUMPRODUCT(($H17:$S17)*(OFFSET(Devises!$A$3,MATCH(devise,Devises!$A$4:$A$16,0),1,1,12))),SUM($H17:$S17)) -> 101.98
A18: 310 | B18: 31070100 | C18: 5252 | D18: 1 | E18: P&L | H18: 6085.43 | U18: 6085.43 | V18: =IF(ISTEXT(devise),SUMPRODUCT(($H18:$S18)*(OFFSET(Devises!$A$3,MATCH(devise,Devises!$A$4:$A$16,0),1,1,12))),SUM($H18:$S18)) -> 6085.43
A19: 310 | B19: 31070100 | C19: 5252 | D19: 2 | E19: P&L | H19: 2.1 | U19: 2.1 | V19: =IF(ISTEXT(devise),SUMPRODUCT(($H19:$S19)*(OFFSET(Devises!$A$3,MATCH(devise,Devises!$A$4:$A$16,0),1,1,12))),SUM($H19:$S19)) -> 2.1
A20: 310 | B20: 31070100 | C20: 5321 | E20: P&L | H20: 55.1 | U20: 55.1 | V20: =IF(ISTEXT(devise),SUMPRODUCT(($H20:$S20)*(OFFSET(Devises!$A$3,MATCH(devise,Devises!$A$4:$A$16,0),1,1,12))),SUM($H20:$S20)) -> 55.1
A21: 310 | B21: 31070100 | C21: 6011 | E21: P&L | H21: -12.88 | U21: -12.88 | V21: =IF(ISTEXT(devise),SUMPRODUCT(($H21:$S21)*(OFFSET(Devises!$A$3,MATCH(devise,Devises!$A$4:$A$16,0),1,1,12))),SUM($H21:$S21)) -> -12.88
A22: 310 | B22: 31070100 | C22: 6111 | E22: P&L | H22: 6423.85 | U22: 6423.85 | V22: =IF(ISTEXT(devise),SUMPRODUCT(($H22:$S22)*(OFFSET(Devises!$A$3,MATCH(devise,Devises!$A$4:$A$16,0),1,1,12))),SUM($H22:$S22)) -> 6423.85
A23: 310 | B23: 31070100 | C23: 6131 | D23: 2 | E23: P&L | H23: 1500 | U23: 1500 | V23: =IF(ISTEXT(devise),SUMPRODUCT(($H23:$S23)*(OFFSET(Devises!$A$3,MATCH(devise,Devises!$A$4:$A$16,0),1,1,12))),SUM($H23:$S23)) -> 1500
A24: 310 | B24: 31070100 | C24: 6211 | E24: P&L | H24: 60 | U24: 60 | V24: =IF(ISTEXT(devise),SUMPRODUCT(($H24:$S24)*(OFFSET(Devises!$A$3,MATCH(devise,Devises!$A$4:$A$16,0),1,1,12))),SUM($H24:$S24)) -> 60
A25: 310 | B25: 31070100 | C25: 6219 | E25: P&L | H25: 16.43 | U25: 16.43 | V25: =IF(ISTEXT(devise),SUMPRODUCT(($H25:$S25)*(OFFSET(Devises!$A$3,MATCH(devise,Devises!$A$4:$A$16,0),1,1,12))),SUM($H25:$S25)) -> 16.43
A26: 310 | B26: 31070100 | C26: 6221 | D26: 1 | E26: P&L | H26: 500 | U26: 500 | V26: =IF(ISTEXT(devise),SUMPRODUCT(($H26:$S26)*(OFFSET(Devises!$A$3,MATCH(devise,Devises!$A$4:$A$16,0),1,1,12))),SUM($H26:$S26)) -> 500
A27: 310 | B27: 31070100 | C27: 6241 | E27: P&L | H27: 373.19 | U27: 373.19 | V27: =IF(ISTEXT(devise),SUMPRODUCT(($H27:$S27)*(OFFSET(Devises!$A$3,MATCH(devise,Devises!$A$4:$A$16,0),1,1,12))),SUM($H27:$S27)) -> 373.19
A28: 310 | B28: 31070100 | C28: 6242 | E28: P&L | H28: 50.74 | U28: 50.74 | V28: =IF(ISTEXT(devise),SUMPRODUCT(($H28:$S28)*(OFFSET(Devises!$A$3,MATCH(devise,Devises!$A$4:$A$16,0),1,1,12))),SUM($H28:$S28)) -> 50.74
A29: 310 | B29: 31070100 | C29: 6247 | E29: P&L | H29: 89.85 | U29: 89.85 | V29: =IF(ISTEXT(devise),SUMPRODUCT(($H29:$S29)*(OFFSET(Devises!$A$3,MATCH(devise,Devises!$A$4:$A$16,0),1,1,12))),SUM($H29:$S29)) -> 89.85
A30: 310 | B30: 31070100 | C30: 6315 | D30: 2 | E30: P&L | H30: 220.2 | U30: 220.2 | V30: =IF(ISTEXT(devise),SUMPRODUCT(($H30:$S30)*(OFFSET(Devises!$A$3,MATCH(devise,Devises!$A$4:$A$16,0),1,1,12))),SUM($H30:$S30)) -> 220.2
A31: 310 | B31: 31070100 | C31: 6418 | D31: 2 | E31: P&L | H31: 130 | U31: 130 | V31: =IF(ISTEXT(devise),SUMPRODUCT(($H31:$S31)*(OFFSET(Devises!$A$3,MATCH(devise,Devises!$A$4:$A$16,0),1,1,12))),SUM($H31:$S31)) -> 130
A32: 310 | B32: 31070100 | C32: 6418 | D32: 3 | E32: P&L | H32: 11.19 | U32: 11.19 | V32: =IF(ISTEXT(devise),SUMPRODUCT(($H32:$S32)*(OFFSET(Devises!$A$3,MATCH(devise,Devises!$A$4:$A$16,0),1,1,12))),SUM($H32:$S32)) -> 11.19
A33: 310 | B33: 31070100 | C33: 6426 | D33: 1 | E33: P&L | H33: 851.91 | U33: 851.91 | V33: =IF(ISTEXT(devise),SUMPRODUCT(($H33:$S33)*(OFFSET(Devises!$A$3,MATCH(devise,Devises!$A$4:$A$16,0),1,1,12))),SUM($H33:$S33)) -> 851.91
A34: 310 | B34: 31070100 | C34: 6426 | D34: 3 | E34: P&L | H34: 244.81 | U34: 244.81 | V34: =IF(ISTEXT(devise),SUMPRODUCT(($H34:$S34)*(OFFSET(Devises!$A$3,MATCH(devise,Devises!$A$4:$A$16,0),1,1,12))),SUM($H34:$S34)) -> 244.81
A35: 310 | B35: 31070100 | C35: 6426 | D35: 7 | E35: P&L | H35: -346.64 | U35: -346.64 | V35: =IF(ISTEXT(devise),SUMPRODUCT(($H35:$S35)*(OFFSET(Devises!$A$3,MATCH(devise,Devises!$A$4:$A$16,0),1,1,12))),SUM($H35:$S35)) -> -346.64
A36: 310 | B36: 31070100 | C36: 6426 | D36: 8 | E36: P&L | H36: -41.54 | U36: -41.54 | V36: =IF(ISTEXT(devise),SUMPRODUCT(($H36:$S36)*(OFFSET(Devises!$A$3,MATCH(devise,Devises!$A$4:$A$16,0),1,1,12))),SUM($H36:$S36)) -> -41.54
A37: 310 | B37: 31070100 | C37: 6513 | D37: 1 | E37: P&L | H37: 10388.34 | U37: 10388.34 | V37: =IF(ISTEXT(devise),SUMPRODUCT(($H37:$S37)*(OFFSET(Devises!$A$3,MATCH(devise,Devises!$A$4:$A$16,0),1,1,12))),SUM($H37:$S37)) -> 10388.34
A38: 310 | B38: 31070100 | C38: 6519 | D38: 2 | E38: P&L | H38: 244.9 | U38: 244.9 | V38: =IF(ISTEXT(devise),SUMPRODUCT(($H38:$S38)*(OFFSET(Devises!$A$3,MATCH(devise,Devises!$A$4:$A$16,0),1,1,12))),SUM($H38:$S38)) -> 244.9
A39: 310 | B39: 31070100 | C39: 6631 | E39: P&L | H39: 4881.23 | U39: 4881.23 | V39: =IF(ISTEXT(devise),SUMPRODUCT(($H39:$S39)*(OFFSET(Devises!$A$3,MATCH(devise,Devises!$A$4:$A$16,0),1,1,12))),SUM($H39:$S39)) -> 4881.23
A40: 310 | B40: 31070100 | C40: 6632 | E40: P&L | H40: 3416.67 | U40: 3416.67 | V40: =IF(ISTEXT(devise),SUMPRODUCT(($H40:$S40)*(OFFSET(Devises!$A$3,MATCH(devise,Devises!$A$4:$A$16,0),1,1,12))),SUM($H40:$S40)) -> 3416.67
...

Sheet Devises
A1: TAUX MOYEN DES DEVISES / AVERAGE EXCHANGE RATE
B3: 42736 | C3: 42767 | D3: 42795 | E3: 42826 | F3: 42856 | G3: 42887 | H3: 42917 | I3: 42948 | J3: 42979 | K3: 43009 | L3: 43040 | M3: 43070 | P3: CY | Q3: DEVISES
A4: USD | B4: 1.0614 | C4: 1.0643 | P4: 330 | Q4: gbp
A5: GBP | B5: 0.861 | C5: 0.8527 | P5: 335 | Q5: gbp
A6: SEK | B6: 9.511 | C6: 9.4762 | P6: 360 | Q6: ZAR
A7: CHF | B7: 1.0714 | C7: 1.066 | P7: 460 | Q7: PLN
A8: PLN | B8: 4.3671 | C8: 4.3081 | P8: 465 | Q8: PLN
A9: TRY | B9: 3.9869 | C9: 3.9011 | P9: 500 | Q9: RUB
A10: RUB | B10: 63.4978 | C10: 62.152 | P10: 533 | Q10: gbp
A11: THB | B11: 37.6448 | C11: 37.2584 | P11: 536 | Q11: PLN
A12: ZAR | B12: 14.4012 | C12: 14.0389 | P12: 540 | Q12: TRY
A13: HUF | B13: 308.9868 | C13: 308.502 | P13: 562 | Q13: gbp
A14: AED | B14: 3.9043 | C14: 3.90864 | P14: 566 | Q14: LPB
A15: LBP | B15: 1603.766 | C15: 1605.6461 | P15: 580 | Q15: ARS
A16: ARS | B16: 16.903369 | C16: 16.5749
