Workbook

Sheet Tab Suivi 2014
A1: GI | B1: Deplacement de l'echaffaudage coté piste pour la 2e tranche jusqu'a la limite du PCA | C1: MAPA | D1: Service | E1: ='[1]Tab Suivi 2012'!E197+1 -> 695 | F1: 20130031 | G1: 19000 | H1: 41254 | I1: 41295 | J1: ENA | K1: Bassin de radoub BP463 97205 Fort de France cedex | L1: 18240 | M1: 30 jours
A2: GI | B2: Réalisation de joints silicone sur les vitrages coté piste (2ème tranche) | C2: MAPA | D2: Service | E2: ='[1]Tab Suivi 2012'!E199+1 -> 697 | F2: 20130029 | G2: 7000 | H2: 41253 | I2: 41295 | J2: CAC | K2: c/sci les alizes ZA Laugier 97212 Riviere Salée | L2: 6583.5 | M2: 21 jours
A3: GI | B3: Travaux de modification du local medical destiné à la medecine du travail | C3: MAPA | D3: Travaux | E3: ='Tab Suivi 2014'!E2+1 -> 698 | F3: 20130028 | G3: 7000 | H3: 41254 | I3: 41295 | J3: Revetement plus | K3: 52 rue du professeur R. Roy-Camille Dillon 97200 Fort de France | L3: 6223 | M3: 5 jours
H6: TABLEAU SUIVI DES MAPA ST 2014
A7: SECTION | B7: INTITULE | C7: TYPE | D7: NATURE | E7: N° 2013SAMACxx | F7: N° bon de commande | G7: ESTIMATION | H7: Date d'envoi | I7: Date validation | J7: TITULAIRE | K7: Adresse | L7: MONTANT HT | M7: Durée | N7: Travaux en cours | O7: Travaux réceptionnés
A8: MI | B8: Etude de projet "Alim Passerelles" | C8: MAPA | D8: Service | E8: 500 | G8: 10000 | P8: Rapport de consultation validé le 02/05/2014
A9: MI | B9: Elect batiment ATIS | C9: MAPA | D9: Service | E9: =E8+1 -> 501 | F9: 20140062 | G9: 10000 | H9: 41667 | I9: 41680 | J9: CET | K9: BP 5031 97234 Fort de France Floreal | L9: 5654 | M9: 15 jours
A10: MI | B10: Baie Redresseur 48 V | C10: MAPA | D10: Travaux | E10: =E9+1 -> 502 | F10: 20140064 | G10: 10000 | H10: 41667 | I10: 41680 | J10: ANTILLES ELECTRICITE | K10: Bat EGER Lot n°9 ZAC de Manhity 97232 Le Lamentin | L10: 6088 | M10: 21 jours
A11: GI | B11: Mise en oeuvre de la pêche dans les canaux côté piste | C11: MAPA | D11: Service | E11: =E10+1 -> 503 | F11: 20140053 | G11: 10000 | H11: 41666 | I11: 41697 | J11: ALEXANDRE-ALEXIS Omer | K11: Tartane 97220 Trinité | L11: 9765 | M11: 3 mois
A12: ME | B12: Frais de transport matériel Alstef BC20131240 | C12: MAPA | D12: Service | E12: =E11+1 -> 504 | F12: 20140072 | G12: 4500 | H12: 41667 | I12: 41680 | J12: SETCARGO | K12: Imm du port 3e etage 8 avenue Maurice Bishop 97200 Fort de France | L12: 4304.64 | M12: 3 semaines
A13: GI | B13: Démolition ancien local CE AF | C13: MAPA | D13: Travaux | E13: =E12+1 -> 505 | F13: 20140073 | G13: 12000 | H13: 41667 | I13: 41680 | J13: CDC | K13: Long Pré 97232 Le Lamentin | L13: 11075 | M13: 4 jours
A14: GI | B14: Mise en place d'un automatisme pour la porte accès PMR au filtre police départ | C14: MAPA | D14: Travaux | E14: =E13+1 -> 506 | F14: 20140170 | G14: 5000 | H14: 41689 | I14: 41695 | J14: Passionelec | K14: La ferme redoute 6 imp Albert Moscou 97200 Fort de France | L14: 4432.7 | M14: 2 jours
A15: GI | B15: Achat de pièces détachées pour véhicules R4 et R5 après visite de garantie SIDES | C15: MAPA | D15: Fourniture | E15: =E14+1 -> 507 | F15: 20140056 | G15: 7000 | H15: 41688 | I15: 41695 | J15: SIDES | K15: 182, rue de trignac BP146 44603 Saint-Nazaire | L15: 6820.54 | M15: 8 semaines
A16: GI | B16: Echange standard bloc compresseur ARI Bauer | E16: =E15+1 -> 508 | F16: 20140158 | G16: 8000 | H16: 41688 | I16: 41695 | J16: MIS | K16: 17 lot St James 97250 Saint-Pierre | L16: 8276 | M16: 8 semaines
A17: GI | B17: Maintenance réglementaire des radeux de survie de l'Aéromac | C17: MAPA | D17: Travaux | E17: =E16+1 -> 509 | F17: 20140059 | G17: 13000 | H17: 41688 | I17: 41695 | J17: La Survy | K17: Quartier Montgérald 97290 Le Marin | L17: 12330.08 | M17: 18 jours
A18: GI/SC | B18: Convention pour l'entretien du réseau d'eaux usées et des postes de la zone aéroportuaire | C18: MAPA | D18: Travaux | E18: =E17+1 -> 510 | F18: 20140179 | G18: 29500 | H18: 41690 | I18: 41695 | J18: SME | K18: BP 213 Place d'Armes 97284 Lamentin cedex 2 | L18: 27028 | M18: 1 an
A19: MI | B19: Maintenance des RX du PIF | C19: MAPA | D19: Service | E19: =E18+1 -> 511 | F19: 20140162 | G19: 15000 | H19: 41688 | I19: 41705 | J19: HTDS | K19: 3 Rue du Saule Trapu BP246 91882 Massy cedex | L19: 14402.58 | M19: 6 mois
A20: GI | B20: Peinture de la coursive R1 | C20: MAPA | D20: Travaux | E20: =E19+1 -> 512 | F20: 20140183 | G20: 9000 | H20: 41691 | I20: 41705 | J20: RENOV PEINTURE | K20: Av J.Roumain squadra F Duplex A2 cité Dillon 97200 Fort de France | L20: 9060 | M20: 1 mois
A21: MI | B21: Caméras passerelles télescopiques pour le PCA | C21: MAPA | D21: Fourniture | E21: =E20+1 -> 513 | F21: 20140014 | G21: 45000 | H21: 41660 | I21: 41705 | J21: Romagefa | K21: BP298 97286 Lamentin | L21: 29819.4 | M21: 1 mois
A22: MI | B22: Location Groupe du FRET | C22: MAPA | D22: Service | E22: =E21+1 -> 514 | F22: 20140185 | G22: 15000 | H22: 41691 | I22: 41705 | J22: ASSISTANCE97 | K22: ZI Californie 97232 Le Lamentin | L22: 10800 | M22: 3 mois
A23: GI | B23: Peinture des façade du quai du Fret | C23: MAPA | D23: Travaux | E23: =E22+1 -> 515 | F23: 20140201 | G23: 31000 | H23: 41696 | I23: 41718 | J23: SAINT-SAUVEUR | K23: Residence Toquade Bat H appt 6 Reneville 97200 Fort de France | L23: 31049 | M23: 2 semaines
A24: MI | B24: Eclairage escalier colimaçon | C24: MAPA | D24: Travaux | E24: ='Tab Suivi 2014'!E23+1 -> 516 | F24: 20140209 | G24: 10000 | H24: 41696 | I24: 41718 | J24: CET | K24: BP 5031 97234 Fort de France Floreal | L24: 10800 | M24: 3 mois
A25: MI | B25: Distribution électrique des LCD | C25: MAPA | D25: Travaux | E25: ='Tab Suivi 2014'!E24+1 -> 517 | F25: 20140220 | G25: 25000 | H25: 41708 | I25: 41718 | J25: CET | K25: BP 5031 97234 Fort de France Floreal | L25: 22650.6 | M25: 2 mois
A26: MI | B26: Mise en place Alim Burger King | C26: MAPA | D26: Travaux | E26: ='Tab Suivi 2014'!E25+1 -> 518 | G26: 12000
A27: MI | B27: Levée de réserves APAVE 2013 | C27: MAPA | D27: Travaux | E27: ='Tab Suivi 2014'!E26+1 -> 519 | F27: 20140304 | G27: 10000 | H27: 41725 | I27: 41761 | J27: CET | K27: BP 5031 97234 Fort de France Floreal | L27: 12617.79 | M27: 1 mois
A28: MI | B28: Maintenance système GTC | C28: MAPA | D28: Service | E28: ='Tab Suivi 2014'!E27+1 -> 520 | F28: 20140155 | G28: 40000 | H28: 41696 | I28: 41718 | J28: SIEMENS | K28: ZI 617 Rue Fourny BP20 78531 Buc cedex France | L28: 36833 | M28: 1 an
A29: MI | B29: Batteries onduleurs | C29: MAPA | D29: Travaux | E29: ='Tab Suivi 2014'!E28+1 -> 521 | F29: 20140221 | G29: 10000 | H29: 41708 | I29: 41718 | J29: ANTILLES ELECTRICITE | K29: Bat EGER Lot n°9 ZAC de Manhity 97232 Le Lamentin | L29: 6200 | M29: 1 mois
A30: MI | B30: Mise en place et raccordement de 10 potelets de prises de courant | C30: MAPA | D30: Travaux | E30: ='Tab Suivi 2014'!E29+1 -> 522 | G30: 12000 | M30: 1 mois
A31: ME | B31: Maintenance des installations de climatisation de l'EAS -1er semestre 2014- | C31: MAPA | D31: Service | E31: ='Tab Suivi 2014'!E30+1 -> 523 | F31: 20140219 | G31: 30000 | H31: 41709 | I31: 41718 | J31: GEM | K31: Immeuble Hexagone ZI de Champigny 97224 Ducos | L31: 27426.72 | M31: 6 mois
A32: GI/SC | B32: Aménagement d'un local technique dans le batiment placette ouest | C32: MAPA | D32: Travaux | E32: ='Tab Suivi 2014'!E31+1 -> 524 | F32: 20140226 | G32: 6000 | H32: 41744 | I32: 41761 | J32: GRC | K32: Bat F6 1er étage ZAC de Rivière Roche 97252 Fort de France | L32: 6987.5 | M32: 15 jours
A33: MI | B33: Réappro téléphones | C33: MAPA | D33: Fourniture | E33: ='Tab Suivi 2014'!E32+1 -> 525 | G33: 10000 | J33: NEXTIRAONE | L33: 8090 | M33: 3 semaines
A34: GI | B34: Nettoyage et étanchéité du chéneaux Pax2 côté piste | C34: MAPA | D34: Travaux | E34: ='Tab Suivi 2014'!E33+1 -> 526 | F34: 20140383 | G34: 7000 | H34: 41740 | I34: 41761 | J34: CAC | K34: ZA Laugier 97215 Rivière Salée | L34: 7334 | M34: 10 jours
A35: MI | B35: Diagnostique accessibilité handicapés | C35: MAPA | D35: Service | E35: ='Tab Suivi 2014'!E34+1 -> 527 | F35: 20140373 | G35: 15000 | H35: 41740 | I35: 41761 | J35: BUREAU VERITAS | K35: 10 avenue de la vallée Montgerald 97200 Fort de France | L35: 3655 | M35: 1 mois
A36: MI | B36: Remplacement d'armoires GTC | C36: MAPA | D36: Travaux | E36: ='Tab Suivi 2014'!E35+1 -> 528 | F36: 20140310 | G36: 10000 | H36: 41725 | I36: 41761 | J36: CET | K36: BP 5031 97234 Fort de France Floreal | L36: 8778.28 | M36: 2 semaines
A37: MI | B37: Analyse d'huile des transfos | C37: MAPA | D37: Travaux | E37: ='Tab Suivi 2014'!E36+1 -> 529 | F37: 20140307 | G37: 15000 | H37: 41725 | I37: 41761 | J37: EGER | K37: Lot 9 ZAC de Manhity 97232 Le Lamentin | L37: 12944.25 | M37: 1 mois
A38: MI | B38: Réapprovisionnement stock tapis EDS VIS 108 | C38: MAPA | D38: Fourniture | E38: ='Tab Suivi 2014'!E37+1 -> 530 | F38: 20140306 | G38: 5000 | H38: 41725 | I38: 41761 | J38: VISIOM | K38: Parc de haute technologie 13, rue Alexis de Tocqueville Silic41 92182 Antony cedex | L38: 4237.21 | M38: 2 semaines
A39: MI | B39: SSI rétention douane | C39: MAPA | D39: Travaux | E39: ='Tab Suivi 2014'!E38+1 -> 531 | F39: 20140305 | G39: 10000 | H39: 41725 | I39: 41761 | J39: DEF | K39: 9, rue du Saule Trapu BP211 91882 Massy cedex | L39: 10859.6 | M39: 1 mois
A40: MI | B40: Prestation de maintenance semestrielle de la GTC | C40: MAPA | D40: Service | E40: ='Tab Suivi 2014'!E39+1 -> 532 | F40: 20140302 | G40: 8500 | H40: 41725 | J40: SIEMENS | K40: ZI 617 Rue Fourny BP20 78531 Buc cedex France | L40: 8265 | M40: 6 mois
A41: ME | B41: Maintenance contrôle d'accès de l'aéroport MAC pour le 1er trimestre 2014 | C41: MAPA | D41: Service | E41: ='Tab Suivi 2014'!E40+1 -> 533 | F41: 20140285 | G41: 11000 | H41: 41722 | I41: 41761 | J41: EIFFAGE ENERGIE | K41: Habitation rivière blanche 97212 Saint-Joseph | L41: 10608.74 | M41: 3 mois
A42: ME | B42: Maintenance contrôle d'accès de l'aéroport MAC pour le 2e trimestre 2014 | C42: MAPA | D42: Service | E42: ='Tab Suivi 2014'!E41+1 -> 534 | F42: 20140286 | G42: 11000 | H42: 41722 | I42: 41761 | J42: EIFFAGE ENERGIE | K42: Habitation rivière blanche 97212 Saint-Joseph | L42: 10608.74 | M42: 3 mois
...
