Workbook

Sheet Tab Suivi 2014
A1: GI | B1: Deplacement de l'echaffaudage coté piste pour la 2e tranche jusqu'a la limite du PCA | C1: MAPA | D1: Service | E1: ='[1]Tab Suivi 2012'!E197+1 -> 695 | F1: 20130031 | G1: 19000 | H1: 41254 | I1: 41295 | J1: ENA | K1: Bassin de radoub BP463 97205 Fort de France cedex | L1: 18240 | M1: 30 jours
A2: GI | B2: Réalisation de joints silicone sur les vitrages coté piste (2ème tranche) | C2: MAPA | D2: Service | E2: ='[1]Tab Suivi 2012'!E199+1 -> 697 | F2: 20130029 | G2: 7000 | H2: 41253 | I2: 41295 | J2: CAC | K2: c/sci les alizes ZA Laugier 97212 Riviere Salée | L2: 6583.5 | M2: 21 jours
A3: GI | B3: Travaux de modification du local medical destiné à la medecine du travail | C3: MAPA | D3: Travaux | E3: ='Tab Suivi 2014'!E2+1 -> 698 | F3: 20130028 | G3: 7000 | H3: 41254 | I3: 41295 | J3: Revetement plus | K3: 52 rue du professeur R. Roy-Camille Dillon 97200 Fort de France | L3: 6223 | M3: 5 jours
H6: TABLEAU SUIVI DES MAPA ST 2014
A7: SECTION | B7: INTITULE | C7: TYPE | D7: NATURE | E7: N° 2013SAMACxx | F7: N° bon de commande | G7: ESTIMATION | H7: Date d'envoi | I7: Date validation | J7: TITULAIRE | K7: Adresse | L7: MONTANT HT | M7: Durée | N7: Travaux en cours | O7: Travaux réceptionnés
A8: MI | B8: Etude de projet "Alim Passerelles" | C8: MAPA | D8: Service | E8: 500 | G8: 10000 | P8: Rapport de consultation validé le 02/05/2014
A9: MI | B9: Elect batiment ATIS | C9: MAPA | D9: Service | E9: =E8+1 -> 501 | F9: 20140062 | G9: 10000 | H9: 41667 | I9: 41680 | J9: CET | K9: BP 5031 97234 Fort de France Floreal | L9: 5654 | M9: 15 jours
A10: MI | B10: Baie Redresseur 48 V | C10: MAPA | D10: Travaux | E10: =E9+1 -> 502 | F10: 20140064 | G10: 10000 | H10: 41667 | I10: 41680 | J10: ANTILLES ELECTRICITE | K10: Bat EGER Lot n°9 ZAC de Manhity 97232 Le Lamentin | L10: 6088 | M10: 21 jours
A11: GI | B11: Mise en oeuvre de la pêche dans les canaux côté piste | C11: MAPA | D11: Service | E11: =E10+1 -> 503 | F11: 20140053 | G11: 10000 | H11: 41666 | I11: 41697 | J11: ALEXANDRE-ALEXIS Omer | K11: Tartane 97220 Trinité | L11: 9765 | M11: 3 mois
A12: ME | B12: Frais de transport matériel Alstef BC20131240 | C12: MAPA | D12: Service | E12: =E11+1 -> 504 | F12: 20140072 | G12: 4500 | H12: 41667 | I12: 41680 | J12: SETCARGO | K12: Imm du port 3e etage 8 avenue Maurice Bishop 97200 Fort de France | L12: 4304.64 | M12: 3 semaines
A13: GI | B13: Démolition ancien local CE AF | C13: MAPA | D13: Travaux | E13: =E12+1 -> 505 | F13: 20140073 | G13: 12000 | H13: 41667 | I13: 41680 | J13: CDC | K13: Long Pré 97232 Le Lamentin | L13: 11075 | M13: 4 jours
A14: GI | B14: Mise en place d'un automatisme pour la porte accès PMR au filtre police départ | C14: MAPA | D14: Travaux | E14: =E13+1 -> 506 | F14: 20140170 | G14: 5000 | H14: 41689 | I14: 41695 | J14: Passionelec | K14: La ferme redoute 6 imp Albert Moscou 97200 Fort de France | L14: 4432.7 | M14: 2 jours
A15: GI | B15: Achat de pièces détachées pour véhicules R4 et R5 après visite de garantie SIDES | C15: MAPA | D15: Fourniture | E15: =E14+1 -> 507 | F15: 20140056 | G15: 7000 | H15: 41688 | I15: 41695 | J15: SIDES | K15: 182, rue de trignac BP146 44603 Saint-Nazaire | L15: 6820.54 | M15: 8 semaines
A16: GI | B16: Echange standard bloc compresseur ARI Bauer | E16: =E15+1 -> 508 | F16: 20140158 | G16: 8000 | H16: 41688 | I16: 41695 | J16: MIS | K16: 17 lot St James 97250 Saint-Pierre | L16: 8276 | M16: 8 semaines
A17: GI | B17: Maintenance réglementaire des radeux de survie de l'Aéromac | C17: MAPA | D17: Travaux | E17: =E16+1 -> 509 | F17: 20140059 | G17: 13000 | H17: 41688 | I17: 41695 | J17: La Survy | K17: Quartier Montgérald 97290 Le Marin | L17: 12330.08 | M17: 18 jours
A18: GI/SC | B18: Convention pour l'entretien du réseau d'eaux usées et des postes de la zone aéroportuaire | C18: MAPA | D18: Travaux | E18: =E17+1 -> 510 | F18: 20140179 | G18: 29500 | H18: 41690 | I18: 41695 | J18: SME | K18: BP 213 Place d'Armes 97284 Lamentin cedex 2 | L18: 27028 | M18: 1 an
A19: MI | B19: Maintenance des RX du PIF | C19: MAPA | D19: Service | E19: =E18+1 -> 511 | F19: 20140162 | G19: 15000 | H19: 41688 | I19: 41705 | J19: HTDS | K19: 3 Rue du Saule Trapu BP246 91882 Massy cedex | L19: 14402.58 | M19: 6 mois
A20: GI | B20: Peinture de la coursive R1 | C20: MAPA | D20: Travaux | E20: =E19+1 -> 512 | F20: 20140183 | G20: 9000 | H20: 41691 | I20: 41705 | J20: RENOV PEINTURE | K20: Av J.Roumain squadra F Duplex A2 cité Dillon 97200 Fort de France | L20: 9060 | M20: 1 mois
A21: MI | B21: Caméras passerelles télescopiques pour le PCA | C21: MAPA | D21: Fourniture | E21: =E20+1 -> 513 | F21: 20140014 | G21: 45000 | H21: 41660 | I21: 41705 | J21: Romagefa | K21: BP298 97286 Lamentin | L21: 29819.4 | M21: 1 mois
A22: MI | B22: Location Groupe du FRET | C22: MAPA | D22: Service | E22: =E21+1 -> 514 | F22: 20140185 | G22: 15000 | H22: 41691 | I22: 41705 | J22: ASSISTANCE97 | K22: ZI Californie 97232 Le Lamentin | L22: 10800 | M22: 3 mois
A23: GI | B23: Peinture des façade du quai du Fret | C23: MAPA | D23: Travaux | E23: =E22+1 -> 515 | F23: 20140201 | G23: 31000 | H23: 41696 | I23: 41718 | J23: SAINT-SAUVEUR | K23: Residence Toquade Bat H appt 6 Reneville 97200 Fort de France | L23: 31049 | M23: 2 semaines
A24: MI | B24: Eclairage escalier colimaçon | C24: MAPA | D24: Travaux | E24: ='Tab Suivi 2014'!E23+1 -> 516 | F24: 20140209 | G24: 10000 | H24: 41696 | I24: 41718 | J24: CET | K24: BP 5031 97234 Fort de France Floreal | L24: 10800 | M24: 3 mois
A25: MI | B25: Distribution électrique des LCD | C25: MAPA | D25: Travaux | E25: ='Tab Suivi 2014'!E24+1 -> 517 | F25: 20140220 | G25: 25000 | H25: 41708 | I25: 41718 | J25: CET | K25: BP 5031 97234 Fort de France Floreal | L25: 22650.6 | M25: 2 mois
A26: MI | B26: Mise en place Alim Burger King | C26: MAPA | D26: Travaux | E26: ='Tab Suivi 2014'!E25+1 -> 518 | G26: 12000
A27: MI | B27: Levée de réserves APAVE 2013 | C27: MAPA | D27: Travaux | E27: ='Tab Suivi 2014'!E26+1 -> 519 | F27: 20140304 | G27: 10000 | H27: 41725 | I27: 41761 | J27: CET | K27: BP 5031 97234 Fort de France Floreal | L27: 12617.79 | M27: 1 mois
A28: MI | B28: Maintenance système GTC | C28: MAPA | D28: Service | E28: ='Tab Suivi 2014'!E27+1 -> 520 | F28: 20140155 | G28: 40000 | H28: 41696 | I28: 41718 | J28: SIEMENS | K28: ZI 617 Rue Fourny BP20 78531 Buc cedex France | L28: 36833 | M28: 1 an
A29: MI | B29: Batteries onduleurs | C29: MAPA | D29: Travaux | E29: ='Tab Suivi 2014'!E28+1 -> 521 | F29: 20140221 | G29: 10000 | H29: 41708 | I29: 41718 | J29: ANTILLES ELECTRICITE | K29: Bat EGER Lot n°9 ZAC de Manhity 97232 Le Lamentin | L29: 6200 | M29: 1 mois
A30: MI | B30: Mise en place et raccordement de 10 potelets de prises de courant | C30: MAPA | D30: Travaux | E30: ='Tab Suivi 2014'!E29+1 -> 522 | G30: 12000 | M30: 1 mois
A31: ME | B31: Maintenance des installations de climatisation de l'EAS -1er semestre 2014- | C31: MAPA | D31: Service | E31: ='Tab Suivi 2014'!E30+1 -> 523 | F31: 20140219 | G31: 30000 | H31: 41709 | I31: 41718 | J31: GEM | K31: Immeuble Hexagone ZI de Champigny 97224 Ducos | L31: 27426.72 | M31: 6 mois
A32: GI/SC | B32: Aménagement d'un local technique dans le batiment placette ouest | C32: MAPA | D32: Travaux | E32: ='Tab Suivi 2014'!E31+1 -> 524 | F32: 20140226 | G32: 6000 | H32: 41744 | I32: 41761 | J32: GRC | K32: Bat F6 1er étage ZAC de Rivière Roche 97252 Fort de France | L32: 6987.5 | M32: 15 jours
A33: MI | B33: Réappro téléphones | C33: MAPA | D33: Fourniture | E33: ='Tab Suivi 2014'!E32+1 -> 525 | G33: 10000 | J33: NEXTIRAONE | L33: 8090 | M33: 3 semaines
A34: GI | B34: Nettoyage et étanchéité du chéneaux Pax2 côté piste | C34: MAPA | D34: Travaux | E34: ='Tab Suivi 2014'!E33+1 -> 526 | F34: 20140383 | G34: 7000 | H34: 41740 | I34: 41761 | J34: CAC | K34: ZA Laugier 97215 Rivière Salée | L34: 7334 | M34: 10 jours
A35: MI | B35: Diagnostique accessibilité handicapés | C35: MAPA | D35: Service | E35: ='Tab Suivi 2014'!E34+1 -> 527 | F35: 20140373 | G35: 15000 | H35: 41740 | I35: 41761 | J35: BUREAU VERITAS | K35: 10 avenue de la vallée Montgerald 97200 Fort de France | L35: 3655 | M35: 1 mois
A36: MI | B36: Remplacement d'armoires GTC | C36: MAPA | D36: Travaux | E36: ='Tab Suivi 2014'!E35+1 -> 528 | F36: 20140310 | G36: 10000 | H36: 41725 | I36: 41761 | J36: CET | K36: BP 5031 97234 Fort de France Floreal | L36: 8778.28 | M36: 2 semaines
A37: MI | B37: Analyse d'huile des transfos | C37: MAPA | D37: Travaux | E37: ='Tab Suivi 2014'!E36+1 -> 529 | F37: 20140307 | G37: 15000 | H37: 41725 | I37: 41761 | J37: EGER | K37: Lot 9 ZAC de Manhity 97232 Le Lamentin | L37: 12944.25 | M37: 1 mois
A38: MI | B38: Réapprovisionnement stock tapis EDS VIS 108 | C38: MAPA | D38: Fourniture | E38: ='Tab Suivi 2014'!E37+1 -> 530 | F38: 20140306 | G38: 5000 | H38: 41725 | I38: 41761 | J38: VISIOM | K38: Parc de haute technologie 13, rue Alexis de Tocqueville Silic41 92182 Antony cedex | L38: 4237.21 | M38: 2 semaines
A39: MI | B39: SSI rétention douane | C39: MAPA | D39: Travaux | E39: ='Tab Suivi 2014'!E38+1 -> 531 | F39: 20140305 | G39: 10000 | H39: 41725 | I39: 41761 | J39: DEF | K39: 9, rue du Saule Trapu BP211 91882 Massy cedex | L39: 10859.6 | M39: 1 mois
A40: MI | B40: Prestation de maintenance semestrielle de la GTC | C40: MAPA | D40: Service | E40: ='Tab Suivi 2014'!E39+1 -> 532 | F40: 20140302 | G40: 8500 | H40: 41725 | J40: SIEMENS | K40: ZI 617 Rue Fourny BP20 78531 Buc cedex France | L40: 8265 | M40: 6 mois
A41: ME | B41: Maintenance contrôle d'accès de l'aéroport MAC pour le 1er trimestre 2014 | C41: MAPA | D41: Service | E41: ='Tab Suivi 2014'!E40+1 -> 533 | F41: 20140285 | G41: 11000 | H41: 41722 | I41: 41761 | J41: EIFFAGE ENERGIE | K41: Habitation rivière blanche 97212 Saint-Joseph | L41: 10608.74 | M41: 3 mois
A42: ME | B42: Maintenance contrôle d'accès de l'aéroport MAC pour le 2e trimestre 2014 | C42: MAPA | D42: Service | E42: ='Tab Suivi 2014'!E41+1 -> 534 | F42: 20140286 | G42: 11000 | H42: 41722 | I42: 41761 | J42: EIFFAGE ENERGIE | K42: Habitation rivière blanche 97212 Saint-Joseph | L42: 10608.74 | M42: 3 mois
A43: GI | B43: Maintenance balisage le dimanche - 01/01/2014 au 31/08/2014- | C43: MAPA | D43: Service | E43: ='Tab Suivi 2014'!E42+1 -> 535 | F43: 20140287 | G43: 11000 | H43: 41722 | I43: 41761 | J43: EIFFAGE ENERGIE | K43: Habitation rivière blanche 97212 Saint-Joseph | L43: 10310.65 | M43: 35 dimanche
A44: GI | B44: Travaux de curage des canaux aux abords de l'aérogare | C44: MAPA | D44: Travaux | E44: ='Tab Suivi 2014'!E43+1 -> 536 | F44: 20140296 | G44: 11000 | H44: 41725 | I44: 41761 | J44: COTE JARDI.COM | K44: Résidence stodiotel Bat Isadora 33 97233 Schoelcher | L44: 10071.99
A45: GI | B45: Travaux de réfection des garde-corps surplombant les comptoirs d'enregistrement de l'aérogare passagers | C45: MAPA | D45: Travaux | E45: ='Tab Suivi 2014'!E44+1 -> 537 | F45: 20140297 | G45: 20000 | H45: 41725 | I45: 41761 | J45: HSE PRESTATIONS | K45: Quartier vapeur Est 2 97240 Le François | L45: 19047.5 | M45: 15 jours
A46: GI/SC | B46: Réalisation d'un collecteur de condensats de climatisation en façade ouest du bâtiment Fret | C46: MAPA | D46: Travaux | E46: ='Tab Suivi 2014'!E45+1 -> 538 | F46: 20140313 | G46: 6000 | H46: 41733 | I46: 41761 | J46: CGIA | K46: 5 bis imp du petit morne avenue de la baie des anges Redoute 97200 Fort de France | L46: 6460 | M46: 15 jours
A47: MI | B47: Bac Process 2 | C47: MAPA | D47: Travaux | E47: ='Tab Suivi 2014'!E46+1 -> 539 | F47: 20140387 | G47: 6000 | H47: 41740 | I47: 41761 | J47: ASSISTANCE97 | K47: Imm Sofeca Californie 97232 Le Lamentin | L47: 5074.94 | M47: 1 mois
A48: MI | B48: Maintenance ouvrants EAS | C48: MAPA | D48: Travaux | E48: ='Tab Suivi 2014'!E47+1 -> 540 | G48: 10000 | J48: LPI | L48: 10000 | M48: 2 mois
A49: MI | B49: Composants de sono | C49: MAPA | D49: Travaux | E49: ='Tab Suivi 2014'!E48+1 -> 541 | F49: 20140389 | G49: 10000 | H49: 41740 | I49: 41761 | J49: NEXTIRAONE | K49: ZAC La Marie Imm Pierre Jacquens 97224 Ducos | L49: 9530 | M49: 2 mois
A50: MI | B50: Niches pour écrans LCD | C50: MAPA | D50: Travaux | E50: ='Tab Suivi 2014'!E49+1 -> 542 | G50: 10000 | J50: CAA | M50: 2 mois
A51: GI | B51: Traitement étanchéité de la toiture du batiment placette "Burger King" | C51: MAPA | D51: Travaux | E51: ='Tab Suivi 2014'!E50+1 -> 543 | F51: 20140344 | G51: 9000 | H51: 41740 | I51: 41761 | J51: ADM Sarl | K51: 8 avenue François Mitterand 97200 Fort de France | L51: 8480.49 | M51: 4 jours
A52: SC/GI | B52: Dégradation de la dalle béton du parking P6 | C52: MAPA | D52: Travaux | E52: ='Tab Suivi 2014'!E51+1 -> 544 | F52: 20140362 | G52: 7000 | H52: 41738 | I52: 41761 | J52: DIAMEX | K52: 24 bis route de l'union Didier 97200 Fort de France | L52: 6600
A53: sc/gi | B53: Scan 3D de la piste et des bretelles Alpha, Bravo, Charly et Delta | C53: MAPA | D53: Travaux | E53: ='Tab Suivi 2014'!E52+1 -> 545 | F53: 20140361 | G53: 30000 | H53: 41738 | I53: 41761 | J53: CABINET FUCHS | K53: 85 rue Jules Monnerot Place de l'abbé Grégoire Terres Sainville 97200 Fort de France | L53: 29234.25 | M53: 40 jours
A54: SC/GI | B54: Elargissement du chemin de ronde côté sud piste | C54: MAPA | D54: Travaux | E54: ='Tab Suivi 2014'!E53+1 -> 546 | F54: 20140366 | G54: 60000 | H54: 41738 | I54: 41761 | J54: CARAIBES VRD | K54: B6 lot Gros raisins 97228 Sainte-Luce | L54: 54600
A55: GI | B55: Remplacement chapiteaux face qu local taxi | C55: MAPA | D55: Fourniture | E55: ='Tab Suivi 2014'!E54+1 -> 547 | F55: 20140367 | G55: 6000 | H55: 41738 | I55: 41761 | J55: FABICOM | K55: Immeuble SCIC Pointe des carrières 97200 Fort de France | L55: 5500 | M55: 1 semaine
A56: MI | B56: Prestation d'assistance CARL SOURCE | C56: MAPA | D56: Service | E56: ='Tab Suivi 2014'!E55+1 -> 548 | F56: 20140411 | G56: 10000 | H56: 41744 | I56: 41761 | J56: CARL SOFTWARE | K56: 283 rue de l'etang 69578 Limonest cedex | L56: 9350 | M56: 1 semaine
A57: MI | B57: Remplacement injecteurs GMTG3 | C57: MAPA | D57: Travaux | E57: ='Tab Suivi 2014'!E56+1 -> 549 | F57: 20140410 | G57: 50000 | H57: 41744 | I57: 41761 | J57: ASSISTANCE97 | K57: Imm Sofeca Californie 97232 Le Lamentin | L57: 43500 | M57: 1 mois
A58: MI | B58: Gestion des accès PAF | C58: MAPA | D58: Travaux | E58: ='Tab Suivi 2014'!E57+1 -> 550 | F58: 20140409 | G58: 6000 | H58: 41744 | I58: 41792 | J58: CET | K58: BP 5031 97234 Fort de France Floreal | L58: 4988.43 | M58: 1 mois
A59: MI | B59: Contrat de maintenance onduleurs Balisage | C59: MAPA | D59: Service | E59: ='Tab Suivi 2014'!E58+1 -> 551 | F59: 20140412 | G59: 12000 | H59: 41744 | I59: 41761 | J59: SCHNEIDER ELECTRIC | K59: Imm Cotrell ZI Lezarde 97232 Le Lamentin | L59: 11025 | M59: 1 an
A60: MI | B60: Maitrise d'Oeuvre Etude Evacuation | C60: MAPA | D60: Service | E60: ='Tab Suivi 2014'!E59+1 -> 552 | G60: 20000 | M60: 1 an
A61: GI | B61: Travaux de reprise du réseau EP du Fret | C61: MAPA | D61: Travaux | E61: ='Tab Suivi 2014'!E60+1 -> 553 | F61: 20140377 | G61: 37000 | H61: 41740 | I61: 41761 | J61: SEA | K61: Bat F1 Bte 49 les villages de riviere roche 97200 Fort de France | L61: 38200.2 | M61: 4 semaines
A62: ME | B62: Maintenance des escalators de l'aérogare passagers 1er et 2e trimestre 2014 | C62: MAPA | D62: Service | E62: ='Tab Suivi 2014'!E61+1 -> 554 | F62: 20140376 | G62: 15000 | H62: 41740 | I62: 41761 | J62: OTIS | K62: 7 allée des roseaux place d'armes 97232 Le Lamentin | L62: 14307.84 | M62: 6 mois
A63: MI | B63: Mise en place de téléradiamètres | C63: MAPA | D63: Travaux | E63: ='Tab Suivi 2014'!E62+1 -> 555 | F63: 20140404 | G63: 40000 | H63: 41787 | I63: 41792 | J63: WYTEK | K63: 64 rue condorcet 86000 Poitiers | L63: 36750 | M63: 2 mois
A64: MI | B64: PC Tour GTC balisage | C64: MAPA | D64: Travaux | E64: ='Tab Suivi 2014'!E63+1 -> 556 | F64: 20140403 | G64: 10000 | H64: 41744 | I64: 41761 | J64: SIEMENS | K64: ZI 617 Rue Fourny BP20 78531 Buc cedex France | L64: 8072.55 | M64: 2 mois
A65: MI | B65: Pièces de rechange cellules HT | C65: MAPA | D65: Fourniture | E65: ='Tab Suivi 2014'!E64+1 -> 557 | F65: 20140401 | G65: 6000 | H65: 41744 | I65: 41761 | J65: SCHNEIDER ELECTRIC | K65: 20 avenue des jeux olympiques 38100 Grenoble cedex 9 | L65: 5897 | M65: 2 mois
A66: MI | B66: Maintenance des GE de la plateforme aéroportuaire (SSLIA, Balisage et centrale Pax2) | C66: MAPA | D66: Travaux | E66: ='Tab Suivi 2014'!E65+1 -> 558 | F66: 20140421 | G66: 70000 | H66: 41744 | I66: 41761 | J66: ASSISTANCE97 | K66: Imm Sofeca Californie 97232 Le Lamentin | L66: 56781.12 | M66: 1 an
A67: MI | B67: Upgrade logiciel des systèmes GTC | C67: MAPA | D67: Travaux | E67: ='Tab Suivi 2014'!E66+1 -> 559 | F67: 20140447 | G67: 25000 | H67: 41764 | I67: 41792 | J67: SIEMENS | K67: ZI 617 Rue Fourny BP20 78531 Buc cedex France | L67: 24532.08 | M67: 2 mois
A68: MI | B68: Pièces détachées électrique | C68: MAPA | D68: Fourniture | E68: ='Tab Suivi 2014'!E67+1 -> 560 | G68: 15000 | J68: BLANDIN
A69: MI | B69: Batteries onduleur 60 kVa EAS | C69: MAPA | D69: Fourniture | E69: ='Tab Suivi 2014'!E68+1 -> 561 | F69: 20140548 | G69: 5000 | H69: 41794 | I69: 41796 | J69: ANTILLES ELECTRICITE | K69: Bat EGER Lot n°9 ZAC de Manhity 97232 Le Lamentin | L69: 4800 | M69: 1 mois
A70: MI | B70: Batteries onduleur 60 kVa TGBT1/PARKING/BALISAGE | C70: MAPA | D70: Fourniture | E70: ='Tab Suivi 2014'!E69+1 -> 562 | F70: 20140549 | G70: 7000 | H70: 41794 | I70: 41796 | J70: ANTILLES ELECTRICITE | K70: Bat EGER Lot n°9 ZAC de Manhity 97232 Le Lamentin | L70: 6590 | M70: 1 mois
A71: GI | B71: Travaux de remplacement de cable defectueux sur le circuit latéral piste | C71: MAPA | D71: Travaux | E71: ='Tab Suivi 2014'!E70+1 -> 563 | F71: 20140509 | G71: 7000 | H71: 41787 | I71: 41796 | J71: EIFFAGE ENERGIE | K71: Habitation rivière blanche 97212 Saint-Joseph | L71: 7482.89 | M71: 1 mois
A72: ME | B72: Maintenance des passerelles télescopiques 2e trimestre 2014 | C72: MAPA | D72: Travaux | E72: ='Tab Suivi 2014'!E71+1 -> 564 | F72: 20140542 | G72: 43000 | H72: 41794 | I72: 41796 | J72: COFELY | K72: 69, rue de la belle etoile Paris Nord II 95940 Roissy | L72: 38939.64 | M72: 3 mois
A73: MI | B73: Alim Clim au Bat Technique | C73: MAPA | D73: Travaux | E73: ='Tab Suivi 2014'!E72+1 -> 565 | F73: 20140586 | G73: 1200 | H73: 41810 | J73: CET | K73: BP 5031 97234 Fort de France Floreal | L73: 760 | M73: 1 jour
A74: MI | B74: Maintenance Tomo juillet à septembre 2014 | C74: MAPA | D74: Travaux | E74: ='Tab Suivi 2014'!E73+1 -> 566 | F74: 20140587 | G74: 55000 | H74: 41810 | J74: MORPHO | K74: 11 boulevard Galliéni 92130 Issy les Moulineaux | L74: 51912 | M74: 3 mois
A75: MI | B75: Maintenance Tomo octobre à décembre 2014 | C75: MAPA | D75: Travaux | E75: ='Tab Suivi 2014'!E74+1 -> 567 | F75: 20140588 | G75: 55000 | H75: 41810 | J75: MORPHO | K75: 11 boulevard Galliéni 92130 Issy les Moulineaux | L75: 51912 | M75: 3 mois
A76: MI | B76: Maintenance des onduleurs 1er et 2e trimestre 2014 | C76: MAPA | D76: Travaux | E76: ='Tab Suivi 2014'!E75+1 -> 568 | F76: 20140601 à 20140605 | G76: 55000 | H76: 41810 | J76: ANTILLES ELECTRICITE | L76: 18292 | M76: 6 mois
A77: MI | B77: Maintenance EDS, RX et portiques de détection de métaux 3e trimestre 2014 | C77: MAPA | D77: Travaux | E77: ='Tab Suivi 2014'!E76+1 -> 569 | F77: 20140599 | G77: 60000 | H77: 41810 | J77: VISIOM | K77: Parc de haute technologie 13, rue Alexis de Tocqueville Silic41 92182 Antony cedex | L77: 58339 | M77: 3 mois
A78: MI | B78: Maintenance EDS, RX et portiques de détection de métaux 4e trimestre 2014 | C78: MAPA | D78: Travaux | E78: ='Tab Suivi 2014'!E77+1 -> 570 | F78: 20140600 | G78: 60000 | H78: 41810 | J78: VISIOM | K78: Parc de haute technologie 13, rue Alexis de Tocqueville Silic41 92182 Antony cedex | L78: 58339 | M78: 3 mois
