Workbook

Sheet Feuille 1
A3: Pour information/ Non encore communiqué
A4: En K€/ sera communiqué en € | B4: 2 | C4: 3 | D4: 4 | E4: 5 | F4: 6 | G4: 7 | H4: 8 | I4: 9 | J4: 10 | K4: 11 | L4: 12 | M4: 13 | N4: 14 | O4: 15 | P4: 16 | Q4: 17 | R4: 18
A6: MX | B6: =VLOOKUP($A$6,'[1]Feuille 1'!$A:$R,B$4,FALSE) -> 4723740.2 | C6: =VLOOKUP($A$6,'[1]Feuille 1'!$A:$R,C$4,FALSE) -> 2304410.9 | D6: =VLOOKUP($A$6,'[1]Feuille 1'!$A:$R,D$4,FALSE) -> 7028151.1 | E6: =VLOOKUP($A$6,'[1]Feuille 1'!$A:$R,E$4,FALSE) -> 2281045.8 | F6: =VLOOKUP($A$6,'[1]Feuille 1'!$A:$R,F$4,FALSE) -> 755496.2 | G6: =VLOOKUP($A$6,'[1]Feuille 1'!$A:$R,G$4,FALSE) -> 5336.1333 | H6: =VLOOKUP($A$6,'[1]Feuille 1'!$A:$R,H$4,FALSE) -> 689459.66 | I6: =VLOOKUP($A$6,'[1]Feuille 1'!$A:$R,I$4,FALSE) -> 6534236.3 | ... R6: =VLOOKUP($A$6,'[1]Feuille 1'!$A:$R,R$4,FALSE) -> 3069.222

Sheet Feuille 2
C3: Pour information/ Non encore communiqué
C4: En K€/ sera communiqué en € | D4: 4 | E4: 5 | F4: 6 | G4: 7 | H4: 8 | I4: 9 | J4: 10 | K4: 11 | L4: 12 | M4: 13 | N4: 14 | O4: 15 | P4: 16 | Q4: 17 | R4: 18 | S4: 19 | T4: 20 | U4: 21
C5: Pays résidence
A6: 1 | B6: =CONCATENATE(C6,A6) -> MX1 | C6: ='Feuille 1'!$A$6 -> MX | D6: =IFERROR(VLOOKUP($B6,'[1]Feuille 2'!$A:$U,D$4,FALSE),"") -> 52 | E6: =IFERROR(VLOOKUP($B6,'[1]Feuille 2'!$A:$U,E$4,FALSE),"") -> 52 | F6: =IFERROR(VLOOKUP($B6,'[1]Feuille 2'!$A:$U,F$4,FALSE),"") -> 52 | G6: =IFERROR(VLOOKUP($B6,'[1]Feuille 2'!$A:$U,G$4,FALSE),"") -> 52 | H6: =IFERROR(VLOOKUP($B6,'[1]Feuille 2'!$A:$U,H$4,FALSE),"") -> 52 | I6: =IFERROR(VLOOKUP($B6,'[1]Feuille 2'!$A:$U,I$4,FALSE),"") -> 52 | J6: =IFERROR(VLOOKUP($B6,'[1]Feuille 2'!$A:$U,J$4,FALSE),"") -> 52 | K6: =IFERROR(VLOOKUP($B6,'[1]Feuille 2'!$A:$U,K$4,FALSE),"") -> 52 | ... U6: =IFERROR(VLOOKUP($B6,'[1]Feuille 2'!$A:$U,U$4,FALSE),"") -> 52
A7: 2 | B7: =CONCATENATE(C7,A7) -> MX2 | C7: ='Feuille 1'!$A$6 -> MX | D7: =IFERROR(VLOOKUP($B7,'[1]Feuille 2'!$A:$U,D$4,FALSE),"") -> 52 | E7: =IFERROR(VLOOKUP($B7,'[1]Feuille 2'!$A:$U,E$4,FALSE),"") -> 52 | F7: =IFERROR(VLOOKUP($B7,'[1]Feuille 2'!$A:$U,F$4,FALSE),"") -> 52 | G7: =IFERROR(VLOOKUP($B7,'[1]Feuille 2'!$A:$U,G$4,FALSE),"") -> 52 | H7: =IFERROR(VLOOKUP($B7,'[1]Feuille 2'!$A:$U,H$4,FALSE),"") -> 52 | I7: =IFERROR(VLOOKUP($B7,'[1]Feuille 2'!$A:$U,I$4,FALSE),"") -> 52 | J7: =IFERROR(VLOOKUP($B7,'[1]Feuille 2'!$A:$U,J$4,FALSE),"") -> 52 | K7: =IFERROR(VLOOKUP($B7,'[1]Feuille 2'!$A:$U,K$4,FALSE),"") -> 52 | ... U7: =IFERROR(VLOOKUP($B7,'[1]Feuille 2'!$A:$U,U$4,FALSE),"") -> 52
A8: 3 | B8: =CONCATENATE(C8,A8) -> MX3 | C8: ='Feuille 1'!$A$6 -> MX | D8: =IFERROR(VLOOKUP($B8,'[1]Feuille 2'!$A:$U,D$4,FALSE),"") -> 52 | E8: =IFERROR(VLOOKUP($B8,'[1]Feuille 2'!$A:$U,E$4,FALSE),"") -> 52 | F8: =IFERROR(VLOOKUP($B8,'[1]Feuille 2'!$A:$U,F$4,FALSE),"") -> 52 | G8: =IFERROR(VLOOKUP($B8,'[1]Feuille 2'!$A:$U,G$4,FALSE),"") -> 52 | H8: =IFERROR(VLOOKUP($B8,'[1]Feuille 2'!$A:$U,H$4,FALSE),"") -> 52 | I8: =IFERROR(VLOOKUP($B8,'[1]Feuille 2'!$A:$U,I$4,FALSE),"") -> 52 | J8: =IFERROR(VLOOKUP($B8,'[1]Feuille 2'!$A:$U,J$4,FALSE),"") -> 52 | K8: =IFERROR(VLOOKUP($B8,'[1]Feuille 2'!$A:$U,K$4,FALSE),"") -> 52 | ... U8: =IFERROR(VLOOKUP($B8,'[1]Feuille 2'!$A:$U,U$4,FALSE),"") -> 52
A9: 4 | B9: =CONCATENATE(C9,A9) -> MX4 | C9: ='Feuille 1'!$A$6 -> MX | D9: =IFERROR(VLOOKUP($B9,'[1]Feuille 2'!$A:$U,D$4,FALSE),"") -> 52 | E9: =IFERROR(VLOOKUP($B9,'[1]Feuille 2'!$A:$U,E$4,FALSE),"") -> 52 | F9: =IFERROR(VLOOKUP($B9,'[1]Feuille 2'!$A:$U,F$4,FALSE),"") -> 52 | G9: =IFERROR(VLOOKUP($B9,'[1]Feuille 2'!$A:$U,G$4,FALSE),"") -> 52 | H9: =IFERROR(VLOOKUP($B9,'[1]Feuille 2'!$A:$U,H$4,FALSE),"") -> 52 | I9: =IFERROR(VLOOKUP($B9,'[1]Feuille 2'!$A:$U,I$4,FALSE),"") -> 52 | J9: =IFERROR(VLOOKUP($B9,'[1]Feuille 2'!$A:$U,J$4,FALSE),"") -> 52 | K9: =IFERROR(VLOOKUP($B9,'[1]Feuille 2'!$A:$U,K$4,FALSE),"") -> 52 | ... U9: =IFERROR(VLOOKUP($B9,'[1]Feuille 2'!$A:$U,U$4,FALSE),"") -> 52
A10: 5 | B10: =CONCATENATE(C10,A10) -> MX5 | C10: ='Feuille 1'!$A$6 -> MX | D10: =IFERROR(VLOOKUP($B10,'[1]Feuille 2'!$A:$U,D$4,FALSE),"") -> 52 | E10: =IFERROR(VLOOKUP($B10,'[1]Feuille 2'!$A:$U,E$4,FALSE),"") -> 52 | F10: =IFERROR(VLOOKUP($B10,'[1]Feuille 2'!$A:$U,F$4,FALSE),"") -> 52 | G10: =IFERROR(VLOOKUP($B10,'[1]Feuille 2'!$A:$U,G$4,FALSE),"") -> 52 | H10: =IFERROR(VLOOKUP($B10,'[1]Feuille 2'!$A:$U,H$4,FALSE),"") -> 52 | I10: =IFERROR(VLOOKUP($B10,'[1]Feuille 2'!$A:$U,I$4,FALSE),"") -> 52 | J10: =IFERROR(VLOOKUP($B10,'[1]Feuille 2'!$A:$U,J$4,FALSE),"") -> 52 | K10: =IFERROR(VLOOKUP($B10,'[1]Feuille 2'!$A:$U,K$4,FALSE),"") -> 52 | ... U10: =IFERROR(VLOOKUP($B10,'[1]Feuille 2'!$A:$U,U$4,FALSE),"") -> 52
A11: 6 | B11: =CONCATENATE(C11,A11) -> MX6 | C11: ='Feuille 1'!$A$6 -> MX | D11: =IFERROR(VLOOKUP($B11,'[1]Feuille 2'!$A:$U,D$4,FALSE),"") -> 52 | E11: =IFERROR(VLOOKUP($B11,'[1]Feuille 2'!$A:$U,E$4,FALSE),"") -> 52 | F11: =IFERROR(VLOOKUP($B11,'[1]Feuille 2'!$A:$U,F$4,FALSE),"") -> 52 | G11: =IFERROR(VLOOKUP($B11,'[1]Feuille 2'!$A:$U,G$4,FALSE),"") -> 52 | H11: =IFERROR(VLOOKUP($B11,'[1]Feuille 2'!$A:$U,H$4,FALSE),"") -> 52 | I11: =IFERROR(VLOOKUP($B11,'[1]Feuille 2'!$A:$U,I$4,FALSE),"") -> 52 | J11: =IFERROR(VLOOKUP($B11,'[1]Feuille 2'!$A:$U,J$4,FALSE),"") -> 52 | K11: =IFERROR(VLOOKUP($B11,'[1]Feuille 2'!$A:$U,K$4,FALSE),"") -> 52 | ... U11: =IFERROR(VLOOKUP($B11,'[1]Feuille 2'!$A:$U,U$4,FALSE),"") -> 52
A12: 7 | B12: =CONCATENATE(C12,A12) -> MX7 | C12: ='Feuille 1'!$A$6 -> MX | D12: =IFERROR(VLOOKUP($B12,'[1]Feuille 2'!$A:$U,D$4,FALSE),"") | E12: =IFERROR(VLOOKUP($B12,'[1]Feuille 2'!$A:$U,E$4,FALSE),"") | F12: =IFERROR(VLOOKUP($B12,'[1]Feuille 2'!$A:$U,F$4,FALSE),"") | G12: =IFERROR(VLOOKUP($B12,'[1]Feuille 2'!$A:$U,G$4,FALSE),"") | H12: =IFERROR(VLOOKUP($B12,'[1]Feuille 2'!$A:$U,H$4,FALSE),"") | I12: =IFERROR(VLOOKUP($B12,'[1]Feuille 2'!$A:$U,I$4,FALSE),"") | J12: =IFERROR(VLOOKUP($B12,'[1]Feuille 2'!$A:$U,J$4,FALSE),"") | K12: =IFERROR(VLOOKUP($B12,'[1]Feuille 2'!$A:$U,K$4,FALSE),"") | ... U12: =IFERROR(VLOOKUP($B12,'[1]Feuille 2'!$A:$U,U$4,FALSE),"")
A13: 8 | B13: =CONCATENATE(C13,A13) -> MX8 | C13: ='Feuille 1'!$A$6 -> MX | D13: =IFERROR(VLOOKUP($B13,'[1]Feuille 2'!$A:$U,D$4,FALSE),"") | E13: =IFERROR(VLOOKUP($B13,'[1]Feuille 2'!$A:$U,E$4,FALSE),"") | F13: =IFERROR(VLOOKUP($B13,'[1]Feuille 2'!$A:$U,F$4,FALSE),"") | G13: =IFERROR(VLOOKUP($B13,'[1]Feuille 2'!$A:$U,G$4,FALSE),"") | H13: =IFERROR(VLOOKUP($B13,'[1]Feuille 2'!$A:$U,H$4,FALSE),"") | I13: =IFERROR(VLOOKUP($B13,'[1]Feuille 2'!$A:$U,I$4,FALSE),"") | J13: =IFERROR(VLOOKUP($B13,'[1]Feuille 2'!$A:$U,J$4,FALSE),"") | K13: =IFERROR(VLOOKUP($B13,'[1]Feuille 2'!$A:$U,K$4,FALSE),"") | ... U13: =IFERROR(VLOOKUP($B13,'[1]Feuille 2'!$A:$U,U$4,FALSE),"")
A14: 9 | B14: =CONCATENATE(C14,A14) -> MX9 | C14: ='Feuille 1'!$A$6 -> MX | D14: =IFERROR(VLOOKUP($B14,'[1]Feuille 2'!$A:$U,D$4,FALSE),"") | E14: =IFERROR(VLOOKUP($B14,'[1]Feuille 2'!$A:$U,E$4,FALSE),"") | F14: =IFERROR(VLOOKUP($B14,'[1]Feuille 2'!$A:$U,F$4,FALSE),"") | G14: =IFERROR(VLOOKUP($B14,'[1]Feuille 2'!$A:$U,G$4,FALSE),"") | H14: =IFERROR(VLOOKUP($B14,'[1]Feuille 2'!$A:$U,H$4,FALSE),"") | I14: =IFERROR(VLOOKUP($B14,'[1]Feuille 2'!$A:$U,I$4,FALSE),"") | J14: =IFERROR(VLOOKUP($B14,'[1]Feuille 2'!$A:$U,J$4,FALSE),"") | K14: =IFERROR(VLOOKUP($B14,'[1]Feuille 2'!$A:$U,K$4,FALSE),"") | ... U14: =IFERROR(VLOOKUP($B14,'[1]Feuille 2'!$A:$U,U$4,FALSE),"")
A15: 10 | B15: =CONCATENATE(C15,A15) -> MX10 | C15: ='Feuille 1'!$A$6 -> MX | D15: =IFERROR(VLOOKUP($B15,'[1]Feuille 2'!$A:$U,D$4,FALSE),"") | E15: =IFERROR(VLOOKUP($B15,'[1]Feuille 2'!$A:$U,E$4,FALSE),"") | F15: =IFERROR(VLOOKUP($B15,'[1]Feuille 2'!$A:$U,F$4,FALSE),"") | G15: =IFERROR(VLOOKUP($B15,'[1]Feuille 2'!$A:$U,G$4,FALSE),"") | H15: =IFERROR(VLOOKUP($B15,'[1]Feuille 2'!$A:$U,H$4,FALSE),"") | I15: =IFERROR(VLOOKUP($B15,'[1]Feuille 2'!$A:$U,I$4,FALSE),"") | J15: =IFERROR(VLOOKUP($B15,'[1]Feuille 2'!$A:$U,J$4,FALSE),"") | K15: =IFERROR(VLOOKUP($B15,'[1]Feuille 2'!$A:$U,K$4,FALSE),"") | ... U15: =IFERROR(VLOOKUP($B15,'[1]Feuille 2'!$A:$U,U$4,FALSE),"")
A16: 11 | B16: =CONCATENATE(C16,A16) -> MX11 | C16: ='Feuille 1'!$A$6 -> MX | D16: =IFERROR(VLOOKUP($B16,'[1]Feuille 2'!$A:$U,D$4,FALSE),"") | E16: =IFERROR(VLOOKUP($B16,'[1]Feuille 2'!$A:$U,E$4,FALSE),"") | F16: =IFERROR(VLOOKUP($B16,'[1]Feuille 2'!$A:$U,F$4,FALSE),"") | G16: =IFERROR(VLOOKUP($B16,'[1]Feuille 2'!$A:$U,G$4,FALSE),"") | H16: =IFERROR(VLOOKUP($B16,'[1]Feuille 2'!$A:$U,H$4,FALSE),"") | I16: =IFERROR(VLOOKUP($B16,'[1]Feuille 2'!$A:$U,I$4,FALSE),"") | J16: =IFERROR(VLOOKUP($B16,'[1]Feuille 2'!$A:$U,J$4,FALSE),"") | K16: =IFERROR(VLOOKUP($B16,'[1]Feuille 2'!$A:$U,K$4,FALSE),"") | ... U16: =IFERROR(VLOOKUP($B16,'[1]Feuille 2'!$A:$U,U$4,FALSE),"")
A17: 12 | B17: =CONCATENATE(C17,A17) -> MX12 | C17: ='Feuille 1'!$A$6 -> MX | D17: =IFERROR(VLOOKUP($B17,'[1]Feuille 2'!$A:$U,D$4,FALSE),"") | E17: =IFERROR(VLOOKUP($B17,'[1]Feuille 2'!$A:$U,E$4,FALSE),"") | F17: =IFERROR(VLOOKUP($B17,'[1]Feuille 2'!$A:$U,F$4,FALSE),"") | G17: =IFERROR(VLOOKUP($B17,'[1]Feuille 2'!$A:$U,G$4,FALSE),"") | H17: =IFERROR(VLOOKUP($B17,'[1]Feuille 2'!$A:$U,H$4,FALSE),"") | I17: =IFERROR(VLOOKUP($B17,'[1]Feuille 2'!$A:$U,I$4,FALSE),"") | J17: =IFERROR(VLOOKUP($B17,'[1]Feuille 2'!$A:$U,J$4,FALSE),"") | K17: =IFERROR(VLOOKUP($B17,'[1]Feuille 2'!$A:$U,K$4,FALSE),"") | ... U17: =IFERROR(VLOOKUP($B17,'[1]Feuille 2'!$A:$U,U$4,FALSE),"")
... A25: 20 | B25: =CONCATENATE(C25,A25) -> MX20 | C25: ='Feuille 1'!$A$6 -> MX | D25: =IFERROR(VLOOKUP($B25,'[1]Feuille 2'!$A:$U,D$4,FALSE),"") | E25: =IFERROR(VLOOKUP($B25,'[1]Feuille 2'!$A:$U,E$4,FALSE),"") | F25: =IFERROR(VLOOKUP($B25,'[1]Feuille 2'!$A:$U,F$4,FALSE),"") | G25: =IFERROR(VLOOKUP($B25,'[1]Feuille 2'!$A:$U,G$4,FALSE),"") | H25: =IFERROR(VLOOKUP($B25,'[1]Feuille 2'!$A:$U,H$4,FALSE),"") | I25: =IFERROR(VLOOKUP($B25,'[1]Feuille 2'!$A:$U,I$4,FALSE),"") | J25: =IFERROR(VLOOKUP($B25,'[1]Feuille 2'!$A:$U,J$4,FALSE),"") | K25: =IFERROR(VLOOKUP($B25,'[1]Feuille 2'!$A:$U,K$4,FALSE),"") | ... U25: =IFERROR(VLOOKUP($B25,'[1]Feuille 2'!$A:$U,U$4,FALSE),"")

Sheet Feuille 3
C3: Pour information/ Non encore communiqué
D4: 4 | E4: 5 | F4: 6 | G4: 7 | H4: 8 | I4: 9 | J4: 10 | K4: 11 | L4: 12 | M4: 13 | N4: 14 | O4: 15 | P4: 16 | Q4: 17 | R4: 18 | S4: 19 | T4: 20 | U4: 21 | V4: 22 | W4: 23 | X4: 24 | Y4: 25 | Z4: 26 | AA4: 27 | AB4: 28
C5: JURIDICTION
A6: 1 | B6: =CONCATENATE(C6,A6) -> MX1 | C6: =IFERROR('Feuille 2'!$C$6,"") -> MX | D6: =IFERROR(VLOOKUP($B6,'[1]Feuille 3'!$A:$AAB,D$4,FALSE),"") -> 52 | E6: =IFERROR(VLOOKUP($B6,'[1]Feuille 3'!$A:$AAB,E$4,FALSE),"") -> 52 | F6: =IFERROR(VLOOKUP($B6,'[1]Feuille 3'!$A:$AAB,F$4,FALSE),"") -> 52 | G6: =IFERROR(VLOOKUP($B6,'[1]Feuille 3'!$A:$AAB,G$4,FALSE),"") -> 52 | H6: =IFERROR(VLOOKUP($B6,'[1]Feuille 3'!$A:$AAB,H$4,FALSE),"") -> 52 | I6: =IFERROR(VLOOKUP($B6,'[1]Feuille 3'!$A:$AAB,I$4,FALSE),"") -> 52 | J6: =IFERROR(VLOOKUP($B6,'[1]Feuille 3'!$A:$AAB,J$4,FALSE),"") -> 52 | K6: =IFERROR(VLOOKUP($B6,'[1]Feuille 3'!$A:$AAB,K$4,FALSE),"") -> 52 | ... AB6: =IFERROR(VLOOKUP($B6,'[1]Feuille 3'!$A:$AAB,AB$4,FALSE),"")
A7: 2 | B7: =CONCATENATE(C7,A7) -> MX2 | C7: =IFERROR('Feuille 2'!$C$6,"") -> MX | D7: =IFERROR(VLOOKUP($B7,'[1]Feuille 3'!$A:$AAB,D$4,FALSE),"") -> 52 | E7: =IFERROR(VLOOKUP($B7,'[1]Feuille 3'!$A:$AAB,E$4,FALSE),"") -> 52 | F7: =IFERROR(VLOOKUP($B7,'[1]Feuille 3'!$A:$AAB,F$4,FALSE),"") -> 52 | G7: =IFERROR(VLOOKUP($B7,'[1]Feuille 3'!$A:$AAB,G$4,FALSE),"") -> 52 | H7: =IFERROR(VLOOKUP($B7,'[1]Feuille 3'!$A:$AAB,H$4,FALSE),"") -> 52 | I7: =IFERROR(VLOOKUP($B7,'[1]Feuille 3'!$A:$AAB,I$4,FALSE),"") -> 52 | J7: =IFERROR(VLOOKUP($B7,'[1]Feuille 3'!$A:$AAB,J$4,FALSE),"") -> 52 | K7: =IFERROR(VLOOKUP($B7,'[1]Feuille 3'!$A:$AAB,K$4,FALSE),"") -> 52 | ... AB7: =IFERROR(VLOOKUP($B7,'[1]Feuille 3'!$A:$AAB,AB$4,FALSE),"")
A8: 3 | B8: =CONCATENATE(C8,A8) -> MX3 | C8: =IFERROR('Feuille 2'!$C$6,"") -> MX | D8: =IFERROR(VLOOKUP($B8,'[1]Feuille 3'!$A:$AAB,D$4,FALSE),"") -> 52 | E8: =IFERROR(VLOOKUP($B8,'[1]Feuille 3'!$A:$AAB,E$4,FALSE),"") -> 52 | F8: =IFERROR(VLOOKUP($B8,'[1]Feuille 3'!$A:$AAB,F$4,FALSE),"") -> 52 | G8: =IFERROR(VLOOKUP($B8,'[1]Feuille 3'!$A:$AAB,G$4,FALSE),"") -> 52 | H8: =IFERROR(VLOOKUP($B8,'[1]Feuille 3'!$A:$AAB,H$4,FALSE),"") -> 52 | I8: =IFERROR(VLOOKUP($B8,'[1]Feuille 3'!$A:$AAB,I$4,FALSE),"") -> 52 | J8: =IFERROR(VLOOKUP($B8,'[1]Feuille 3'!$A:$AAB,J$4,FALSE),"") -> 52 | K8: =IFERROR(VLOOKUP($B8,'[1]Feuille 3'!$A:$AAB,K$4,FALSE),"") -> 52 | ... AB8: =IFERROR(VLOOKUP($B8,'[1]Feuille 3'!$A:$AAB,AB$4,FALSE),"")
A9: 4 | B9: =CONCATENATE(C9,A9) -> MX4 | C9: =IFERROR('Feuille 2'!$C$6,"") -> MX | D9: =IFERROR(VLOOKUP($B9,'[1]Feuille 3'!$A:$AAB,D$4,FALSE),"") -> 52 | E9: =IFERROR(VLOOKUP($B9,'[1]Feuille 3'!$A:$AAB,E$4,FALSE),"") -> 52 | F9: =IFERROR(VLOOKUP($B9,'[1]Feuille 3'!$A:$AAB,F$4,FALSE),"") -> 52 | G9: =IFERROR(VLOOKUP($B9,'[1]Feuille 3'!$A:$AAB,G$4,FALSE),"") -> 52 | H9: =IFERROR(VLOOKUP($B9,'[1]Feuille 3'!$A:$AAB,H$4,FALSE),"") -> 52 | I9: =IFERROR(VLOOKUP($B9,'[1]Feuille 3'!$A:$AAB,I$4,FALSE),"") -> 52 | J9: =IFERROR(VLOOKUP($B9,'[1]Feuille 3'!$A:$AAB,J$4,FALSE),"") -> 52 | K9: =IFERROR(VLOOKUP($B9,'[1]Feuille 3'!$A:$AAB,K$4,FALSE),"") -> 52 | ... AB9: =IFERROR(VLOOKUP($B9,'[1]Feuille 3'!$A:$AAB,AB$4,FALSE),"")
A10: 5 | B10: =CONCATENATE(C10,A10) -> MX5 | C10: =IFERROR('Feuille 2'!$C$6,"") -> MX | D10: =IFERROR(VLOOKUP($B10,'[1]Feuille 3'!$A:$AAB,D$4,FALSE),"") -> 52 | E10: =IFERROR(VLOOKUP($B10,'[1]Feuille 3'!$A:$AAB,E$4,FALSE),"") -> 52 | F10: =IFERROR(VLOOKUP($B10,'[1]Feuille 3'!$A:$AAB,F$4,FALSE),"") -> 52 | G10: =IFERROR(VLOOKUP($B10,'[1]Feuille 3'!$A:$AAB,G$4,FALSE),"") -> 52 | H10: =IFERROR(VLOOKUP($B10,'[1]Feuille 3'!$A:$AAB,H$4,FALSE),"") -> 52 | I10: =IFERROR(VLOOKUP($B10,'[1]Feuille 3'!$A:$AAB,I$4,FALSE),"") -> 52 | J10: =IFERROR(VLOOKUP($B10,'[1]Feuille 3'!$A:$AAB,J$4,FALSE),"") -> 52 | K10: =IFERROR(VLOOKUP($B10,'[1]Feuille 3'!$A:$AAB,K$4,FALSE),"") -> 52 | ... AB10: =IFERROR(VLOOKUP($B10,'[1]Feuille 3'!$A:$AAB,AB$4,FALSE),"")
A11: 6 | B11: =CONCATENATE(C11,A11) -> MX6 | C11: =IFERROR('Feuille 2'!$C$6,"") -> MX | D11: =IFERROR(VLOOKUP($B11,'[1]Feuille 3'!$A:$AAB,D$4,FALSE),"") -> 52 | E11: =IFERROR(VLOOKUP($B11,'[1]Feuille 3'!$A:$AAB,E$4,FALSE),"") -> 52 | F11: =IFERROR(VLOOKUP($B11,'[1]Feuille 3'!$A:$AAB,F$4,FALSE),"") -> 52 | G11: =IFERROR(VLOOKUP($B11,'[1]Feuille 3'!$A:$AAB,G$4,FALSE),"") -> 52 | H11: =IFERROR(VLOOKUP($B11,'[1]Feuille 3'!$A:$AAB,H$4,FALSE),"") -> 52 | I11: =IFERROR(VLOOKUP($B11,'[1]Feuille 3'!$A:$AAB,I$4,FALSE),"") -> 52 | J11: =IFERROR(VLOOKUP($B11,'[1]Feuille 3'!$A:$AAB,J$4,FALSE),"") -> 52 | K11: =IFERROR(VLOOKUP($B11,'[1]Feuille 3'!$A:$AAB,K$4,FALSE),"") -> 52 | ... AB11: =IFERROR(VLOOKUP($B11,'[1]Feuille 3'!$A:$AAB,AB$4,FALSE),"")
A12: 7 | B12: =CONCATENATE(C12,A12) -> MX7 | C12: =IFERROR('Feuille 2'!$C$6,"") -> MX | D12: =IFERROR(VLOOKUP($B12,'[1]Feuille 3'!$A:$AAB,D$4,FALSE),"") | E12: =IFERROR(VLOOKUP($B12,'[1]Feuille 3'!$A:$AAB,E$4,FALSE),"") | F12: =IFERROR(VLOOKUP($B12,'[1]Feuille 3'!$A:$AAB,F$4,FALSE),"") | G12: =IFERROR(VLOOKUP($B12,'[1]Feuille 3'!$A:$AAB,G$4,FALSE),"") | H12: =IFERROR(VLOOKUP($B12,'[1]Feuille 3'!$A:$AAB,H$4,FALSE),"") | I12: =IFERROR(VLOOKUP($B12,'[1]Feuille 3'!$A:$AAB,I$4,FALSE),"") | J12: =IFERROR(VLOOKUP($B12,'[1]Feuille 3'!$A:$AAB,J$4,FALSE),"") | K12: =IFERROR(VLOOKUP($B12,'[1]Feuille 3'!$A:$AAB,K$4,FALSE),"") | ... AB12: =IFERROR(VLOOKUP($B12,'[1]Feuille 3'!$A:$AAB,AB$4,FALSE),"")
A13: 8 | B13: =CONCATENATE(C13,A13) -> MX8 | C13: =IFERROR('Feuille 2'!$C$6,"") -> MX | D13: =IFERROR(VLOOKUP($B13,'[1]Feuille 3'!$A:$AAB,D$4,FALSE),"") | E13: =IFERROR(VLOOKUP($B13,'[1]Feuille 3'!$A:$AAB,E$4,FALSE),"") | F13: =IFERROR(VLOOKUP($B13,'[1]Feuille 3'!$A:$AAB,F$4,FALSE),"") | G13: =IFERROR(VLOOKUP($B13,'[1]Feuille 3'!$A:$AAB,G$4,FALSE),"") | H13: =IFERROR(VLOOKUP($B13,'[1]Feuille 3'!$A:$AAB,H$4,FALSE),"") | I13: =IFERROR(VLOOKUP($B13,'[1]Feuille 3'!$A:$AAB,I$4,FALSE),"") | J13: =IFERROR(VLOOKUP($B13,'[1]Feuille 3'!$A:$AAB,J$4,FALSE),"") | K13: =IFERROR(VLOOKUP($B13,'[1]Feuille 3'!$A:$AAB,K$4,FALSE),"") | ... AB13: =IFERROR(VLOOKUP($B13,'[1]Feuille 3'!$A:$AAB,AB$4,FALSE),"")
A14: 9 | B14: =CONCATENATE(C14,A14) -> MX9 | C14: =IFERROR('Feuille 2'!$C$6,"") -> MX | D14: =IFERROR(VLOOKUP($B14,'[1]Feuille 3'!$A:$AAB,D$4,FALSE),"") | E14: =IFERROR(VLOOKUP($B14,'[1]Feuille 3'!$A:$AAB,E$4,FALSE),"") | F14: =IFERROR(VLOOKUP($B14,'[1]Feuille 3'!$A:$AAB,F$4,FALSE),"") | G14: =IFERROR(VLOOKUP($B14,'[1]Feuille 3'!$A:$AAB,G$4,FALSE),"") | H14: =IFERROR(VLOOKUP($B14,'[1]Feuille 3'!$A:$AAB,H$4,FALSE),"") | I14: =IFERROR(VLOOKUP($B14,'[1]Feuille 3'!$A:$AAB,I$4,FALSE),"") | J14: =IFERROR(VLOOKUP($B14,'[1]Feuille 3'!$A:$AAB,J$4,FALSE),"") | K14: =IFERROR(VLOOKUP($B14,'[1]Feuille 3'!$A:$AAB,K$4,FALSE),"") | ... AB14: =IFERROR(VLOOKUP($B14,'[1]Feuille 3'!$A:$AAB,AB$4,FALSE),"")
A15: 10 | B15: =CONCATENATE(C15,A15) -> MX10 | C15: =IFERROR('Feuille 2'!$C$6,"") -> MX | D15: =IFERROR(VLOOKUP($B15,'[1]Feuille 3'!$A:$AAB,D$4,FALSE),"") | E15: =IFERROR(VLOOKUP($B15,'[1]Feuille 3'!$A:$AAB,E$4,FALSE),"") | F15: =IFERROR(VLOOKUP($B15,'[1]Feuille 3'!$A:$AAB,F$4,FALSE),"") | G15: =IFERROR(VLOOKUP($B15,'[1]Feuille 3'!$A:$AAB,G$4,FALSE),"") | H15: =IFERROR(VLOOKUP($B15,'[1]Feuille 3'!$A:$AAB,H$4,FALSE),"") | I15: =IFERROR(VLOOKUP($B15,'[1]Feuille 3'!$A:$AAB,I$4,FALSE),"") | J15: =IFERROR(VLOOKUP($B15,'[1]Feuille 3'!$A:$AAB,J$4,FALSE),"") | K15: =IFERROR(VLOOKUP($B15,'[1]Feuille 3'!$A:$AAB,K$4,FALSE),"") | ... AB15: =IFERROR(VLOOKUP($B15,'[1]Feuille 3'!$A:$AAB,AB$4,FALSE),"")
A16: 11 | B16: =CONCATENATE(C16,A16) -> MX11 | C16: =IFERROR('Feuille 2'!$C$6,"") -> MX | D16: =IFERROR(VLOOKUP($B16,'[1]Feuille 3'!$A:$AAB,D$4,FALSE),"") | E16: =IFERROR(VLOOKUP($B16,'[1]Feuille 3'!$A:$AAB,E$4,FALSE),"") | F16: =IFERROR(VLOOKUP($B16,'[1]Feuille 3'!$A:$AAB,F$4,FALSE),"") | G16: =IFERROR(VLOOKUP($B16,'[1]Feuille 3'!$A:$AAB,G$4,FALSE),"") | H16: =IFERROR(VLOOKUP($B16,'[1]Feuille 3'!$A:$AAB,H$4,FALSE),"") | I16: =IFERROR(VLOOKUP($B16,'[1]Feuille 3'!$A:$AAB,I$4,FALSE),"") | J16: =IFERROR(VLOOKUP($B16,'[1]Feuille 3'!$A:$AAB,J$4,FALSE),"") | K16: =IFERROR(VLOOKUP($B16,'[1]Feuille 3'!$A:$AAB,K$4,FALSE),"") | ... AB16: =IFERROR(VLOOKUP($B16,'[1]Feuille 3'!$A:$AAB,AB$4,FALSE),"")
A17: 12 | B17: =CONCATENATE(C17,A17) -> MX12 | C17: =IFERROR('Feuille 2'!$C$6,"") -> MX | D17: =IFERROR(VLOOKUP($B17,'[1]Feuille 3'!$A:$AAB,D$4,FALSE),"") | E17: =IFERROR(VLOOKUP($B17,'[1]Feuille 3'!$A:$AAB,E$4,FALSE),"") | F17: =IFERROR(VLOOKUP($B17,'[1]Feuille 3'!$A:$AAB,F$4,FALSE),"") | G17: =IFERROR(VLOOKUP($B17,'[1]Feuille 3'!$A:$AAB,G$4,FALSE),"") | H17: =IFERROR(VLOOKUP($B17,'[1]Feuille 3'!$A:$AAB,H$4,FALSE),"") | I17: =IFERROR(VLOOKUP($B17,'[1]Feuille 3'!$A:$AAB,I$4,FALSE),"") | J17: =IFERROR(VLOOKUP($B17,'[1]Feuille 3'!$A:$AAB,J$4,FALSE),"") | K17: =IFERROR(VLOOKUP($B17,'[1]Feuille 3'!$A:$AAB,K$4,FALSE),"") | ... AB17: =IFERROR(VLOOKUP($B17,'[1]Feuille 3'!$A:$AAB,AB$4,FALSE),"")
... A23: 18 | B23: =CONCATENATE(C23,A23) -> MX18 | C23: =IFERROR('Feuille 2'!$C$6,"") -> MX | D23: =IFERROR(VLOOKUP($B23,'[1]Feuille 3'!$A:$AAB,D$4,FALSE),"") | E23: =IFERROR(VLOOKUP($B23,'[1]Feuille 3'!$A:$AAB,E$4,FALSE),"") | F23: =IFERROR(VLOOKUP($B23,'[1]Feuille 3'!$A:$AAB,F$4,FALSE),"") | G23: =IFERROR(VLOOKUP($B23,'[1]Feuille 3'!$A:$AAB,G$4,FALSE),"") | H23: =IFERROR(VLOOKUP($B23,'[1]Feuille 3'!$A:$AAB,H$4,FALSE),"") | I23: =IFERROR(VLOOKUP($B23,'[1]Feuille 3'!$A:$AAB,I$4,FALSE),"") | J23: =IFERROR(VLOOKUP($B23,'[1]Feuille 3'!$A:$AAB,J$4,FALSE),"") | K23: =IFERROR(VLOOKUP($B23,'[1]Feuille 3'!$A:$AAB,K$4,FALSE),"") | ... AB23: =IFERROR(VLOOKUP($B23,'[1]Feuille 3'!$A:$AAB,AB$4,FALSE),"")
