Workbook

Sheet Feuil1
E2: E16 | I2: B17
E3: Total | F3: Cash | G3: Shares | I3: Total | J3: Cash | K3: Shares
A4: ROE | D4: Austria
A5: ROE | D5: Belgium
A6: ROE | D6: Croatia
A7: ROE | D7: Czech Republic
A8: ROE | D8: Denmark
A9: ROE | D9: Estap - Inform
A10: ROE | D10: Germany
A11: ROE | D11: Greece
A12: ROE | D12: Hungary
A13: ROE | D13: Kazakhstan
A14: ROE | D14: Minkels
A15: ROE | D15: Netherlands
... A61: Groupe | D61: France
K62: =E62-I62 -> 0

Sheet Feuil2
E1: 1 | F1: =E1+1 -> 2 | G1: =F1+1 -> 3 | H1: =G1+1 -> 4 | I1: =H1+1 -> 5 | J1: =I1+1 -> 6 | K1: =J1+1 -> 7 | L1: =K1+1 -> 8 | M1: =L1+1 -> 9 | ... V1: =U1+1 -> 18
F3: Cash | G3: Share | H3: Total | I3: Cash | J3: Share | K3: Total | M3: Check | O3: Cash | P3: Share | Q3: Total | R3: Cash | S3: Share | T3: Total | V3: Check
B4: ROE | C4: =+LEFT(D4,3) -> 465 | D4: 465 - LEGRAND - AUSTRIA | E4: Austria | F4: 91.204481 | G4: 13.463238 | H4: 104.66772 | I4: 84.461998 | J4: 13.463238 | K4: 97.925236 | M4: =H4-Feuil1!E4 -> 104.66772 | O4: 62.436626 | P4: 19.603365 | Q4: 82.039991 | R4: 57.820867 | S4: 19.603365 | T4: 77.424232 | V4: =Q4-Feuil1!I4 -> 82.039991
B5: ROE | C5: =+LEFT(D5,3) -> 476 | D5: 476 - LEGRAND GROUP BELGIUM | E5: Belgium | F5: 163.96934 | G5: 12.657038 | H5: 176.62638 | I5: 121.52323 | J5: 12.657038 | K5: 134.18027 | M5: =H5-Feuil1!E5 -> 176.62638 | O5: 122.84029 | P5: 20.945701 | Q5: 143.78599 | R5: 91.041096 | S5: 20.945701 | T5: 111.9868 | V5: =Q5-Feuil1!I5 -> 143.78599
B6: ROE | C6: =+LEFT(D6,3) -> 620 | D6: 620 - LEGRAND - CROATIE | E6: Croatia | F6: 30.572835 | G6: 0 | H6: 30.572835 | I6: 25.477362 | J6: 0 | K6: 25.477362 | M6: =H6-Feuil1!E6 -> 30.572835 | O6: 29.165615 | P6: 0 | Q6: 29.165615 | R6: 24.304679 | S6: 0 | T6: 24.304679 | V6: =Q6-Feuil1!I6 -> 29.165615
B7: ROE | C7: =+LEFT(D7,3) -> 602 | D7: 602 - LEGRAND - CZECH REPUB. | E7: Czech Republic | F7: 82.947096 | G7: 19.353265 | H7: 102.30036 | I7: 74.646483 | J7: 17.41968 | K7: 92.066163 | M7: =H7-Feuil1!E7 -> 102.30036 | O7: 64.207534 | P7: 32.283915 | Q7: 96.491449 | R7: 57.782211 | S7: 29.058429 | T7: 86.84064 | V7: =Q7-Feuil1!I7 -> 96.491449
B8: ROE | C8: =+LEFT(D8,3) -> 342 | D8: 342 - LEGRAND SCANDINAVIA | E8: Denmark | F8: 45.291221 | G8: 11.144783 | H8: 56.436005 | I8: 45.291221 | J8: 11.144783 | K8: 56.436005 | M8: =H8-Feuil1!E8 -> 56.436005 | O8: 29.236303 | P8: 18.303174 | Q8: 47.539477 | R8: 29.236303 | S8: 18.303174 | T8: 47.539477 | V8: =Q8-Feuil1!I8 -> 47.539477
B9: ROE | C9: =+LEFT(D9,3) -> 423 | D9: 423 - INFORM-ESTAP TURKEY | E9: Estap - Inform | F9: 205.46744 | G9: 34.57331 | H9: 240.04075 | I9: 186.78858 | J9: 31.806173 | K9: 218.59475 | M9: =H9-Feuil1!E9 -> 240.04075 | O9: 129.0245 | P9: 56.743559 | Q9: 185.76806 | R9: 117.295 | S9: 52.201986 | T9: 169.49699 | V9: =Q9-Feuil1!I9 -> 185.76806
B10: ROE | C10: =+LEFT(D10,3) -> 358 | D10: 358 - LEGRAND - BTICINO GMBH - GERMANY | E10: Germany | F10: 149.67511 | G10: 42.796983 | H10: 192.47209 | I10: 149.67511 | J10: 42.796983 | K10: 192.47209 | M10: =H10-Feuil1!E10 -> 192.47209 | O10: 110.53365 | P10: 68.874705 | Q10: 179.40835 | R10: 110.53365 | S10: 68.874705 | T10: 179.40835 | V10: =Q10-Feuil1!I10 -> 179.40835
B11: ROE | C11: =+LEFT(D11,3) -> 377 | D11: 377 - LEGRAND - GREECE | E11: Greece | F11: 79.110299 | G11: 12.912616 | H11: 92.022915 | I11: 63.288239 | J11: 12.912616 | K11: 76.200855 | M11: =H11-Feuil1!E11 -> 92.022915 | O11: 62.76994 | P11: 21.211461 | Q11: 83.981401 | R11: 50.215952 | S11: 21.211461 | T11: 71.427413 | V11: =Q11-Feuil1!I11 -> 83.981401
B12: ROE | C12: =+LEFT(D12,3) -> 411 | D12: 411 - LEGRAND - HUNGARY | E12: Hungary | F12: 233.5581 | G12: 56.010523 | H12: 289.56863 | I12: 183.90402 | J12: 44.102774 | K12: 228.00679 | M12: =H12-Feuil1!E12 -> 289.56863 | O12: 140.70984 | P12: 95.233107 | Q12: 235.94295 | R12: 110.79515 | S12: 74.986698 | T12: 185.78185 | V12: =Q12-Feuil1!I12 -> 235.94295
B13: ROE | C13: =+LEFT(D13,3) -> 615 | D13: 615 - LEGRAND - KAZAKHSTAN | E13: Kazakhstan | F13: 18.224283 | G13: 0 | H13: 18.224283 | I13: 15.186902 | J13: 0 | K13: 15.186902 | M13: =H13-Feuil1!E13 -> 18.224283 | O13: 16.247624 | P13: 0 | Q13: 16.247624 | R13: 13.539687 | S13: 0 | T13: 13.539687 | V13: =Q13-Feuil1!I13 -> 16.247624
B14: ROE | C14: =+LEFT(D14,3) -> 471 | D14: 471 - MINKELS INTERNATIONAL B.V. | E14: Minkels | F14: 106.7514 | G14: 12.441499 | H14: 119.19289 | I14: 97.400909 | J14: 12.441499 | K14: 109.84241 | M14: =H14-Feuil1!E14 -> 119.19289 | O14: 85.261877 | P14: 17.044049 | Q14: 102.30593 | R14: 77.793683 | S14: 17.044049 | T14: 94.837731 | V14: =Q14-Feuil1!I14 -> 102.30593
B15: ROE | C15: =+LEFT(D15,3) -> 374 | D15: 374 - LEGRAND - THE NETHERLANDS | E15: Netherlands | F15: 149.10826 | G15: 54.628641 | H15: 203.7369 | I15: 136.04768 | J15: 54.628641 | K15: 190.67632 | M15: =H15-Feuil1!E15 -> 203.7369 | O15: 105.72468 | P15: 94.676934 | Q15: 200.40162 | R15: 96.464127 | S15: 94.676934 | T15: 191.14106 | V15: =Q15-Feuil1!I15 -> 200.40162
... B60: ROW | C60: =+LEFT(D60,3) -> 395 | D60: 395 - BTICINO - THAILAND | E60: Thailand | F60: 85.496513 | G60: 36.022293 | H60: 121.51881 | I60: 85.496513 | J60: 36.022293 | K60: 121.51881 | M60: =H60-Feuil1!E60 -> 121.51881 | O60: 33.667772 | P60: 58.973947 | Q60: 92.641718 | R60: 33.667772 | S60: 58.973947 | T60: 92.641718 | V60: =Q60-Feuil1!I60 -> 92.641718
B61: Groupe | C61: =+LEFT(D61,3) -> 910 | D61: 910 - LEGRAND | E61: France | F61: 8766.1415 | G61: 2884.2254 | H61: =11650.3668663703-3921 -> 7729.3669 | I61: 6352.2764 | J61: 2884.2254 | K61: 9236.5018 | M61: =H61-Feuil1!E61 -> 7729.3669 | O61: 4154.2417 | P61: 4722.743 | Q61: =8876.98466077457-Q62-Q63 -> 5245.7203 | R61: 3010.3201 | S61: 4722.743 | T61: 7733.063 | V61: =Q61-Feuil1!I61 -> 5245.7203
B62: France | E62: DCF | H62: 2372 | M62: =H62-Feuil1!#REF! -> #REF! | Q62: 2020.5643 | V62: =Q62-Feuil1!#REF! -> #REF!
B63: France | E63: Export | H63: 1548.6 | M63: =H63-Feuil1!#REF! -> #REF! | Q63: 1610.7 | V63: =Q63-Feuil1!#REF! -> #REF!
B64: Italie | C64: =+LEFT(D64,3) -> 551 | D64: 551 - GROUPE Italie | E64: Italie | F64: 2207.5908 | G64: 233.88562 | H64: 2441.4764 | I64: 1588.1948 | J64: 233.88562 | K64: 1822.0804 | M64: =H64-Feuil1!#REF! -> #REF! | O64: 1532.3748 | P64: 404.43453 | Q64: 1936.8093 | R64: 1102.4279 | S64: 404.43453 | T64: 1506.8624 | V64: =Q64-Feuil1!#REF! -> #REF!
B65: LNA | C65: =+LEFT(D65,3) -> 400 | D65: 400 - LEGRAND HOLDING INC - USA | E65: LNA | F65: 3314.685 | G65: 1974.7488 | H65: 5289.4338 | I65: 3236.9971 | J65: 1913.5163 | K65: 5150.5133 | M65: =H65-Feuil1!#REF! -> #REF! | O65: 1608.4212 | P65: 3667.0969 | Q65: 5275.5182 | R65: 1570.7239 | S65: 3553.3885 | T65: 5124.1124 | V65: =Q65-Feuil1!#REF! -> #REF!
B66: Groupe | E66: Plan 2012 | H66: 274 | M66: =H66-Feuil1!#REF! -> #REF! | V66: =Q66-Feuil1!#REF! -> #REF!
B67: Italie | E67: Plan 2012 | H67: 93 | M67: =H67-Feuil1!#REF! -> #REF! | V67: =Q67-Feuil1!#REF! -> #REF!
B68: LNA | E68: Plan 2012 | H68: 145 | M68: =H68-Feuil1!#REF! -> #REF! | V68: =Q68-Feuil1!#REF! -> #REF!
E69: TOTAL | H69: =SUM(H4:H68) -> 30864.171 | Q69: =SUM(Q4:Q68) -> 25580.302

Sheet Feuil3
