Workbook
Name semaine: A!$C$2

Sheet A
C2: S14
D13: P1 | E13: P2 | F13: P3 | G13: P4 | H13: P5
C14: =VLOOKUP(semaine,t_donner[],2,TRUE) -> 43922 | D14: =VLOOKUP(semaine,t_donner[],3,TRUE) -> 26 | E14: =VLOOKUP(semaine,t_donner[],4,TRUE) -> 21 | F14: =VLOOKUP(semaine,t_donner[],5,TRUE) -> 24 | G14: =VLOOKUP(semaine,t_donner[],6,TRUE) -> 24 | H14: =VLOOKUP(semaine,t_donner[],7,TRUE) -> 24
C15: Cumul | D15: =B!F9 -> 20 | E15: =B!G9 -> 22 | F15: =B!H9 -> 24 | G15: =B!I9 -> 29 | H15: =B!J9 -> 23

Sheet C
C2: Résultats cumulés annuels
D4: A | E4: A1 | F4: a2 | G4: a3 | H4: a4 | I4: B | J4: B1 | K4: B2 | L4: B3 | M4: B4 | N4: C | O4: C1 | P4: C2 | Q4: C3 | R4: C4 | S4: D | T4: d1 | U4: d2 | V4: d3 | W4: d4 | X4: d5 | Y4: d6 | Z4: E | AA4: e1 | AB4: e2 | AC4: e3 | AD4: e4 | AE4: F | AF4: f1 | AG4: f2 | AH4: f3 | AI4: f4 | AJ4: G | AK4: g1 | AL4: g2 | AM4: g3 | AN4: g4 | AO4: H | AP4: h1 | AQ4: h2 | AR4: h3
B5: Cumulé | C5: S1 à S18 | D5: 17.543397 | E5: 14.941996 | F5: 16.90994 | G5: 18.439991 | H5: 18.496075 | I5: 17.939124 | J5: 17.787864 | K5: 19.592987 | L5: 16.88585 | M5: 17.438261 | N5: 16.350897 | O5: 18.093507 | P5: 14.345787 | Q5: 15.762634 | R5: 17.416283 | S5: 20.083008 | T5: 22.301892 | U5: 19.958857 | V5: 17.909931 | W5: 19.443973 | X5: 21.428882 | Y5: 18.81475 | Z5: 19.026531 | AA5: 17.032079 | AB5: 21.216742 | AC5: 17.340748 | AD5: 18.037174 | AE5: 20.6854 | AF5: 21.249581 | AG5: 19.440919 | AH5: 20.254861 | AI5: 21.625729 | AJ5: 21.298561 | AK5: 18.382989 | AL5: 20.869797 | AM5: 20.852186 | AN5: 23.601191 | AO5: 18.356982 | AP5: 17.770501 | AQ5: 17.38848 | AR5: 19.601856
C12: Résultats mensuels
D14: A | E14: =E4 -> A1 | F14: =F4 -> a2 | G14: =G4 -> a3 | H14: =H4 -> a4 | I14: =I4 -> B | J14: =J4 -> B1 | K14: =K4 -> B2 | L14: =L4 -> B3 | ... AR14: =AR4 -> h3
B15: 43831 | C15: 1 à 5 | D15: 19.129345 | E15: 14.279012 | F15: 20.196511 | G15: 18.989786 | H15: 20.980496 | I15: 20.168065 | J15: 21.376573 | K15: 23.45732 | L15: 18.624244 | M15: 18.539601 | N15: 17.660201 | O15: 19.954807 | P15: 15.811041 | Q15: 16.695547 | R15: 19.932468 | S15: 21.810018 | T15: 22.900041 | U15: 22.937659 | V15: 22.228993 | W15: 20.682281 | X15: 22.127674 | Y15: 19.096621 | Z15: 20.818454 | AA15: 18.266913 | AB15: 22.395342 | AC15: 19.409764 | AD15: 21.082749 | AE15: 22.89916 | AF15: 23.617912 | AG15: 22.221878 | AH15: 22.570441 | AI15: 22.982236 | AJ15: 22.243167 | AK15: 20.45342 | AL15: 21.427853 | AM15: 21.671809 | AN15: 24.975211 | AO15: 18.482147 | AP15: 17.119716 | AQ15: 18.969887 | AR15: 19.34147
B16: 43862 | C16: 6 à 9 | D16: 20.13565 | E16: 16.531663 | F16: 21.914355 | G16: 19.760977 | H16: 20.868648 | I16: 20.589375 | J16: 19.995985 | K16: 20.929968 | L16: 19.588454 | M16: 21.322047 | N16: 19.212256 | O16: 21.093015 | P16: 17.298521 | Q16: 18.527933 | R16: 21.013449 | S16: 22.510777 | T16: 25.402421 | U16: 21.779674 | V16: 21.818797 | W16: 21.22675 | X16: 24.916813 | Y16: 20.828117 | Z16: 22.09777 | AA16: 20.253211 | AB16: 23.453487 | AC16: 20.366738 | AD16: 22.235982 | AE16: 23.27189 | AF16: 23.664942 | AG16: 21.529402 | AH16: 23.103036 | AI16: 25.176102 | AJ16: 24.132431 | AK16: 22.665176 | AL16: 24.237175 | AM16: 23.53182 | AN16: 25.564055 | AO16: 20.733744 | AP16: 19.318409 | AQ16: 19.505379 | AR16: 23.53215
B17: 43891 | C17: 10 à 13 | D17: 14.653412 | E17: 13.533171 | F17: 12.193361 | G17: 16.494805 | H17: 15.077505 | I17: 14.800926 | J17: 14.634825 | K17: 15.801815 | L17: 13.598549 | M17: 14.552834 | N17: 13.722587 | O17: 15.060075 | P17: 11.299356 | Q17: 13.035084 | R17: 14.140582 | S17: 18.904313 | T17: 20.739844 | U17: 17.910962 | V17: 12.840705 | W17: 17.911461 | X17: 22.494871 | Y17: 20.495576 | Z17: 15.81986 | AA17: 12.351128 | AB17: 20.661087 | AC17: 12.129166 | AD17: 13.435797 | AE17: 17.56176 | AF17: 17.184426 | AG17: 16.40138 | AH17: 18.030167 | AI17: 18.613364 | AJ17: 19.355702 | AK17: 15.920451 | AL17: 18.915213 | AM17: 17.222341 | AN17: 23.895573 | AO17: 17.015055 | AP17: 17.753523 | AQ17: 15.202517 | AR17: 17.057895
B18: 43922 | C18: 14 à 18 | D18: 15.840495 | E18: 15.609643 | F18: 12.145075 | G18: 18.567306 | H18: 16.220767 | I18: 15.491051 | J18: 13.948186 | K18: 17.102863 | L18: 15.062814 | M18: 14.989441 | N18: 14.375217 | O18: 15.70678 | P18: 12.497623 | Q18: 14.414978 | R18: 13.87963 | S18: 16.648347 | T18: 19.980109 | U18: 16.283567 | V18: 14.174458 | W18: 17.64866 | X18: 16.027455 | Y18: 14.678453 | Z18: 17.01303 | AA18: 16.948355 | AB18: 18.224184 | AC18: 16.968498 | AD18: 14.687399 | AE18: 18.392435 | AF18: 19.934087 | AG18: 16.897983 | AH18: 16.694551 | AI18: 19.249476 | AJ18: 19.141566 | AK18: 13.880457 | AL18: 18.831286 | AM18: 20.72145 | AN18: 19.29615 | AO18: 17.088558 | AP18: 16.969597 | AQ18: 15.482822 | AR18: 18.517523
B19: 43952
B20: 43983

Sheet B
E6: Résultats cumulés annuels
F8: P1 | G8: P2 | H8: P3 | I8: P4 | J8: P5
D9: Cumulé | E9: S1 à S18 | F9: 20 | G9: 22 | H9: 24 | I9: 29 | J9: 23
E12: Résultats mensuels
D14: semaine | E14: date | F14: P1 | G14: P2 | H14: P3 | I14: P4 | J14: P5
B15: 1 | D15: S01 | E15: 43831 | F15: 20 | G15: 21 | H15: 20 | I15: 22.570441 | J15: 20
B16: 6 | D16: S06 | E16: 43862 | F16: 21 | G16: 20 | H16: 21 | I16: 26 | J16: 26
B17: 10 | D17: S10 | E17: 43891 | F17: 22 | G17: 20 | H17: 18 | I17: 18 | J17: 21
B18: 14 | D18: S14 | E18: 43922 | F18: 26 | G18: 21 | H18: 24 | I18: 24 | J18: 24
E19: 43952
E20: 43983
E21: 44013
E22: 44044
E23: 44075
E24: 44105
E25: 44136
E26: 44166

Sheet table
E5: Liste Semaine
E6: S01
E7: S02
E8: S03
E9: S04
E10: S05
E11: S06
E12: S07
E13: S08
E14: S09
E15: S10
E16: S11
... E57: S52
