Workbook
Name tab: #REF!
Name tab: #REF!

Sheet Feuille1
A1: Comparatif relevé machine / relevé 3D
A4: Ø | B4: Relevé 3D | C4: Relevé Micro | D4: Ecart | F4: j | G4: Relevé 3D | H4: Relevé Micro | I4: Ecart
A5: Origine E | B5: =Feuille2!E(CELL(contenu,K5)) -> #NAME? | C5: 43.96 | D5: =C5-B5 -> #NAME? | F5: Origine E | G5: =Feuille2!E38 -> 0.070 | I5: =H5-G5 -> #VALUE! | K5: 20
A6: 2 | B6: =Feuille2!E42 -> 43.965 | D6: =C6-B6 -> #VALUE! | F6: 2 | G6: =Feuille2!E60 -> 0.069 | I6: =H6-G6 -> #VALUE! | K6: 42
A7: 3 | B7: =Feuille2!E22 -> 0 | D7: =C7-B7 -> 0 | F7: 3 | G7: =Feuille2!E82 -> 0.072 | I7: =H7-G7 -> #VALUE! | K7: 64
A8: 4 | B8: =Feuille2!E44 -> 0 | D8: =C8-B8 -> 0 | F8: 4 | G8: =Feuille2!E104 -> 0.069 | I8: =H8-G8 -> #VALUE! | K8: 86
A9: 5 | B9: =Feuille2!E24 -> 0.004 | D9: =C9-B9 -> #VALUE! | F9: 5 | G9: =Feuille2!E126 -> 0.027 | I9: =H9-G9 -> #VALUE! | K9: 108
A10: 6 | B10: =Feuille2!E46 -> 0.004 | D10: =C10-B10 -> #VALUE! | F10: 6 | G10: =Feuille2!E148 -> 0.058 | I10: =H10-G10 -> #VALUE! | K10: 130
A11: 7 | B11: =Feuille2!E26 -> 0 | D11: =C11-B11 -> 0 | F11: 7 | G11: =Feuille2!E170 -> 0.052 | I11: =H11-G11 -> #VALUE! | K11: 152
A12: 8 | B12: =Feuille2!E48 -> 0 | D12: =C12-B12 -> 0 | F12: 8 | G12: =Feuille2!E192 -> 0.059 | I12: =H12-G12 -> #VALUE! | K12: 174
A13: 9 | B13: =Feuille2!E28 -> 43.956 | D13: =C13-B13 -> #VALUE! | F13: 9 | G13: =Feuille2!E214 -> 0.049 | I13: =H13-G13 -> #VALUE! | K13: 196
A14: 10 | B14: =Feuille2!E50 -> 43.966 | D14: =C14-B14 -> #VALUE! | F14: 10 | G14: =Feuille2!E236 -> 0.051 | I14: =H14-G14 -> #VALUE! | K14: 218
A15: 11 | B15: =Feuille2!E30 -> 0 | D15: =C15-B15 -> 0 | F15: 11 | G15: =Feuille2!E258 -> 0.049 | I15: =H15-G15 -> #VALUE! | K15: 240
A16: 12 | B16: =Feuille2!E52 -> 0 | D16: =C16-B16 -> 0 | F16: 12 | G16: =Feuille2!E280 -> 0.051 | I16: =H16-G16 -> #VALUE! | K16: 262
A17: 13 | B17: =Feuille2!E32 -> 0.002 | D17: =C17-B17 -> #VALUE! | F17: 13 | G17: =Feuille2!E302 -> 0.053 | I17: =H17-G17 -> #VALUE! | K17: 284
A18: 14 | B18: =Feuille2!E54 -> 0.003 | D18: =C18-B18 -> #VALUE! | F18: 14 | G18: =Feuille2!E324 -> 0.064 | I18: =H18-G18 -> #VALUE! | K18: 306
A19: 15 | B19: =Feuille2!E34 -> 0 | D19: =C19-B19 -> 0 | F19: 15 | G19: =Feuille2!E346 -> 0.051 | I19: =H19-G19 -> #VALUE! | K19: 328
A20: 16 | B20: =Feuille2!E56 -> 0 | D20: =C20-B20 -> 0 | F20: 16 | G20: =Feuille2!E368 -> 0.067 | I20: =H20-G20 -> #VALUE! | K20: 350
A21: 17 | B21: =Feuille2!E36 -> 0.000 | D21: =C21-B21 -> #VALUE! | F21: 17 | G21: =Feuille2!E390 -> 0.075 | I21: =H21-G21 -> #VALUE! | K21: 372
A22: 18 | B22: =Feuille2!E58 -> -129.099 | D22: =C22-B22 -> #VALUE! | F22: 18 | G22: =Feuille2!E412 -> 0.087 | I22: =H22-G22 -> #VALUE! | K22: 394
A23: 19 | B23: =Feuille2!E38 -> 0.070 | D23: =C23-B23 -> #VALUE! | F23: 19 | G23: =Feuille2!E434 -> 0.076 | I23: =H23-G23 -> #VALUE! | K23: 416
A24: 20 | B24: =Feuille2!E60 -> 0.069 | D24: =C24-B24 -> #VALUE! | F24: 20 | G24: =Feuille2!E456 -> 0.067 | I24: =H24-G24 -> #VALUE! | K24: 438
A25: 21 | B25: =Feuille2!E40 -> 0 | D25: =C25-B25 -> 0 | F25: 21 | G25: =Feuille2!E478 -> 0.089 | I25: =H25-G25 -> #VALUE! | K25: 460
A26: 22 | B26: =Feuille2!E62 -> 0 | D26: =C26-B26 -> 0 | F26: 22 | G26: =Feuille2!E500 -> 0.095 | I26: =H26-G26 -> #VALUE! | K26: 482
A27: 23 | B27: =Feuille2!E42 -> 43.965 | D27: =C27-B27 -> #VALUE! | F27: 23 | G27: =Feuille2!E522 -> 0.098 | I27: =H27-G27 -> #VALUE! | K27: 504
A28: 24 | B28: =Feuille2!E64 -> 43.966 | D28: =C28-B28 -> #VALUE! | F28: 24 | G28: =Feuille2!E544 -> 0.103 | I28: =H28-G28 -> #VALUE! | K28: 526
A29: 25 | B29: =Feuille2!E44 -> 0 | D29: =C29-B29 -> 0 | F29: 25 | G29: =Feuille2!E566 -> 0.092 | I29: =H29-G29 -> #VALUE! | K29: 548
A30: 26 | B30: =Feuille2!E66 -> 0 | D30: =C30-B30 -> 0 | F30: 26 | G30: =Feuille2!E588 -> 0.085 | I30: =H30-G30 -> #VALUE! | K30: 570
A31: 27 | B31: =Feuille2!E46 -> 0.004 | D31: =C31-B31 -> #VALUE! | F31: 27 | G31: =Feuille2!E610 -> 0.087 | I31: =H31-G31 -> #VALUE! | K31: 592
A32: 28 | B32: =Feuille2!E68 -> 0.004 | D32: =C32-B32 -> #VALUE! | F32: 28 | G32: =Feuille2!E632 -> 0.082 | I32: =H32-G32 -> #VALUE! | K32: 614
A33: 29 | B33: =Feuille2!E48 -> 0 | D33: =C33-B33 -> 0 | F33: 29 | G33: =Feuille2!E654 -> 0.083 | I33: =H33-G33 -> #VALUE! | K33: 636
A34: 30 | B34: =Feuille2!E70 -> 0 | D34: =C34-B34 -> 0 | F34: 30 | G34: =Feuille2!E676 -> 0.076 | I34: =H34-G34 -> #VALUE! | K34: 658
A35: 31 | B35: =Feuille2!E50 -> 43.966 | D35: =C35-B35 -> #VALUE! | F35: 31 | G35: =Feuille2!E698 -> 0.071 | I35: =H35-G35 -> #VALUE! | K35: 680
A36: 32 | B36: =Feuille2!E72 -> 43.967 | D36: =C36-B36 -> #VALUE! | F36: 32 | G36: =Feuille2!E720 -> 0.073 | I36: =H36-G36 -> #VALUE! | K36: 702
A37: 33 | B37: =Feuille2!E52 -> 0 | D37: =C37-B37 -> 0 | F37: 33 | G37: =Feuille2!E742 -> 0.060 | I37: =H37-G37 -> #VALUE! | K37: 724
A38: 34 | B38: =Feuille2!E74 -> 0 | D38: =C38-B38 -> 0 | F38: 34 | G38: =Feuille2!E764 -> 0.055 | I38: =H38-G38 -> #VALUE! | K38: 746
A39: 35 | B39: =Feuille2!E54 -> 0.003 | D39: =C39-B39 -> #VALUE! | F39: 35 | G39: =Feuille2!E786 -> 0.054 | I39: =H39-G39 -> #VALUE! | K39: 768
A40: 36 | B40: =Feuille2!E76 -> 0.008 | D40: =C40-B40 -> #VALUE! | F40: 36 | G40: =Feuille2!E808 -> 0.058 | I40: =H40-G40 -> #VALUE! | K40: 790
A41: 37 | B41: =Feuille2!E56 -> 0 | D41: =C41-B41 -> 0 | F41: 37 | G41: =Feuille2!E830 -> 0.046 | I41: =H41-G41 -> #VALUE! | K41: 812
A42: 38 | B42: =Feuille2!E78 -> 0 | D42: =C42-B42 -> 0 | F42: 38 | G42: =Feuille2!E852 -> 0.043 | I42: =H42-G42 -> #VALUE! | K42: 834
A44: 1 | B44: =Feuille2!E862 -> 45.955 | D44: =C44-B44 -> #VALUE! | F44: 1 | G44: =Feuille2!E880 -> 0.057 | I44: =H44-G44 -> #VALUE!
A45: 2 | B45: =Feuille2!E884 -> 45.964 | D45: =C45-B45 -> #VALUE! | F45: 2 | G45: =Feuille2!E902 -> 0.048 | I45: =H45-G45 -> #VALUE!
A46: 3 | B46: =Feuille2!E906 -> 45.966 | D46: =C46-B46 -> #VALUE! | F46: 3 | G46: =Feuille2!E924 -> 0.045 | I46: =H46-G46 -> #VALUE!
A47: 4 | B47: =Feuille2!E928 -> 45.959 | D47: =C47-B47 -> #VALUE! | F47: 4 | G47: =Feuille2!E946 -> 0.042 | I47: =H47-G47 -> #VALUE!
A48: 5 | B48: =Feuille2!E950 -> 45.950 | D48: =C48-B48 -> #VALUE! | F48: 5 | G48: =Feuille2!E968 -> 0.036 | I48: =H48-G48 -> #VALUE!
A49: 6 | B49: =Feuille2!E972 -> 45.962 | D49: =C49-B49 -> #VALUE! | F49: 6 | G49: =Feuille2!E990 -> 0.033 | I49: =H49-G49 -> #VALUE!
A50: 7 | B50: =Feuille2!E994 -> 45.953 | D50: =C50-B50 -> #VALUE! | F50: 7 | G50: =Feuille2!E1012 -> 0.035 | I50: =H50-G50 -> #VALUE!
A51: 8 | B51: =Feuille2!E1016 -> 45.954 | D51: =C51-B51 -> #VALUE! | F51: 8 | G51: =Feuille2!E1034 -> 0.029 | I51: =H51-G51 -> #VALUE!
A52: 9 | B52: =Feuille2!E1038 -> 45.966 | D52: =C52-B52 -> #VALUE! | F52: 9 | G52: =Feuille2!E1056 -> 0.040 | I52: =H52-G52 -> #VALUE!
A53: 10 | B53: =Feuille2!E1060 -> 45.979 | D53: =C53-B53 -> #VALUE! | F53: 10 | G53: =Feuille2!E1078 -> 0.053 | I53: =H53-G53 -> #VALUE!
A54: 11 | B54: =Feuille2!E1082 -> 45.962 | D54: =C54-B54 -> #VALUE! | F54: 11 | G54: =Feuille2!E1100 -> 0.057 | I54: =H54-G54 -> #VALUE!
A55: 12 | B55: =Feuille2!E1104 -> 45.951 | D55: =C55-B55 -> #VALUE! | F55: 12 | G55: =Feuille2!E1122 -> 0.064 | I55: =H55-G55 -> #VALUE!
A56: 13 | B56: =Feuille2!E1126 -> 45.960 | D56: =C56-B56 -> #VALUE! | F56: 13 | G56: =Feuille2!E1144 -> 0.075 | I56: =H56-G56 -> #VALUE!
A57: 14 | B57: =Feuille2!E1148 -> 45.972 | D57: =C57-B57 -> #VALUE! | F57: 14 | G57: =Feuille2!E1166 -> 0.082 | I57: =H57-G57 -> #VALUE!
A58: 15 | B58: =Feuille2!E1170 -> 45.965 | D58: =C58-B58 -> #VALUE! | F58: 15 | G58: =Feuille2!E1188 -> 0.083 | I58: =H58-G58 -> #VALUE!
A59: 16 | B59: =Feuille2!E1192 -> 45.956 | D59: =C59-B59 -> #VALUE! | F59: 16 | G59: =Feuille2!E1210 -> 0.080 | I59: =H59-G59 -> #VALUE!
A60: 17 | B60: =Feuille2!E1214 -> 45.966 | D60: =C60-B60 -> #VALUE! | F60: 17 | G60: =Feuille2!E1232 -> 0.074 | I60: =H60-G60 -> #VALUE!
A61: 18 | B61: =Feuille2!E1236 -> 45.971 | D61: =C61-B61 -> #VALUE! | F61: 18 | G61: =Feuille2!E1254 -> 0.092 | I61: =H61-G61 -> #VALUE!
A62: 19 | B62: =Feuille2!E1258 -> 45.963 | D62: =C62-B62 -> #VALUE! | F62: 19 | G62: =Feuille2!E1276 -> 0.097 | I62: =H62-G62 -> #VALUE!
A63: 20 | B63: =Feuille2!E1280 -> 45.953 | D63: =C63-B63 -> #VALUE! | F63: 20 | G63: =Feuille2!E1298 -> 0.102 | I63: =H63-G63 -> #VALUE!
A64: 21 | B64: =Feuille2!E1302 -> 45.965 | D64: =C64-B64 -> #VALUE! | F64: 21 | G64: =Feuille2!E1320 -> 0.102 | I64: =H64-G64 -> #VALUE!
A65: 22 | B65: =Feuille2!E1324 -> 45.980 | D65: =C65-B65 -> #VALUE! | F65: 22 | G65: =Feuille2!E1342 -> 0.099 | I65: =H65-G65 -> #VALUE!
A66: 23 | B66: =Feuille2!E1346 -> 45.970 | D66: =C66-B66 -> #VALUE! | F66: 23 | G66: =Feuille2!E1364 -> 0.096 | I66: =H66-G66 -> #VALUE!
A67: 24 | B67: =Feuille2!E1368 -> 45.970 | D67: =C67-B67 -> #VALUE! | F67: 24 | G67: =Feuille2!E1386 -> 0.085 | I67: =H67-G67 -> #VALUE!
A68: 25 | B68: =Feuille2!E1390 -> 45.966 | D68: =C68-B68 -> #VALUE! | F68: 25 | G68: =Feuille2!E1408 -> 0.114 | I68: =H68-G68 -> #VALUE!
A69: 26 | B69: =Feuille2!E1412 -> 45.969 | D69: =C69-B69 -> #VALUE! | F69: 26 | G69: =Feuille2!E1430 -> 0.093 | I69: =H69-G69 -> #VALUE!
A70: 27 | B70: =Feuille2!E1434 -> 45.976 | D70: =C70-B70 -> #VALUE! | F70: 27 | G70: =Feuille2!E1452 -> 0.079 | I70: =H70-G70 -> #VALUE!
A71: 28 | B71: =Feuille2!E1456 -> 45.960 | D71: =C71-B71 -> #VALUE! | F71: 28 | G71: =Feuille2!E1474 -> 0.083 | I71: =H71-G71 -> #VALUE!
A72: 29 | B72: =Feuille2!E1478 -> 45.973 | D72: =C72-B72 -> #VALUE! | F72: 29 | G72: =Feuille2!E1496 -> 0.075 | I72: =H72-G72 -> #VALUE!
A73: 30 | B73: =Feuille2!E1500 -> 45.979 | D73: =C73-B73 -> #VALUE! | F73: 30 | G73: =Feuille2!E1518 -> 0.074 | I73: =H73-G73 -> #VALUE!
A74: 31 | B74: =Feuille2!E1522 -> 45.971 | D74: =C74-B74 -> #VALUE! | F74: 31 | G74: =Feuille2!E1540 -> 0.053 | I74: =H74-G74 -> #VALUE!
A75: 32 | B75: =Feuille2!E1544 -> 45.963 | D75: =C75-B75 -> #VALUE! | F75: 32 | G75: =Feuille2!E1562 -> 0.050 | I75: =H75-G75 -> #VALUE!
A76: 33 | B76: =Feuille2!E1566 -> 45.970 | D76: =C76-B76 -> #VALUE! | F76: 33 | G76: =Feuille2!E1584 -> 0.057 | I76: =H76-G76 -> #VALUE!
A77: 34 | B77: =Feuille2!E1588 -> 45.960 | D77: =C77-B77 -> #VALUE! | F77: 34 | G77: =Feuille2!E1606 -> 0.032 | I77: =H77-G77 -> #VALUE!
A78: 35 | B78: =Feuille2!E1610 -> 45.954 | D78: =C78-B78 -> #VALUE! | F78: 35 | G78: =Feuille2!E1628 -> 0.031 | I78: =H78-G78 -> #VALUE!
A79: 36 | B79: =Feuille2!E1632 -> 45.949 | D79: =C79-B79 -> #VALUE! | F79: 36 | G79: =Feuille2!E1650 -> 0.026 | I79: =H79-G79 -> #VALUE!
A80: 37 | B80: =Feuille2!E1654 -> 45.962 | D80: =C80-B80 -> #VALUE! | F80: 37 | G80: =Feuille2!E1672 -> 0.019 | I80: =H80-G80 -> #VALUE!
A81: 38 | B81: =Feuille2!E1676 -> 45.948 | D81: =C81-B81 -> #VALUE! | F81: 38 | G81: =Feuille2!E1694 -> 0.012 | I81: =H81-G81 -> #VALUE!

Sheet Feuille2
B10: 38 SECTIONS DE 2 PTS
B12: PLAT1 | C12: UNITÉS
B13: Dimension | C13: Description | D13: VAL. NOM. | E13: MESU | F13: +TOL | G13: -TOL | H13: BONUS | I13: DÉV | J13: HORS TOL
B14: PLAT1 | C14: Planéité des dimensions (PLN_REF_OPP_A) | D14: 0.000 | E14: 0.047 | F14: 0.013 | G14: 0.000 | I14: 0.047 | J14: 0.034
B16: Ø EXTERIEUR
B18: Ø_EXT_HAUT_REF E | C18: UNITÉS
B19: Dimension | C19: Description | D19: VAL. NOM. | E19: MESU | F19: +TOL | G19: -TOL | H19: BONUS | I19: DÉV | J19: HORS TOL
B20: Ø_EXT_HAUT_REF E | C20: Emplacement des dimensions (ØEXT_HAUT_REF E) | D20: 43.980 | E20: 43.959 | F20: 0.030 | G20: -0.030 | I20: -0.021 | J20: 0.000
B22: Ø_EXT_HAUT_REF E | C22: UNITÉS
B23: Dimension | C23: Description | D23: VAL. NOM. | E23: MESU | F23: +TOL | G23: -TOL | H23: BONUS | I23: DÉV | J23: HORS TOL
B24: Ø_EXT_HAUT_REF E | C24: Emplacement des dimensions (ØEXT_HAUT_REF E) | D24: 0.000 | E24: 0.004 | F24: 0.010 | G24: 0.000 | I24: 0.004 | J24: 0.000
B26: Ø_EXT_BAS_REF E | C26: UNITÉS
B27: Dimension | C27: Description | D27: VAL. NOM. | E27: MESU | F27: +TOL | G27: -TOL | H27: BONUS | I27: DÉV | J27: HORS TOL
B28: Ø_EXT_BAS_REF E | C28: Emplacement des dimensions (ØEXT_BAS_REF E) | D28: 43.980 | E28: 43.956 | F28: 0.030 | G28: -0.030 | I28: -0.024 | J28: 0.000
B30: Ø_EXT_BAS_REF E | C30: UNITÉS
B31: Dimension | C31: Description | D31: VAL. NOM. | E31: MESU | F31: +TOL | G31: -TOL | H31: BONUS | I31: DÉV | J31: HORS TOL
B32: Ø_EXT_BAS_REF E | C32: Emplacement des dimensions (ØEXT_BAS_REF E) | D32: 0.000 | E32: 0.002 | F32: 0.010 | G32: 0.000 | I32: 0.002 | J32: 0.000
B34: Ø_REF E | C34: UNITÉS
B35: Dimension | C35: Description | D35: VAL. NOM. | E35: MESU | F35: +TOL | G35: -TOL | H35: BONUS | I35: DÉV | J35: HORS TOL
B36: Ø_REF E | C36: Dimension position (INTER_EXT_Ø_REF E) | D36: 0.000 | E36: 0.000 | I36: 0.000
B37: Ø_REF E | C37: Dimension position (INTER_EXT_Ø_REF E) | D37: 784.352 | E37: 784.317 | I37: -0.035
B38: Ø_REF E | C38: Dimension position (INTER_EXT_Ø_REF E) | D38: 0.000 | E38: 0.070 | F38: 0.130 | H38: 0.000 | I38: 0.070 | J38: 0.000
B40: Ø_EXT_HAUT_02 | C40: UNITÉS
B41: Dimension | C41: Description | D41: VAL. NOM. | E41: MESU | F41: +TOL | G41: -TOL | H41: BONUS | I41: DÉV | J41: HORS TOL
B42: Ø_EXT_HAUT_02 | C42: Emplacement des dimensions (ØEXT_HAUT_02) | D42: 43.980 | E42: 43.965 | F42: 0.030 | G42: -0.030 | I42: -0.015 | J42: 0.000
B44: Ø_EXT_HAUT_02 | C44: UNITÉS
B45: Dimension | C45: Description | D45: VAL. NOM. | E45: MESU | F45: +TOL | G45: -TOL | H45: BONUS | I45: DÉV | J45: HORS TOL
B46: Ø_EXT_HAUT_02 | C46: Emplacement des dimensions (ØEXT_HAUT_02) | D46: 0.000 | E46: 0.004 | F46: 0.010 | G46: 0.000 | I46: 0.004 | J46: 0.000
B48: Ø_EXT_BAS_02 | C48: UNITÉS
B49: Dimension | C49: Description | D49: VAL. NOM. | E49: MESU | F49: +TOL | G49: -TOL | H49: BONUS | I49: DÉV | J49: HORS TOL
B50: Ø_EXT_BAS_02 | C50: Emplacement des dimensions (ØEXT_BAS_02) | D50: 43.980 | E50: 43.966 | F50: 0.030 | G50: -0.030 | I50: -0.014 | J50: 0.000
B52: Ø_EXT_BAS_02 | C52: UNITÉS
B53: Dimension | C53: Description | D53: VAL. NOM. | E53: MESU | F53: +TOL | G53: -TOL | H53: BONUS | I53: DÉV | J53: HORS TOL
B54: Ø_EXT_BAS_02 | C54: Emplacement des dimensions (ØEXT_BAS_02) | D54: 0.000 | E54: 0.003 | F54: 0.010 | G54: 0.000 | I54: 0.003 | J54: 0.000
B56: Ø_EXT_02 | C56: UNITÉS
B57: Dimension | C57: Description | D57: VAL. NOM. | E57: MESU | F57: +TOL | G57: -TOL | H57: BONUS | I57: DÉV | J57: HORS TOL
B58: Ø_EXT_02 | C58: Dimension position (INTER_EXT_Ø_2) | D58: -129.100 | E58: -129.099 | I58: 0.001
B59: Ø_EXT_02 | C59: Dimension position (INTER_EXT_Ø_2) | D59: 773.654 | E59: 773.620 | I59: -0.035
B60: Ø_EXT_02 | C60: Dimension position (INTER_EXT_Ø_2) | D60: 0.000 | E60: 0.069 | F60: 0.130 | H60: 0.000 | I60: 0.069 | J60: 0.000
B62: Ø_EXT_HAUT_03 | C62: UNITÉS
B63: Dimension | C63: Description | D63: VAL. NOM. | E63: MESU | F63: +TOL | G63: -TOL | H63: BONUS | I63: DÉV | J63: HORS TOL
B64: Ø_EXT_HAUT_03 | C64: Emplacement des dimensions (ØEXT_HAUT_03) | D64: 43.980 | E64: 43.966 | F64: 0.030 | G64: -0.030 | I64: -0.014 | J64: 0.000
B66: Ø_EXT_HAUT_03 | C66: UNITÉS
B67: Dimension | C67: Description | D67: VAL. NOM. | E67: MESU | F67: +TOL | G67: -TOL | H67: BONUS | I67: DÉV | J67: HORS TOL
B68: Ø_EXT_HAUT_03 | C68: Emplacement des dimensions (ØEXT_HAUT_03) | D68: 0.000 | E68: 0.004 | F68: 0.010 | G68: 0.000 | I68: 0.004 | J68: 0.000
B70: Ø_EXT_BAS_03 | C70: UNITÉS
B71: Dimension | C71: Description | D71: VAL. NOM. | E71: MESU | F71: +TOL | G71: -TOL | H71: BONUS | I71: DÉV | J71: HORS TOL
B72: Ø_EXT_BAS_03 | C72: Emplacement des dimensions (ØEXT_BAS_03) | D72: 43.980 | E72: 43.967 | F72: 0.030 | G72: -0.030 | I72: -0.013 | J72: 0.000
B74: Ø_EXT_BAS_03 | C74: UNITÉS
B75: Dimension | C75: Description | D75: VAL. NOM. | E75: MESU | F75: +TOL | G75: -TOL | H75: BONUS | I75: DÉV | J75: HORS TOL
B76: Ø_EXT_BAS_03 | C76: Emplacement des dimensions (ØEXT_BAS_03) | D76: 0.000 | E76: 0.008 | F76: 0.010 | G76: 0.000 | I76: 0.008 | J76: 0.000
B78: Ø_EXT_03 | C78: UNITÉS
B79: Dimension | C79: Description | D79: VAL. NOM. | E79: MESU | F79: +TOL | G79: -TOL | H79: BONUS | I79: DÉV | J79: HORS TOL
B80: Ø_EXT_03 | C80: Dimension position (INTER_EXT_Ø_3) | D80: -254.679 | E80: -254.670 | I80: 0.009
B81: Ø_EXT_03 | C81: Dimension position (INTER_EXT_Ø_3) | D81: 741.854 | E81: 741.819 | I81: -0.035
B82: Ø_EXT_03 | C82: Dimension position (INTER_EXT_Ø_3) | D82: 0.000 | E82: 0.072 | F82: 0.130 | H82: 0.000 | I82: 0.072 | J82: 0.000
B84: Ø_EXT_HAUT_04 | C84: UNITÉS
B85: Dimension | C85: Description | D85: VAL. NOM. | E85: MESU | F85: +TOL | G85: -TOL | H85: BONUS | I85: DÉV | J85: HORS TOL
B86: Ø_EXT_HAUT_04 | C86: Emplacement des dimensions (ØEXT_HAUT_04) | D86: 43.980 | E86: 43.987 | F86: 0.030 | G86: -0.030 | I86: 0.007 | J86: 0.000
B88: Ø_EXT_HAUT_04 | C88: UNITÉS
B89: Dimension | C89: Description | D89: VAL. NOM. | E89: MESU | F89: +TOL | G89: -TOL | H89: BONUS | I89: DÉV | J89: HORS TOL
B90: Ø_EXT_HAUT_04 | C90: Emplacement des dimensions (ØEXT_HAUT_04) | D90: 0.000 | E90: 0.004 | F90: 0.010 | G90: 0.000 | I90: 0.004 | J90: 0.000
B92: Ø_EXT_BAS_04 | C92: UNITÉS
B93: Dimension | C93: Description | D93: VAL. NOM. | E93: MESU | F93: +TOL | G93: -TOL | H93: BONUS | I93: DÉV | J93: HORS TOL
B94: Ø_EXT_BAS_04 | C94: Emplacement des dimensions (ØEXT_BAS_04) | D94: 43.980 | E94: 43.989 | F94: 0.030 | G94: -0.030 | I94: 0.009 | J94: 0.000
B96: Ø_EXT_BAS_04 | C96: UNITÉS
B97: Dimension | C97: Description | D97: VAL. NOM. | E97: MESU | F97: +TOL | G97: -TOL | H97: BONUS | I97: DÉV | J97: HORS TOL
B98: Ø_EXT_BAS_04 | C98: Emplacement des dimensions (ØEXT_BAS_04) | D98: 0.000 | E98: 0.004 | F98: 0.010 | G98: 0.000 | I98: 0.004 | J98: 0.000
B100: Ø_EXT_04 | C100: UNITÉS
B101: Dimension | C101: Description | D101: VAL. NOM. | E101: MESU | F101: +TOL | G101: -TOL | H101: BONUS | I101: DÉV | J101: HORS TOL
B102: Ø_EXT_04 | C102: Dimension position (INTER_EXT_Ø_4) | D102: -373.310 | E102: -373.299 | I102: 0.011
B103: Ø_EXT_04 | C103: Dimension position (INTER_EXT_Ø_4) | D103: 689.817 | E103: 689.784 | I103: -0.033
B104: Ø_EXT_04 | C104: Dimension position (INTER_EXT_Ø_4) | D104: 0.000 | E104: 0.069 | F104: 0.130 | H104: 0.000 | I104: 0.069 | J104: 0.000
B106: Ø_EXT_HAUT_05 | C106: UNITÉS
B107: Dimension | C107: Description | D107: VAL. NOM. | E107: MESU | F107: +TOL | G107: -TOL | H107: BONUS | I107: DÉV | J107: HORS TOL
B108: Ø_EXT_HAUT_05 | C108: Emplacement des dimensions (ØEXT_HAUT_05) | D108: 43.980 | E108: 43.991 | F108: 0.030 | G108: -0.030 | I108: 0.011 | J108: 0.000
B110: Ø_EXT_HAUT_05 | C110: UNITÉS
B111: Dimension | C111: Description | D111: VAL. NOM. | E111: MESU | F111: +TOL | G111: -TOL | H111: BONUS | I111: DÉV | J111: HORS TOL
B112: Ø_EXT_HAUT_05 | C112: Emplacement des dimensions (ØEXT_HAUT_05) | D112: 0.000 | E112: 0.010 | F112: 0.010 | G112: 0.000 | I112: 0.010 | J112: 0.000
B114: Ø_EXT_BAS_05 | C114: UNITÉS
B115: Dimension | C115: Description | D115: VAL. NOM. | E115: MESU | F115: +TOL | G115: -TOL | H115: BONUS | I115: DÉV | J115: HORS TOL
B116: Ø_EXT_BAS_05 | C116: Emplacement des dimensions (ØEXT_BAS_05) | D116: 43.980 | E116: 43.991 | F116: 0.030 | G116: -0.030 | I116: 0.011 | J116: 0.000
B118: Ø_EXT_BAS_05 | C118: UNITÉS
B119: Dimension | C119: Description | D119: VAL. NOM. | E119: MESU | F119: +TOL | G119: -TOL | H119: BONUS | I119: DÉV | J119: HORS TOL
B120: Ø_EXT_BAS_05 | C120: Emplacement des dimensions (ØEXT_BAS_05) | D120: 0.000 | E120: 0.013 | F120: 0.010 | G120: 0.000 | I120: 0.013 | J120: 0.003
B122: Ø_EXT_05 | C122: UNITÉS
B123: Dimension | C123: Description | D123: VAL. NOM. | E123: MESU | F123: +TOL | G123: -TOL | H123: BONUS | I123: DÉV | J123: HORS TOL
B124: Ø_EXT_05 | C124: Dimension position (INTER_EXT_Ø_5) | D124: -481.759 | E124: -481.759 | I124: 0.000
B125: Ø_EXT_05 | C125: Dimension position (INTER_EXT_Ø_5) | D125: 618.964 | E125: 618.950 | I125: -0.013
B126: Ø_EXT_05 | C126: Dimension position (INTER_EXT_Ø_5) | D126: 0.000 | E126: 0.027 | F126: 0.130 | H126: 0.000 | I126: 0.027 | J126: 0.000
B128: Ø_EXT_HAUT_06 | C128: UNITÉS
B129: Dimension | C129: Description | D129: VAL. NOM. | E129: MESU | F129: +TOL | G129: -TOL | H129: BONUS | I129: DÉV | J129: HORS TOL
B130: Ø_EXT_HAUT_06 | C130: Emplacement des dimensions (ØEXT_HAUT_06) | D130: 43.980 | E130: 43.994 | F130: 0.030 | G130: -0.030 | I130: 0.014 | J130: 0.000
B132: Ø_EXT_HAUT_06 | C132: UNITÉS
B133: Dimension | C133: Description | D133: VAL. NOM. | E133: MESU | F133: +TOL | G133: -TOL | H133: BONUS | I133: DÉV | J133: HORS TOL
B134: Ø_EXT_HAUT_06 | C134: Emplacement des dimensions (ØEXT_HAUT_06) | D134: 0.000 | E134: 0.002 | F134: 0.010 | G134: 0.000 | I134: 0.002 | J134: 0.000
B136: Ø_EXT_BAS_06 | C136: UNITÉS
B137: Dimension | C137: Description | D137: VAL. NOM. | E137: MESU | F137: +TOL | G137: -TOL | H137: BONUS | I137: DÉV | J137: HORS TOL
B138: Ø_EXT_BAS_06 | C138: Emplacement des dimensions (ØEXT_BAS_06) | D138: 43.980 | E138: 43.993 | F138: 0.030 | G138: -0.030 | I138: 0.013 | J138: 0.000
B140: Ø_EXT_BAS_06 | C140: UNITÉS
...
