Workbook
Name tab: #REF!
Name tab: #REF!

Sheet Feuille1
A1: Comparatif relevé machine / relevé 3D
A4: Ø | B4: Relevé 3D | C4: Relevé Micro | D4: Ecart | F4: j | G4: Relevé 3D | H4: Relevé Micro | I4: Ecart
A5: Origine E | B5: =Feuille2!E(CELL(contenu,K5)) -> #NAME? | C5: 43.96 | D5: =C5-B5 -> #NAME? | F5: Origine E | G5: =Feuille2!E38 -> 0.070 | I5: =H5-G5 -> #VALUE! | K5: 20
A6: 2 | B6: =Feuille2!E42 -> 43.965 | D6: =C6-B6 -> #VALUE! | F6: 2 | G6: =Feuille2!E60 -> 0.069 | I6: =H6-G6 -> #VALUE! | K6: 42
A7: 3 | B7: =Feuille2!E22 -> 0 | D7: =C7-B7 -> 0 | F7: 3 | G7: =Feuille2!E82 -> 0.072 | I7: =H7-G7 -> #VALUE! | K7: 64
A8: 4 | B8: =Feuille2!E44 -> 0 | D8: =C8-B8 -> 0 | F8: 4 | G8: =Feuille2!E104 -> 0.069 | I8: =H8-G8 -> #VALUE! | K8: 86
A9: 5 | B9: =Feuille2!E24 -> 0.004 | D9: =C9-B9 -> #VALUE! | F9: 5 | G9: =Feuille2!E126 -> 0.027 | I9: =H9-G9 -> #VALUE! | K9: 108
A10: 6 | B10: =Feuille2!E46 -> 0.004 | D10: =C10-B10 -> #VALUE! | F10: 6 | G10: =Feuille2!E148 -> 0.058 | I10: =H10-G10 -> #VALUE! | K10: 130
A11: 7 | B11: =Feuille2!E26 -> 0 | D11: =C11-B11 -> 0 | F11: 7 | G11: =Feuille2!E170 -> 0.052 | I11: =H11-G11 -> #VALUE! | K11: 152
A12: 8 | B12: =Feuille2!E48 -> 0 | D12: =C12-B12 -> 0 | F12: 8 | G12: =Feuille2!E192 -> 0.059 | I12: =H12-G12 -> #VALUE! | K12: 174
A13: 9 | B13: =Feuille2!E28 -> 43.956 | D13: =C13-B13 -> #VALUE! | F13: 9 | G13: =Feuille2!E214 -> 0.049 | I13: =H13-G13 -> #VALUE! | K13: 196
A14: 10 | B14: =Feuille2!E50 -> 43.966 | D14: =C14-B14 -> #VALUE! | F14: 10 | G14: =Feuille2!E236 -> 0.051 | I14: =H14-G14 -> #VALUE! | K14: 218
A15: 11 | B15: =Feuille2!E30 -> 0 | D15: =C15-B15 -> 0 | F15: 11 | G15: =Feuille2!E258 -> 0.049 | I15: =H15-G15 -> #VALUE! | K15: 240
A16: 12 | B16: =Feuille2!E52 -> 0 | D16: =C16-B16 -> 0 | F16: 12 | G16: =Feuille2!E280 -> 0.051 | I16: =H16-G16 -> #VALUE! | K16: 262
A17: 13 | B17: =Feuille2!E32 -> 0.002 | D17: =C17-B17 -> #VALUE! | F17: 13 | G17: =Feuille2!E302 -> 0.053 | I17: =H17-G17 -> #VALUE! | K17: 284
A18: 14 | B18: =Feuille2!E54 -> 0.003 | D18: =C18-B18 -> #VALUE! | F18: 14 | G18: =Feuille2!E324 -> 0.064 | I18: =H18-G18 -> #VALUE! | K18: 306
A19: 15 | B19: =Feuille2!E34 -> 0 | D19: =C19-B19 -> 0 | F19: 15 | G19: =Feuille2!E346 -> 0.051 | I19: =H19-G19 -> #VALUE! | K19: 328
A20: 16 | B20: =Feuille2!E56 -> 0 | D20: =C20-B20 -> 0 | F20: 16 | G20: =Feuille2!E368 -> 0.067 | I20: =H20-G20 -> #VALUE! | K20: 350
A21: 17 | B21: =Feuille2!E36 -> 0.000 | D21: =C21-B21 -> #VALUE! | F21: 17 | G21: =Feuille2!E390 -> 0.075 | I21: =H21-G21 -> #VALUE! | K21: 372
A22: 18 | B22: =Feuille2!E58 -> -129.099 | D22: =C22-B22 -> #VALUE! | F22: 18 | G22: =Feuille2!E412 -> 0.087 | I22: =H22-G22 -> #VALUE! | K22: 394
A23: 19 | B23: =Feuille2!E38 -> 0.070 | D23: =C23-B23 -> #VALUE! | F23: 19 | G23: =Feuille2!E434 -> 0.076 | I23: =H23-G23 -> #VALUE! | K23: 416
A24: 20 | B24: =Feuille2!E60 -> 0.069 | D24: =C24-B24 -> #VALUE! | F24: 20 | G24: =Feuille2!E456 -> 0.067 | I24: =H24-G24 -> #VALUE! | K24: 438
A25: 21 | B25: =Feuille2!E40 -> 0 | D25: =C25-B25 -> 0 | F25: 21 | G25: =Feuille2!E478 -> 0.089 | I25: =H25-G25 -> #VALUE! | K25: 460
A26: 22 | B26: =Feuille2!E62 -> 0 | D26: =C26-B26 -> 0 | F26: 22 | G26: =Feuille2!E500 -> 0.095 | I26: =H26-G26 -> #VALUE! | K26: 482
A27: 23 | B27: =Feuille2!E42 -> 43.965 | D27: =C27-B27 -> #VALUE! | F27: 23 | G27: =Feuille2!E522 -> 0.098 | I27: =H27-G27 -> #VALUE! | K27: 504
A28: 24 | B28: =Feuille2!E64 -> 43.966 | D28: =C28-B28 -> #VALUE! | F28: 24 | G28: =Feuille2!E544 -> 0.103 | I28: =H28-G28 -> #VALUE! | K28: 526
A29: 25 | B29: =Feuille2!E44 -> 0 | D29: =C29-B29 -> 0 | F29: 25 | G29: =Feuille2!E566 -> 0.092 | I29: =H29-G29 -> #VALUE! | K29: 548
A30: 26 | B30: =Feuille2!E66 -> 0 | D30: =C30-B30 -> 0 | F30: 26 | G30: =Feuille2!E588 -> 0.085 | I30: =H30-G30 -> #VALUE! | K30: 570
A31: 27 | B31: =Feuille2!E46 -> 0.004 | D31: =C31-B31 -> #VALUE! | F31: 27 | G31: =Feuille2!E610 -> 0.087 | I31: =H31-G31 -> #VALUE! | K31: 592
A32: 28 | B32: =Feuille2!E68 -> 0.004 | D32: =C32-B32 -> #VALUE! | F32: 28 | G32: =Feuille2!E632 -> 0.082 | I32: =H32-G32 -> #VALUE! | K32: 614
A33: 29 | B33: =Feuille2!E48 -> 0 | D33: =C33-B33 -> 0 | F33: 29 | G33: =Feuille2!E654 -> 0.083 | I33: =H33-G33 -> #VALUE! | K33: 636
A34: 30 | B34: =Feuille2!E70 -> 0 | D34: =C34-B34 -> 0 | F34: 30 | G34: =Feuille2!E676 -> 0.076 | I34: =H34-G34 -> #VALUE! | K34: 658
A35: 31 | B35: =Feuille2!E50 -> 43.966 | D35: =C35-B35 -> #VALUE! | F35: 31 | G35: =Feuille2!E698 -> 0.071 | I35: =H35-G35 -> #VALUE! | K35: 680
A36: 32 | B36: =Feuille2!E72 -> 43.967 | D36: =C36-B36 -> #VALUE! | F36: 32 | G36: =Feuille2!E720 -> 0.073 | I36: =H36-G36 -> #VALUE! | K36: 702
A37: 33 | B37: =Feuille2!E52 -> 0 | D37: =C37-B37 -> 0 | F37: 33 | G37: =Feuille2!E742 -> 0.060 | I37: =H37-G37 -> #VALUE! | K37: 724
A38: 34 | B38: =Feuille2!E74 -> 0 | D38: =C38-B38 -> 0 | F38: 34 | G38: =Feuille2!E764 -> 0.055 | I38: =H38-G38 -> #VALUE! | K38: 746
A39: 35 | B39: =Feuille2!E54 -> 0.003 | D39: =C39-B39 -> #VALUE! | F39: 35 | G39: =Feuille2!E786 -> 0.054 | I39: =H39-G39 -> #VALUE! | K39: 768
A40: 36 | B40: =Feuille2!E76 -> 0.008 | D40: =C40-B40 -> #VALUE! | F40: 36 | G40: =Feuille2!E808 -> 0.058 | I40: =H40-G40 -> #VALUE! | K40: 790
A41: 37 | B41: =Feuille2!E56 -> 0 | D41: =C41-B41 -> 0 | F41: 37 | G41: =Feuille2!E830 -> 0.046 | I41: =H41-G41 -> #VALUE! | K41: 812
A42: 38 | B42: =Feuille2!E78 -> 0 | D42: =C42-B42 -> 0 | F42: 38 | G42: =Feuille2!E852 -> 0.043 | I42: =H42-G42 -> #VALUE! | K42: 834
...

Sheet Feuille2
B10: 38 SECTIONS DE 2 PTS
B12: PLAT1 | C12: UNITÉS
B13: Dimension | C13: Description | D13: VAL. NOM. | E13: MESU | F13: +TOL | G13: -TOL | H13: BONUS | I13: DÉV | J13: HORS TOL
B14: PLAT1 | C14: Planéité des dimensions (PLN_REF_OPP_A) | D14: 0.000 | E14: 0.047 | F14: 0.013 | G14: 0.000 | I14: 0.047 | J14: 0.034
B16: Ø EXTERIEUR
B18: Ø_EXT_HAUT_REF E | C18: UNITÉS
B19: Dimension | C19: Description | D19: VAL. NOM. | E19: MESU | F19: +TOL | G19: -TOL | H19: BONUS | I19: DÉV | J19: HORS TOL
B20: Ø_EXT_HAUT_REF E | C20: Emplacement des dimensions (ØEXT_HAUT_REF E) | D20: 43.980 | E20: 43.959 | F20: 0.030 | G20: -0.030 | I20: -0.021 | J20: 0.000
B22: Ø_EXT_HAUT_REF E | C22: UNITÉS
B23: Dimension | C23: Description | D23: VAL. NOM. | E23: MESU | F23: +TOL | G23: -TOL | H23: BONUS | I23: DÉV | J23: HORS TOL
B24: Ø_EXT_HAUT_REF E | C24: Emplacement des dimensions (ØEXT_HAUT_REF E) | D24: 0.000 | E24: 0.004 | F24: 0.010 | G24: 0.000 | I24: 0.004 | J24: 0.000
B26: Ø_EXT_BAS_REF E | C26: UNITÉS
B27: Dimension | C27: Description | D27: VAL. NOM. | E27: MESU | F27: +TOL | G27: -TOL | H27: BONUS | I27: DÉV | J27: HORS TOL
B28: Ø_EXT_BAS_REF E | C28: Emplacement des dimensions (ØEXT_BAS_REF E) | D28: 43.980 | E28: 43.956 | F28: 0.030 | G28: -0.030 | I28: -0.024 | J28: 0.000
B30: Ø_EXT_BAS_REF E | C30: UNITÉS
B31: Dimension | C31: Description | D31: VAL. NOM. | E31: MESU | F31: +TOL | G31: -TOL | H31: BONUS | I31: DÉV | J31: HORS TOL
B32: Ø_EXT_BAS_REF E | C32: Emplacement des dimensions (ØEXT_BAS_REF E) | D32: 0.000 | E32: 0.002 | F32: 0.010 | G32: 0.000 | I32: 0.002 | J32: 0.000
B34: Ø_REF E | C34: UNITÉS
B35: Dimension | C35: Description | D35: VAL. NOM. | E35: MESU | F35: +TOL | G35: -TOL | H35: BONUS | I35: DÉV | J35: HORS TOL
B36: Ø_REF E | C36: Dimension position (INTER_EXT_Ø_REF E) | D36: 0.000 | E36: 0.000 | I36: 0.000
B37: Ø_REF E | C37: Dimension position (INTER_EXT_Ø_REF E) | D37: 784.352 | E37: 784.317 | I37: -0.035
B38: Ø_REF E | C38: Dimension position (INTER_EXT_Ø_REF E) | D38: 0.000 | E38: 0.070 | F38: 0.130 | H38: 0.000 | I38: 0.070 | J38: 0.000
B40: Ø_EXT_HAUT_02 | C40: UNITÉS
B41: Dimension | C41: Description | D41: VAL. NOM. | E41: MESU | F41: +TOL | G41: -TOL | H41: BONUS | I41: DÉV | J41: HORS TOL
B42: Ø_EXT_HAUT_02 | C42: Emplacement des dimensions (ØEXT_HAUT_02) | D42: 43.980 | E42: 43.965 | F42: 0.030 | G42: -0.030 | I42: -0.015 | J42: 0.000
B44: Ø_EXT_HAUT_02 | C44: UNITÉS
B45: Dimension | C45: Description | D45: VAL. NOM. | E45: MESU | F45: +TOL | G45: -TOL | H45: BONUS | I45: DÉV | J45: HORS TOL
B46: Ø_EXT_HAUT_02 | C46: Emplacement des dimensions (ØEXT_HAUT_02) | D46: 0.000 | E46: 0.004 | F46: 0.010 | G46: 0.000 | I46: 0.004 | J46: 0.000
B48: Ø_EXT_BAS_02 | C48: UNITÉS
B49: Dimension | C49: Description | D49: VAL. NOM. | E49: MESU | F49: +TOL | G49: -TOL | H49: BONUS | I49: DÉV | J49: HORS TOL
B50: Ø_EXT_BAS_02 | C50: Emplacement des dimensions (ØEXT_BAS_02) | D50: 43.980 | E50: 43.966 | F50: 0.030 | G50: -0.030 | I50: -0.014 | J50: 0.000
B52: Ø_EXT_BAS_02 | C52: UNITÉS
B53: Dimension | C53: Description | D53: VAL. NOM. | E53: MESU | F53: +TOL | G53: -TOL | H53: BONUS | I53: DÉV | J53: HORS TOL
B54: Ø_EXT_BAS_02 | C54: Emplacement des dimensions (ØEXT_BAS_02) | D54: 0.000 | E54: 0.003 | F54: 0.010 | G54: 0.000 | I54: 0.003 | J54: 0.000
B56: Ø_EXT_02 | C56: UNITÉS
B57: Dimension | C57: Description | D57: VAL. NOM. | E57: MESU | F57: +TOL | G57: -TOL | H57: BONUS | I57: DÉV | J57: HORS TOL
B58: Ø_EXT_02 | C58: Dimension position (INTER_EXT_Ø_2) | D58: -129.100 | E58: -129.099 | I58: 0.001
B59: Ø_EXT_02 | C59: Dimension position (INTER_EXT_Ø_2) | D59: 773.654 | E59: 773.620 | I59: -0.035
B60: Ø_EXT_02 | C60: Dimension position (INTER_EXT_Ø_2) | D60: 0.000 | E60: 0.069 | F60: 0.130 | H60: 0.000 | I60: 0.069 | J60: 0.000
B62: Ø_EXT_HAUT_03 | C62: UNITÉS
...
