Workbook

Sheet Feuil1
D2: 2017 | E2: 2017 | F2: 2017 | G2: 2017 | H2: 2018 | I2: 2018 | J2: 2018 | K2: 2018
D3: Feuillus | E3: Feuillus | F3: Résineux | G3: Résineux | H3: Feuillus | I3: Feuillus | J3: Résineux | K3: Résineux
B4: N° de parcelle | C4: Surface | D4: Volume | E4: Valeur | F4: Volume | G4: Valeur | H4: Volume | I4: Valeur | J4: Volume | K4: Valeur
B5: 1 | C5: 4 | D5: =SUMPRODUCT(($B5=Feuil2!$B$5:$B$8)*(Feuil1!D$4=Feuil2!$H$3:$M$3)*(Feuil1!D$3=Feuil2!$N$5:$N$8)*(Feuil1!D$2=Feuil2!$H$3:$M$3)*(Feuil2!$H$5:$M$8)) -> 0 | E5: =SUMPRODUCT(($B5=Feuil2!$B$5:$B$8)*(Feuil1!E$4=Feuil2!$H$3:$M$3)*(Feuil1!E$3=Feuil2!$N$5:$N$8)*(Feuil1!E$2=Feuil2!$H$3:$M$3)*(Feuil2!$H$5:$M$8)) -> 0 | F5: =SUMPRODUCT(($B5=Feuil2!$B$5:$B$8)*(Feuil1!F$4=Feuil2!$H$3:$M$3)*(Feuil1!F$3=Feuil2!$N$5:$N$8)*(Feuil1!F$2=Feuil2!$H$3:$M$3)*(Feuil2!$H$5:$M$8)) -> 0 | G5: =SUMPRODUCT(($B5=Feuil2!$B$5:$B$8)*(Feuil1!G$4=Feuil2!$H$3:$M$3)*(Feuil1!G$3=Feuil2!$N$5:$N$8)*(Feuil1!G$2=Feuil2!$H$3:$M$3)*(Feuil2!$H$5:$M$8)) -> 0 | H5: =SUMPRODUCT(($B5=Feuil2!$B$5:$B$8)*(Feuil1!H$4=Feuil2!$H$3:$M$3)*(Feuil1!H$3=Feuil2!$N$5:$N$8)*(Feuil1!H$2=Feuil2!$H$3:$M$3)*(Feuil2!$H$5:$M$8)) -> 0 | I5: =SUMPRODUCT(($B5=Feuil2!$B$5:$B$8)*(Feuil1!I$4=Feuil2!$H$3:$M$3)*(Feuil1!I$3=Feuil2!$N$5:$N$8)*(Feuil1!I$2=Feuil2!$H$3:$M$3)*(Feuil2!$H$5:$M$8)) -> 0 | J5: =SUMPRODUCT(($B5=Feuil2!$B$5:$B$8)*(Feuil1!J$4=Feuil2!$H$3:$M$3)*(Feuil1!J$3=Feuil2!$N$5:$N$8)*(Feuil1!J$2=Feuil2!$H$3:$M$3)*(Feuil2!$H$5:$M$8)) -> 0 | K5: =SUMPRODUCT(($B5=Feuil2!$B$5:$B$8)*(Feuil1!K$4=Feuil2!$H$3:$M$3)*(Feuil1!K$3=Feuil2!$N$5:$N$8)*(Feuil1!K$2=Feuil2!$H$3:$M$3)*(Feuil2!$H$5:$M$8)) -> 0
B6: 2 | C6: 1.5 | D6: =SUMPRODUCT(($B6=Feuil2!$B$5:$B$8)*(Feuil1!D$4=Feuil2!$H$3:$M$3)*(Feuil1!D$3=Feuil2!$N$5:$N$8)*(Feuil1!D$2=Feuil2!$H$3:$M$3)*(Feuil2!$H$5:$M$8)) -> 0 | E6: =SUMPRODUCT(($B6=Feuil2!$B$5:$B$8)*(Feuil1!E$4=Feuil2!$H$3:$M$3)*(Feuil1!E$3=Feuil2!$N$5:$N$8)*(Feuil1!E$2=Feuil2!$H$3:$M$3)*(Feuil2!$H$5:$M$8)) -> 0 | F6: =SUMPRODUCT(($B6=Feuil2!$B$5:$B$8)*(Feuil1!F$4=Feuil2!$H$3:$M$3)*(Feuil1!F$3=Feuil2!$N$5:$N$8)*(Feuil1!F$2=Feuil2!$H$3:$M$3)*(Feuil2!$H$5:$M$8)) -> 0 | G6: =SUMPRODUCT(($B6=Feuil2!$B$5:$B$8)*(Feuil1!G$4=Feuil2!$H$3:$M$3)*(Feuil1!G$3=Feuil2!$N$5:$N$8)*(Feuil1!G$2=Feuil2!$H$3:$M$3)*(Feuil2!$H$5:$M$8)) -> 0 | H6: =SUMPRODUCT(($B6=Feuil2!$B$5:$B$8)*(Feuil1!H$4=Feuil2!$H$3:$M$3)*(Feuil1!H$3=Feuil2!$N$5:$N$8)*(Feuil1!H$2=Feuil2!$H$3:$M$3)*(Feuil2!$H$5:$M$8)) -> 0 | I6: =SUMPRODUCT(($B6=Feuil2!$B$5:$B$8)*(Feuil1!I$4=Feuil2!$H$3:$M$3)*(Feuil1!I$3=Feuil2!$N$5:$N$8)*(Feuil1!I$2=Feuil2!$H$3:$M$3)*(Feuil2!$H$5:$M$8)) -> 0 | J6: =SUMPRODUCT(($B6=Feuil2!$B$5:$B$8)*(Feuil1!J$4=Feuil2!$H$3:$M$3)*(Feuil1!J$3=Feuil2!$N$5:$N$8)*(Feuil1!J$2=Feuil2!$H$3:$M$3)*(Feuil2!$H$5:$M$8)) -> 0 | K6: =SUMPRODUCT(($B6=Feuil2!$B$5:$B$8)*(Feuil1!K$4=Feuil2!$H$3:$M$3)*(Feuil1!K$3=Feuil2!$N$5:$N$8)*(Feuil1!K$2=Feuil2!$H$3:$M$3)*(Feuil2!$H$5:$M$8)) -> 0
B7: 3 | C7: 2 | D7: =SUMPRODUCT(($B7=Feuil2!$B$5:$B$8)*(Feuil1!D$4=Feuil2!$H$3:$M$3)*(Feuil1!D$3=Feuil2!$N$5:$N$8)*(Feuil1!D$2=Feuil2!$H$3:$M$3)*(Feuil2!$H$5:$M$8)) -> 0 | E7: =SUMPRODUCT(($B7=Feuil2!$B$5:$B$8)*(Feuil1!E$4=Feuil2!$H$3:$M$3)*(Feuil1!E$3=Feuil2!$N$5:$N$8)*(Feuil1!E$2=Feuil2!$H$3:$M$3)*(Feuil2!$H$5:$M$8)) -> 0 | F7: =SUMPRODUCT(($B7=Feuil2!$B$5:$B$8)*(Feuil1!F$4=Feuil2!$H$3:$M$3)*(Feuil1!F$3=Feuil2!$N$5:$N$8)*(Feuil1!F$2=Feuil2!$H$3:$M$3)*(Feuil2!$H$5:$M$8)) -> 0 | G7: =SUMPRODUCT(($B7=Feuil2!$B$5:$B$8)*(Feuil1!G$4=Feuil2!$H$3:$M$3)*(Feuil1!G$3=Feuil2!$N$5:$N$8)*(Feuil1!G$2=Feuil2!$H$3:$M$3)*(Feuil2!$H$5:$M$8)) -> 0 | H7: =SUMPRODUCT(($B7=Feuil2!$B$5:$B$8)*(Feuil1!H$4=Feuil2!$H$3:$M$3)*(Feuil1!H$3=Feuil2!$N$5:$N$8)*(Feuil1!H$2=Feuil2!$H$3:$M$3)*(Feuil2!$H$5:$M$8)) -> 0 | I7: =SUMPRODUCT(($B7=Feuil2!$B$5:$B$8)*(Feuil1!I$4=Feuil2!$H$3:$M$3)*(Feuil1!I$3=Feuil2!$N$5:$N$8)*(Feuil1!I$2=Feuil2!$H$3:$M$3)*(Feuil2!$H$5:$M$8)) -> 0 | J7: =SUMPRODUCT(($B7=Feuil2!$B$5:$B$8)*(Feuil1!J$4=Feuil2!$H$3:$M$3)*(Feuil1!J$3=Feuil2!$N$5:$N$8)*(Feuil1!J$2=Feuil2!$H$3:$M$3)*(Feuil2!$H$5:$M$8)) -> 0 | K7: =SUMPRODUCT(($B7=Feuil2!$B$5:$B$8)*(Feuil1!K$4=Feuil2!$H$3:$M$3)*(Feuil1!K$3=Feuil2!$N$5:$N$8)*(Feuil1!K$2=Feuil2!$H$3:$M$3)*(Feuil2!$H$5:$M$8)) -> 0
B8: 4 | C8: 0 | D8: =SUMPRODUCT(($B8=Feuil2!$B$5:$B$8)*(Feuil1!D$4=Feuil2!$H$3:$M$3)*(Feuil1!D$3=Feuil2!$N$5:$N$8)*(Feuil1!D$2=Feuil2!$H$3:$M$3)*(Feuil2!$H$5:$M$8)) -> 0 | E8: =SUMPRODUCT(($B8=Feuil2!$B$5:$B$8)*(Feuil1!E$4=Feuil2!$H$3:$M$3)*(Feuil1!E$3=Feuil2!$N$5:$N$8)*(Feuil1!E$2=Feuil2!$H$3:$M$3)*(Feuil2!$H$5:$M$8)) -> 0 | F8: =SUMPRODUCT(($B8=Feuil2!$B$5:$B$8)*(Feuil1!F$4=Feuil2!$H$3:$M$3)*(Feuil1!F$3=Feuil2!$N$5:$N$8)*(Feuil1!F$2=Feuil2!$H$3:$M$3)*(Feuil2!$H$5:$M$8)) -> 0 | G8: =SUMPRODUCT(($B8=Feuil2!$B$5:$B$8)*(Feuil1!G$4=Feuil2!$H$3:$M$3)*(Feuil1!G$3=Feuil2!$N$5:$N$8)*(Feuil1!G$2=Feuil2!$H$3:$M$3)*(Feuil2!$H$5:$M$8)) -> 0 | H8: =SUMPRODUCT(($B8=Feuil2!$B$5:$B$8)*(Feuil1!H$4=Feuil2!$H$3:$M$3)*(Feuil1!H$3=Feuil2!$N$5:$N$8)*(Feuil1!H$2=Feuil2!$H$3:$M$3)*(Feuil2!$H$5:$M$8)) -> 0 | I8: =SUMPRODUCT(($B8=Feuil2!$B$5:$B$8)*(Feuil1!I$4=Feuil2!$H$3:$M$3)*(Feuil1!I$3=Feuil2!$N$5:$N$8)*(Feuil1!I$2=Feuil2!$H$3:$M$3)*(Feuil2!$H$5:$M$8)) -> 0 | J8: =SUMPRODUCT(($B8=Feuil2!$B$5:$B$8)*(Feuil1!J$4=Feuil2!$H$3:$M$3)*(Feuil1!J$3=Feuil2!$N$5:$N$8)*(Feuil1!J$2=Feuil2!$H$3:$M$3)*(Feuil2!$H$5:$M$8)) -> 0 | K8: =SUMPRODUCT(($B8=Feuil2!$B$5:$B$8)*(Feuil1!K$4=Feuil2!$H$3:$M$3)*(Feuil1!K$3=Feuil2!$N$5:$N$8)*(Feuil1!K$2=Feuil2!$H$3:$M$3)*(Feuil2!$H$5:$M$8)) -> 0
B9: 5 | C9: 0 | D9: =SUMPRODUCT(($B9=Feuil2!$B$5:$B$8)*(Feuil1!D$4=Feuil2!$H$3:$M$3)*(Feuil1!D$3=Feuil2!$N$5:$N$8)*(Feuil1!D$2=Feuil2!$H$3:$M$3)*(Feuil2!$H$5:$M$8)) -> 0 | E9: =SUMPRODUCT(($B9=Feuil2!$B$5:$B$8)*(Feuil1!E$4=Feuil2!$H$3:$M$3)*(Feuil1!E$3=Feuil2!$N$5:$N$8)*(Feuil1!E$2=Feuil2!$H$3:$M$3)*(Feuil2!$H$5:$M$8)) -> 0 | F9: =SUMPRODUCT(($B9=Feuil2!$B$5:$B$8)*(Feuil1!F$4=Feuil2!$H$3:$M$3)*(Feuil1!F$3=Feuil2!$N$5:$N$8)*(Feuil1!F$2=Feuil2!$H$3:$M$3)*(Feuil2!$H$5:$M$8)) -> 0 | G9: =SUMPRODUCT(($B9=Feuil2!$B$5:$B$8)*(Feuil1!G$4=Feuil2!$H$3:$M$3)*(Feuil1!G$3=Feuil2!$N$5:$N$8)*(Feuil1!G$2=Feuil2!$H$3:$M$3)*(Feuil2!$H$5:$M$8)) -> 0 | H9: =SUMPRODUCT(($B9=Feuil2!$B$5:$B$8)*(Feuil1!H$4=Feuil2!$H$3:$M$3)*(Feuil1!H$3=Feuil2!$N$5:$N$8)*(Feuil1!H$2=Feuil2!$H$3:$M$3)*(Feuil2!$H$5:$M$8)) -> 0 | I9: =SUMPRODUCT(($B9=Feuil2!$B$5:$B$8)*(Feuil1!I$4=Feuil2!$H$3:$M$3)*(Feuil1!I$3=Feuil2!$N$5:$N$8)*(Feuil1!I$2=Feuil2!$H$3:$M$3)*(Feuil2!$H$5:$M$8)) -> 0 | J9: =SUMPRODUCT(($B9=Feuil2!$B$5:$B$8)*(Feuil1!J$4=Feuil2!$H$3:$M$3)*(Feuil1!J$3=Feuil2!$N$5:$N$8)*(Feuil1!J$2=Feuil2!$H$3:$M$3)*(Feuil2!$H$5:$M$8)) -> 0 | K9: =SUMPRODUCT(($B9=Feuil2!$B$5:$B$8)*(Feuil1!K$4=Feuil2!$H$3:$M$3)*(Feuil1!K$3=Feuil2!$N$5:$N$8)*(Feuil1!K$2=Feuil2!$H$3:$M$3)*(Feuil2!$H$5:$M$8)) -> 0
B10: 6 | C10: 0

Sheet Feuil2
H3: Volume | I3: Coupe | J3: Volume | K3: Coupe | L3: Volume | M3: Coupe
B4: Parcelle | C4: Surface | D4: Essence | E4: Fertilité | F4: % de croissance | G4: Qualité | H4: 2017 | I4: 2017 | J4: 2018 | K4: 2018 | L4: 2019 | M4: 2019 | N4: Type de bois
B5: 1 | C5: 2 | D5: Douglas | E5: I | F5: 0.0355 | G5: 2 | H5: 200 | I5: 0 | J5: 207.1 | K5: 1272.6 | L5: -1103.3253 | M5: 0 | N5: Résineux
B6: 3 | C6: 2 | D6: Mélèze | E6: I | F6: 0.0279 | G6: 2 | H6: 200 | I6: 0 | J6: 205.58 | K6: 0 | L6: 211.31568 | M6: 0 | N6: Résineux
B7: 1 | C7: 2 | D7: Epicéa | E7: I | F7: 0.0308 | G7: 2 | H7: 200 | I7: 0 | J7: 206.16 | K7: 0 | L7: 212.50973 | M7: 0 | N7: Résineux
B8: 2 | C8: 1.5 | D8: Epicéa de Sitka | E8: I | F8: 0.0248 | G8: 1 | H8: 150 | I8: 0 | J8: 153.72 | K8: 0 | L8: 157.53226 | M8: 0 | N8: Résineux
