Workbook

Sheet Pole H&S
A2: Eatblissement | C2: FOYER HEB | K2: Raison du Contrat | AA2: ARRET MAL | AC2: CDI | AE2: FOYER HEB
AA3: ACC TRAV | AC3: CDD | AE3: FOYER DE VIE
A4: Nouveau Contrat | E4: Personne remplacée | I4: Prolongations (suite) | M4: Prolongations (suite) | AA4: Cong Payés | AC4: CUI | AE4: CAJ
A5: Type contrat | E5: Nom | F5: Prénom | G5: MOTIF | I5: date début | J5: date fin | K5: nb jours | M5: date début | N5: date fin | O5: nb jours | AA5: Cong Trim | AC5: CAE | AE5: SAVS
A6: Nom | K6: =J6-I6 -> 0 | O6: =N6-M6 -> 0 | AA6: Cong Anc
A7: Prénom | E7: Arrêt initial | K7: =J7-I7 -> 0 | O7: =N7-M7 -> 0 | AA7: Cong Mat
E8: date début | F8: date fin | G8: nb jours | K8: =J8-I8 -> 0 | O8: =N8-M8 -> 0
G9: =DATEDIF(E9,F9,"d") -> 0 | K9: =J9-I9 -> 0 | O9: =N9-M9 -> 0
E10: Prolongations | K10: =J10-I10 -> 0 | O10: =N10-M10 -> 0
E11: date début | F11: date fin | G11: nb jours | K11: =J11-I11 -> 0 | O11: =N11-M11 -> 0
G12: =F12-E12 -> 0 | K12: =J12-I12 -> 0 | O12: =N12-M12 -> 0
G13: =F13-E13 -> 0 | K13: =J13-I13 -> 0 | O13: =N13-M13 -> 0
G14: =F14-E14 -> 0 | K14: =J14-I14 -> 0 | M14: TOTAL ARRET | N14: =(SUM(G12:G14)+SUM(K6:K14)+SUM(O6:O13)+G9) -> 0
A16: Contrat | C16: Fiche Salarié | E16: Contrats | J16: Déclaration Urssaf | L16: Solde de tout compte | P16: Nb jours de remplacement
A17: date début | B17: date fin | C17: fait le | D17: Envoi au Siège | E17: Fait le | F17: Envoi au Siège | G17: Retour Siège Signé | H17: Signature Direction | I17: Signature salarié | J17: fait le | K17: Envoi Compta | L17: Fait le | M17: Envoi Compta | N17: Retour Compta | O17: Signature Salarié
P18: =DATEDIF(A18,B18,"d") -> 0
A19: Avenants | C19: Fiche Salarié | E19: Contrats | J19: Déclaration Urssaf | L19: Solde de tout compte | P19: Nb jours
A20: date début | B20: date fin | C20: fait le | D20: Envoi au Siège | E20: Fait le | F20: Envoi au Siège | G20: Retour Siège Signé | H20: Signature Direction | I20: Signature salarié | J20: fait le | K20: Envoi Compta | L20: Fait le | M20: Envoi Compta | N20: Retour Compta | O20: Signature Salarié
O26: TOTAL | P26: =SUM(P21:P25)+P18 -> 0
A28: Eatblissement | K28: Raison du Contrat
A30: Nouveau Contrat | E30: Personne remplacée | I30: Prolongations (suite) | M30: Prolongations (suite)
A31: Type contrat | E31: Nom | F31: Prénom | G31: MOTIF | I31: date début | J31: date fin | K31: nb jours | M31: date début | N31: date fin | O31: nb jours
A32: Nom | K32: =J32-I32 -> 0 | O32: =N32-M32 -> 0
A33: Prénom | E33: Arrêt initial | K33: =J33-I33 -> 0 | O33: =N33-M33 -> 0
E34: date début | F34: date fin | G34: nb jours | K34: =J34-I34 -> 0 | O34: =N34-M34 -> 0
G35: =DATEDIF(E35,F35,"d") -> 0 | K35: =J35-I35 -> 0 | O35: =N35-M35 -> 0
E36: Prolongations | K36: =J36-I36 -> 0 | O36: =N36-M36 -> 0
E37: date début | F37: date fin | G37: nb jours | K37: =J37-I37 -> 0 | O37: =N37-M37 -> 0
G38: =F38-E38 -> 0 | K38: =J38-I38 -> 0 | O38: =N38-M38 -> 0
G39: =F39-E39 -> 0 | K39: =J39-I39 -> 0 | O39: =N39-M39 -> 0
G40: =F40-E40 -> 0 | K40: =J40-I40 -> 0 | M40: TOTAL ARRET | N40: =(SUM(G38:G40)+SUM(K32:K40)+SUM(O32:O39)+G35) -> 0
A42: Contrat | C42: Fiche Salarié | E42: Contrats | J42: Déclaration Urssaf | L42: Solde de tout compte | P42: Nb jours de remplacement
A43: date début | B43: date fin | C43: fait le | D43: Envoi au Siège | E43: Fait le | F43: Envoi au Siège | G43: Retour Siège Signé | H43: Signature Direction | I43: Signature salarié | J43: fait le | K43: Envoi Compta | L43: Fait le | M43: Envoi Compta | N43: Retour Compta | O43: Signature Salarié
P44: =DATEDIF(A44,B44,"d") -> 0
A45: Avenants | C45: Fiche Salarié | E45: Contrats | J45: Déclaration Urssaf | L45: Solde de tout compte | P45: Nb jours
A46: date début | B46: date fin | C46: fait le | D46: Envoi au Siège | E46: Fait le | F46: Envoi au Siège | G46: Retour Siège Signé | H46: Signature Direction | I46: Signature salarié | J46: fait le | K46: Envoi Compta | L46: Fait le | M46: Envoi Compta | N46: Retour Compta | O46: Signature Salarié
O52: TOTAL | P52: =SUM(P47:P51)+P44 -> 0
A54: Eatblissement | K54: Raison du Contrat
A56: Nouveau Contrat | E56: Personne remplacée | I56: Prolongations (suite) | M56: Prolongations (suite)
A57: Type contrat | E57: Nom | F57: Prénom | G57: MOTIF | I57: date début | J57: date fin | K57: nb jours | M57: date début | N57: date fin | O57: nb jours
A58: Nom | K58: =J58-I58 -> 0 | O58: =N58-M58 -> 0
A59: Prénom | E59: Arrêt initial | K59: =J59-I59 -> 0 | O59: =N59-M59 -> 0
E60: date début | F60: date fin | G60: nb jours | K60: =J60-I60 -> 0 | O60: =N60-M60 -> 0
G61: =DATEDIF(E61,F61,"d") -> 0 | K61: =J61-I61 -> 0 | O61: =N61-M61 -> 0
E62: Prolongations | K62: =J62-I62 -> 0 | O62: =N62-M62 -> 0
E63: date début | F63: date fin | G63: nb jours | K63: =J63-I63 -> 0 | O63: =N63-M63 -> 0
G64: =F64-E64 -> 0 | K64: =J64-I64 -> 0 | O64: =N64-M64 -> 0
G65: =F65-E65 -> 0 | K65: =J65-I65 -> 0 | O65: =N65-M65 -> 0
G66: =F66-E66 -> 0 | K66: =J66-I66 -> 0 | M66: TOTAL ARRET | N66: =(SUM(G64:G66)+SUM(K58:K66)+SUM(O58:O65)+G61) -> 0
A68: Contrat | C68: Fiche Salarié | E68: Contrats | J68: Déclaration Urssaf | L68: Solde de tout compte | P68: Nb jours de remplacement
A69: date début | B69: date fin | C69: fait le | D69: Envoi au Siège | E69: Fait le | F69: Envoi au Siège | G69: Retour Siège Signé | H69: Signature Direction | I69: Signature salarié | J69: fait le | K69: Envoi Compta | L69: Fait le | M69: Envoi Compta | N69: Retour Compta | O69: Signature Salarié
P70: =DATEDIF(A70,B70,"d") -> 0
A71: Avenants | C71: Fiche Salarié | E71: Contrats | J71: Déclaration Urssaf | L71: Solde de tout compte | P71: Nb jours
A72: date début | B72: date fin | C72: fait le | D72: Envoi au Siège | E72: Fait le | F72: Envoi au Siège | G72: Retour Siège Signé | H72: Signature Direction | I72: Signature salarié | J72: fait le | K72: Envoi Compta | L72: Fait le | M72: Envoi Compta | N72: Retour Compta | O72: Signature Salarié
O78: TOTAL | P78: =SUM(P73:P77)+P70 -> 0
A80: Eatblissement | K80: Raison du Contrat
A82: Nouveau Contrat | E82: Personne remplacée | I82: Prolongations (suite) | M82: Prolongations (suite)
A83: Type contrat | E83: Nom | F83: Prénom | G83: MOTIF | I83: date début | J83: date fin | K83: nb jours | M83: date début | N83: date fin | O83: nb jours
A84: Nom | K84: =J84-I84 -> 0 | O84: =N84-M84 -> 0
A85: Prénom | E85: Arrêt initial | K85: =J85-I85 -> 0 | O85: =N85-M85 -> 0
E86: date début | F86: date fin | G86: nb jours | K86: =J86-I86 -> 0 | O86: =N86-M86 -> 0
G87: =DATEDIF(E87,F87,"d") -> 0 | K87: =J87-I87 -> 0 | O87: =N87-M87 -> 0
E88: Prolongations | K88: =J88-I88 -> 0 | O88: =N88-M88 -> 0
E89: date début | F89: date fin | G89: nb jours | K89: =J89-I89 -> 0 | O89: =N89-M89 -> 0
G90: =F90-E90 -> 0 | K90: =J90-I90 -> 0 | O90: =N90-M90 -> 0
G91: =F91-E91 -> 0 | K91: =J91-I91 -> 0 | O91: =N91-M91 -> 0
G92: =F92-E92 -> 0 | K92: =J92-I92 -> 0 | M92: TOTAL ARRET | N92: =(SUM(G90:G92)+SUM(K84:K92)+SUM(O84:O91)+G87) -> 0
A94: Contrat | C94: Fiche Salarié | E94: Contrats | J94: Déclaration Urssaf | L94: Solde de tout compte | P94: Nb jours de remplacement
A95: date début | B95: date fin | C95: fait le | D95: Envoi au Siège | E95: Fait le | F95: Envoi au Siège | G95: Retour Siège Signé | H95: Signature Direction | I95: Signature salarié | J95: fait le | K95: Envoi Compta | L95: Fait le | M95: Envoi Compta | N95: Retour Compta | O95: Signature Salarié
P96: =DATEDIF(A96,B96,"d") -> 0
A97: Avenants | C97: Fiche Salarié | E97: Contrats | J97: Déclaration Urssaf | L97: Solde de tout compte | P97: Nb jours
A98: date début | B98: date fin | C98: fait le | D98: Envoi au Siège | E98: Fait le | F98: Envoi au Siège | G98: Retour Siège Signé | H98: Signature Direction | I98: Signature salarié | J98: fait le | K98: Envoi Compta | L98: Fait le | M98: Envoi Compta | N98: Retour Compta | O98: Signature Salarié
O104: TOTAL | P104: =SUM(P99:P103)+P96 -> 0
A106: Eatblissement | K106: Raison du Contrat
A108: Nouveau Contrat | E108: Personne remplacée | I108: Prolongations (suite) | M108: Prolongations (suite)
A109: Type contrat | E109: Nom | F109: Prénom | G109: MOTIF | I109: date début | J109: date fin | K109: nb jours | M109: date début | N109: date fin | O109: nb jours
A110: Nom | K110: =J110-I110 -> 0 | O110: =N110-M110 -> 0
A111: Prénom | E111: Arrêt initial | K111: =J111-I111 -> 0 | O111: =N111-M111 -> 0
E112: date début | F112: date fin | G112: nb jours | K112: =J112-I112 -> 0 | O112: =N112-M112 -> 0
G113: =DATEDIF(E113,F113,"d") -> 0 | K113: =J113-I113 -> 0 | O113: =N113-M113 -> 0
E114: Prolongations | K114: =J114-I114 -> 0 | O114: =N114-M114 -> 0
E115: date début | F115: date fin | G115: nb jours | K115: =J115-I115 -> 0 | O115: =N115-M115 -> 0
G116: =F116-E116 -> 0 | K116: =J116-I116 -> 0 | O116: =N116-M116 -> 0
G117: =F117-E117 -> 0 | K117: =J117-I117 -> 0 | O117: =N117-M117 -> 0
G118: =F118-E118 -> 0 | K118: =J118-I118 -> 0 | M118: TOTAL ARRET | N118: =(SUM(G116:G118)+SUM(K110:K118)+SUM(O110:O117)+G113) -> 0
A120: Contrat | C120: Fiche Salarié | E120: Contrats | J120: Déclaration Urssaf | L120: Solde de tout compte | P120: Nb jours de remplacement
A121: date début | B121: date fin | C121: fait le | D121: Envoi au Siège | E121: Fait le | F121: Envoi au Siège | G121: Retour Siège Signé | H121: Signature Direction | I121: Signature salarié | J121: fait le | K121: Envoi Compta | L121: Fait le | M121: Envoi Compta | N121: Retour Compta | O121: Signature Salarié
P122: =DATEDIF(A122,B122,"d") -> 0
A123: Avenants | C123: Fiche Salarié | E123: Contrats | J123: Déclaration Urssaf | L123: Solde de tout compte | P123: Nb jours
A124: date début | B124: date fin | C124: fait le | D124: Envoi au Siège | E124: Fait le | F124: Envoi au Siège | G124: Retour Siège Signé | H124: Signature Direction | I124: Signature salarié | J124: fait le | K124: Envoi Compta | L124: Fait le | M124: Envoi Compta | N124: Retour Compta | O124: Signature Salarié
O130: TOTAL | P130: =SUM(P125:P129)+P122 -> 0
A132: Eatblissement | K132: Raison du Contrat
A134: Nouveau Contrat | E134: Personne remplacée | I134: Prolongations (suite) | M134: Prolongations (suite)
A135: Type contrat | E135: Nom | F135: Prénom | G135: MOTIF | I135: date début | J135: date fin | K135: nb jours | M135: date début | N135: date fin | O135: nb jours
A136: Nom | K136: =J136-I136 -> 0 | O136: =N136-M136 -> 0
A137: Prénom | E137: Arrêt initial | K137: =J137-I137 -> 0 | O137: =N137-M137 -> 0
E138: date début | F138: date fin | G138: nb jours | K138: =J138-I138 -> 0 | O138: =N138-M138 -> 0
G139: =DATEDIF(E139,F139,"d") -> 0 | K139: =J139-I139 -> 0 | O139: =N139-M139 -> 0
E140: Prolongations | K140: =J140-I140 -> 0 | O140: =N140-M140 -> 0
E141: date début | F141: date fin | G141: nb jours | K141: =J141-I141 -> 0 | O141: =N141-M141 -> 0
...

Sheet Récap
B3: LES CONTRATS | F3: LES MOTIFS DE REMPLACEMENTS
B4: Nb de CDI | D4: =COUNTIF('Pole H&S'!B1:B5000,"cdi") -> 0 | F4: ARRETS MALADIE | H4: =COUNTIF('Pole H&S'!$G$1:$G$5000,"arret mal") -> 0 | J4: Nb de jours Arrets mal
B5: Nb de CDD | D5: =COUNTIF('Pole H&S'!B1:B5000,"cdd") -> 0 | F5: ACCIDENTS TRAVAIL | H5: =COUNTIF('Pole H&S'!$G$1:$G$5000,"acc trav") -> 0 | J5: Nb de jours d'Acc travail
B6: Nb de Cui | D6: =COUNTIF('Pole H&S'!B1:B5000,"cui") -> 0 | F6: CONGES PAYES | H6: =COUNTIF('Pole H&S'!$G$1:$G$5000,"cong payés") -> 0
B7: Nb de Cae | D7: =COUNTIF('Pole H&S'!B1:B15000,"cae") -> 0 | F7: CONGES TRIM | H7: =COUNTIF('Pole H&S'!$G$1:$G$5000,"cong trim") -> 0
F8: CONGES ANC | H8: =COUNTIF('Pole H&S'!$G$1:$G$5000,"cong anc") -> 0
F9: CONGES MAT | H9: =COUNTIF('Pole H&S'!$G$1:$G$5000,"cong mat") -> 0
B11: LES REMPLACEMENTS
B12: Nb de Jours de CDD
B20: Formule à conserver
B21: {=SUM(IF(MOD(ROW('Pole H&S'!$N$14:$N$5001)-14,26)=0,'Pole H&S'!$N$14:$N$5001,0))} -> 0

Sheet Feuil3
