Workbook

Sheet Pole H&S
A2: Eatblissement | C2: FOYER HEB | K2: Raison du Contrat | AA2: ARRET MAL | AC2: CDI | AE2: FOYER HEB
AA3: ACC TRAV | AC3: CDD | AE3: FOYER DE VIE
A4: Nouveau Contrat | E4: Personne remplacée | I4: Prolongations (suite) | M4: Prolongations (suite) | AA4: Cong Payés | AC4: CUI | AE4: CAJ
A5: Type contrat | E5: Nom | F5: Prénom | G5: MOTIF | I5: date début | J5: date fin | K5: nb jours | M5: date début | N5: date fin | O5: nb jours | AA5: Cong Trim | AC5: CAE | AE5: SAVS
A6: Nom | K6: =J6-I6 -> 0 | O6: =N6-M6 -> 0 | AA6: Cong Anc
A7: Prénom | E7: Arrêt initial | K7: =J7-I7 -> 0 | O7: =N7-M7 -> 0 | AA7: Cong Mat
E8: date début | F8: date fin | G8: nb jours | K8: =J8-I8 -> 0 | O8: =N8-M8 -> 0
G9: =DATEDIF(E9,F9,"d") -> 0 | K9: =J9-I9 -> 0 | O9: =N9-M9 -> 0
E10: Prolongations | K10: =J10-I10 -> 0 | O10: =N10-M10 -> 0
E11: date début | F11: date fin | G11: nb jours | K11: =J11-I11 -> 0 | O11: =N11-M11 -> 0
G12: =F12-E12 -> 0 | K12: =J12-I12 -> 0 | O12: =N12-M12 -> 0
G13: =F13-E13 -> 0 | K13: =J13-I13 -> 0 | O13: =N13-M13 -> 0
G14: =F14-E14 -> 0 | K14: =J14-I14 -> 0 | M14: TOTAL ARRET | N14: =(SUM(G12:G14)+SUM(K6:K14)+SUM(O6:O13)+G9) -> 0
A16: Contrat | C16: Fiche Salarié | E16: Contrats | J16: Déclaration Urssaf | L16: Solde de tout compte | P16: Nb jours de remplacement
A17: date début | B17: date fin | C17: fait le | D17: Envoi au Siège | E17: Fait le | F17: Envoi au Siège | G17: Retour Siège Signé | H17: Signature Direction | I17: Signature salarié | J17: fait le | K17: Envoi Compta | L17: Fait le | M17: Envoi Compta | N17: Retour Compta | O17: Signature Salarié
P18: =DATEDIF(A18,B18,"d") -> 0
A19: Avenants | C19: Fiche Salarié | E19: Contrats | J19: Déclaration Urssaf | L19: Solde de tout compte | P19: Nb jours
A20: date début | B20: date fin | C20: fait le | D20: Envoi au Siège | E20: Fait le | F20: Envoi au Siège | G20: Retour Siège Signé | H20: Signature Direction | I20: Signature salarié | J20: fait le | K20: Envoi Compta | L20: Fait le | M20: Envoi Compta | N20: Retour Compta | O20: Signature Salarié
O26: TOTAL | P26: =SUM(P21:P25)+P18 -> 0
A28: Eatblissement | K28: Raison du Contrat
A30: Nouveau Contrat | E30: Personne remplacée | I30: Prolongations (suite) | M30: Prolongations (suite)
A31: Type contrat | E31: Nom | F31: Prénom | G31: MOTIF | I31: date début | J31: date fin | K31: nb jours | M31: date début | N31: date fin | O31: nb jours
A32: Nom | K32: =J32-I32 -> 0 | O32: =N32-M32 -> 0
A33: Prénom | E33: Arrêt initial | K33: =J33-I33 -> 0 | O33: =N33-M33 -> 0
E34: date début | F34: date fin | G34: nb jours | K34: =J34-I34 -> 0 | O34: =N34-M34 -> 0
G35: =DATEDIF(E35,F35,"d") -> 0 | K35: =J35-I35 -> 0 | O35: =N35-M35 -> 0
E36: Prolongations | K36: =J36-I36 -> 0 | O36: =N36-M36 -> 0
E37: date début | F37: date fin | G37: nb jours | K37: =J37-I37 -> 0 | O37: =N37-M37 -> 0
G38: =F38-E38 -> 0 | K38: =J38-I38 -> 0 | O38: =N38-M38 -> 0
G39: =F39-E39 -> 0 | K39: =J39-I39 -> 0 | O39: =N39-M39 -> 0
G40: =F40-E40 -> 0 | K40: =J40-I40 -> 0 | M40: TOTAL ARRET | N40: =(SUM(G38:G40)+SUM(K32:K40)+SUM(O32:O39)+G35) -> 0
A42: Contrat | C42: Fiche Salarié | E42: Contrats | J42: Déclaration Urssaf | L42: Solde de tout compte | P42: Nb jours de remplacement
A43: date début | B43: date fin | C43: fait le | D43: Envoi au Siège | E43: Fait le | F43: Envoi au Siège | G43: Retour Siège Signé | H43: Signature Direction | I43: Signature salarié | J43: fait le | K43: Envoi Compta | L43: Fait le | M43: Envoi Compta | N43: Retour Compta | O43: Signature Salarié
P44: =DATEDIF(A44,B44,"d") -> 0
A45: Avenants | C45: Fiche Salarié | E45: Contrats | J45: Déclaration Urssaf | L45: Solde de tout compte | P45: Nb jours
A46: date début | B46: date fin | C46: fait le | D46: Envoi au Siège | E46: Fait le | F46: Envoi au Siège | G46: Retour Siège Signé | H46: Signature Direction | I46: Signature salarié | J46: fait le | K46: Envoi Compta | L46: Fait le | M46: Envoi Compta | N46: Retour Compta | O46: Signature Salarié
O52: TOTAL | P52: =SUM(P47:P51)+P44 -> 0
A54: Eatblissement | K54: Raison du Contrat
A56: Nouveau Contrat | E56: Personne remplacée | I56: Prolongations (suite) | M56: Prolongations (suite)
A57: Type contrat | E57: Nom | F57: Prénom | G57: MOTIF | I57: date début | J57: date fin | K57: nb jours | M57: date début | N57: date fin | O57: nb jours
...

Sheet Récap
B3: LES CONTRATS | F3: LES MOTIFS DE REMPLACEMENTS
B4: Nb de CDI | D4: =COUNTIF('Pole H&S'!B1:B5000,"cdi") -> 0 | F4: ARRETS MALADIE | H4: =COUNTIF('Pole H&S'!$G$1:$G$5000,"arret mal") -> 0 | J4: Nb de jours Arrets mal
B5: Nb de CDD | D5: =COUNTIF('Pole H&S'!B1:B5000,"cdd") -> 0 | F5: ACCIDENTS TRAVAIL | H5: =COUNTIF('Pole H&S'!$G$1:$G$5000,"acc trav") -> 0 | J5: Nb de jours d'Acc travail
B6: Nb de Cui | D6: =COUNTIF('Pole H&S'!B1:B5000,"cui") -> 0 | F6: CONGES PAYES | H6: =COUNTIF('Pole H&S'!$G$1:$G$5000,"cong payés") -> 0
B7: Nb de Cae | D7: =COUNTIF('Pole H&S'!B1:B15000,"cae") -> 0 | F7: CONGES TRIM | H7: =COUNTIF('Pole H&S'!$G$1:$G$5000,"cong trim") -> 0
F8: CONGES ANC | H8: =COUNTIF('Pole H&S'!$G$1:$G$5000,"cong anc") -> 0
F9: CONGES MAT | H9: =COUNTIF('Pole H&S'!$G$1:$G$5000,"cong mat") -> 0
B11: LES REMPLACEMENTS
B12: Nb de Jours de CDD
B20: Formule à conserver
B21: {=SUM(IF(MOD(ROW('Pole H&S'!$N$14:$N$5001)-14,26)=0,'Pole H&S'!$N$14:$N$5001,0))} -> 0

Sheet Feuil3
