Workbook

Sheet Classement test

Sheet Classement
A1: Rang | B1: Joueurs | C1: Total | E1: S05 Chaussette TC | F1: S50 Cagouille TC | G1: S44 Pantoufle TC | H1: S44 Raclette TC
A2: =RANK(C2,$C$2:$C$20) -> 1 | B2: Ni Pa | C2: =SUM(IF(COUNT(D2:H2)>0,LARGE(D2:H2,1),0),IF(COUNT(D2:H2)>1,LARGE(D2:H2,2),0),IF(COUNT(D2:H2)>2,LARGE(D2:H2,3),0),IF(COUNT(D2:H2)>3,LARGE(D2:H2,4),0),IF(COUNT(D2:H2)>4,LARGE(D2:H2,5),0)) -> 2000 | H2: 2000
A3: =RANK(C3,$C$2:$C$20) -> 2 | B3: Pi Ma | C3: =SUM(IF(COUNT(D3:H3)>0,LARGE(D3:H3,1),0),IF(COUNT(D3:H3)>1,LARGE(D3:H3,2),0),IF(COUNT(D3:H3)>2,LARGE(D3:H3,3),0),IF(COUNT(D3:H3)>3,LARGE(D3:H3,4),0),IF(COUNT(D3:H3)>4,LARGE(D3:H3,5),0)) -> 1300 | E3: 1300
A4: =RANK(C4,$C$2:$C$20) -> 3 | B4: Xa Ga | C4: =SUM(IF(COUNT(D4:H4)>0,LARGE(D4:H4,1),0),IF(COUNT(D4:H4)>1,LARGE(D4:H4,2),0),IF(COUNT(D4:H4)>2,LARGE(D4:H4,3),0),IF(COUNT(D4:H4)>3,LARGE(D4:H4,4),0),IF(COUNT(D4:H4)>4,LARGE(D4:H4,5),0)) -> 1200 | H4: 1200
A5: =RANK(C5,$C$2:$C$20) -> 4 | B5: Ch Se | C5: =SUM(IF(COUNT(D5:H5)>0,LARGE(D5:H5,1),0),IF(COUNT(D5:H5)>1,LARGE(D5:H5,2),0),IF(COUNT(D5:H5)>2,LARGE(D5:H5,3),0),IF(COUNT(D5:H5)>3,LARGE(D5:H5,4),0),IF(COUNT(D5:H5)>4,LARGE(D5:H5,5),0)) -> 800 | F5: 800
A6: =RANK(C6,$C$2:$C$20) -> 5 | B6: Qu SE | C6: =SUM(IF(COUNT(D6:H6)>0,LARGE(D6:H6,1),0),IF(COUNT(D6:H6)>1,LARGE(D6:H6,2),0),IF(COUNT(D6:H6)>2,LARGE(D6:H6,3),0),IF(COUNT(D6:H6)>3,LARGE(D6:H6,4),0),IF(COUNT(D6:H6)>4,LARGE(D6:H6,5),0)) -> 780 | E6: 780
A7: =RANK(C7,$C$2:$C$20) -> 6 | B7: Ma Ja | C7: =SUM(IF(COUNT(D7:H7)>0,LARGE(D7:H7,1),0),IF(COUNT(D7:H7)>1,LARGE(D7:H7,2),0),IF(COUNT(D7:H7)>2,LARGE(D7:H7,3),0),IF(COUNT(D7:H7)>3,LARGE(D7:H7,4),0),IF(COUNT(D7:H7)>4,LARGE(D7:H7,5),0)) -> 720 | H7: 720
A8: =RANK(C8,$C$2:$C$20) -> 6 | B8: Pi Ga | C8: =SUM(IF(COUNT(D8:H8)>0,LARGE(D8:H8,1),0),IF(COUNT(D8:H8)>1,LARGE(D8:H8,2),0),IF(COUNT(D8:H8)>2,LARGE(D8:H8,3),0),IF(COUNT(D8:H8)>3,LARGE(D8:H8,4),0),IF(COUNT(D8:H8)>4,LARGE(D8:H8,5),0)) -> 720 | H8: 720
A9: =RANK(C9,$C$2:$C$20) -> 8 | B9: Ga Na | C9: =SUM(IF(COUNT(D9:H9)>0,LARGE(D9:H9,1),0),IF(COUNT(D9:H9)>1,LARGE(D9:H9,2),0),IF(COUNT(D9:H9)>2,LARGE(D9:H9,3),0),IF(COUNT(D9:H9)>3,LARGE(D9:H9,4),0),IF(COUNT(D9:H9)>4,LARGE(D9:H9,5),0)) -> 540 | E9: 280 | H9: 260
A10: =RANK(C10,$C$2:$C$20) -> 9 | B10: Fr Le | C10: =SUM(IF(COUNT(D10:H10)>0,LARGE(D10:H10,1),0),IF(COUNT(D10:H10)>1,LARGE(D10:H10,2),0),IF(COUNT(D10:H10)>2,LARGE(D10:H10,3),0),IF(COUNT(D10:H10)>3,LARGE(D10:H10,4),0),IF(COUNT(D10:H10)>4,LARGE(D10:H10,5),0)) -> 480 | F10: 480
A11: =RANK(C11,$C$2:$C$20) -> 10 | B11: Fr Ti | C11: =SUM(IF(COUNT(D11:H11)>0,LARGE(D11:H11,1),0),IF(COUNT(D11:H11)>1,LARGE(D11:H11,2),0),IF(COUNT(D11:H11)>2,LARGE(D11:H11,3),0),IF(COUNT(D11:H11)>3,LARGE(D11:H11,4),0),IF(COUNT(D11:H11)>4,LARGE(D11:H11,5),0)) -> 470 | E11: 470
A12: =RANK(C12,$C$2:$C$20) -> 10 | B12: Ke Vi | C12: =SUM(IF(COUNT(D12:H12)>0,LARGE(D12:H12,1),0),IF(COUNT(D12:H12)>1,LARGE(D12:H12,2),0),IF(COUNT(D12:H12)>2,LARGE(D12:H12,3),0),IF(COUNT(D12:H12)>3,LARGE(D12:H12,4),0),IF(COUNT(D12:H12)>4,LARGE(D12:H12,5),0)) -> 470 | E12: 470
A13: =RANK(C13,$C$2:$C$20) -> 12 | B13: Gu Vo | C13: =SUM(IF(COUNT(D13:H13)>0,LARGE(D13:H13,1),0),IF(COUNT(D13:H13)>1,LARGE(D13:H13,2),0),IF(COUNT(D13:H13)>2,LARGE(D13:H13,3),0),IF(COUNT(D13:H13)>3,LARGE(D13:H13,4),0),IF(COUNT(D13:H13)>4,LARGE(D13:H13,5),0)) -> 430 | H13: 430
A14: =RANK(C14,$C$2:$C$20) -> 12 | B14: Ro Su | C14: =SUM(IF(COUNT(D14:H14)>0,LARGE(D14:H14,1),0),IF(COUNT(D14:H14)>1,LARGE(D14:H14,2),0),IF(COUNT(D14:H14)>2,LARGE(D14:H14,3),0),IF(COUNT(D14:H14)>3,LARGE(D14:H14,4),0),IF(COUNT(D14:H14)>4,LARGE(D14:H14,5),0)) -> 430 | H14: 430
A15: =RANK(C15,$C$2:$C$20) -> 12 | B15: Se AU | C15: =SUM(IF(COUNT(D15:H15)>0,LARGE(D15:H15,1),0),IF(COUNT(D15:H15)>1,LARGE(D15:H15,2),0),IF(COUNT(D15:H15)>2,LARGE(D15:H15,3),0),IF(COUNT(D15:H15)>3,LARGE(D15:H15,4),0),IF(COUNT(D15:H15)>4,LARGE(D15:H15,5),0)) -> 430 | H15: 430
A16: =RANK(C16,$C$2:$C$20) -> 15 | B16: Hu Gr | C16: =SUM(IF(COUNT(D16:H16)>0,LARGE(D16:H16,1),0),IF(COUNT(D16:H16)>1,LARGE(D16:H16,2),0),IF(COUNT(D16:H16)>2,LARGE(D16:H16,3),0),IF(COUNT(D16:H16)>3,LARGE(D16:H16,4),0),IF(COUNT(D16:H16)>4,LARGE(D16:H16,5),0)) -> 360 | E16: 190 | F16: 170
A17: =RANK(C17,$C$2:$C$20) -> 16 | B17: Je Mo | C17: =SUM(IF(COUNT(D17:H17)>0,LARGE(D17:H17,1),0),IF(COUNT(D17:H17)>1,LARGE(D17:H17,2),0),IF(COUNT(D17:H17)>2,LARGE(D17:H17,3),0),IF(COUNT(D17:H17)>3,LARGE(D17:H17,4),0),IF(COUNT(D17:H17)>4,LARGE(D17:H17,5),0)) -> 290 | F17: 290
A18: =RANK(C18,$C$2:$C$20) -> 17 | B18: Th Pa | C18: =SUM(IF(COUNT(D18:H18)>0,LARGE(D18:H18,1),0),IF(COUNT(D18:H18)>1,LARGE(D18:H18,2),0),IF(COUNT(D18:H18)>2,LARGE(D18:H18,3),0),IF(COUNT(D18:H18)>3,LARGE(D18:H18,4),0),IF(COUNT(D18:H18)>4,LARGE(D18:H18,5),0)) -> 280 | E18: 280
A19: =RANK(C19,$C$2:$C$20) -> 18 | B19: Je Mo | C19: =SUM(IF(COUNT(D19:H19)>0,LARGE(D19:H19,1),0),IF(COUNT(D19:H19)>1,LARGE(D19:H19,2),0),IF(COUNT(D19:H19)>2,LARGE(D19:H19,3),0),IF(COUNT(D19:H19)>3,LARGE(D19:H19,4),0),IF(COUNT(D19:H19)>4,LARGE(D19:H19,5),0)) -> 260 | H19: 260
A20: =RANK(C20,$C$2:$C$20) -> 18 | B20: Al Dh | C20: =SUM(IF(COUNT(D20:H20)>0,LARGE(D20:H20,1),0),IF(COUNT(D20:H20)>1,LARGE(D20:H20,2),0),IF(COUNT(D20:H20)>2,LARGE(D20:H20,3),0),IF(COUNT(D20:H20)>3,LARGE(D20:H20,4),0),IF(COUNT(D20:H20)>4,LARGE(D20:H20,5),0)) -> 260 | H20: 260

Sheet Tournois
A2: Créneau | B2: Club | C2: Date de fin | D2: Total (€) | E2: Dotations (€) | F2: Lots (€) | G2: Grade | H2: Indice | I2: Top 10
A3: 1 | B3: S44 Raclette TC | C3: 29/10 | D3: =E3+F3 -> 1200 | E3: 800 | F3: 400 | G3: =HLOOKUP(H3,$C$16:$AF$17,2,TRUE) -> 2000 | H3: =HLOOKUP(I3,$C$11:$Z$12,2,FALSE)+HLOOKUP(J3,$C$11:$Z$12,2,FALSE)+HLOOKUP(K3,$C$11:$Z$12,2,FALSE)+HLOOKUP(L3,$C$11:$Z$12,2,FALSE)+HLOOKUP(M3,$C$11:$Z$12,2,FALSE)+HLOOKUP(N3,$C$11:$Z$12,2,FALSE)+HLOOKUP(O3,$C$11:$Z$12,2,FALSE)+HLOOKUP(P3,$C$11:$Z$12,2,FALSE)+HLOOKUP(Q3,$C$11:$Z$12,2,FALSE)+HLOOKUP(R3,$C$11:$Z$12,2,FALSE) -> 159 | I3: 2/6 | J3: 4/6 | K3: 4/6 | L3: 5/6 | M3: 5/6 | N3: 15 | O3: 15/1 | P3: 15/1 | Q3: 15/2 | R3: 15/3
A4: 1 | B4: S44 Pantoufle TC | C4: 30/10 | D4: =E4+F4 -> 300 | E4: 200 | F4: 100 | G4: =HLOOKUP(H4,$C$16:$AF$17,2,TRUE) -> 80 | H4: =HLOOKUP(I4,$C$11:$Z$12,2,FALSE)+HLOOKUP(J4,$C$11:$Z$12,2,FALSE)+HLOOKUP(K4,$C$11:$Z$12,2,FALSE)+HLOOKUP(L4,$C$11:$Z$12,2,FALSE)+HLOOKUP(M4,$C$11:$Z$12,2,FALSE)+HLOOKUP(N4,$C$11:$Z$12,2,FALSE)+HLOOKUP(O4,$C$11:$Z$12,2,FALSE)+HLOOKUP(P4,$C$11:$Z$12,2,FALSE)+HLOOKUP(Q4,$C$11:$Z$12,2,FALSE)+HLOOKUP(R4,$C$11:$Z$12,2,FALSE) -> 56 | I4: 30 | J4: 30 | K4: 30 | L4: 30 | M4: 30 | N4: 30 | O4: 30/1 | P4: 30/1 | Q4: 30/1 | R4: 30/1
A5: 2 | B5: S50 Cagouille TC | C5: 11/12 | D5: =E5+F5 -> 200 | F5: 200 | G5: =HLOOKUP(H5,$C$16:$AF$17,2,TRUE) -> 800 | H5: =HLOOKUP(I5,$C$11:$Z$12,2,FALSE)+HLOOKUP(J5,$C$11:$Z$12,2,FALSE)+HLOOKUP(K5,$C$11:$Z$12,2,FALSE)+HLOOKUP(L5,$C$11:$Z$12,2,FALSE)+HLOOKUP(M5,$C$11:$Z$12,2,FALSE)+HLOOKUP(N5,$C$11:$Z$12,2,FALSE)+HLOOKUP(O5,$C$11:$Z$12,2,FALSE)+HLOOKUP(P5,$C$11:$Z$12,2,FALSE)+HLOOKUP(Q5,$C$11:$Z$12,2,FALSE)+HLOOKUP(R5,$C$11:$Z$12,2,FALSE) -> 115 | I5: 15/1 | J5: 15/1 | K5: 15/1 | L5: 15/2 | M5: 15/2 | N5: 15/2 | O5: 15/3 | P5: 15/3 | Q5: 15/3 | R5: 15/3
A6: 3 | B6: S05 Chaussette TC | C6: 28/01 | D6: =E6+F6 -> 1200 | E6: 800 | F6: 400 | G6: =HLOOKUP(H6,$C$16:$AF$17,2,TRUE) -> 1300 | H6: =HLOOKUP(I6,$C$11:$Z$12,2,FALSE)+HLOOKUP(J6,$C$11:$Z$12,2,FALSE)+HLOOKUP(K6,$C$11:$Z$12,2,FALSE)+HLOOKUP(L6,$C$11:$Z$12,2,FALSE)+HLOOKUP(M6,$C$11:$Z$12,2,FALSE)+HLOOKUP(N6,$C$11:$Z$12,2,FALSE)+HLOOKUP(O6,$C$11:$Z$12,2,FALSE)+HLOOKUP(P6,$C$11:$Z$12,2,FALSE)+HLOOKUP(Q6,$C$11:$Z$12,2,FALSE)+HLOOKUP(R6,$C$11:$Z$12,2,FALSE) -> 138 | I6: 5/6 | J6: 15 | K6: 15 | L6: 15 | M6: 15/1 | N6: 15/1 | O6: 15/1 | P6: 15/1 | Q6: 15/2 | R6: 15/2
A11: Valeur des classements en fonction des effectifs dans le département | C11: NC | D11: 40 | E11: 30/5 | F11: 30/4 | G11: 30/3 | H11: 30/2 | I11: 30/1 | J11: 30 | K11: 15/5 | L11: 15/4 | M11: 15/3 | N11: 15/2 | O11: 15/1 | P11: 15 | Q11: 5/6 | R11: 4/6 | S11: 3/6 | T11: 2/6 | U11: 1/6 | V11: 0 | W11: -2/6 | X11: -4/6 | Y11: -15 | Z11: N
C12: 0 | D12: 0 | E12: 1 | F12: 2 | G12: 3 | H12: 4 | I12: 5 | J12: 6 | K12: 7 | L12: 9 | M12: 10 | N12: 12 | O12: 13 | P12: 15 | Q12: 17 | R12: 19 | S12: 22 | T12: 24 | U12: 25 | V12: 26 | W12: 29 | X12: 31 | Y12: 34 | Z12: 37
A15: Ecarts | E15: 25 | G15: 10 | I15: 10 | K15: 10 | M15: 10 | O15: 10 | Q15: 10 | S15: 10 | U15: 20 | W15: 20 | Y15: 20 | AA15: 20 | AC15: 30 | AE15: 30
A16: Barème des indices | C16: 0 | D16: =E16-1 -> 24 | E16: =C16+E15 -> 25 | F16: =G16-1 -> 34 | G16: =E16+G15 -> 35 | H16: =I16-1 -> 44 | I16: =G16+I15 -> 45 | J16: =K16-1 -> 54 | K16: =I16+K15 -> 55 | L16: =M16-1 -> 64 | M16: =K16+M15 -> 65 | N16: =O16-1 -> 74 | O16: =M16+O15 -> 75 | P16: =Q16-1 -> 84 | Q16: =O16+Q15 -> 85 | R16: =S16-1 -> 94 | S16: =Q16+S15 -> 95 | T16: =U16-1 -> 114 | U16: =S16+U15 -> 115 | V16: =W16-1 -> 134 | W16: =U16+W15 -> 135 | X16: =Y16-1 -> 154 | Y16: =W16+Y15 -> 155 | Z16: =AA16-1 -> 174 | AA16: =Y16+AA15 -> 175 | AB16: =AC16-1 -> 204 | AC16: =AA16+AC15 -> 205 | AD16: =AE16-1 -> 234 | AE16: =AC16+AE15 -> 235 | AF16: 500
A17: Barème des grades | C17: 10 | D17: 10 | E17: 20 | F17: 20 | G17: 40 | H17: 40 | I17: 60 | J17: 60 | K17: 80 | L17: 80 | M17: 130 | N17: 130 | O17: 200 | P17: 200 | Q17: 400 | R17: 400 | S17: 600 | T17: 600 | U17: 800 | V17: 800 | W17: 1300 | X17: 1300 | Y17: 2000 | Z17: 2000 | AA17: 4000 | AB17: 4000 | AC17: 6000 | AD17: 6000 | AE17: 8000 | AF17: 8000
D21: =D22-C22 -> 40 | E21: =E22-D22 -> 70 | F21: =F22-E22 -> 110 | G21: =G22-F22 -> 140 | H21: =H22-G22 -> 200 | I21: =I22-H22 -> 300 | J21: =J22-I22 -> 400 | K21: =K22-J22 -> 500 | ... Q21: =Q22-P22 -> 1200
C22: 40 | D22: 80 | E22: 150 | F22: 260 | G22: 400 | H22: 600 | I22: 900 | J22: 1300 | K22: 1800 | L22: 2300 | M22: 3000 | N22: 3800 | O22: 4700 | P22: 5800 | Q22: 7000
C23: 40 | D23: =C23+D24 -> 80 | E23: =D23+E24 -> 150 | F23: =E23+F24 -> 260 | G23: =F23+G24 -> 420 | H23: =G23+H24 -> 640 | I23: =H23+I24 -> 930 | J23: =I23+J24 -> 1300 | K23: =J23+K24 -> 1760 | ... S23: =R23+S24 -> 9880
D24: 40 | E24: =D24+E25 -> 70 | F24: =E24+F25 -> 110 | G24: =F24+G25 -> 160 | H24: =G24+H25 -> 220 | I24: =H24+I25 -> 290 | J24: =I24+J25 -> 370 | K24: =J24+K25 -> 460 | L24: =K24+L25 -> 560 | ... S24: =R24+S25 -> 1540
E25: 30 | F25: =E25+10 -> 40 | G25: =F25+10 -> 50 | H25: =G25+10 -> 60 | I25: =H25+10 -> 70 | J25: =I25+10 -> 80 | K25: =J25+10 -> 90 | L25: =K25+10 -> 100 | M25: =L25+10 -> 110 | ... S25: =R25+10 -> 170
D27: =D28-C28 -> 30 | E27: =E28-D28 -> 60 | F27: =F28-E28 -> 100 | G27: =G28-F28 -> 170 | H27: =H28-G28 -> 200 | I27: =I28-H28 -> 300 | J27: =J28-I28 -> 300 | K27: =K28-J28 -> 500 | ... Q27: =Q28-P28 -> 1200
C28: 40 | D28: 70 | E28: 130 | F28: 230 | G28: 400 | H28: 600 | I28: 900 | J28: 1200 | K28: 1700 | L28: 2200 | M28: 2900 | N28: 3700 | O28: 4600 | P28: 5600 | Q28: 6800
C29: 40 | D29: =C29+D30 -> 70 | E29: =D29+E30 -> 130 | F29: =E29+F30 -> 230 | G29: =F29+G30 -> 380 | H29: =G29+H30 -> 590 | I29: =H29+I30 -> 870 | J29: =I29+J30 -> 1230 | K29: =J29+K30 -> 1680 | ... S29: =R29+S30 -> 9720
D30: 30 | E30: =D30+E31 -> 60 | F30: =E30+F31 -> 100 | G30: =F30+G31 -> 150 | H30: =G30+H31 -> 210 | I30: =H30+I31 -> 280 | J30: =I30+J31 -> 360 | K30: =J30+K31 -> 450 | L30: =K30+L31 -> 550 | ... S30: =R30+S31 -> 1530
E31: 30 | F31: =E31+10 -> 40 | G31: =F31+10 -> 50 | H31: =G31+10 -> 60 | I31: =H31+10 -> 70 | J31: =I31+10 -> 80 | K31: =J31+10 -> 90 | L31: =K31+10 -> 100 | M31: =L31+10 -> 110 | ... S31: =R31+10 -> 170
D33: =D34-C34 -> 30 | E33: =E34-D34 -> 50 | F33: =F34-E34 -> 80 | G33: =G34-F34 -> 130 | H33: =H34-G34 -> 240 | I33: =I34-H34 -> 400 | J33: =J34-I34 -> 630 | K33: =K34-J34 -> 1200 | ... M33: =M34-L34 -> 3300
C34: 40 | D34: 70 | E34: 120 | F34: 200 | G34: 330 | H34: 570 | I34: 970 | J34: 1600 | K34: 2800 | L34: 4700 | M34: 8000
C35: 40 | D35: =C35+(C35*70%) -> 68 | E35: =D35+(D35*70%) -> 115.6 | F35: =E35+(E35*70%) -> 196.52 | G35: =F35+(F35*70%) -> 334.084 | H35: =G35+(G35*70%) -> 567.9428 | I35: =H35+(H35*70%) -> 965.50276 | J35: =I35+(I35*70%) -> 1641.3547 | K35: =J35+(J35*70%) -> 2790.303 | ... M35: =L35+(L35*70%) -> 8063.9756
D37: =D38-C38 -> 20 | E37: =E38-D38 -> 40 | F37: =F38-E38 -> 60 | G37: =G38-F38 -> 100 | H37: =H38-G38 -> 180 | I37: =I38-H38 -> 290 | J37: =J38-I38 -> 480 | K37: =K38-J38 -> 900 | ... M37: =M38-L38 -> 2400
C38: 30 | D38: 50 | E38: 90 | F38: 150 | G38: 250 | H38: 430 | I38: 720 | J38: 1200 | K38: 2100 | L38: 3600 | M38: 6000
C39: 30 | D39: =C39+(C39*70%) -> 51 | E39: =D39+(D39*70%) -> 86.7 | F39: =E39+(E39*70%) -> 147.39 | G39: =F39+(F39*70%) -> 250.563 | H39: =G39+(G39*70%) -> 425.9571 | I39: =H39+(H39*70%) -> 724.12707 | J39: =I39+(I39*70%) -> 1231.016 | K39: =J39+(J39*70%) -> 2092.7272 | ... M39: =L39+(L39*70%) -> 6047.9817
D41: =D42-C42 -> 20 | E41: =E42-D42 -> 40 | F41: =F42-E42 -> 70 | G41: =G42-F42 -> 120 | H41: =H42-G42 -> 210 | I41: =I42-H42 -> 370 | J41: =J42-I42 -> 640 | K41: =K42-J42 -> 1140 | ... M41: =M42-L42 -> 3460
C42: 30 | D42: 50 | E42: 90 | F42: 160 | G42: 280 | H42: 490 | I42: 860 | J42: 1500 | K42: 2640 | L42: 4620 | M42: 8080
C43: 30 | D43: =C43+(C43*75%) -> 52.5 | E43: =D43+(D43*75%) -> 91.875 | F43: =E43+(E43*75%) -> 160.78125 | G43: =F43+(F43*75%) -> 281.36719 | H43: =G43+(G43*75%) -> 492.39258 | I43: =H43+(H43*75%) -> 861.68701 | J43: =I43+(I43*75%) -> 1507.9523 | K43: =J43+(J43*75%) -> 2638.9165 | ... M43: =L43+(L43*75%) -> 8081.6817

Sheet S05 Chaussette TC
B1: S05 Chaussette TC | E1: Joueurs
B3: =VLOOKUP(B1,Tournois!B3:G6,6,FALSE) -> 1300 | C3: =B3 -> 1300 | D3: Vainqueur | E3: Pi Ma
B4: =ROUND(B3*0.6,IF((B3*0.6)>100,-1,0)) -> 780 | C4: =B4 -> 780 | D4: Finaliste | E4: Qu SE
A5: =ROUND(VLOOKUP(D5,'Barême montant'!$A$2:$B$21,2,FALSE)*IF(D5=D6,1.1,1)*IF(D5=D4,0.9,1),IF(A6>90,-1,0)) -> 460 | B5: =ROUND(B4*0.6,IF((B4*0.6)>100,-1,0)) -> 470 | C5: =B5 -> 470 | D5: 5/6 | E5: Fr Ti | F5: Ke Vi
A6: =ROUND(VLOOKUP(D6,'Barême montant'!$A$2:$B$21,2,FALSE)*IF(D6=D7,1.1,1)*IF(D6=D5,0.9,1),IF(A7>90,-1,0)) -> 280 | B6: =ROUND(B5*0.6,IF((B5*0.6)>100,-1,0)) -> 280 | C6: =B6 -> 280 | D6: 15 | E6: Ga Na | F6: Th Pa | G6: Da Vi
A7: =ROUND(VLOOKUP(D7,'Barême montant'!$A$2:$B$21,2,FALSE)*IF(D7=D8,1.1,1)*IF(D7=D6,0.9,1),IF(A8>90,-1,0)) -> 190 | B7: =ROUND(B6*0.6,IF((B6*0.6)>100,-1,0)) -> 170 | C7: =A7 -> 190 | D7: 15/1 | E7: Ch Du | F7: Hu Gr | G7: Ph La
A8: =ROUND(VLOOKUP(D8,'Barême montant'!$A$2:$B$21,2,FALSE)*IF(D8=D9,1.1,1)*IF(D8=D7,0.9,1),IF(A9>90,-1,0)) -> 150 | B8: =ROUND(B7*0.6,IF((B7*0.6)>100,-1,0)) -> 100 | C8: =A8 -> 150 | D8: 15/1 | E8: Vi Ra | F8: Je Du | G8: Fa Ch | H8: Se Ga | I8: Mi Lo
A9: =ROUND(VLOOKUP(D9,'Barême montant'!$A$2:$B$21,2,FALSE)*IF(D9=D10,1.1,1)*IF(D9=D8,0.9,1),IF(A10>90,-1,0)) -> 100 | B9: =ROUND(B8*0.6,IF((B8*0.6)>100,-1,0)) -> 60 | C9: =A9 -> 100 | D9: 15/2 | E9: Wi Ch | F9: Ni Da
A10: =ROUND(VLOOKUP(D10,'Barême montant'!$A$2:$B$21,2,FALSE)*IF(D10=D11,1.1,1)*IF(D10=D9,0.9,1),IF(A11>90,-1,0)) -> 60 | B10: =ROUND(B9*0.6,IF((B9*0.6)>100,-1,0)) -> 36 | C10: =A10 -> 60 | D10: 15/3 | E10: Je Ri | F10: Ro Pa | G10: Ch Be | H10: Be Bo | I10: Ro Fr | J10: Ed Da
A11: =ROUND(VLOOKUP(D11,'Barême montant'!$A$2:$B$21,2,FALSE)*IF(D11=D12,1.1,1)*IF(D11=D10,0.9,1),IF(A12>90,-1,0)) -> 36 | B11: =ROUND(B10*0.6,IF((B10*0.6)>100,-1,0)) -> 22 | C11: =A11 -> 36 | D11: 15/4 | E11: Fa Ha | F11: Th Ha | G11: Je Ma
A12: =ROUND(VLOOKUP(D12,'Barême montant'!$A$2:$B$21,2,FALSE)*IF(D12=D13,1.1,1)*IF(D12=D11,0.9,1),IF(A13>90,-1,0)) -> 23 | B12: =ROUND(B11*0.6,IF((B11*0.6)>100,-1,0)) -> 13 | C12: =A12 -> 23 | D12: 15/5 | E12: Ph Co | F12: St Pi | G12: Th Bo | H12: Lu Ma | I12: Ri Fa | J12: Al La | K12: Ch De | L12: Ni Fa
A13: =ROUND(VLOOKUP(D13,'Barême montant'!$A$2:$B$21,2,FALSE)*IF(D13=D14,1.1,1)*IF(D13=D12,0.9,1),IF(A14>90,-1,0)) -> 19 | B13: =ROUND(B12*0.6,IF((B12*0.6)>100,-1,0)) -> 8 | C13: =A13 -> 19 | D13: 15/5 | E13: Ni So | F13: Ri Ne | G13: Je De | H13: Yo Ga | I13: Pi Po | J13: St Cr
A14: =ROUND(VLOOKUP(D14,'Barême montant'!$A$2:$B$21,2,FALSE)*IF(D14=D15,1.1,1)*IF(D14=D13,0.9,1),IF(A15>90,-1,0)) -> 14 | B14: =ROUND(B13*0.6,IF((B13*0.6)>100,-1,0)) -> 5 | C14: =A14 -> 14 | D14: 30 | E14: St Ma | F14: Pa De | G14: St Pr | H14: Je Lz | I14: Ch Be | J14: Fa Pa | K14: Pi Fr | L14: Ro Bo | M14: Ch Be | N14: Ol Ha | O14: Em Pa
A15: =ROUND(VLOOKUP(D15,'Barême montant'!$A$2:$B$21,2,FALSE)*IF(D15=D16,1.1,1)*IF(D15=D14,0.9,1),IF(A16>90,-1,0)) -> 12 | B15: =ROUND(B14*0.6,IF((B14*0.6)>100,-1,0)) -> 3 | C15: =A15 -> 12 | D15: 30 | E15: Pi Do | F15: Ph La | G15: Pi Re | H15: Ax Co | I15: Sc Ne
A16: =ROUND(VLOOKUP(D16,'Barême montant'!$A$2:$B$21,2,FALSE)*IF(D16=D17,1.1,1)*IF(D16=D15,0.9,1),IF(A17>90,-1,0)) -> 9 | B16: =ROUND(B15*0.6,IF((B15*0.6)>100,-1,0)) -> 2 | C16: =A16 -> 9 | D16: 30/1 | E16: Ce Mo | F16: Ch Vi | G16: Je Vi | H16: Ma Ha | I16: Pa Bo | J16: Vi Pa | K16: Hu Bo | L16: La De | M16: Th De
A17: =ROUND(VLOOKUP(D17,'Barême montant'!$A$2:$B$21,2,FALSE)*IF(D17=D18,1.1,1)*IF(D17=D16,0.9,1),IF(A18>90,-1,0)) -> 7 | B17: =ROUND(B16*0.6,IF((B16*0.6)>100,-1,0)) -> 1 | C17: =A17 -> 7 | D17: 30/1 | E17: Cl De
A18: =ROUND(VLOOKUP(D18,'Barême montant'!$A$2:$B$21,2,FALSE)*IF(D18=D19,1.1,1)*IF(D18=D17,0.9,1),IF(A19>90,-1,0)) -> 6 | B18: =ROUND(B17*0.6,IF((B17*0.6)>100,-1,0)) -> 1 | C18: =A18 -> 6 | D18: 30/2 | E18: Re He | F18: Th Sc | G18: Ph Bo | H18: Mi Po
A19: =ROUND(VLOOKUP(D19,'Barême montant'!$A$2:$B$21,2,FALSE)*IF(D19=D20,1.1,1)*IF(D19=D18,0.9,1),IF(A20>90,-1,0)) -> 5 | B19: =ROUND(B18*0.6,IF((B18*0.6)>100,-1,0)) -> 1 | C19: =A19 -> 5 | D19: 30/2 | E19: Je Je
A20: =ROUND(VLOOKUP(D20,'Barême montant'!$A$2:$B$21,2,FALSE)*IF(D20=D21,1.1,1)*IF(D20=D19,0.9,1),IF(A21>90,-1,0)) -> 3 | B20: =ROUND(B19*0.6,IF((B19*0.6)>100,-1,0)) -> 1 | C20: =A20 -> 3 | D20: 30/3 | E20: Fr Be | F20: Je Ro | G20: Je Fa | H20: Je Po
A21: =ROUND(VLOOKUP(D21,'Barême montant'!$A$2:$B$21,2,FALSE)*IF(D21=D22,1.1,1)*IF(D21=D20,0.9,1),IF(A22>90,-1,0)) -> 2 | B21: =ROUND(B20*0.6,IF((B20*0.6)>100,-1,0)) -> 1 | C21: =A21 -> 2 | D21: 30/4 | E21: Se Le
A22: =ROUND(VLOOKUP(D22,'Barême montant'!$A$2:$B$21,2,FALSE)*IF(D22=D23,1.1,1)*IF(D22=D21,0.9,1),IF(A23>90,-1,0)) -> 1 | B22: =ROUND(B21*0.6,IF((B21*0.6)>100,-1,0)) -> 1 | C22: =A22 -> 1 | D22: 30/5 | E22: An Co | F22: En Go | G22: Re Bo | H22: Fr Go
A24: Barême montant | B24: Barême descendant | C24: Barême final

Sheet S50 Cagouille TC
B1: S50 Cagouille TC | E1: Joueurs
B3: =VLOOKUP(B1,Tournois!B3:G6,6,FALSE) -> 800 | C3: =B3 -> 800 | D3: Vainqueur | E3: Ch Me
B4: =ROUND(B3*0.6,IF((B3*0.6)>100,-1,0)) -> 480 | C4: =B4 -> 480 | D4: Finaliste | E4: Fr Le
B5: =ROUND(B4*0.6,IF((B4*0.6)>100,-1,0)) -> 290 | C5: =B5 -> 290 | D5: 1/2 finaliste | E5: Je Mo | F5: Ad Gi
A6: =ROUND(VLOOKUP(D6,'Barême montant'!$A$2:$B$21,2,FALSE)*IF(D6=D7,1.1,1)*IF(D6=D5,0.9,1),IF(A7>90,-1,0)) -> 170 | B6: =ROUND(B5*0.6,IF((B5*0.6)>100,-1,0)) -> 170 | C6: =B6 -> 170 | D6: 15/1 | E6: Pi Ve | F6: Th Do | G6: Be Fo | H6: Hu Gr
A7: =ROUND(VLOOKUP(D7,'Barême montant'!$A$2:$B$21,2,FALSE)*IF(D7=D8,1.1,1)*IF(D7=D6,0.9,1),IF(A8>90,-1,0)) -> 100 | B7: =ROUND(B6*0.6,IF((B6*0.6)>100,-1,0)) -> 100 | C7: =A7 -> 100 | D7: 15/2 | E7: Se Go | F7: Ju Re
A8: =ROUND(VLOOKUP(D8,'Barême montant'!$A$2:$B$21,2,FALSE)*IF(D8=D9,1.1,1)*IF(D8=D7,0.9,1),IF(A9>90,-1,0)) -> 60 | B8: =ROUND(B7*0.6,IF((B7*0.6)>100,-1,0)) -> 60 | C8: =A8 -> 60 | D8: 15/3 | E8: Be Fo | F8: Hu Jo | G8: Qu Co | H8: Fr Ma
A9: =ROUND(VLOOKUP(D9,'Barême montant'!$A$2:$B$21,2,FALSE)*IF(D9=D10,1.1,1)*IF(D9=D8,0.9,1),IF(A10>90,-1,0)) -> 36 | B9: =ROUND(B8*0.6,IF((B8*0.6)>100,-1,0)) -> 36 | C9: =A9 -> 36 | D9: 15/4 | E9: Al Du | F9: Ge De | G9: Wi Im
A10: =ROUND(VLOOKUP(D10,'Barême montant'!$A$2:$B$21,2,FALSE)*IF(D10=D11,1.1,1)*IF(D10=D9,0.9,1),IF(A11>90,-1,0)) -> 21 | B10: =ROUND(B9*0.6,IF((B9*0.6)>100,-1,0)) -> 22 | C10: =A10 -> 21 | D10: 15/5 | E10: Ma Ai | F10: Je Ar | G10: Fr Be | H10: Je Be
A11: =ROUND(VLOOKUP(D11,'Barême montant'!$A$2:$B$21,2,FALSE)*IF(D11=D12,1.1,1)*IF(D11=D10,0.9,1),IF(A12>90,-1,0)) -> 13 | B11: =ROUND(B10*0.6,IF((B10*0.6)>100,-1,0)) -> 13 | C11: =A11 -> 13 | D11: 30 | E11: Je Tr | F11: Pa Sa | G11: Lo Ag
A12: =ROUND(VLOOKUP(D12,'Barême montant'!$A$2:$B$21,2,FALSE)*IF(D12=D13,1.1,1)*IF(D12=D11,0.9,1),IF(A13>90,-1,0)) -> 9 | B12: =ROUND(B11*0.6,IF((B11*0.6)>100,-1,0)) -> 8 | C12: =A12 -> 9 | D12: 30/1 | E12: Je Gu | F12: La Ag | G12: Be Ma | H12: Da Ru
A13: =ROUND(VLOOKUP(D13,'Barême montant'!$A$2:$B$21,2,FALSE)*IF(D13=D14,1.1,1)*IF(D13=D12,0.9,1),IF(A14>90,-1,0)) -> 7 | B13: =ROUND(B12*0.6,IF((B12*0.6)>100,-1,0)) -> 5 | C13: =A13 -> 7 | D13: 30/1 | E13: Th Vi | F13: Ol Te | G13: Ke Go
A14: =ROUND(VLOOKUP(D14,'Barême montant'!$A$2:$B$21,2,FALSE)*IF(D14=D15,1.1,1)*IF(D14=D13,0.9,1),IF(A15>90,-1,0)) -> 5 | B14: =ROUND(B13*0.6,IF((B13*0.6)>100,-1,0)) -> 3 | C14: =A14 -> 5 | D14: 30/2 | E14: Be Bo | F14: Je Li | G14: Fr Be | H14: St Jo
A15: =ROUND(VLOOKUP(D15,'Barême montant'!$A$2:$B$21,2,FALSE)*IF(D15=D16,1.1,1)*IF(D15=D14,0.9,1),IF(A16>90,-1,0)) -> 3 | B15: =ROUND(B14*0.6,IF((B14*0.6)>100,-1,0)) -> 2 | C15: =A15 -> 3 | D15: 30/3 | E15: Ce La | F15: Ce Bo | G15: Je Fr
A16: =ROUND(VLOOKUP(D16,'Barême montant'!$A$2:$B$21,2,FALSE)*IF(D16=D17,1.1,1)*IF(D16=D15,0.9,1),IF(A17>90,-1,0)) -> 2 | B16: =ROUND(B15*0.6,IF((B15*0.6)>100,-1,0)) -> 1 | C16: =A16 -> 2 | D16: 30/4 | E16: Dy Ch | F16: Ph Da | G16: Be Ch | H16: Ro Ch
A17: =ROUND(VLOOKUP(D17,'Barême montant'!$A$2:$B$21,2,FALSE)*IF(D17=D18,1.1,1)*IF(D17=D16,0.9,1),IF(A18>90,-1,0)) -> 1 | B17: =ROUND(B16*0.6,IF((B16*0.6)>100,-1,0)) -> 1 | C17: =A17 -> 1 | D17: 30/5 | E17: Cl Ar | F17: Al Ge | G17: Be Be
A19: Barême montant | B19: Barême descendant | C19: Barême final

Sheet S44 Pantoufle TC
B1: S44 Pantoufle TC | E1: Joueurs
B3: =VLOOKUP(B1,Tournois!B3:G6,6,FALSE) -> 80 | C3: =B3 -> 80 | D3: Vainqueur | E3: Pa Ba
B4: =ROUND(B3*0.6,IF((B3*0.6)>100,-1,0)) -> 48 | C4: =B4 -> 48 | D4: Finaliste | E4: Re Na
B5: =ROUND(B4*0.6,IF((B4*0.6)>100,-1,0)) -> 29 | C5: =B5 -> 29 | D5: 1/2 finaliste | E5: Cy Vi | F5: Se Vi
A6: =ROUND(VLOOKUP(D6,'Barême montant'!$A$2:$B$21,2,FALSE)*IF(D6=D7,1.1,1)*IF(D6=D5,0.9,1),IF(A7>90,-1,0)) -> 14 | B6: =ROUND(B5*0.6,IF((B5*0.6)>100,-1,0)) -> 17 | C6: =B6 -> 17 | D6: 30 | E6: Ni Ga | F6: Ol Tr | G6: Th Po | H6: Ar Gi
A7: =ROUND(VLOOKUP(D7,'Barême montant'!$A$2:$B$21,2,FALSE)*IF(D7=D8,1.1,1)*IF(D7=D6,0.9,1),IF(A8>90,-1,0)) -> 12 | B7: =ROUND(B6*0.6,IF((B6*0.6)>100,-1,0)) -> 10 | C7: =A7 -> 12 | D7: 30 | E7: Si Gu | F7: Ma Je
A8: =ROUND(VLOOKUP(D8,'Barême montant'!$A$2:$B$21,2,FALSE)*IF(D8=D9,1.1,1)*IF(D8=D7,0.9,1),IF(A9>90,-1,0)) -> 8 | B8: =ROUND(B7*0.6,IF((B7*0.6)>100,-1,0)) -> 6 | C8: =A8 -> 8 | D8: 30/1 | E8: Va La | F8: Pa Fr | G8: Je Br | H8: Jo Je | I8: La Go
A9: =ROUND(VLOOKUP(D9,'Barême montant'!$A$2:$B$21,2,FALSE)*IF(D9=D10,1.1,1)*IF(D9=D8,0.9,1),IF(A10>90,-1,0)) -> 5 | B9: =ROUND(B8*0.6,IF((B8*0.6)>100,-1,0)) -> 4 | C9: =A9 -> 5 | D9: 30/2 | E9: Th Na | F9: Pa Ba | G9: Gr Ro | H9: Mi Vi
A10: =ROUND(VLOOKUP(D10,'Barême montant'!$A$2:$B$21,2,FALSE)*IF(D10=D11,1.1,1)*IF(D10=D9,0.9,1),IF(A11>90,-1,0)) -> 3 | B10: =ROUND(B9*0.6,IF((B9*0.6)>100,-1,0)) -> 2 | C10: =A10 -> 3 | D10: 30/3 | E10: To La | F10: An Ta | G10: Th Ma | H10: Ni Ra
A11: =ROUND(VLOOKUP(D11,'Barême montant'!$A$2:$B$21,2,FALSE)*IF(D11=D12,1.1,1)*IF(D11=D10,0.9,1),IF(A12>90,-1,0)) -> 2 | B11: =ROUND(B10*0.6,IF((B10*0.6)>100,-1,0)) -> 1 | C11: =A11 -> 2 | D11: 30/4 | E11: Lu Be | F11: Yo Go | G11: Ax Or | H11: Ch Na
A12: =ROUND(VLOOKUP(D12,'Barême montant'!$A$2:$B$21,2,FALSE)*IF(D12=D13,1.1,1)*IF(D12=D11,0.9,1),IF(A13>90,-1,0)) -> 1 | B12: =ROUND(B11*0.6,IF((B11*0.6)>100,-1,0)) -> 1 | C12: =A12 -> 1 | D12: 30/5 | E12: Si Co | F12: Cy Ja
A13: =ROUND(VLOOKUP(D13,'Barême montant'!$A$2:$B$21,2,FALSE)*IF(D13=D14,1.1,1)*IF(D13=D12,0.9,1),IF(A14>90,-1,0)) -> 1 | B13: =ROUND(B12*0.6,IF((B12*0.6)>100,-1,0)) -> 1 | C13: =A13 -> 1 | D13: NC | E13: Vi He
A15: Barême montant | B15: Barême descendant | C15: Barême final

Sheet S44 Raclette TC
B1: S44 Raclette TC | E1: Joueurs
B3: =VLOOKUP(B1,Tournois!B3:G6,6,FALSE) -> 2000 | C3: =B3 -> 2000 | D3: Vainqueur | E3: Ni Pa
B4: =ROUND(B3*0.6,IF((B3*0.6)>100,-1,0)) -> 1200 | C4: =B4 -> 1200 | D4: Finaliste | E4: Xa Ga
B5: =ROUND(B4*0.6,IF((B4*0.6)>100,-1,0)) -> 720 | C5: =B5 -> 720 | D5: 2/6 | E5: Ma Ja | F5: Pi Ga
A6: =ROUND(VLOOKUP(D6,'Barême montant'!$A$2:$B$21,2,FALSE)*IF(D6=D7,1.1,1)*IF(D6=D5,0.9,1),IF(A7>90,-1,0)) -> 770 | B6: =ROUND(B5*0.6,IF((B5*0.6)>100,-1,0)) -> 430 | C6: =B6 -> 430 | D6: 4/6 | E6: Gu Vo | F6: Ro Su | G6: Se Au
A7: =ROUND(VLOOKUP(D7,'Barême montant'!$A$2:$B$21,2,FALSE)*IF(D7=D8,1.1,1)*IF(D7=D6,0.9,1),IF(A8>90,-1,0)) -> 460 | B7: =ROUND(B6*0.6,IF((B6*0.6)>100,-1,0)) -> 260 | C7: =B7 -> 260 | D7: 5/6 | E7: Je Mo | F7: Al Dh | G7: Ga Na
A8: =ROUND(VLOOKUP(D8,'Barême montant'!$A$2:$B$21,2,FALSE)*IF(D8=D9,1.1,1)*IF(D8=D7,0.9,1),IF(A9>90,-1,0)) -> 170 | B8: =ROUND(B7*0.6,IF((B7*0.6)>100,-1,0)) -> 160 | C8: =B8 -> 160 | D8: 15/1 | E8: Fr Ga | F8: Al Ma | G8: Pa Gi | H8: Da Pe
A9: =ROUND(VLOOKUP(D9,'Barême montant'!$A$2:$B$21,2,FALSE)*IF(D9=D10,1.1,1)*IF(D9=D8,0.9,1),IF(A10>90,-1,0)) -> 100 | B9: =ROUND(B8*0.6,IF((B8*0.6)>100,-1,0)) -> 96 | C9: =A9 -> 100 | D9: 15/2 | E9: Be De
A10: =ROUND(VLOOKUP(D10,'Barême montant'!$A$2:$B$21,2,FALSE)*IF(D10=D11,1.1,1)*IF(D10=D9,0.9,1),IF(A11>90,-1,0)) -> 36 | B10: =ROUND(B9*0.6,IF((B9*0.6)>100,-1,0)) -> 58 | C10: =A10 -> 36 | D10: 15/4 | E10: Je Ro | F10: Je Si | G10: Lu Ma | H10: Ro Pa
A11: =ROUND(VLOOKUP(D11,'Barême montant'!$A$2:$B$21,2,FALSE)*IF(D11=D12,1.1,1)*IF(D11=D10,0.9,1),IF(A12>90,-1,0)) -> 23 | B11: =ROUND(B10*0.6,IF((B10*0.6)>100,-1,0)) -> 35 | C11: =A11 -> 23 | D11: 15/5 | E11: An Ja | F11: Xa Le | G11: Ni Do | H11: Al Fu
A12: =ROUND(VLOOKUP(D12,'Barême montant'!$A$2:$B$21,2,FALSE)*IF(D12=D13,1.1,1)*IF(D12=D11,0.9,1),IF(A13>90,-1,0)) -> 19 | B12: =ROUND(B11*0.6,IF((B11*0.6)>100,-1,0)) -> 21 | C12: =A12 -> 19 | D12: 15/5 | E12: Gu Ra | F12: Se Pr | G12: Ph La
A13: =ROUND(VLOOKUP(D13,'Barême montant'!$A$2:$B$21,2,FALSE)*IF(D13=D14,1.1,1)*IF(D13=D12,0.9,1),IF(A14>90,-1,0)) -> 14 | B13: =ROUND(B12*0.6,IF((B12*0.6)>100,-1,0)) -> 13 | C13: =A13 -> 14 | D13: 30 | E13: Ax Or | F13: Je Bo | G13: Th Do | H13: Ju Ge
A14: =ROUND(VLOOKUP(D14,'Barême montant'!$A$2:$B$21,2,FALSE)*IF(D14=D15,1.1,1)*IF(D14=D13,0.9,1),IF(A15>90,-1,0)) -> 12 | B14: =ROUND(B13*0.6,IF((B13*0.6)>100,-1,0)) -> 8 | C14: =A14 -> 12 | D14: 30 | E14: Ro Vi | F14: Yo Ra | G14: Cy Vi | H14: Ce Jo | I14: Er Th
A15: =ROUND(VLOOKUP(D15,'Barême montant'!$A$2:$B$21,2,FALSE)*IF(D15=D16,1.1,1)*IF(D15=D14,0.9,1),IF(A16>90,-1,0)) -> 9 | B15: =ROUND(B14*0.6,IF((B14*0.6)>100,-1,0)) -> 5 | C15: =A15 -> 9 | D15: 30/1 | E15: Na Th | F15: Ma Pa | G15: Fr Ge | H15: An La
A16: =ROUND(VLOOKUP(D16,'Barême montant'!$A$2:$B$21,2,FALSE)*IF(D16=D17,1.1,1)*IF(D16=D15,0.9,1),IF(A17>90,-1,0)) -> 7 | B16: =ROUND(B15*0.6,IF((B15*0.6)>100,-1,0)) -> 3 | C16: =A16 -> 7 | D16: 30/1 | E16: Er Bi | F16: Pa Th | G16: Th Po | H16: Pa Be
A17: =ROUND(VLOOKUP(D17,'Barême montant'!$A$2:$B$21,2,FALSE)*IF(D17=D18,1.1,1)*IF(D17=D16,0.9,1),IF(A18>90,-1,0)) -> 6 | B17: =ROUND(B16*0.6,IF((B16*0.6)>100,-1,0)) -> 2 | C17: =A17 -> 6 | D17: 30/2 | E17: Ch Ga | F17: La Gu | G17: Ch Mo | H17: Gu Ge
A18: =ROUND(VLOOKUP(D18,'Barême montant'!$A$2:$B$21,2,FALSE)*IF(D18=D19,1.1,1)*IF(D18=D17,0.9,1),IF(A19>90,-1,0)) -> 5 | B18: =ROUND(B17*0.6,IF((B17*0.6)>100,-1,0)) -> 1 | C18: =A18 -> 5 | D18: 30/2 | E18: Jo Hu | F18: Gu Th | G18: Ba Pe | H18: Al Za | I18: Ch Ro
A19: =ROUND(VLOOKUP(D19,'Barême montant'!$A$2:$B$21,2,FALSE)*IF(D19=D20,1.1,1)*IF(D19=D18,0.9,1),IF(A20>90,-1,0)) -> 3 | B19: =ROUND(B18*0.6,IF((B18*0.6)>100,-1,0)) -> 1 | C19: =A19 -> 3 | D19: 30/3 | E19: Lo Me | F19: Pa Th | G19: An Ai | H19: An Hi
A20: =ROUND(VLOOKUP(D20,'Barême montant'!$A$2:$B$21,2,FALSE)*IF(D20=D21,1.1,1)*IF(D20=D19,0.9,1),IF(A21>90,-1,0)) -> 2 | B20: =ROUND(B19*0.6,IF((B19*0.6)>100,-1,0)) -> 1 | C20: =A20 -> 2 | D20: 30/4 | E20: Th Pe | F20: Ni Ra | G20: Ji Re | H20: Hu He
A21: =ROUND(VLOOKUP(D21,'Barême montant'!$A$2:$B$21,2,FALSE)*IF(D21=D22,1.1,1)*IF(D21=D20,0.9,1),IF(A22>90,-1,0)) -> 1 | B21: =ROUND(B20*0.6,IF((B20*0.6)>100,-1,0)) -> 1 | C21: =A21 -> 1 | D21: 30/5 | E21: To Gu | F21: Cy Ja | G21: Se Ma | H21: Hu Bi
A22: =ROUND(VLOOKUP(D22,'Barême montant'!$A$2:$B$21,2,FALSE)*IF(D22=D23,1.1,1)*IF(D22=D21,0.9,1),IF(A23>90,-1,0)) -> 1 | B22: =ROUND(B21*0.6,IF((B21*0.6)>100,-1,0)) -> 1 | C22: =A22 -> 1 | D22: NC | E22: Ro Ve | F22: Ar Du
A24: Barême montant | B24: Barême descendant | C24: Barême final

Sheet Barême montant
A1: CLASSEMENTS | B1: BAREME | C1: OBJECTIF | D1: ECCART
A2: 0 | B2: 5910 | C2: =C3*5/3 -> 5907.8403 | D2: =C2/C3 -> 1.6666667
A3: 1/6 | B3: 3550 | C3: =C4*5/3 -> 3544.7042 | D3: =C3/C4 -> 1.6666667
A4: 2/6 | B4: 2130 | C4: =C5*5/3 -> 2126.8225 | D4: =C4/C5 -> 1.6666667
A5: 3/6 | B5: 1270 | C5: =C6*5/3 -> 1276.0935 | D5: =C5/C6 -> 1.6666667
A6: 4/6 | B6: 770 | C6: =C7*5/3 -> 765.6561 | D6: =C6/C7 -> 1.6666667
A7: 5/6 | B7: 460 | C7: =C8*5/3 -> 459.39366 | D7: =C7/C8 -> 1.6666667
A8: 15 | B8: 280 | C8: =C9*5/3 -> 275.63619 | D8: =C8/C9 -> 1.6666667
A9: 15/1 | B9: 170 | C9: =C10*5/3 -> 165.38172 | D9: =C9/C10 -> 1.6666667
A10: 15/2 | B10: 100 | C10: =C11*5/3 -> 99.22903 | D10: =C10/C11 -> 1.6666667
A11: 15/3 | B11: 60 | C11: =C12*5/3 -> 59.537418 | D11: =C11/C12 -> 1.6666667
A12: 15/4 | B12: 36 | C12: =C13*5/3 -> 35.722451 | D12: =C12/C13 -> 1.6666667
A13: 15/5 | B13: 21 | C13: =C14*5/3 -> 21.433471 | D13: =C13/C14 -> 1.6666667
... A18: 30/4 | B18: 2 | C18: =C19*5/3 -> 1.6666667 | D18: =C18/C19 -> 1.6666667
A19: 30/5 | B19: 1 | C19: 1 | D19: =C19/C20 -> 1
A20: 40 | B20: 1 | C20: 1 | D20: =C20/C21 -> 1
A21: NC | B21: 1 | C21: 1 | D21: 1
