Workbook

Sheet DEBITS MATTERIEL ORSA
B1: CLOISON BOIS
D2: A PREPARER | E2: PIECES | F2: Nbr Sec | G2: COMMENTAIRES | H2: Mètre Linéaire | I2: =H3+H4+H5+H6+H7+H8+H9+H10+H11+H12 -> 0
A3: CLOISON BOIS Ht.1m x La. 3m | B3: 1 | C3: 3 | D3: =ROUND(((F3*10)/100)+F3,0) -> 0 | E3: pièces | F3: 0 | G3: R.A.S | H3: =F3*C3 -> 0
A4: CLOISON BOIS Ht.1m x La. 2,5m | B4: 1 | C4: 2.5 | D4: =ROUND(((F4*10)/100)+F4,0) -> 0 | E4: pièces | F4: 0 | G4: R.A.S | H4: =F4*C4 -> 0
A5: CLOISON BOIS Ht.2,5m x La.0,5m | B5: 2.5 | C5: 0.5 | D5: =ROUND(((F5*10)/100)+F5,0) -> 0 | E5: pièces | F5: 0 | G5: R.A.S | H5: =F5*C5 -> 0
A6: CLOISON BOIS Ht.2,5m x La. 1,5m | B6: 2.5 | C6: 1 | D6: =ROUND(((F6*10)/100)+F6,0) -> 0 | E6: pièces | F6: 0 | G6: R.A.S | H6: =F6*C6 -> 0
B7: 2.5 | C7: 1.5 | D7: =ROUND(((F7*10)/100)+F7,0) -> 0 | E7: pièces | F7: 0 | G7: R.A.S | H7: =F7*C7 -> 0
B8: 2.5 | C8: 2 | D8: =ROUND(((F8*10)/100)+F8,0) -> 0 | E8: pièces | F8: 0 | G8: R.A.S | H8: =F8*C8 -> 0 | I8: TOTAL M.L =
B9: 2.5 | C9: 3 | D9: =ROUND(((F9*10)/100)+F9,0) -> 0 | E9: pièces | F9: 0 | G9: R.A.S | H9: =F9*C9 -> 0
B10: 3 | C10: 0.5 | D10: =ROUND(((F10*10)/100)+F10,0) -> 0 | E10: pièces | F10: 0 | G10: R.A.S | H10: =F10*C10 -> 0
B11: 3 | C11: 1 | D11: =ROUND(((F11*10)/100)+F11,0) -> 0 | E11: pièces | F11: 0 | G11: R.A.S | H11: =F11*C11 -> 0
B12: 3 | C12: 2.5 | D12: =ROUND(((F12*10)/100)+F12,0) -> 0 | E12: pièces | F12: 0 | G12: R.A.S | H12: =F12*C12 -> 0
B13: CLOISON MELA
B14: H | C14: L | D14: A PREPARER | F14: Nbr Sec | G14: COULEURS | H14: Mètre Linéaire | I14: =H15+H16+H18+H19+H21+H22+H24+H25+H27+H28+H30+H31 -> 1100.5
B15: 0.25 | C15: 0.5 | D15: =ROUND(((F15*10)/100)+F15,0) -> 22 | E15: pièces | F15: 20 | H15: =F15*C15 -> 10
B16: 0.25 | C16: 1 | D16: =ROUND(((F16*10)/100)+F16,0) -> 206 | E16: pièces | F16: 187 | H16: =F16*C16 -> 187
B17: H | C17: L | D17: A PREPARER | F17: Nbr Sec | G17: COULEURS | H17: Mètre Linéaire
B18: 0.5 | C18: 0.5 | D18: =ROUND(((F18*10)/100)+F18,0) -> 20 | E18: pièces | F18: 18 | H18: =F18*C18 -> 9
B19: 0.5 | C19: 1 | D19: =ROUND(((F19*10)/100)+F19,0) -> 1 | E19: pièces | F19: 1 | H19: =F19*C19 -> 1
B20: H | C20: L | D20: A PREPARER | F20: Nbr Sec | G20: COULEURS | H20: Mètre Linéaire
B21: 1.1 | C21: 0.5 | D21: =ROUND(((F21*10)/100)+F21,0) -> 20 | E21: pièces | F21: 18 | H21: =F21*C21 -> 9
B22: 1.1 | C22: 1 | D22: =ROUND(((F22*10)/100)+F22,0) -> 1 | E22: pièces | F22: 1 | H22: =F22*C22 -> 1
B23: H | C23: L | D23: A PREPARER | F23: Nbr Sec | G23: COULEURS | H23: Mètre Linéaire | I23: TOTAL M.L =
B24: 1.5 | C24: 0.5 | D24: =ROUND(((F24*10)/100)+F24,0) -> 206 | E24: pièces | F24: 187 | H24: =F24*C24 -> 93.5
B25: 1.5 | C25: 1 | D25: =ROUND(((F25*10)/100)+F25,0) -> 221 | E25: pièces | F25: 201 | H25: =F25*C25 -> 201
B26: H | C26: L | D26: A PREPARER | F26: Nbr Sec | G26: COULEURS | H26: Mètre Linéaire
B27: 2 | C27: 0.5 | D27: =ROUND(((F27*10)/100)+F27,0) -> 206 | E27: pièces | F27: 187 | H27: =F27*C27 -> 93.5
B28: 2 | C28: 1 | D28: =ROUND(((F28*10)/100)+F28,0) -> 221 | E28: pièces | F28: 201 | H28: =F28*C28 -> 201
B29: H | C29: L | D29: A PREPARER | F29: Nbr Sec | G29: COULEURS | H29: Mètre Linéaire
B30: 2.5 | C30: 0.5 | D30: =ROUND(((F30*10)/100)+F30,0) -> 206 | E30: pièces | F30: 187 | H30: =F30*C30 -> 93.5
B31: 2.5 | C31: 1 | D31: =ROUND(((F31*10)/100)+F31,0) -> 221 | E31: pièces | F31: 201 | H31: =F31*C31 -> 201
B32: PORTES
B33: PORTE(S) MELA | D33: A PREPARER | F33: Nbr Sec | G33: COULEURS | H33: COMMENTAIRES
B34: PORTE GAUCHE | D34: =ROUND(((F34*10)/100)+F34,0) -> 1100 | E34: pièces | F34: 1000
B35: PORTE DROITE | D35: =ROUND(((F35*10)/100)+F35,0) -> 9 | E35: pièces | F35: 8
B36: PORTE DOUBLE | D36: =ROUND(((F36*10)/100)+F36,0) -> 1 | E36: pièces | F36: 1
B37: PORTE(S) BOIS | D37: A PREPARER | F37: Nbr Sec | G37: COULEURS | H37: COMMENTAIRES
B38: PORTE GAUCHE | D38: =ROUND(((F38*10)/100)+F38,0) -> 17 | E38: pièces | F38: 15
B39: PORTE DROITE | D39: =ROUND(((F39*10)/100)+F39,0) -> 19 | E39: pièces | F39: 17
B40: PROFILES HORIZONTAUX
B41: PH | D41: A PREPARER | F41: PH SEULS | G41: COMMENTAIRES | H41: Mètre Linéaire | I41: PH TOTAL
B42: 0.2 | D42: =ROUND(((I42*10)/100)+I42,0) -> 15 | E42: pièces | F42: 14 | I42: =F42+0 -> 14
B43: 0.447 | D43: =ROUND(((I43*10)/100)+I43,0) -> 1366 | E43: pièces | F43: 8 | I43: =F43+(F15*2)+(F18*2)+(F21*2)+(F24*2)+(F27*2)+(F30*2) -> 1242
B44: 0.652 | D44: =ROUND(((I44*10)/100)+I44,0) -> 17 | E44: pièces | F44: 15 | I44: =F44+0 -> 15
B45: 0.94 | D45: =ROUND(((I45*10)/100)+I45,0) -> 1742 | E45: pièces | F45: 0 | I45: =F45+(F16*2)+(F19*2)+(F22*2)+(F25*2)+(F28*2)+(F31*2) -> 1584
B46: 1.348 | D46: =ROUND(((I46*10)/100)+I46,0) -> 20 | E46: pièces | F46: 18 | I46: =F46+0 -> 18
B47: 1.432 | D47: =ROUND(((I47*10)/100)+I47,0) -> 284 | E47: pièces | F47: 258 | I47: =F47+0 -> 258
B48: 1.925 | D48: =ROUND(((I48*10)/100)+I48,0) -> 173 | E48: pièces | F48: 157 | I48: =F48+0 -> 157
B49: 2.045 | D49: =ROUND(((I49*10)/100)+I49,0) -> 51 | E49: pièces | F49: 46 | I49: =F49+0 -> 46
B50: 2.417 | D50: =ROUND(((I50*10)/100)+I50,0) -> 62 | E50: pièces | F50: 56 | I50: =F50+0 -> 56
B51: 2.741 | D51: =ROUND(((I51*10)/100)+I51,0) -> 719 | E51: pièces | F51: 654 | I51: =F51+0 -> 654
B52: 2.91 | D52: =ROUND(((I52*10)/100)+I52,0) -> 59 | E52: pièces | F52: 54 | I52: =F52+0 -> 54
B53: 3.895 | D53: =ROUND(((I53*10)/100)+I53,0) -> 59 | E53: pièces | F53: 54 | I53: =F53+0 -> 54
B54: 4.134 | D54: =ROUND(((I54*10)/100)+I54,0) -> 62 | E54: pièces | F54: 56 | I54: =F54+0 -> 56
B55: PH CINTRE (Rayon) | D55: A PREPARER | F55: Nbr Sec | G55: COMMENTAIRES
B56: 0.5 | D56: =ROUND(((F56*10)/100)+F56,0) -> 0 | E56: pièces | F56: 0
B57: 1 | D57: =ROUND(((F57*10)/100)+F57,0) -> 0 | E57: pièces | F57: 0
B58: 1.5 | D58: =ROUND(((F58*10)/100)+F58,0) -> 0 | E58: pièces | F58: 0
B59: PROFILES en X
B60: PX | D60: A PREPARER | G60: COMMENTAIRES
B61: PX250 | D61: =ROUND(((F61*10)/100)+F61,0) -> 0 | E61: pièces | F61: 0
B62: PX500 | D62: =ROUND(((F62*10)/100)+F62,0) -> 0 | E62: pièces | F62: 0
B63: PX700 | D63: =ROUND(((F63*10)/100)+F63,0) -> 0 | E63: pièces | F63: 0
B64: PX1100 | D64: =ROUND(((F64*10)/100)+F64,0) -> 0 | E64: pièces | F64: 0
B65: PX1500 | D65: =ROUND(((F65*10)/100)+F65,0) -> 0 | E65: pièces | F65: 0
B66: PX2000 | D66: =ROUND(((F66*10)/100)+F66,0) -> 0 | E66: pièces | F66: 0
B67: PX2500 | D67: =ROUND(((F67*10)/100)+F67,0) -> 0 | E67: pièces | F67: 0
B68: ELECTRICITE
B69: SPOTS | D69: A PREPARER | F69: COMMENTAIRES
B70: Rails 1 SPOT | C70: 0 | D70: =ROUND(((C70*10)/100)+C70,0) -> 0 | E70: pièces
B71: Rails 2 SPOTS | C71: 0 | D71: =ROUND(((C71*10)/100)+C71,0) -> 0 | E71: pièces
B72: Rails 3 SPOTS | C72: 0 | D72: =ROUND(((C72*10)/100)+C72,0) -> 0 | E72: pièces
B73: Rails 4 SPOTS | C73: 0 | D73: =ROUND(((C73*10)/100)+C73,0) -> 0 | E73: pièces
B75: Spot TIGE | C75: 0 | D75: =ROUND(((C75*10)/100)+C75,0) -> 0 | E75: pièces
B77: Gamelle 300W | C77: 0 | D77: =ROUND(((C77*10)/100)+C77,0) -> 0 | E77: pièces
B79: Coffret Electrique | C79: 0 | D79: =ROUND(((C79*10)/100)+C79,0) -> 0 | E79: pièces
B80: Ralonge | C80: 0 | D80: =ROUND(((C80*10)/100)+C80,0) -> 0 | E80: pièces
B81: Triplette | C81: 0 | D81: =ROUND(((C81*10)/100)+C81,0) -> 0 | E81: pièces
B82: PLATEAUX MELA
B83: PLATEAUX MELA DROIT | D83: A PREPARER | F83: COMMENTAIRES
B84: Plateau MELA 470*470 | C84: 0 | D84: =ROUND(((C84*10)/100)+C84,0) -> 0 | E84: pièces
B85: Plateau MELA 962 x 470 | C85: 0 | D85: =ROUND(((C85*10)/100)+C85,0) -> 0 | E85: pièces
B86: Plateau MELA 962*962 | C86: 0 | D86: =ROUND(((C86*10)/100)+C86,0) -> 0 | E86: pièces
B87: PLATEAUX MELA DROIT CIRCULAIRE
B88: Plateau _R_MELA_470*470 | C88: 0 | D88: =ROUND(((C88*10)/100)+C88,0) -> 0 | E88: pièces
B89: REMPLISSAGES
B90: PVC
B91: PVC Droit | D91: A PREPARER | F91: COMMENTAIRES
B92: PVC Ht:2500*1000 | C92: 0 | D92: =ROUND(((C92*10)/100)+C92,0) -> 0 | E92: pièces
B93: PVC Cintrés hauteur 1,10m
B94: PVC CINTRE Ht:1100*500 | C94: 0 | D94: =ROUND(((C94*10)/100)+C94,0) -> 0 | E94: pièces
B95: PVC CINTRE Ht:1100*1000 | C95: 0 | D95: =ROUND(((C95*10)/100)+C95,0) -> 0 | E95: pièces
B96: PVC CINTRE Ht:1100*1500 | C96: 0 | D96: =ROUND(((C96*10)/100)+C96,0) -> 0 | E96: pièces
B97: PVC Cintrés hauteur 2,5m
B98: PVC CINTRE Ht:2500*500 | C98: 0 | D98: =ROUND(((C98*10)/100)+C98,0) -> 0 | E98: pièces
B99: PVC CINTRE Ht:2500*1000 | C99: 0 | D99: =ROUND(((C99*10)/100)+C99,0) -> 0 | E99: pièces
B100: AKYVER
B101: Akyver Cintré hauteur 1,10m | D101: A PREPARER | F101: COMMENTAIRES
B102: Akyver CINTRE Ht:1100*500 | C102: 0 | D102: =ROUND(((C102*10)/100)+C102,0) -> 0 | E102: pièces
B103: Akyver CINTRE Ht:1100*1000 | C103: 0 | D103: =ROUND(((C103*10)/100)+C103,0) -> 0 | E103: pièces
...

Sheet MOQUETTE
A1: REF | B1: COULEUR | C1: LE | D1: M² A COMMANDER | E1: ML A COMMANDER | F1: NBR DE ROULEAUX | I1: M² SEC | J1: METRE LINEAIRE SEC
A2: 0910 | B2: BLACK | C2: 2 | D2: =ROUND(((I2*10)/100)+I2,0) -> 3491 | E2: =ROUNDUP(((J2*10)/100)+J2,0) -> 1746 | F2: =ROUNDUP(E2/40,0) -> 44 | G2: rouleau(x) de 40 Ml en Lè de 2m | I2: =J2*C2 -> 3174 | J2: 1587
A3: 0910 | B3: BLACK | C3: 3 | D3: =ROUND(((I3*10)/100)+I3,0) -> 156968 | E3: =ROUNDUP(((J3*10)/100)+J3,0) -> 52323 | F3: =ROUNDUP(E3/50,0) -> 1047 | G3: rouleau(x) de 50 Ml en Lè de 3m | I3: =J3*C3 -> 142698 | J3: 47566
A4: 0910 | B4: BLACK | C4: 4 | D4: =ROUND(((I4*10)/100)+I4,0) -> 9999 | E4: =ROUNDUP(((J4*10)/100)+J4,0) -> 2500 | F4: =ROUNDUP(E4/50,0) -> 50 | G4: rouleau(x) de 50 Ml en Lè de 4m | I4: =J4*C4 -> 9090 | J4: 2272.5
A5: 0950 | B5: WHITE | C5: 2 | D5: =ROUND(((I5*10)/100)+I5,0) -> 0 | E5: =ROUNDUP(((J5*10)/100)+J5,0) -> 0 | F5: =ROUNDUP(E5/40,0) -> 0 | G5: rouleau(x) de 40 Ml en Lè de 2m | I5: =J5*C5 -> 0 | J5: 0
A6: 0950 | B6: WHITE | C6: 4 | D6: =ROUND(((I6*10)/100)+I6,0) -> 0 | E6: =ROUNDUP(((J6*10)/100)+J6,0) -> 0 | F6: =ROUNDUP(E6/50,0) -> 0 | G6: rouleau(x) de 50 Ml en Lè de 4m | I6: =J6*C6 -> 0 | J6: 0
A7: 0831 | B7: PINE | C7: 2 | D7: =ROUND(((I7*10)/100)+I7,0) -> 0 | E7: =ROUNDUP(((J7*10)/100)+J7,0) -> 0 | F7: =ROUNDUP(E7/40,0) -> 0 | G7: rouleau(x) de 40 Ml en Lè de 2m | I7: =J7*C7 -> 0 | J7: 0
A8: 0831 | B8: PINE | C8: 3 | D8: =ROUND(((I8*10)/100)+I8,0) -> 0 | E8: =ROUNDUP(((J8*10)/100)+J8,0) -> 0 | F8: =ROUNDUP(E8/50,0) -> 0 | G8: rouleau(x) de 50 Ml en Lè de 3m | I8: =J8*C8 -> 0 | J8: 0
A9: 0831 | B9: PINE | C9: 4 | D9: =ROUND(((I9*10)/100)+I9,0) -> 0 | E9: =ROUNDUP(((J9*10)/100)+J9,0) -> 0 | F9: =ROUNDUP(E9/50,0) -> 0 | G9: rouleau(x) de 50 Ml en Lè de 4m | I9: =J9*C9 -> 0 | J9: 0
A10: 0901 | B10: LIGHT GREEN | C10: 2 | D10: =ROUND(((I10*10)/100)+I10,0) -> 0 | E10: =ROUNDUP(((J10*10)/100)+J10,0) -> 0 | F10: =ROUNDUP(E10/40,0) -> 0 | G10: rouleau(x) de 40 Ml en Lè de 2m | I10: =J10*C10 -> 0 | J10: 0
A11: 0901 | B11: LIGHT GREEN | C11: 3 | D11: =ROUND(((I11*10)/100)+I11,0) -> 0 | E11: =ROUNDUP(((J11*10)/100)+J11,0) -> 0 | F11: =ROUNDUP(E11/50,0) -> 0 | G11: rouleau(x) de 50 Ml en Lè de 3m | I11: =J11*C11 -> 0 | J11: 0
A12: 0901 | B12: LIGHT GREEN | C12: 4 | D12: =ROUND(((I12*10)/100)+I12,0) -> 0 | E12: =ROUNDUP(((J12*10)/100)+J12,0) -> 0 | F12: =ROUNDUP(E12/50,0) -> 0 | G12: rouleau(x) de 50 Ml en Lè de 4m | I12: =J12*C12 -> 0 | J12: 0
A13: 0911 | B13: DARK GREEN | C13: 2 | D13: =ROUND(((I13*10)/100)+I13,0) -> 348 | E13: =ROUNDUP(((J13*10)/100)+J13,0) -> 174 | F13: =ROUNDUP(E13/40,0) -> 5 | G13: rouleau(x) de 40 Ml en Lè de 2m | I13: =J13*C13 -> 316 | J13: 158
A14: 0911 | B14: DARK GREEN | C14: 4 | D14: =ROUND(((I14*10)/100)+I14,0) -> 0 | E14: =ROUNDUP(((J14*10)/100)+J14,0) -> 0 | F14: =ROUNDUP(E14/50,0) -> 0 | G14: rouleau(x) de 50 Ml en Lè de 4m | I14: =J14*C14 -> 0 | J14: 0
A15: 0961 | B15: HIGH GREEN | C15: 2 | D15: =ROUND(((I15*10)/100)+I15,0) -> 0 | E15: =ROUNDUP(((J15*10)/100)+J15,0) -> 0 | F15: =ROUNDUP(E15/40,0) -> 0 | G15: rouleau(x) de 40 Ml en Lè de 2m | I15: =J15*C15 -> 0 | J15: 0
A16: 0961 | B16: HIGH GREEN | C16: 4 | D16: =ROUND(((I16*10)/100)+I16,0) -> 0 | E16: =ROUNDUP(((J16*10)/100)+J16,0) -> 0 | F16: =ROUNDUP(E16/50,0) -> 0 | G16: rouleau(x) de 50 Ml en Lè de 4m | I16: =J16*C16 -> 0 | J16: 0
A17: 9631 | B17: SPRING GREEN | C17: 2 | D17: =ROUND(((I17*10)/100)+I17,0) -> 0 | E17: =ROUNDUP(((J17*10)/100)+J17,0) -> 0 | F17: =ROUNDUP(E17/40,0) -> 0 | G17: rouleau(x) de 40 Ml en Lè de 2m | I17: =J17*C17 -> 0 | J17: 0
A18: 9631 | B18: SPRING GREEN | C18: 3 | D18: =ROUND(((I18*10)/100)+I18,0) -> 0 | E18: =ROUNDUP(((J18*10)/100)+J18,0) -> 0 | F18: =ROUNDUP(E18/50,0) -> 0 | G18: rouleau(x) de 50 Ml en Lè de 3m | I18: =J18*C18 -> 0 | J18: 0
A19: 9631 | B19: SPRING GREEN | C19: 4 | D19: =ROUND(((I19*10)/100)+I19,0) -> 0 | E19: =ROUNDUP(((J19*10)/100)+J19,0) -> 0 | F19: =ROUNDUP(E19/50,0) -> 0 | G19: rouleau(x) de 50 Ml en Lè de 4m | I19: =J19*C19 -> 0 | J19: 0
A20: 9641 | B20: AUTUM GREEN | C20: 2 | D20: =ROUND(((I20*10)/100)+I20,0) -> 0 | E20: =ROUNDUP(((J20*10)/100)+J20,0) -> 0 | F20: =ROUNDUP(E20/40,0) -> 0 | G20: rouleau(x) de 40 Ml en Lè de 2m | I20: =J20*C20 -> 0 | J20: 0
A21: 9641 | B21: AUTUM GREEN | C21: 4 | D21: =ROUND(((I21*10)/100)+I21,0) -> 0 | E21: =ROUNDUP(((J21*10)/100)+J21,0) -> 0 | F21: =ROUNDUP(E21/50,0) -> 0 | G21: rouleau(x) de 50 Ml en Lè de 4m | I21: =J21*C21 -> 0 | J21: 0
A22: 9661 | B22: PISTACHIO | C22: 2 | D22: =ROUND(((I22*10)/100)+I22,0) -> 0 | E22: =ROUNDUP(((J22*10)/100)+J22,0) -> 0 | F22: =ROUNDUP(E22/40,0) -> 0 | G22: rouleau(x) de 40 Ml en Lè de 2m | I22: =J22*C22 -> 0 | J22: 0
A23: 9661 | B23: PISTACHIO | C23: 4 | D23: =ROUND(((I23*10)/100)+I23,0) -> 0 | E23: =ROUNDUP(((J23*10)/100)+J23,0) -> 0 | F23: =ROUNDUP(E23/50,0) -> 0 | G23: rouleau(x) de 50 Ml en Lè de 4m | I23: =J23*C23 -> 0 | J23: 0
A24: 0962 | B24: THEATRE RED | C24: 2 | D24: =ROUND(((I24*10)/100)+I24,0) -> 0 | E24: =ROUNDUP(((J24*10)/100)+J24,0) -> 0 | F24: =ROUNDUP(E24/40,0) -> 0 | G24: rouleau(x) de 40 Ml en Lè de 2m | I24: =J24*C24 -> 0 | J24: 0
A25: 0962 | B25: THEATRE RED | C25: 3 | D25: =ROUND(((I25*10)/100)+I25,0) -> 0 | E25: =ROUNDUP(((J25*10)/100)+J25,0) -> 0 | F25: =ROUNDUP(E25/50,0) -> 0 | G25: rouleau(x) de 50 Ml en Lè de 3m | I25: =J25*C25 -> 0 | J25: 0
A26: 0962 | B26: THEATRE RED | C26: 4 | D26: =ROUND(((I26*10)/100)+I26,0) -> 0 | E26: =ROUNDUP(((J26*10)/100)+J26,0) -> 0 | F26: =ROUNDUP(E26/50,0) -> 0 | G26: rouleau(x) de 50 Ml en Lè de 4m | I26: =J26*C26 -> 0 | J26: 0
A27: 9082 | B27: FLECKED RED | C27: 2 | D27: =ROUND(((I27*10)/100)+I27,0) -> 0 | E27: =ROUNDUP(((J27*10)/100)+J27,0) -> 0 | F27: =ROUNDUP(E27/40,0) -> 0 | G27: rouleau(x) de 40 Ml en Lè de 2m | I27: =J27*C27 -> 0 | J27: 0
A28: 9082 | B28: FLECKED RED | C28: 3 | D28: =ROUND(((I28*10)/100)+I28,0) -> 0 | E28: =ROUNDUP(((J28*10)/100)+J28,0) -> 0 | F28: =ROUNDUP(E28/50,0) -> 0 | G28: rouleau(x) de 50 Ml en Lè de 3m | I28: =J28*C28 -> 0 | J28: 0
A29: 9082 | B29: FLECKED RED | C29: 4 | D29: =ROUND(((I29*10)/100)+I29,0) -> 0 | E29: =ROUNDUP(((J29*10)/100)+J29,0) -> 0 | F29: =ROUNDUP(E29/50,0) -> 0 | G29: rouleau(x) de 50 Ml en Lè de 4m | I29: =J29*C29 -> 0 | J29: 0
A30: 9302 | B30: FUCHSIA | C30: 2 | D30: =ROUND(((I30*10)/100)+I30,0) -> 0 | E30: =ROUNDUP(((J30*10)/100)+J30,0) -> 0 | F30: =ROUNDUP(E30/40,0) -> 0 | G30: rouleau(x) de 40 Ml en Lè de 2m | I30: =J30*C30 -> 0 | J30: 0
A31: 9302 | B31: FUCHSIA | C31: 3 | D31: =ROUND(((I31*10)/100)+I31,0) -> 0 | E31: =ROUNDUP(((J31*10)/100)+J31,0) -> 0 | F31: =ROUNDUP(E31/50,0) -> 0 | G31: rouleau(x) de 50 Ml en Lè de 3m | I31: =J31*C31 -> 0 | J31: 0
A32: 9302 | B32: FUCHSIA | C32: 4 | D32: =ROUND(((I32*10)/100)+I32,0) -> 0 | E32: =ROUNDUP(((J32*10)/100)+J32,0) -> 0 | F32: =ROUNDUP(E32/50,0) -> 0 | G32: rouleau(x) de 50 Ml en Lè de 4m | I32: =J32*C32 -> 0 | J32: 0
A33: 9312 | B33: BRICK RED | C33: 2 | D33: =ROUND(((I33*10)/100)+I33,0) -> 0 | E33: =ROUNDUP(((J33*10)/100)+J33,0) -> 0 | F33: =ROUNDUP(E33/40,0) -> 0 | G33: rouleau(x) de 40 Ml en Lè de 2m | I33: =J33*C33 -> 0 | J33: 0
A34: 9312 | B34: BRICK RED | C34: 3 | D34: =ROUND(((I34*10)/100)+I34,0) -> 0 | E34: =ROUNDUP(((J34*10)/100)+J34,0) -> 0 | F34: =ROUNDUP(E34/50,0) -> 0 | G34: rouleau(x) de 50 Ml en Lè de 3m | I34: =J34*C34 -> 0 | J34: 0
A35: 9312 | B35: BRICK RED | C35: 4 | D35: =ROUND(((I35*10)/100)+I35,0) -> 0 | E35: =ROUNDUP(((J35*10)/100)+J35,0) -> 0 | F35: =ROUNDUP(E35/50,0) -> 0 | G35: rouleau(x) de 50 Ml en Lè de 4m | I35: =J35*C35 -> 0 | J35: 0
A36: 9522 | B36: RICHELIEU RED | C36: 2 | D36: =ROUND(((I36*10)/100)+I36,0) -> 0 | E36: =ROUNDUP(((J36*10)/100)+J36,0) -> 0 | F36: =ROUNDUP(E36/40,0) -> 0 | G36: rouleau(x) de 40 Ml en Lè de 2m | I36: =J36*C36 -> 0 | J36: 0
A37: 9522 | B37: RICHELIEU RED | C37: 3 | D37: =ROUND(((I37*10)/100)+I37,0) -> 0 | E37: =ROUNDUP(((J37*10)/100)+J37,0) -> 0 | F37: =ROUNDUP(E37/50,0) -> 0 | G37: rouleau(x) de 50 Ml en Lè de 3m | I37: =J37*C37 -> 0 | J37: 0
A38: 9522 | B38: RICHELIEU RED | C38: 4 | D38: =ROUND(((I38*10)/100)+I38,0) -> 0 | E38: =ROUNDUP(((J38*10)/100)+J38,0) -> 0 | F38: =ROUNDUP(E38/50,0) -> 0 | G38: rouleau(x) de 50 Ml en Lè de 4m | I38: =J38*C38 -> 0 | J38: 0
A39: 9662 | B39: TOMATO | C39: 2 | D39: =ROUND(((I39*10)/100)+I39,0) -> 0 | E39: =ROUNDUP(((J39*10)/100)+J39,0) -> 0 | F39: =ROUNDUP(E39/40,0) -> 0 | G39: rouleau(x) de 40 Ml en Lè de 2m | I39: =J39*C39 -> 0 | J39: 0
A40: 9662 | B40: TOMATO | C40: 4 | D40: =ROUND(((I40*10)/100)+I40,0) -> 0 | E40: =ROUNDUP(((J40*10)/100)+J40,0) -> 0 | F40: =ROUNDUP(E40/50,0) -> 0 | G40: rouleau(x) de 50 Ml en Lè de 4m | I40: =J40*C40 -> 0 | J40: 0
A41: 9213 | B41: DAYBREAK | C41: 2 | D41: =ROUND(((I41*10)/100)+I41,0) -> 0 | E41: =ROUNDUP(((J41*10)/100)+J41,0) -> 0 | F41: =ROUNDUP(E41/40,0) -> 0 | G41: rouleau(x) de 40 Ml en Lè de 2m | I41: =J41*C41 -> 0 | J41: 0
A42: 9213 | B42: DAYBREAK | C42: 4 | D42: =ROUND(((I42*10)/100)+I42,0) -> 0 | E42: =ROUNDUP(((J42*10)/100)+J42,0) -> 0 | F42: =ROUNDUP(E42/50,0) -> 0 | G42: rouleau(x) de 50 Ml en Lè de 4m | I42: =J42*C42 -> 0 | J42: 0
A43: 0824 | B43: ROYAL BLUE | C43: 2 | D43: =ROUND(((I43*10)/100)+I43,0) -> 0 | E43: =ROUNDUP(((J43*10)/100)+J43,0) -> 0 | F43: =ROUNDUP(E43/40,0) -> 0 | G43: rouleau(x) de 40 Ml en Lè de 2m | I43: =J43*C43 -> 0 | J43: 0
A44: 0824 | B44: ROYAL BLUE | C44: 3 | D44: =ROUND(((I44*10)/100)+I44,0) -> 0 | E44: =ROUNDUP(((J44*10)/100)+J44,0) -> 0 | F44: =ROUNDUP(E44/50,0) -> 0 | G44: rouleau(x) de 50 Ml en Lè de 3m | I44: =J44*C44 -> 0 | J44: 0
A45: 0824 | B45: ROYAL BLUE | C45: 4 | D45: =ROUND(((I45*10)/100)+I45,0) -> 0 | E45: =ROUNDUP(((J45*10)/100)+J45,0) -> 0 | F45: =ROUNDUP(E45/50,0) -> 0 | G45: rouleau(x) de 50 Ml en Lè de 4m | I45: =J45*C45 -> 0 | J45: 0
A46: 0904 | B46: SKY BLUE | C46: 2 | D46: =ROUND(((I46*10)/100)+I46,0) -> 0 | E46: =ROUNDUP(((J46*10)/100)+J46,0) -> 0 | F46: =ROUNDUP(E46/40,0) -> 0 | G46: rouleau(x) de 40 Ml en Lè de 2m | I46: =J46*C46 -> 0 | J46: 0
A47: 0904 | B47: SKY BLUE | C47: 3 | D47: =ROUND(((I47*10)/100)+I47,0) -> 0 | E47: =ROUNDUP(((J47*10)/100)+J47,0) -> 0 | F47: =ROUNDUP(E47/50,0) -> 0 | G47: rouleau(x) de 50 Ml en Lè de 3m | I47: =J47*C47 -> 0 | J47: 0
A48: 0904 | B48: SKY BLUE | C48: 4 | D48: =ROUND(((I48*10)/100)+I48,0) -> 0 | E48: =ROUNDUP(((J48*10)/100)+J48,0) -> 0 | F48: =ROUNDUP(E48/50,0) -> 0 | G48: rouleau(x) de 50 Ml en Lè de 4m | I48: =J48*C48 -> 0 | J48: 0
A49: 0924 | B49: TURQUOISE | C49: 2 | D49: =ROUND(((I49*10)/100)+I49,0) -> 0 | E49: =ROUNDUP(((J49*10)/100)+J49,0) -> 0 | F49: =ROUNDUP(E49/40,0) -> 0 | G49: rouleau(x) de 40 Ml en Lè de 2m | I49: =J49*C49 -> 0 | J49: 0
A50: 0924 | B50: TURQUOISE | C50: 4 | D50: =ROUND(((I50*10)/100)+I50,0) -> 0 | E50: =ROUNDUP(((J50*10)/100)+J50,0) -> 0 | F50: =ROUNDUP(E50/50,0) -> 0 | G50: rouleau(x) de 50 Ml en Lè de 4m | I50: =J50*C50 -> 0 | J50: 0
A51: 0954 | B51: MARINE | C51: 2 | D51: =ROUND(((I51*10)/100)+I51,0) -> 0 | E51: =ROUNDUP(((J51*10)/100)+J51,0) -> 0 | F51: =ROUNDUP(E51/40,0) -> 0 | G51: rouleau(x) de 40 Ml en Lè de 2m | I51: =J51*C51 -> 0 | J51: 0
A52: 0954 | B52: MARINE | C52: 4 | D52: =ROUND(((I52*10)/100)+I52,0) -> 0 | E52: =ROUNDUP(((J52*10)/100)+J52,0) -> 0 | F52: =ROUNDUP(E52/50,0) -> 0 | G52: rouleau(x) de 50 Ml en Lè de 4m | I52: =J52*C52 -> 0 | J52: 0
A53: 9244 | B53: GIPSY BLUE | C53: 2 | D53: =ROUND(((I53*10)/100)+I53,0) -> 0 | E53: =ROUNDUP(((J53*10)/100)+J53,0) -> 0 | F53: =ROUNDUP(E53/40,0) -> 0 | G53: rouleau(x) de 40 Ml en Lè de 2m | I53: =J53*C53 -> 0 | J53: 0
A54: 9244 | B54: GIPSY BLUE | C54: 3 | D54: =ROUND(((I54*10)/100)+I54,0) -> 0 | E54: =ROUNDUP(((J54*10)/100)+J54,0) -> 0 | F54: =ROUNDUP(E54/50,0) -> 0 | G54: rouleau(x) de 50 Ml en Lè de 3m | I54: =J54*C54 -> 0 | J54: 0
A55: 9244 | B55: GIPSY BLUE | C55: 4 | D55: =ROUND(((I55*10)/100)+I55,0) -> 0 | E55: =ROUNDUP(((J55*10)/100)+J55,0) -> 0 | F55: =ROUNDUP(E55/50,0) -> 0 | G55: rouleau(x) de 50 Ml en Lè de 4m | I55: =J55*C55 -> 0 | J55: 0
A56: 9924 | B56: COLLEGE BLUE | C56: 2 | D56: =ROUND(((I56*10)/100)+I56,0) -> 0 | E56: =ROUNDUP(((J56*10)/100)+J56,0) -> 0 | F56: =ROUNDUP(E56/40,0) -> 0 | G56: rouleau(x) de 40 Ml en Lè de 2m | I56: =J56*C56 -> 0 | J56: 0
A57: 9924 | B57: COLLEGE BLUE | C57: 3 | D57: =ROUND(((I57*10)/100)+I57,0) -> 0 | E57: =ROUNDUP(((J57*10)/100)+J57,0) -> 0 | F57: =ROUNDUP(E57/50,0) -> 0 | G57: rouleau(x) de 50 Ml en Lè de 3m | I57: =J57*C57 -> 0 | J57: 0
A58: 9924 | B58: COLLEGE BLUE | C58: 4 | D58: =ROUND(((I58*10)/100)+I58,0) -> 0 | E58: =ROUNDUP(((J58*10)/100)+J58,0) -> 0 | F58: =ROUNDUP(E58/50,0) -> 0 | G58: rouleau(x) de 50 Ml en Lè de 4m | I58: =J58*C58 -> 0 | J58: 0
A59: 0905 | B59: GREY | C59: 2 | D59: =ROUND(((I59*10)/100)+I59,0) -> 0 | E59: =ROUNDUP(((J59*10)/100)+J59,0) -> 0 | F59: =ROUNDUP(E59/40,0) -> 0 | G59: rouleau(x) de 40 Ml en Lè de 2m | I59: =J59*C59 -> 0 | J59: 0
A60: 0905 | B60: GREY | C60: 3 | D60: =ROUND(((I60*10)/100)+I60,0) -> 0 | E60: =ROUNDUP(((J60*10)/100)+J60,0) -> 0 | F60: =ROUNDUP(E60/50,0) -> 0 | G60: rouleau(x) de 50 Ml en Lè de 3m | I60: =J60*C60 -> 0 | J60: 0
A61: 0905 | B61: GREY | C61: 4 | D61: =ROUND(((I61*10)/100)+I61,0) -> 0 | E61: =ROUNDUP(((J61*10)/100)+J61,0) -> 0 | F61: =ROUNDUP(E61/50,0) -> 0 | G61: rouleau(x) de 50 Ml en Lè de 4m | I61: =J61*C61 -> 0 | J61: 0
A62: 0915 | B62: MOUSY GREY | C62: 2 | D62: =ROUND(((I62*10)/100)+I62,0) -> 0 | E62: =ROUNDUP(((J62*10)/100)+J62,0) -> 0 | F62: =ROUNDUP(E62/40,0) -> 0 | G62: rouleau(x) de 40 Ml en Lè de 2m | I62: =J62*C62 -> 0 | J62: 0
A63: 0915 | B63: MOUSY GREY | C63: 3 | D63: =ROUND(((I63*10)/100)+I63,0) -> 0 | E63: =ROUNDUP(((J63*10)/100)+J63,0) -> 0 | F63: =ROUNDUP(E63/50,0) -> 0 | G63: rouleau(x) de 50 Ml en Lè de 3m | I63: =J63*C63 -> 0 | J63: 0
A64: 0915 | B64: MOUSY GREY | C64: 4 | D64: =ROUND(((I64*10)/100)+I64,0) -> 0 | E64: =ROUNDUP(((J64*10)/100)+J64,0) -> 0 | F64: =ROUNDUP(E64/50,0) -> 0 | G64: rouleau(x) de 50 Ml en Lè de 4m | I64: =J64*C64 -> 0 | J64: 0
A65: 0965 | B65: ANTHRACITE | C65: 2 | D65: =ROUND(((I65*10)/100)+I65,0) -> 0 | E65: =ROUNDUP(((J65*10)/100)+J65,0) -> 0 | F65: =ROUNDUP(E65/40,0) -> 0 | G65: rouleau(x) de 40 Ml en Lè de 2m | I65: =J65*C65 -> 0 | J65: 0
A66: 0965 | B66: ANTHRACITE | C66: 4 | D66: =ROUND(((I66*10)/100)+I66,0) -> 0 | E66: =ROUNDUP(((J66*10)/100)+J66,0) -> 0 | F66: =ROUNDUP(E66/40,0) -> 0 | G66: rouleau(x) de 50 Ml en Lè de 4m | I66: =J66*C66 -> 0 | J66: 0
A67: 0985 | B67: FLECKED GREY | C67: 2 | D67: =ROUND(((I67*10)/100)+I67,0) -> 0 | E67: =ROUNDUP(((J67*10)/100)+J67,0) -> 0 | F67: =ROUNDUP(E67/40,0) -> 0 | G67: rouleau(x) de 40 Ml en Lè de 2m | I67: =J67*C67 -> 0 | J67: 0
A68: 0985 | B68: FLECKED GREY | C68: 3 | D68: =ROUND(((I68*10)/100)+I68,0) -> 0 | E68: =ROUNDUP(((J68*10)/100)+J68,0) -> 0 | F68: =ROUNDUP(E68/50,0) -> 0 | G68: rouleau(x) de 50 Ml en Lè de 3m | I68: =J68*C68 -> 0 | J68: 0
A69: 0985 | B69: FLECKED GREY | C69: 4 | D69: =ROUND(((I69*10)/100)+I69,0) -> 0 | E69: =ROUNDUP(((J69*10)/100)+J69,0) -> 0 | F69: =ROUNDUP(E69/50,0) -> 0 | G69: rouleau(x) de 50 Ml en Lè de 4m | I69: =J69*C69 -> 0 | J69: 0
A70: 0906 | B70: BEIGE | C70: 2 | D70: =ROUND(((I70*10)/100)+I70,0) -> 0 | E70: =ROUNDUP(((J70*10)/100)+J70,0) -> 0 | F70: =ROUNDUP(E70/40,0) -> 0 | G70: rouleau(x) de 40 Ml en Lè de 2m | I70: =J70*C70 -> 0 | J70: 0
A71: 0906 | B71: BEIGE | C71: 4 | D71: =ROUND(((I71*10)/100)+I71,0) -> 0 | E71: =ROUNDUP(((J71*10)/100)+J71,0) -> 0 | F71: =ROUNDUP(E71/50,0) -> 0 | G71: rouleau(x) de 50 Ml en Lè de 4m | I71: =J71*C71 -> 0 | J71: 0
A72: 0916 | B72: NUT | C72: 2 | D72: =ROUND(((I72*10)/100)+I72,0) -> 0 | E72: =ROUNDUP(((J72*10)/100)+J72,0) -> 0 | F72: =ROUNDUP(E72/40,0) -> 0 | G72: rouleau(x) de 40 Ml en Lè de 2m | I72: =J72*C72 -> 0 | J72: 0
A73: 0916 | B73: NUT | C73: 3 | D73: =ROUND(((I73*10)/100)+I73,0) -> 0 | E73: =ROUNDUP(((J73*10)/100)+J73,0) -> 0 | F73: =ROUNDUP(E73/50,0) -> 0 | G73: rouleau(x) de 50 Ml en Lè de 3m | I73: =J73*C73 -> 0 | J73: 0
A74: 0916 | B74: NUT | C74: 4 | D74: =ROUND(((I74*10)/100)+I74,0) -> 0 | E74: =ROUNDUP(((J74*10)/100)+J74,0) -> 0 | F74: =ROUNDUP(E74/50,0) -> 0 | G74: rouleau(x) de 50 Ml en Lè de 4m | I74: =J74*C74 -> 0 | J74: 0
A75: 0946 | B75: CAMEL | C75: 2 | D75: =ROUND(((I75*10)/100)+I75,0) -> 0 | E75: =ROUNDUP(((J75*10)/100)+J75,0) -> 0 | F75: =ROUNDUP(E75/40,0) -> 0 | G75: rouleau(x) de 40 Ml en Lè de 2m | I75: =J75*C75 -> 0 | J75: 0
A76: 0946 | B76: CAMEL | C76: 4 | D76: =ROUND(((I76*10)/100)+I76,0) -> 0 | E76: =ROUNDUP(((J76*10)/100)+J76,0) -> 0 | F76: =ROUNDUP(E76/50,0) -> 0 | G76: rouleau(x) de 50 Ml en Lè de 4m | I76: =J76*C76 -> 0 | J76: 0
A77: 0956 | B77: BUFF | C77: 2 | D77: =ROUND(((I77*10)/100)+I77,0) -> 0 | E77: =ROUNDUP(((J77*10)/100)+J77,0) -> 0 | F77: =ROUNDUP(E77/40,0) -> 0 | G77: rouleau(x) de 40 Ml en Lè de 2m | I77: =J77*C77 -> 0 | J77: 0
A78: 0956 | B78: BUFF | C78: 3 | D78: =ROUND(((I78*10)/100)+I78,0) -> 0 | E78: =ROUNDUP(((J78*10)/100)+J78,0) -> 0 | F78: =ROUNDUP(E78/50,0) -> 0 | G78: rouleau(x) de 50 Ml en Lè de 3m | I78: =J78*C78 -> 0 | J78: 0
A79: 0956 | B79: BUFF | C79: 4 | D79: =ROUND(((I79*10)/100)+I79,0) -> 0 | E79: =ROUNDUP(((J79*10)/100)+J79,0) -> 0 | F79: =ROUNDUP(E79/50,0) -> 0 | G79: rouleau(x) de 50 Ml en Lè de 4m | I79: =J79*C79 -> 0 | J79: 0
A80: 9347 | B80: MANDARINE | C80: 2 | D80: =ROUND(((I80*10)/100)+I80,0) -> 0 | E80: =ROUNDUP(((J80*10)/100)+J80,0) -> 0 | F80: =ROUNDUP(E80/40,0) -> 0 | G80: rouleau(x) de 40 Ml en Lè de 2m | I80: =J80*C80 -> 0 | J80: 0
A81: 9347 | B81: MANDARINE | C81: 3 | D81: =ROUND(((I81*10)/100)+I81,0) -> 0 | E81: =ROUNDUP(((J81*10)/100)+J81,0) -> 0 | F81: =ROUNDUP(E81/50,0) -> 0 | G81: rouleau(x) de 50 Ml en Lè de 3m | I81: =J81*C81 -> 0 | J81: 0
A82: 9347 | B82: MANDARINE | C82: 4 | D82: =ROUND(((I82*10)/100)+I82,0) -> 0 | E82: =ROUNDUP(((J82*10)/100)+J82,0) -> 0 | F82: =ROUNDUP(E82/50,0) -> 0 | G82: rouleau(x) de 50 Ml en Lè de 4m | I82: =J82*C82 -> 0 | J82: 0
A83: 9248 | B83: COCOA | C83: 2 | D83: =ROUND(((I83*10)/100)+I83,0) -> 0 | E83: =ROUNDUP(((J83*10)/100)+J83,0) -> 0 | F83: =ROUNDUP(E83/40,0) -> 0 | G83: rouleau(x) de 40 Ml en Lè de 2m | I83: =J83*C83 -> 0 | J83: 0
A84: 9248 | B84: COCOA | C84: 3 | D84: =ROUND(((I84*10)/100)+I84,0) -> 0 | E84: =ROUNDUP(((J84*10)/100)+J84,0) -> 0 | F84: =ROUNDUP(E84/50,0) -> 0 | G84: rouleau(x) de 50 Ml en Lè de 3m | I84: =J84*C84 -> 0 | J84: 0
A85: 9248 | B85: COCOA | C85: 4 | D85: =ROUND(((I85*10)/100)+I85,0) -> 0 | E85: =ROUNDUP(((J85*10)/100)+J85,0) -> 0 | F85: =ROUNDUP(E85/50,0) -> 0 | G85: rouleau(x) de 50 Ml en Lè de 4m | I85: =J85*C85 -> 0 | J85: 0
A86: 0939 | B86: VIOLET | C86: 2 | D86: =ROUND(((I86*10)/100)+I86,0) -> 0 | E86: =ROUNDUP(((J86*10)/100)+J86,0) -> 0 | F86: =ROUNDUP(E86/40,0) -> 0 | G86: rouleau(x) de 40 Ml en Lè de 2m | I86: =J86*C86 -> 0 | J86: 0
A87: 0939 | B87: VIOLET | C87: 4 | D87: =ROUND(((I87*10)/100)+I87,0) -> 0 | E87: =ROUNDUP(((J87*10)/100)+J87,0) -> 0 | F87: =ROUNDUP(E87/50,0) -> 0 | G87: rouleau(x) de 50 Ml en Lè de 4m | I87: =J87*C87 -> 0 | J87: 0
A88: 9019 | B88: MAUVE | C88: 2 | D88: =ROUND(((I88*10)/100)+I88,0) -> 0 | E88: =ROUNDUP(((J88*10)/100)+J88,0) -> 0 | F88: =ROUNDUP(E88/40,0) -> 0 | G88: rouleau(x) de 40 Ml en Lè de 2m | I88: =J88*C88 -> 0 | J88: 0
A89: 9019 | B89: MAUVE | C89: 3 | D89: =ROUND(((I89*10)/100)+I89,0) -> 0 | E89: =ROUNDUP(((J89*10)/100)+J89,0) -> 0 | F89: =ROUNDUP(E89/50,0) -> 0 | G89: rouleau(x) de 50 Ml en Lè de 3m | I89: =J89*C89 -> 0 | J89: 0
A90: 9019 | B90: MAUVE | C90: 4 | D90: =ROUND(((I90*10)/100)+I90,0) -> 0 | E90: =ROUNDUP(((J90*10)/100)+J90,0) -> 0 | F90: =ROUNDUP(E90/50,0) -> 0 | G90: rouleau(x) de 50 Ml en Lè de 4m | I90: =J90*C90 -> 0 | J90: 0
A91: 9289 | B91: PETUNIA | C91: 2 | D91: =ROUND(((I91*10)/100)+I91,0) -> 33 | E91: =ROUNDUP(((J91*10)/100)+J91,0) -> 17 | F91: =ROUNDUP(E91/40,0) -> 1 | G91: rouleau(x) de 40 Ml en Lè de 2m | I91: =J91*C91 -> 30 | J91: 15
A92: 9289 | B92: PETUNIA | C92: 3 | D92: =ROUND(((I92*10)/100)+I92,0) -> 0 | E92: =ROUNDUP(((J92*10)/100)+J92,0) -> 0 | F92: =ROUNDUP(E92/50,0) -> 0 | G92: rouleau(x) de 50 Ml en Lè de 3m | I92: =J92*C92 -> 0 | J92: 0
A93: 9289 | B93: PETUNIA | C93: 4 | D93: =ROUND(((I93*10)/100)+I93,0) -> 0 | E93: =ROUNDUP(((J93*10)/100)+J93,0) -> 0 | F93: =ROUNDUP(E93/50,0) -> 0 | G93: rouleau(x) de 50 Ml en Lè de 4m | I93: =J93*C93 -> 0 | J93: 0

Sheet BDC MOQUETTE
A1: BON DE COMMANDE MOQUETTE
A2: NOM DU SALON:
A3: NOM DU CLIENT:
A4: AFFAIRE SUIVIE PAR:
A5: DATE EXPLOITATION:
A6: REF | B6: COULEUR | C6: LE | D6: M² A COMMANDER | E6: ML A COMMANDER | F6: NBR DE ROULEAUX
A7: 0910 | B7: BLACK | C7: 2 | D7: =IF(MOQUETTE!D2>0,MOQUETTE!D2,"NUL") -> 3491 | E7: =IF(MOQUETTE!E2>0,MOQUETTE!E2,"NUL") -> 1746 | F7: =IF(MOQUETTE!F2>0,MOQUETTE!F2,"NUL") -> 44 | G7: rouleau(x) de 40 Ml en Lè de 2m
A8: 0910 | B8: BLACK | C8: 3 | D8: =IF(MOQUETTE!D3>0,MOQUETTE!D3,"NUL") -> 156968 | E8: =IF(MOQUETTE!E3>0,MOQUETTE!E3,"NUL") -> 52323 | F8: =IF(MOQUETTE!F3>0,MOQUETTE!F3,"NUL") -> 1047 | G8: rouleau(x) de 50 Ml en Lè de 3m
A9: 0910 | B9: BLACK | C9: 4 | D9: =IF(MOQUETTE!D4>0,MOQUETTE!D4,"NUL") -> 9999 | E9: =IF(MOQUETTE!E4>0,MOQUETTE!E4,"NUL") -> 2500 | F9: =IF(MOQUETTE!F4>0,MOQUETTE!F4,"NUL") -> 50 | G9: rouleau(x) de 50 Ml en Lè de 4m
A10: 0950 | B10: WHITE | C10: 2 | D10: =IF(MOQUETTE!D5>0,MOQUETTE!D5,"NUL") -> NUL | E10: =IF(MOQUETTE!E5>0,MOQUETTE!E5,"NUL") -> NUL | F10: =IF(MOQUETTE!F5>0,MOQUETTE!F5,"NUL") -> NUL | G10: rouleau(x) de 40 Ml en Lè de 2m
A11: 0950 | B11: WHITE | C11: 4 | D11: =IF(MOQUETTE!D6>0,MOQUETTE!D6,"NUL") -> NUL | E11: =IF(MOQUETTE!E6>0,MOQUETTE!E6,"NUL") -> NUL | F11: =IF(MOQUETTE!F6>0,MOQUETTE!F6,"NUL") -> NUL | G11: rouleau(x) de 50 Ml en Lè de 4m
A12: 0831 | B12: PINE | C12: 2 | D12: =IF(MOQUETTE!D7>0,MOQUETTE!D7,"NUL") -> NUL | E12: =IF(MOQUETTE!E7>0,MOQUETTE!E7,"NUL") -> NUL | F12: =IF(MOQUETTE!F7>0,MOQUETTE!F7,"NUL") -> NUL | G12: rouleau(x) de 40 Ml en Lè de 2m
A13: 0831 | B13: PINE | C13: 3 | D13: =IF(MOQUETTE!D8>0,MOQUETTE!D8,"NUL") -> NUL | E13: =IF(MOQUETTE!E8>0,MOQUETTE!E8,"NUL") -> NUL | F13: =IF(MOQUETTE!F8>0,MOQUETTE!F8,"NUL") -> NUL | G13: rouleau(x) de 50 Ml en Lè de 3m
A14: 0831 | B14: PINE | C14: 4 | D14: =IF(MOQUETTE!D9>0,MOQUETTE!D9,"NUL") -> NUL | E14: =IF(MOQUETTE!E9>0,MOQUETTE!E9,"NUL") -> NUL | F14: =IF(MOQUETTE!F9>0,MOQUETTE!F9,"NUL") -> NUL | G14: rouleau(x) de 50 Ml en Lè de 4m
A15: 0901 | B15: LIGHT GREEN | C15: 2 | D15: =IF(MOQUETTE!D10>0,MOQUETTE!D10,"NUL") -> NUL | E15: =IF(MOQUETTE!E10>0,MOQUETTE!E10,"NUL") -> NUL | F15: =IF(MOQUETTE!F10>0,MOQUETTE!F10,"NUL") -> NUL | G15: rouleau(x) de 40 Ml en Lè de 2m
A16: 0901 | B16: LIGHT GREEN | C16: 3 | D16: =IF(MOQUETTE!D11>0,MOQUETTE!D11,"NUL") -> NUL | E16: =IF(MOQUETTE!E11>0,MOQUETTE!E11,"NUL") -> NUL | F16: =IF(MOQUETTE!F11>0,MOQUETTE!F11,"NUL") -> NUL | G16: rouleau(x) de 50 Ml en Lè de 3m
A17: 0901 | B17: LIGHT GREEN | C17: 4 | D17: =IF(MOQUETTE!D12>0,MOQUETTE!D12,"NUL") -> NUL | E17: =IF(MOQUETTE!E12>0,MOQUETTE!E12,"NUL") -> NUL | F17: =IF(MOQUETTE!F12>0,MOQUETTE!F12,"NUL") -> NUL | G17: rouleau(x) de 50 Ml en Lè de 4m
A18: 0911 | B18: DARK GREEN | C18: 2 | D18: =IF(MOQUETTE!D13>0,MOQUETTE!D13,"NUL") -> 348 | E18: =IF(MOQUETTE!E13>0,MOQUETTE!E13,"NUL") -> 174 | F18: =IF(MOQUETTE!F13>0,MOQUETTE!F13,"NUL") -> 5 | G18: rouleau(x) de 40 Ml en Lè de 2m
... A98: 9289 | B98: PETUNIA | C98: 4 | D98: =IF(MOQUETTE!D93>0,MOQUETTE!D93,"NUL") -> NUL | E98: =IF(MOQUETTE!E93>0,MOQUETTE!E93,"NUL") -> NUL | F98: =IF(MOQUETTE!F93>0,MOQUETTE!F93,"NUL") -> NUL | G98: rouleau(x) de 50 Ml en Lè de 4m
