Workbook

Sheet DEBITS MATTERIEL ORSA
B1: CLOISON BOIS
D2: A PREPARER | E2: PIECES | F2: Nbr Sec | G2: COMMENTAIRES | H2: Mètre Linéaire | I2: =H3+H4+H5+H6+H7+H8+H9+H10+H11+H12 -> 0
A3: CLOISON BOIS Ht.1m x La. 3m | B3: 1 | C3: 3 | D3: =ROUND(((F3*10)/100)+F3,0) -> 0 | E3: pièces | F3: 0 | G3: R.A.S | H3: =F3*C3 -> 0
A4: CLOISON BOIS Ht.1m x La. 2,5m | B4: 1 | C4: 2.5 | D4: =ROUND(((F4*10)/100)+F4,0) -> 0 | E4: pièces | F4: 0 | G4: R.A.S | H4: =F4*C4 -> 0
A5: CLOISON BOIS Ht.2,5m x La.0,5m | B5: 2.5 | C5: 0.5 | D5: =ROUND(((F5*10)/100)+F5,0) -> 0 | E5: pièces | F5: 0 | G5: R.A.S | H5: =F5*C5 -> 0
A6: CLOISON BOIS Ht.2,5m x La. 1,5m | B6: 2.5 | C6: 1 | D6: =ROUND(((F6*10)/100)+F6,0) -> 0 | E6: pièces | F6: 0 | G6: R.A.S | H6: =F6*C6 -> 0
B7: 2.5 | C7: 1.5 | D7: =ROUND(((F7*10)/100)+F7,0) -> 0 | E7: pièces | F7: 0 | G7: R.A.S | H7: =F7*C7 -> 0
B8: 2.5 | C8: 2 | D8: =ROUND(((F8*10)/100)+F8,0) -> 0 | E8: pièces | F8: 0 | G8: R.A.S | H8: =F8*C8 -> 0 | I8: TOTAL M.L =
B9: 2.5 | C9: 3 | D9: =ROUND(((F9*10)/100)+F9,0) -> 0 | E9: pièces | F9: 0 | G9: R.A.S | H9: =F9*C9 -> 0
B10: 3 | C10: 0.5 | D10: =ROUND(((F10*10)/100)+F10,0) -> 0 | E10: pièces | F10: 0 | G10: R.A.S | H10: =F10*C10 -> 0
B11: 3 | C11: 1 | D11: =ROUND(((F11*10)/100)+F11,0) -> 0 | E11: pièces | F11: 0 | G11: R.A.S | H11: =F11*C11 -> 0
B12: 3 | C12: 2.5 | D12: =ROUND(((F12*10)/100)+F12,0) -> 0 | E12: pièces | F12: 0 | G12: R.A.S | H12: =F12*C12 -> 0
B13: CLOISON MELA
B14: H | C14: L | D14: A PREPARER | F14: Nbr Sec | G14: COULEURS | H14: Mètre Linéaire | I14: =H15+H16+H18+H19+H21+H22+H24+H25+H27+H28+H30+H31 -> 1100.5
B15: 0.25 | C15: 0.5 | D15: =ROUND(((F15*10)/100)+F15,0) -> 22 | E15: pièces | F15: 20 | H15: =F15*C15 -> 10
B16: 0.25 | C16: 1 | D16: =ROUND(((F16*10)/100)+F16,0) -> 206 | E16: pièces | F16: 187 | H16: =F16*C16 -> 187
B17: H | C17: L | D17: A PREPARER | F17: Nbr Sec | G17: COULEURS | H17: Mètre Linéaire
B18: 0.5 | C18: 0.5 | D18: =ROUND(((F18*10)/100)+F18,0) -> 20 | E18: pièces | F18: 18 | H18: =F18*C18 -> 9
B19: 0.5 | C19: 1 | D19: =ROUND(((F19*10)/100)+F19,0) -> 1 | E19: pièces | F19: 1 | H19: =F19*C19 -> 1
B20: H | C20: L | D20: A PREPARER | F20: Nbr Sec | G20: COULEURS | H20: Mètre Linéaire
B21: 1.1 | C21: 0.5 | D21: =ROUND(((F21*10)/100)+F21,0) -> 20 | E21: pièces | F21: 18 | H21: =F21*C21 -> 9
B22: 1.1 | C22: 1 | D22: =ROUND(((F22*10)/100)+F22,0) -> 1 | E22: pièces | F22: 1 | H22: =F22*C22 -> 1
B23: H | C23: L | D23: A PREPARER | F23: Nbr Sec | G23: COULEURS | H23: Mètre Linéaire | I23: TOTAL M.L =
B24: 1.5 | C24: 0.5 | D24: =ROUND(((F24*10)/100)+F24,0) -> 206 | E24: pièces | F24: 187 | H24: =F24*C24 -> 93.5
B25: 1.5 | C25: 1 | D25: =ROUND(((F25*10)/100)+F25,0) -> 221 | E25: pièces | F25: 201 | H25: =F25*C25 -> 201
B26: H | C26: L | D26: A PREPARER | F26: Nbr Sec | G26: COULEURS | H26: Mètre Linéaire
B27: 2 | C27: 0.5 | D27: =ROUND(((F27*10)/100)+F27,0) -> 206 | E27: pièces | F27: 187 | H27: =F27*C27 -> 93.5
B28: 2 | C28: 1 | D28: =ROUND(((F28*10)/100)+F28,0) -> 221 | E28: pièces | F28: 201 | H28: =F28*C28 -> 201
B29: H | C29: L | D29: A PREPARER | F29: Nbr Sec | G29: COULEURS | H29: Mètre Linéaire
B30: 2.5 | C30: 0.5 | D30: =ROUND(((F30*10)/100)+F30,0) -> 206 | E30: pièces | F30: 187 | H30: =F30*C30 -> 93.5
B31: 2.5 | C31: 1 | D31: =ROUND(((F31*10)/100)+F31,0) -> 221 | E31: pièces | F31: 201 | H31: =F31*C31 -> 201
B32: PORTES
B33: PORTE(S) MELA | D33: A PREPARER | F33: Nbr Sec | G33: COULEURS | H33: COMMENTAIRES
B34: PORTE GAUCHE | D34: =ROUND(((F34*10)/100)+F34,0) -> 1100 | E34: pièces | F34: 1000
B35: PORTE DROITE | D35: =ROUND(((F35*10)/100)+F35,0) -> 9 | E35: pièces | F35: 8
B36: PORTE DOUBLE | D36: =ROUND(((F36*10)/100)+F36,0) -> 1 | E36: pièces | F36: 1
B37: PORTE(S) BOIS | D37: A PREPARER | F37: Nbr Sec | G37: COULEURS | H37: COMMENTAIRES
B38: PORTE GAUCHE | D38: =ROUND(((F38*10)/100)+F38,0) -> 17 | E38: pièces | F38: 15
B39: PORTE DROITE | D39: =ROUND(((F39*10)/100)+F39,0) -> 19 | E39: pièces | F39: 17
B40: PROFILES HORIZONTAUX
...

Sheet MOQUETTE
A1: REF | B1: COULEUR | C1: LE | D1: M² A COMMANDER | E1: ML A COMMANDER | F1: NBR DE ROULEAUX | I1: M² SEC | J1: METRE LINEAIRE SEC
A2: 0910 | B2: BLACK | C2: 2 | D2: =ROUND(((I2*10)/100)+I2,0) -> 3491 | E2: =ROUNDUP(((J2*10)/100)+J2,0) -> 1746 | F2: =ROUNDUP(E2/40,0) -> 44 | G2: rouleau(x) de 40 Ml en Lè de 2m | I2: =J2*C2 -> 3174 | J2: 1587
A3: 0910 | B3: BLACK | C3: 3 | D3: =ROUND(((I3*10)/100)+I3,0) -> 156968 | E3: =ROUNDUP(((J3*10)/100)+J3,0) -> 52323 | F3: =ROUNDUP(E3/50,0) -> 1047 | G3: rouleau(x) de 50 Ml en Lè de 3m | I3: =J3*C3 -> 142698 | J3: 47566
A4: 0910 | B4: BLACK | C4: 4 | D4: =ROUND(((I4*10)/100)+I4,0) -> 9999 | E4: =ROUNDUP(((J4*10)/100)+J4,0) -> 2500 | F4: =ROUNDUP(E4/50,0) -> 50 | G4: rouleau(x) de 50 Ml en Lè de 4m | I4: =J4*C4 -> 9090 | J4: 2272.5
A5: 0950 | B5: WHITE | C5: 2 | D5: =ROUND(((I5*10)/100)+I5,0) -> 0 | E5: =ROUNDUP(((J5*10)/100)+J5,0) -> 0 | F5: =ROUNDUP(E5/40,0) -> 0 | G5: rouleau(x) de 40 Ml en Lè de 2m | I5: =J5*C5 -> 0 | J5: 0
A6: 0950 | B6: WHITE | C6: 4 | D6: =ROUND(((I6*10)/100)+I6,0) -> 0 | E6: =ROUNDUP(((J6*10)/100)+J6,0) -> 0 | F6: =ROUNDUP(E6/50,0) -> 0 | G6: rouleau(x) de 50 Ml en Lè de 4m | I6: =J6*C6 -> 0 | J6: 0
A7: 0831 | B7: PINE | C7: 2 | D7: =ROUND(((I7*10)/100)+I7,0) -> 0 | E7: =ROUNDUP(((J7*10)/100)+J7,0) -> 0 | F7: =ROUNDUP(E7/40,0) -> 0 | G7: rouleau(x) de 40 Ml en Lè de 2m | I7: =J7*C7 -> 0 | J7: 0
A8: 0831 | B8: PINE | C8: 3 | D8: =ROUND(((I8*10)/100)+I8,0) -> 0 | E8: =ROUNDUP(((J8*10)/100)+J8,0) -> 0 | F8: =ROUNDUP(E8/50,0) -> 0 | G8: rouleau(x) de 50 Ml en Lè de 3m | I8: =J8*C8 -> 0 | J8: 0
A9: 0831 | B9: PINE | C9: 4 | D9: =ROUND(((I9*10)/100)+I9,0) -> 0 | E9: =ROUNDUP(((J9*10)/100)+J9,0) -> 0 | F9: =ROUNDUP(E9/50,0) -> 0 | G9: rouleau(x) de 50 Ml en Lè de 4m | I9: =J9*C9 -> 0 | J9: 0
A10: 0901 | B10: LIGHT GREEN | C10: 2 | D10: =ROUND(((I10*10)/100)+I10,0) -> 0 | E10: =ROUNDUP(((J10*10)/100)+J10,0) -> 0 | F10: =ROUNDUP(E10/40,0) -> 0 | G10: rouleau(x) de 40 Ml en Lè de 2m | I10: =J10*C10 -> 0 | J10: 0
A11: 0901 | B11: LIGHT GREEN | C11: 3 | D11: =ROUND(((I11*10)/100)+I11,0) -> 0 | E11: =ROUNDUP(((J11*10)/100)+J11,0) -> 0 | F11: =ROUNDUP(E11/50,0) -> 0 | G11: rouleau(x) de 50 Ml en Lè de 3m | I11: =J11*C11 -> 0 | J11: 0
A12: 0901 | B12: LIGHT GREEN | C12: 4 | D12: =ROUND(((I12*10)/100)+I12,0) -> 0 | E12: =ROUNDUP(((J12*10)/100)+J12,0) -> 0 | F12: =ROUNDUP(E12/50,0) -> 0 | G12: rouleau(x) de 50 Ml en Lè de 4m | I12: =J12*C12 -> 0 | J12: 0
A13: 0911 | B13: DARK GREEN | C13: 2 | D13: =ROUND(((I13*10)/100)+I13,0) -> 348 | E13: =ROUNDUP(((J13*10)/100)+J13,0) -> 174 | F13: =ROUNDUP(E13/40,0) -> 5 | G13: rouleau(x) de 40 Ml en Lè de 2m | I13: =J13*C13 -> 316 | J13: 158
A14: 0911 | B14: DARK GREEN | C14: 4 | D14: =ROUND(((I14*10)/100)+I14,0) -> 0 | E14: =ROUNDUP(((J14*10)/100)+J14,0) -> 0 | F14: =ROUNDUP(E14/50,0) -> 0 | G14: rouleau(x) de 50 Ml en Lè de 4m | I14: =J14*C14 -> 0 | J14: 0
A15: 0961 | B15: HIGH GREEN | C15: 2 | D15: =ROUND(((I15*10)/100)+I15,0) -> 0 | E15: =ROUNDUP(((J15*10)/100)+J15,0) -> 0 | F15: =ROUNDUP(E15/40,0) -> 0 | G15: rouleau(x) de 40 Ml en Lè de 2m | I15: =J15*C15 -> 0 | J15: 0
A16: 0961 | B16: HIGH GREEN | C16: 4 | D16: =ROUND(((I16*10)/100)+I16,0) -> 0 | E16: =ROUNDUP(((J16*10)/100)+J16,0) -> 0 | F16: =ROUNDUP(E16/50,0) -> 0 | G16: rouleau(x) de 50 Ml en Lè de 4m | I16: =J16*C16 -> 0 | J16: 0
A17: 9631 | B17: SPRING GREEN | C17: 2 | D17: =ROUND(((I17*10)/100)+I17,0) -> 0 | E17: =ROUNDUP(((J17*10)/100)+J17,0) -> 0 | F17: =ROUNDUP(E17/40,0) -> 0 | G17: rouleau(x) de 40 Ml en Lè de 2m | I17: =J17*C17 -> 0 | J17: 0
A18: 9631 | B18: SPRING GREEN | C18: 3 | D18: =ROUND(((I18*10)/100)+I18,0) -> 0 | E18: =ROUNDUP(((J18*10)/100)+J18,0) -> 0 | F18: =ROUNDUP(E18/50,0) -> 0 | G18: rouleau(x) de 50 Ml en Lè de 3m | I18: =J18*C18 -> 0 | J18: 0
A19: 9631 | B19: SPRING GREEN | C19: 4 | D19: =ROUND(((I19*10)/100)+I19,0) -> 0 | E19: =ROUNDUP(((J19*10)/100)+J19,0) -> 0 | F19: =ROUNDUP(E19/50,0) -> 0 | G19: rouleau(x) de 50 Ml en Lè de 4m | I19: =J19*C19 -> 0 | J19: 0
A20: 9641 | B20: AUTUM GREEN | C20: 2 | D20: =ROUND(((I20*10)/100)+I20,0) -> 0 | E20: =ROUNDUP(((J20*10)/100)+J20,0) -> 0 | F20: =ROUNDUP(E20/40,0) -> 0 | G20: rouleau(x) de 40 Ml en Lè de 2m | I20: =J20*C20 -> 0 | J20: 0
A21: 9641 | B21: AUTUM GREEN | C21: 4 | D21: =ROUND(((I21*10)/100)+I21,0) -> 0 | E21: =ROUNDUP(((J21*10)/100)+J21,0) -> 0 | F21: =ROUNDUP(E21/50,0) -> 0 | G21: rouleau(x) de 50 Ml en Lè de 4m | I21: =J21*C21 -> 0 | J21: 0
A22: 9661 | B22: PISTACHIO | C22: 2 | D22: =ROUND(((I22*10)/100)+I22,0) -> 0 | E22: =ROUNDUP(((J22*10)/100)+J22,0) -> 0 | F22: =ROUNDUP(E22/40,0) -> 0 | G22: rouleau(x) de 40 Ml en Lè de 2m | I22: =J22*C22 -> 0 | J22: 0
A23: 9661 | B23: PISTACHIO | C23: 4 | D23: =ROUND(((I23*10)/100)+I23,0) -> 0 | E23: =ROUNDUP(((J23*10)/100)+J23,0) -> 0 | F23: =ROUNDUP(E23/50,0) -> 0 | G23: rouleau(x) de 50 Ml en Lè de 4m | I23: =J23*C23 -> 0 | J23: 0
A24: 0962 | B24: THEATRE RED | C24: 2 | D24: =ROUND(((I24*10)/100)+I24,0) -> 0 | E24: =ROUNDUP(((J24*10)/100)+J24,0) -> 0 | F24: =ROUNDUP(E24/40,0) -> 0 | G24: rouleau(x) de 40 Ml en Lè de 2m | I24: =J24*C24 -> 0 | J24: 0
A25: 0962 | B25: THEATRE RED | C25: 3 | D25: =ROUND(((I25*10)/100)+I25,0) -> 0 | E25: =ROUNDUP(((J25*10)/100)+J25,0) -> 0 | F25: =ROUNDUP(E25/50,0) -> 0 | G25: rouleau(x) de 50 Ml en Lè de 3m | I25: =J25*C25 -> 0 | J25: 0
A26: 0962 | B26: THEATRE RED | C26: 4 | D26: =ROUND(((I26*10)/100)+I26,0) -> 0 | E26: =ROUNDUP(((J26*10)/100)+J26,0) -> 0 | F26: =ROUNDUP(E26/50,0) -> 0 | G26: rouleau(x) de 50 Ml en Lè de 4m | I26: =J26*C26 -> 0 | J26: 0
A27: 9082 | B27: FLECKED RED | C27: 2 | D27: =ROUND(((I27*10)/100)+I27,0) -> 0 | E27: =ROUNDUP(((J27*10)/100)+J27,0) -> 0 | F27: =ROUNDUP(E27/40,0) -> 0 | G27: rouleau(x) de 40 Ml en Lè de 2m | I27: =J27*C27 -> 0 | J27: 0
A28: 9082 | B28: FLECKED RED | C28: 3 | D28: =ROUND(((I28*10)/100)+I28,0) -> 0 | E28: =ROUNDUP(((J28*10)/100)+J28,0) -> 0 | F28: =ROUNDUP(E28/50,0) -> 0 | G28: rouleau(x) de 50 Ml en Lè de 3m | I28: =J28*C28 -> 0 | J28: 0
A29: 9082 | B29: FLECKED RED | C29: 4 | D29: =ROUND(((I29*10)/100)+I29,0) -> 0 | E29: =ROUNDUP(((J29*10)/100)+J29,0) -> 0 | F29: =ROUNDUP(E29/50,0) -> 0 | G29: rouleau(x) de 50 Ml en Lè de 4m | I29: =J29*C29 -> 0 | J29: 0
A30: 9302 | B30: FUCHSIA | C30: 2 | D30: =ROUND(((I30*10)/100)+I30,0) -> 0 | E30: =ROUNDUP(((J30*10)/100)+J30,0) -> 0 | F30: =ROUNDUP(E30/40,0) -> 0 | G30: rouleau(x) de 40 Ml en Lè de 2m | I30: =J30*C30 -> 0 | J30: 0
A31: 9302 | B31: FUCHSIA | C31: 3 | D31: =ROUND(((I31*10)/100)+I31,0) -> 0 | E31: =ROUNDUP(((J31*10)/100)+J31,0) -> 0 | F31: =ROUNDUP(E31/50,0) -> 0 | G31: rouleau(x) de 50 Ml en Lè de 3m | I31: =J31*C31 -> 0 | J31: 0
A32: 9302 | B32: FUCHSIA | C32: 4 | D32: =ROUND(((I32*10)/100)+I32,0) -> 0 | E32: =ROUNDUP(((J32*10)/100)+J32,0) -> 0 | F32: =ROUNDUP(E32/50,0) -> 0 | G32: rouleau(x) de 50 Ml en Lè de 4m | I32: =J32*C32 -> 0 | J32: 0
A33: 9312 | B33: BRICK RED | C33: 2 | D33: =ROUND(((I33*10)/100)+I33,0) -> 0 | E33: =ROUNDUP(((J33*10)/100)+J33,0) -> 0 | F33: =ROUNDUP(E33/40,0) -> 0 | G33: rouleau(x) de 40 Ml en Lè de 2m | I33: =J33*C33 -> 0 | J33: 0
A34: 9312 | B34: BRICK RED | C34: 3 | D34: =ROUND(((I34*10)/100)+I34,0) -> 0 | E34: =ROUNDUP(((J34*10)/100)+J34,0) -> 0 | F34: =ROUNDUP(E34/50,0) -> 0 | G34: rouleau(x) de 50 Ml en Lè de 3m | I34: =J34*C34 -> 0 | J34: 0
A35: 9312 | B35: BRICK RED | C35: 4 | D35: =ROUND(((I35*10)/100)+I35,0) -> 0 | E35: =ROUNDUP(((J35*10)/100)+J35,0) -> 0 | F35: =ROUNDUP(E35/50,0) -> 0 | G35: rouleau(x) de 50 Ml en Lè de 4m | I35: =J35*C35 -> 0 | J35: 0
A36: 9522 | B36: RICHELIEU RED | C36: 2 | D36: =ROUND(((I36*10)/100)+I36,0) -> 0 | E36: =ROUNDUP(((J36*10)/100)+J36,0) -> 0 | F36: =ROUNDUP(E36/40,0) -> 0 | G36: rouleau(x) de 40 Ml en Lè de 2m | I36: =J36*C36 -> 0 | J36: 0
A37: 9522 | B37: RICHELIEU RED | C37: 3 | D37: =ROUND(((I37*10)/100)+I37,0) -> 0 | E37: =ROUNDUP(((J37*10)/100)+J37,0) -> 0 | F37: =ROUNDUP(E37/50,0) -> 0 | G37: rouleau(x) de 50 Ml en Lè de 3m | I37: =J37*C37 -> 0 | J37: 0
A38: 9522 | B38: RICHELIEU RED | C38: 4 | D38: =ROUND(((I38*10)/100)+I38,0) -> 0 | E38: =ROUNDUP(((J38*10)/100)+J38,0) -> 0 | F38: =ROUNDUP(E38/50,0) -> 0 | G38: rouleau(x) de 50 Ml en Lè de 4m | I38: =J38*C38 -> 0 | J38: 0
A39: 9662 | B39: TOMATO | C39: 2 | D39: =ROUND(((I39*10)/100)+I39,0) -> 0 | E39: =ROUNDUP(((J39*10)/100)+J39,0) -> 0 | F39: =ROUNDUP(E39/40,0) -> 0 | G39: rouleau(x) de 40 Ml en Lè de 2m | I39: =J39*C39 -> 0 | J39: 0
A40: 9662 | B40: TOMATO | C40: 4 | D40: =ROUND(((I40*10)/100)+I40,0) -> 0 | E40: =ROUNDUP(((J40*10)/100)+J40,0) -> 0 | F40: =ROUNDUP(E40/50,0) -> 0 | G40: rouleau(x) de 50 Ml en Lè de 4m | I40: =J40*C40 -> 0 | J40: 0
...

Sheet BDC MOQUETTE
A1: BON DE COMMANDE MOQUETTE
A2: NOM DU SALON:
A3: NOM DU CLIENT:
A4: AFFAIRE SUIVIE PAR:
A5: DATE EXPLOITATION:
A6: REF | B6: COULEUR | C6: LE | D6: M² A COMMANDER | E6: ML A COMMANDER | F6: NBR DE ROULEAUX
A7: 0910 | B7: BLACK | C7: 2 | D7: =IF(MOQUETTE!D2>0,MOQUETTE!D2,"NUL") -> 3491 | E7: =IF(MOQUETTE!E2>0,MOQUETTE!E2,"NUL") -> 1746 | F7: =IF(MOQUETTE!F2>0,MOQUETTE!F2,"NUL") -> 44 | G7: rouleau(x) de 40 Ml en Lè de 2m
A8: 0910 | B8: BLACK | C8: 3 | D8: =IF(MOQUETTE!D3>0,MOQUETTE!D3,"NUL") -> 156968 | E8: =IF(MOQUETTE!E3>0,MOQUETTE!E3,"NUL") -> 52323 | F8: =IF(MOQUETTE!F3>0,MOQUETTE!F3,"NUL") -> 1047 | G8: rouleau(x) de 50 Ml en Lè de 3m
A9: 0910 | B9: BLACK | C9: 4 | D9: =IF(MOQUETTE!D4>0,MOQUETTE!D4,"NUL") -> 9999 | E9: =IF(MOQUETTE!E4>0,MOQUETTE!E4,"NUL") -> 2500 | F9: =IF(MOQUETTE!F4>0,MOQUETTE!F4,"NUL") -> 50 | G9: rouleau(x) de 50 Ml en Lè de 4m
A10: 0950 | B10: WHITE | C10: 2 | D10: =IF(MOQUETTE!D5>0,MOQUETTE!D5,"NUL") -> NUL | E10: =IF(MOQUETTE!E5>0,MOQUETTE!E5,"NUL") -> NUL | F10: =IF(MOQUETTE!F5>0,MOQUETTE!F5,"NUL") -> NUL | G10: rouleau(x) de 40 Ml en Lè de 2m
A11: 0950 | B11: WHITE | C11: 4 | D11: =IF(MOQUETTE!D6>0,MOQUETTE!D6,"NUL") -> NUL | E11: =IF(MOQUETTE!E6>0,MOQUETTE!E6,"NUL") -> NUL | F11: =IF(MOQUETTE!F6>0,MOQUETTE!F6,"NUL") -> NUL | G11: rouleau(x) de 50 Ml en Lè de 4m
A12: 0831 | B12: PINE | C12: 2 | D12: =IF(MOQUETTE!D7>0,MOQUETTE!D7,"NUL") -> NUL | E12: =IF(MOQUETTE!E7>0,MOQUETTE!E7,"NUL") -> NUL | F12: =IF(MOQUETTE!F7>0,MOQUETTE!F7,"NUL") -> NUL | G12: rouleau(x) de 40 Ml en Lè de 2m
A13: 0831 | B13: PINE | C13: 3 | D13: =IF(MOQUETTE!D8>0,MOQUETTE!D8,"NUL") -> NUL | E13: =IF(MOQUETTE!E8>0,MOQUETTE!E8,"NUL") -> NUL | F13: =IF(MOQUETTE!F8>0,MOQUETTE!F8,"NUL") -> NUL | G13: rouleau(x) de 50 Ml en Lè de 3m
A14: 0831 | B14: PINE | C14: 4 | D14: =IF(MOQUETTE!D9>0,MOQUETTE!D9,"NUL") -> NUL | E14: =IF(MOQUETTE!E9>0,MOQUETTE!E9,"NUL") -> NUL | F14: =IF(MOQUETTE!F9>0,MOQUETTE!F9,"NUL") -> NUL | G14: rouleau(x) de 50 Ml en Lè de 4m
A15: 0901 | B15: LIGHT GREEN | C15: 2 | D15: =IF(MOQUETTE!D10>0,MOQUETTE!D10,"NUL") -> NUL | E15: =IF(MOQUETTE!E10>0,MOQUETTE!E10,"NUL") -> NUL | F15: =IF(MOQUETTE!F10>0,MOQUETTE!F10,"NUL") -> NUL | G15: rouleau(x) de 40 Ml en Lè de 2m
A16: 0901 | B16: LIGHT GREEN | C16: 3 | D16: =IF(MOQUETTE!D11>0,MOQUETTE!D11,"NUL") -> NUL | E16: =IF(MOQUETTE!E11>0,MOQUETTE!E11,"NUL") -> NUL | F16: =IF(MOQUETTE!F11>0,MOQUETTE!F11,"NUL") -> NUL | G16: rouleau(x) de 50 Ml en Lè de 3m
A17: 0901 | B17: LIGHT GREEN | C17: 4 | D17: =IF(MOQUETTE!D12>0,MOQUETTE!D12,"NUL") -> NUL | E17: =IF(MOQUETTE!E12>0,MOQUETTE!E12,"NUL") -> NUL | F17: =IF(MOQUETTE!F12>0,MOQUETTE!F12,"NUL") -> NUL | G17: rouleau(x) de 50 Ml en Lè de 4m
A18: 0911 | B18: DARK GREEN | C18: 2 | D18: =IF(MOQUETTE!D13>0,MOQUETTE!D13,"NUL") -> 348 | E18: =IF(MOQUETTE!E13>0,MOQUETTE!E13,"NUL") -> 174 | F18: =IF(MOQUETTE!F13>0,MOQUETTE!F13,"NUL") -> 5 | G18: rouleau(x) de 40 Ml en Lè de 2m
... A98: 9289 | B98: PETUNIA | C98: 4 | D98: =IF(MOQUETTE!D93>0,MOQUETTE!D93,"NUL") -> NUL | E98: =IF(MOQUETTE!E93>0,MOQUETTE!E93,"NUL") -> NUL | F98: =IF(MOQUETTE!F93>0,MOQUETTE!F93,"NUL") -> NUL | G98: rouleau(x) de 50 Ml en Lè de 4m
