Workbook
Name Jour1: #REF!
Name Jour10: #REF!
Name Jour11: #REF!
Name Jour12: #REF!
Name Jour13: #REF!
Name Jour14: #REF!
Name Jour15: #REF!
Name Jour16: #REF!
Name Jour17: #REF!
Name Jour18: #REF!
Name Jour19: #REF!
Name Jour2: #REF!
Name Jour20: #REF!
Name Jour3: #REF!
Name Jour4: #REF!
Name Jour5: #REF!
Name Jour6: #REF!
Name Jour7: #REF!
Name Jour8: #REF!
Name Jour9: #REF!

Sheet A remplir
A1: 1ier jour du planning : | C1: 42766 | N1: Collaborateurs | AC1: Fonction
AE2: REUNION HEBDO mardi
O3: Maud | AE3: Groupe 1 | AF3: Groupe 2
B4: MARDI | C4: =IF(C1="","",C1) -> 42766 | D4: MERCREDI | E4: =IF(C4="","",C4+1) -> 42767 | F4: JEUDI | G4: =IF(E4="","",E4+1) -> 42768 | H4: VENDREDI | I4: =IF(G4="","",G4+1) -> 42769 | J4: SAMEDI | K4: =IF(I4="","",I4+1) -> 42770 | O4: Léa | AE4: Maud | AF4: léa
A5: 09H00 | B5: Léa | C5: Mahéva | D5: Florian | E5: Marie | F5: Aurélien | G5: Claire | H5: Sandrine | I5: Sabrina | J5: Léa | K5: Flavien | O5: Mahéva | AE5: marie | AF5: sandrine
A6: 10H00 | O6: Sandrine | AE6: mahéva | AF6: aurélien
A7: 11H00 | O7: Aurélien | AE7: claire | AF7: Marine
A8: 12H00 | O8: Marie | AE8: fabiola | AF8: dominique
A9: 13H00 | B9: Aurélien | C9: Sandrine | D9: Maud | E9: Marine | F9: Mahéva | G9: Fabiola | H9: Marie | I9: Dominique | O9: Fabiola | AE9: christelle | AF9: charlotte
A10: 14H00 | O10: Dominique | AE10: renaud | AF10: vincent
A11: 15H00 | O11: Marine | AE11: sabrina
A12: 15H30 | B12: Flavien | C12: Maud | O12: Claire
A13: 16H00 | O13: Charlotte | AE13: florian | AF13: florian
A14: 17H00 | O14: Sabrina | AE14: =COUNTA(AE4:AE13) -> 9 | AF14: =COUNTA(AF4:AF13) -> 8
O15: Renaud
F16: =IF(F3="","",F3+1) | O16: Vincent
B17: MARDI | C17: =IF(C1="","",C4+7) -> 42773 | D17: MERCREDI | E17: =IF(C17="","",C17+1) -> 42774 | F17: JEUDI | G17: =IF(E17="","",E17+1) -> 42775 | H17: VENDREDI | I17: =IF(G17="","",G17+1) -> 42776 | J17: SAMEDI | K17: =IF(I17="","",I17+1) -> 42777 | O17: Christelle
A18: 09H00 | B18: Flavien | C18: Mahéva | D18: Flavien | E18: Fabiola | F18: Flavien | G18: Léa | H18: Flavien | I18: Claire | J18: Aurélien | K18: Maud | O18: Florian
A19: 10H00 | O19: Floriane | AE19: ENTRETIEN
A20: 11H00 | O20: Flavien | AE20: =IF(O3="","",O3) -> Maud
A21: 12H00 | O21: Charline | AE21: =IF(O4="","",O4) -> Léa
A22: 13H00 | B22: Flavien | C22: Marine | D22: Flavien | E22: Dominique | F22: Flavien | G22: Sandrine | H22: Flavien | I22: Marie | AE22: =IF(O5="","",O5) -> Mahéva
A23: 14H00 | AE23: =IF(O6="","",O6) -> Sandrine
A24: 15H00 | N24: Présence accueil (en 1/2 journées) | AE24: =IF(O7="","",O7) -> Aurélien
A25: 15H30 | B25: Flavien | C25: Maud | N25: Collaborateurs | O25: Prestations sur 4 semaines | Q25: S1 | T25: S2 | W25: S3 | Z25: S4 | AC25: max prestation sur 4 semaines | AE25: =IF(O8="","",O8) -> Marie
A26: 16H00 | Q26: matin | R26: soir | S26: mardi | T26: matin | U26: soir | V26: mardi | W26: matin | X26: soir | Y26: mardi | Z26: matin | AA26: soir | AB26: mardi | AE26: =IF(O9="","",O9) -> Fabiola
A27: 17H00 | AE27: =IF(O10="","",O10) -> Dominique
AE28: =IF(O11="","",O11) -> Marine
F29: =IF(F16="","",F16+1) | AE29: =IF(O12="","",O12) -> Claire
B30: MARDI | C30: =IF(C1="","",C17+7) -> 42780 | D30: MERCREDI | E30: =IF(C30="","",C30+1) -> 42781 | F30: JEUDI | G30: =IF(E30="","",E30+1) -> 42782 | H30: VENDREDI | I30: =IF(G30="","",G30+1) -> 42783 | J30: SAMEDI | K30: =IF(I30="","",I30+1) -> 42784 | AE30: =IF(O13="","",O13) -> Charlotte
A31: 09H00 | B31: Charlotte | C31: Charline | D31: Charline | E31: Dominique | F31: Charline | G31: Marine | H31: Charline | I31: Renaud | J31: Charline | K31: Léa | AE31: =IF(O14="","",O14) -> Sabrina
A32: 10H00 | AE32: =IF(O15="","",O15) -> Renaud
A33: 11H00 | AE33: =IF(O16="","",O16) -> Vincent
A34: 12H00 | AE34: =IF(O17="","",O17) -> Christelle
A35: 13H00 | B35: Aurélien | C35: Charline | D35: Charline | E35: Sandrine | F35: Charline | G35: Aurélien | H35: Charline | I35: Sandrine | AE35: =IF(O18="","",O18) -> Florian
A36: 14H00 | AE36: =IF(O19="","",O19) -> Floriane
A37: 15H00 | AE37: =IF(O20="","",O20) -> Flavien
A38: 15H30 | B38: Maud | C38: Charline | AE38: =IF(O21="","",O21) -> Charline
A39: 16H00 | AE39: =IF(O22="","",O22)
A40: 17H00
...

Sheet Export
A1: UID collaborateur | B1: Nom collaborateur | C1: Prénom collaborateur | D1: Affectation collaborateur | E1: Poste type collaborateur | F1: UID signataire | G1: Nom signataire | H1: Prénom signataire | I1: Date demande | J1: Date début de période | K1: Date fin de période | L1: Témoin matin | M1: Témoin aprés-midi | N1: Code Motif | O1: Motif | P1: Nombre de droits consommés | Q1: Statut | R1: UID Gestionnaire | S1: Nom Gestionnaire | T1: Prénom Gestionnaire
C2: Christelle | I2: 42641 | J2: 42780 | K2: 42784 | L2: non | M2: non | N2: RTT | O2: JOURNEE RTT | P2: 5 | Q2: Validé
C3: Sabrina | I3: 42741 | J3: 42780 | K3: 42783 | L3: non | M3: non | N3: CPN | O3: CONGES PAYES STAND | P3: 5 | Q3: Validé
C4: Charlotte | I4: 42747 | J4: 42782 | K4: 42782 | L4: non | M4: non | N4: RTT | O4: JOURNEE RTT | P4: 1.05 | Q4: Validé
C5: Charlotte | I5: 42747 | J5: 42787 | K5: 42788 | L5: non | M5: non | N5: RTT | O5: JOURNEE RTT | P5: 4.43 | Q5: Validé
C6: Anne | I6: 42732 | J6: 42766 | K6: 42767 | L6: non | M6: non | N6: RTT | O6: JOURNEE RTT | P6: 2 | Q6: Validé
C7: Anne | I7: 42747 | J7: 42787 | K7: 42791 | L7: non | M7: non | N7: RTT | O7: JOURNEE RTT | Q7: Validé - Attente système de paie
C8: Fabiola | I8: 42643 | J8: 42787 | K8: 42791 | L8: non | M8: non | N8: CPN | O8: CONGES PAYES STAND | P8: 4 | Q8: Validé
C9: Aurelien | J9: 42769 | K9: 42769 | L9: non | M9: non | N9: FOR | O9: Formation
C10: Aurelien | I10: 42684 | J10: 42786 | K10: 42791 | L10: oui | M10: non | N10: RTT | O10: JOURNEE RTT | P10: 5 | Q10: Validé
C11: Marine | I11: 42633 | J11: 42794 | K11: 42798 | L11: non | M11: non | N11: CPN | O11: CONGES PAYES STAND | P11: 4.99 | Q11: Validé
C12: Delphine | I12: 42720 | J12: 42787 | K12: 42791 | L12: non | M12: non | N12: CPN | O12: CONGES PAYES STAND | P12: 5 | Q12: Validé
C13: Julie | I13: 42633 | J13: 42780 | K13: 42784 | L13: non | M13: non | N13: RTT | O13: JOURNEE RTT | P13: 5 | Q13: Validé
C14: Nicole | I14: 42636 | J14: 42789 | K14: 42789 | L14: oui | M14: non | N14: RTT | O14: JOURNEE RTT | P14: 0 | Q14: Validé
C15: Vanessa | I15: 42714 | J15: 42763 | K15: 42767 | L15: non | M15: non | N15: RTT | O15: JOURNEE RTT | P15: 3 | Q15: Validé
C16: Vanessa | I16: 42704 | J16: 42784 | K16: 42791 | L16: non | M16: non | N16: RTT | O16: JOURNEE RTT | P16: 6 | Q16: Validé
C17: Aurelie | J17: 42769 | K17: 42769 | L17: oui | M17: non | N17: FOR | O17: Formation
C18: Aurelie | I18: 42759 | J18: 42777 | K18: 42777 | L18: oui | M18: non | N18: CPN | O18: CONGES PAYES STAND | Q18: En cours
C19: Aurelie | I19: 42759 | J19: 42780 | K19: 42784 | L19: oui | M19: non | N19: CPN | O19: CONGES PAYES STAND | Q19: En cours
C20: Aline | I20: 42614 | J20: 42754 | K20: 42770 | L20: oui | M20: non | N20: CPN | O20: CONGES PAYES STAND | P20: 12.74 | Q20: Validé
C21: Celine | I21: 42640 | J21: 42787 | K21: 42791 | L21: oui | M21: non | N21: CPN | O21: CONGES PAYES STAND | P21: 0 | Q21: Validé
C22: Raphael | J22: 42769 | K22: 42769 | L22: oui | M22: non | N22: DEP | O22: Déplacement profes
C23: Raphael | I23: 42643 | J23: 42787 | K23: 42791 | L23: non | M23: non | N23: RTT | O23: JOURNEE RTT | P23: 5 | Q23: Validé
C24: Helene | J24: 42769 | K24: 42769 | L24: oui | M24: non | N24: DEP | O24: Déplacement profes
C25: Helene | I25: 42641 | J25: 42779 | K25: 42791 | L25: non | M25: non | N25: CPN | O25: CONGES PAYES STAND | P25: 10 | Q25: Validé
C26: Lea Corinne | I26: 42698 | J26: 42767 | K26: 42767 | L26: non | M26: non | N26: CTC | O26: TEMPS A LA CARTE | P26: 0 | Q26: Validé
C27: Lea Corinne | I27: 42654 | J27: 42777 | K27: 42783 | L27: non | M27: non | N27: CPN | O27: CONGES PAYES STAND | P27: 0 | Q27: Validé
C28: Patricia | J28: 42768 | K28: 42769 | L28: non | M28: non | N28: FOR | O28: Formation
C29: Patricia | I29: 42633 | J29: 42787 | K29: 42791 | L29: oui | M29: non | N29: RTT | O29: JOURNEE RTT | P29: 0 | Q29: Validé
C30: Audrey | I30: 42644 | J30: 42763 | K30: 42770 | L30: oui | M30: non | N30: RTT | O30: JOURNEE RTT | P30: 5.49 | Q30: Validé
C31: Manuella | I31: 42759 | J31: 42779 | K31: 42783 | L31: non | M31: non | N31: CPN | O31: CONGES PAYES STAND | Q31: En cours
C32: Manuella | J32: 42793 | K32: 42793 | L32: non | M32: non | N32: HOE | O32: HOSP. ENFANT
C33: Manuella | J33: 42794 | K33: 42794 | L33: non | M33: non | N33: MEN | O33: MALADIE ENFANT
C34: Charlotte | I34: 42614 | J34: 42754 | K34: 42770 | L34: non | M34: non | N34: RTT | O34: JOURNEE RTT | P34: 13 | Q34: Validé
C35: Claire | I35: 42614 | J35: 42790 | K35: 42791 | L35: non | M35: non | N35: RTT | O35: JOURNEE RTT | P35: 1.62 | Q35: Validé
C36: Claire | I36: 42711 | J36: 42794 | K36: 42794 | L36: non | M36: non | N36: RTT | O36: JOURNEE RTT | P36: 1.12 | Q36: Validé
C37: Dominique | J37: 42775 | K37: 42775 | L37: non | M37: non | N37: FOR | O37: Formation
C38: Dominique | I38: 42647 | J38: 42784 | K38: 42789 | L38: non | M38: non | N38: RTT | O38: JOURNEE RTT | P38: 0 | Q38: Validé
C39: Maheva | J39: 42767 | K39: 42767 | L39: non | M39: oui | N39: FOR | O39: Formation
C40: Maheva | J40: 42774 | K40: 42774 | L40: non | M40: non | N40: FOR | O40: Formation
...

Sheet A Imprimer
F1: ='A remplir'!F3:G3 -> 0
B2: MARDI | C2: =IF('A remplir'!C1="","",'A remplir'!C1) -> 42766 | D2: MERCREDI | E2: =IF(C2="","",C2+1) -> 42767 | F2: JEUDI | G2: =IF(E2="","",E2+1) -> 42768 | H2: VENDREDI | I2: =IF(G2="","",G2+1) -> 42769 | J2: SAMEDI | K2: =IF(I2="","",I2+1) -> 42770
A3: 09H00 | B3: ='A remplir'!B5 -> Léa | C3: ='A remplir'!C5 -> Mahéva | D3: ='A remplir'!D5 -> Florian | E3: ='A remplir'!E5 -> Marie | F3: ='A remplir'!F5 -> Aurélien | G3: ='A remplir'!G5 -> Claire | H3: ='A remplir'!H5 -> Sandrine | I3: ='A remplir'!I5 -> Sabrina | ... K3: ='A remplir'!K5 -> Flavien
A4: 10H00
A5: 11H00
A6: 12H00
A7: 13H00 | B7: ='A remplir'!B9 -> Aurélien | C7: ='A remplir'!C9 -> Sandrine | D7: ='A remplir'!D9 -> Maud | E7: ='A remplir'!E9 -> Marine | F7: ='A remplir'!F9 -> Mahéva | G7: ='A remplir'!G9 -> Fabiola | H7: ='A remplir'!H9 -> Marie | I7: ='A remplir'!I9 -> Dominique | ... K7: ='A remplir'!K9 -> 0
A8: 14H00 | J8: ='A remplir'!J10 -> 0 | K8: ='A remplir'!K10 -> 0
A9: 15H00 | J9: ='A remplir'!J11 -> 0 | K9: ='A remplir'!K11 -> 0
A10: 15H30 | B10: ='A remplir'!B12 -> Flavien | C10: ='A remplir'!C12 -> Maud | J10: ='A remplir'!J12 -> 0 | K10: ='A remplir'!K12 -> 0
A11: 16H00 | J11: ='A remplir'!J13 -> 0 | K11: ='A remplir'!K13 -> 0
A12: 17H00 | J12: ='A remplir'!J14 -> 0 | K12: ='A remplir'!K14 -> 0
F15: =F1+1 -> 1
B16: MARDI | C16: =IF('A remplir'!C1="","",C2+7) -> 42773 | D16: MERCREDI | E16: =IF(C16="","",C16+1) -> 42774 | F16: JEUDI | G16: =IF(E16="","",E16+1) -> 42775 | H16: VENDREDI | I16: =IF(G16="","",G16+1) -> 42776 | J16: SAMEDI | K16: =IF(I16="","",I16+1) -> 42777
A17: 09H00 | B17: ='A remplir'!B18 -> Flavien | C17: ='A remplir'!C18 -> Mahéva | D17: ='A remplir'!D18 -> Flavien | E17: ='A remplir'!E18 -> Fabiola | F17: ='A remplir'!F18 -> Flavien | G17: ='A remplir'!G18 -> Léa | H17: ='A remplir'!H18 -> Flavien | I17: claire | J17: ='A remplir'!J18 -> Aurélien | K17: ='A remplir'!K18 -> Maud
A18: 10H00
A19: 11H00
A20: 12H00
A21: 13H00 | B21: ='A remplir'!B22 -> Flavien | C21: ='A remplir'!C22 -> Marine | D21: ='A remplir'!D22 -> Flavien | E21: ='A remplir'!E22 -> Dominique | F21: ='A remplir'!F22 -> Flavien | G21: ='A remplir'!G22 -> Sandrine | H21: ='A remplir'!H22 -> Flavien | I21: ='A remplir'!I22 -> Marie | ... K21: ='A remplir'!K22 -> 0
A22: 14H00 | J22: ='A remplir'!J23 -> 0 | K22: ='A remplir'!K23 -> 0
A23: 15H00 | J23: ='A remplir'!J24 -> 0 | K23: ='A remplir'!K24 -> 0
A24: 15H30 | B24: ='A remplir'!B25 -> Flavien | C24: ='A remplir'!C25 -> Maud | J24: ='A remplir'!J25 -> 0 | K24: ='A remplir'!K25 -> 0
A25: 16H00 | J25: ='A remplir'!J26 -> 0 | K25: ='A remplir'!K26 -> 0
A26: 17H00 | J26: ='A remplir'!J27 -> 0 | K26: ='A remplir'!K27 -> 0
F28: =IF(F15="","",F15+1) -> 2
B29: MARDI | C29: =IF('A remplir'!C1="","",C16+7) -> 42780 | D29: MERCREDI | E29: =IF(C29="","",C29+1) -> 42781 | F29: JEUDI | G29: =IF(E29="","",E29+1) -> 42782 | H29: VENDREDI | I29: =IF(G29="","",G29+1) -> 42783 | J29: SAMEDI | K29: =IF(I29="","",I29+1) -> 42784
A30: 09H00 | B30: ='A remplir'!B31 -> Charlotte | C30: Charline | D30: ='A remplir'!D31 -> Charline | E30: ='A remplir'!E31 -> Dominique | F30: ='A remplir'!F31 -> Charline | G30: ='A remplir'!G31 -> Marine | H30: ='A remplir'!H31 -> Charline | I30: ='A remplir'!I31 -> Renaud | J30: ='A remplir'!J31 -> Charline | K30: ='A remplir'!K31 -> Léa
A31: 10H00
A32: 11H00
A33: 12H00
A34: 13H00 | B34: ='A remplir'!B35 -> Aurélien | C34: Charline | D34: ='A remplir'!D35 -> Charline | E34: ='A remplir'!E35 -> Sandrine | F34: ='A remplir'!F35 -> Charline | G34: ='A remplir'!G35 -> Aurélien | H34: ='A remplir'!H35 -> Charline | I34: ='A remplir'!I35 -> Sandrine | J34: ='A remplir'!J35 -> 0 | K34: ='A remplir'!K35 -> 0
A35: 14H00 | J35: ='A remplir'!J36 -> 0 | K35: ='A remplir'!K36 -> 0
A36: 15H00 | J36: ='A remplir'!J37 -> 0 | K36: ='A remplir'!K37 -> 0
A37: 15H30 | B37: ='A remplir'!B38 -> Maud | C37: ='A remplir'!C38 -> Charline | J37: ='A remplir'!J38 -> 0 | K37: ='A remplir'!K38 -> 0
A38: 16H00 | J38: ='A remplir'!J39 -> 0 | K38: ='A remplir'!K39 -> 0
A39: 17H00 | J39: ='A remplir'!J40 -> 0 | K39: ='A remplir'!K40 -> 0
F42: =IF(F28="","",F28+1) -> 3
B43: MARDI | C43: =IF('A remplir'!C1="","",C29+7) -> 42787 | D43: MERCREDI | E43: =IF(C43="","",C43+1) -> 42788 | F43: JEUDI | G43: =IF(E43="","",E43+1) -> 42789 | H43: VENDREDI | I43: =IF(G43="","",G43+1) -> 42790 | J43: SAMEDI | K43: =IF(I43="","",I43+1) -> 42791
A44: 09H00 | B44: ='A remplir'!B44 -> Mahéva | C44: ='A remplir'!C44 -> Floriane | D44: ='A remplir'!D44 -> Floriane | E44: ='A remplir'!E44 -> Sabrina | F44: ='A remplir'!F44 -> Floriane | G44: ='A remplir'!G44 -> Christelle | H44: ='A remplir'!H44 -> Floriane | I44: ='A remplir'!I44 -> Vincent | ... K44: ='A remplir'!K44 -> Marie
A45: 10H00
...
