Workbook

Sheet Points mesurés
B2: Nombre de point par cylindre | C2: Angle entre chaque point | D2: Rayon théorique | E2: x | F2: y | G2: IT | H2: Distance théorique entre cylindres | I2: Hauteur
B3: 24 | C3: =(2*PI())/B3 -> 0.26179939 | D3: 5 | E3: 0.1 | F3: 0 | G3: 0.3 | H3: 80 | I3: 60
B5: i | C5: alphacumul | D5: x | E5: y | F5: z | G5: xerr | H5: yerr | I5: z
B6: 1 | C6: 0 | D6: =$D$3*COS(C6) -> 5 | E6: =$D$3*SIN(C6) -> 0 | F6: =I6 -> 60 | G6: =D6+$E$3 -> 5.1 | H6: =E6+$F$3 -> 0 | I6: =$I$3 -> 60
B7: 2 | C7: =C6+$C$3 -> 0.26179939 | D7: =$D$3*COS(C7) -> 4.8296291 | E7: =$D$3*SIN(C7) -> 1.2940952 | F7: =I7 -> 60 | G7: =D7+$E$3 -> 4.9296291 | H7: =E7+$F$3 -> 1.2940952 | I7: =$I$3 -> 60
B8: 3 | C8: =C7+$C$3 -> 0.52359878 | D8: =$D$3*COS(C8) -> 4.330127 | E8: =$D$3*SIN(C8) -> 2.5 | F8: =I8 -> 60 | G8: =D8+$E$3 -> 4.430127 | H8: =E8+$F$3 -> 2.5 | I8: =$I$3 -> 60
B9: 4 | C9: =C8+$C$3 -> 0.78539816 | D9: =$D$3*COS(C9) -> 3.5355339 | E9: =$D$3*SIN(C9) -> 3.5355339 | F9: =I9 -> 60 | G9: =D9+$E$3 -> 3.6355339 | H9: =E9+$F$3 -> 3.5355339 | I9: =$I$3 -> 60
B10: 5 | C10: =C9+$C$3 -> 1.0471976 | D10: =$D$3*COS(C10) -> 2.5 | E10: =$D$3*SIN(C10) -> 4.330127 | F10: =I10 -> 60 | G10: =D10+$E$3 -> 2.6 | H10: =E10+$F$3 -> 4.330127 | I10: =$I$3 -> 60
B11: 6 | C11: =C10+$C$3 -> 1.3089969 | D11: =$D$3*COS(C11) -> 1.2940952 | E11: =$D$3*SIN(C11) -> 4.8296291 | F11: =I11 -> 60 | G11: =D11+$E$3 -> 1.3940952 | H11: =E11+$F$3 -> 4.8296291 | I11: =$I$3 -> 60
B12: 7 | C12: =C11+$C$3 -> 1.5707963 | D12: =$D$3*COS(C12) -> 1.4165101e-15 | E12: =$D$3*SIN(C12) -> 5 | F12: =I12 -> 60 | G12: =D12+$E$3 -> 0.1 | H12: =E12+$F$3 -> 5 | I12: =$I$3 -> 60
B13: 8 | C13: =C12+$C$3 -> 1.8325957 | D13: =$D$3*COS(C13) -> -1.2940952 | E13: =$D$3*SIN(C13) -> 4.8296291 | F13: =I13 -> 60 | G13: =D13+$E$3 -> -1.1940952 | H13: =E13+$F$3 -> 4.8296291 | I13: =$I$3 -> 60
B14: 9 | C14: =C13+$C$3 -> 2.0943951 | D14: =$D$3*COS(C14) -> -2.5 | E14: =$D$3*SIN(C14) -> 4.330127 | F14: =I14 -> 60 | G14: =D14+$E$3 -> -2.4 | H14: =E14+$F$3 -> 4.330127 | I14: =$I$3 -> 60
B15: 10 | C15: =C14+$C$3 -> 2.3561945 | D15: =$D$3*COS(C15) -> -3.5355339 | E15: =$D$3*SIN(C15) -> 3.5355339 | F15: =I15 -> 60 | G15: =D15+$E$3 -> -3.4355339 | H15: =E15+$F$3 -> 3.5355339 | I15: =$I$3 -> 60
B16: 11 | C16: =C15+$C$3 -> 2.6179939 | D16: =$D$3*COS(C16) -> -4.330127 | E16: =$D$3*SIN(C16) -> 2.5 | F16: =I16 -> 60 | G16: =D16+$E$3 -> -4.230127 | H16: =E16+$F$3 -> 2.5 | I16: =$I$3 -> 60
B17: 12 | C17: =C16+$C$3 -> 2.8797933 | D17: =$D$3*COS(C17) -> -4.8296291 | E17: =$D$3*SIN(C17) -> 1.2940952 | F17: =I17 -> 60 | G17: =D17+$E$3 -> -4.7296291 | H17: =E17+$F$3 -> 1.2940952 | I17: =$I$3 -> 60
B18: 13 | C18: =C17+$C$3 -> 3.1415927 | D18: =$D$3*COS(C18) -> -5 | E18: =$D$3*SIN(C18) -> -1.6078718e-15 | F18: =I18 -> 60 | G18: =D18+$E$3 -> -4.9 | H18: =E18+$F$3 -> -1.6078718e-15 | I18: =$I$3 -> 60
B19: 14 | C19: =C18+$C$3 -> 3.403392 | D19: =$D$3*COS(C19) -> -4.8296291 | E19: =$D$3*SIN(C19) -> -1.2940952 | F19: =I19 -> 0 | G19: =D19+$E$3 -> -4.7296291 | H19: =E19+$F$3 -> -1.2940952 | I19: 0
B20: 15 | C20: =C19+$C$3 -> 3.6651914 | D20: =$D$3*COS(C20) -> -4.330127 | E20: =$D$3*SIN(C20) -> -2.5 | F20: =I20 -> 0 | G20: =D20+$E$3 -> -4.230127 | H20: =E20+$F$3 -> -2.5 | I20: 0
B21: 16 | C21: =C20+$C$3 -> 3.9269908 | D21: =$D$3*COS(C21) -> -3.5355339 | E21: =$D$3*SIN(C21) -> -3.5355339 | F21: =I21 -> 0 | G21: =D21+$E$3 -> -3.4355339 | H21: =E21+$F$3 -> -3.5355339 | I21: 0
B22: 17 | C22: =C21+$C$3 -> 4.1887902 | D22: =$D$3*COS(C22) -> -2.5 | E22: =$D$3*SIN(C22) -> -4.330127 | F22: =I22 -> 0 | G22: =D22+$E$3 -> -2.4 | H22: =E22+$F$3 -> -4.330127 | I22: 0
B23: 18 | C23: =C22+$C$3 -> 4.4505896 | D23: =$D$3*COS(C23) -> -1.2940952 | E23: =$D$3*SIN(C23) -> -4.8296291 | F23: =I23 -> 0 | G23: =D23+$E$3 -> -1.1940952 | H23: =E23+$F$3 -> -4.8296291 | I23: 0
B24: 19 | C24: =C23+$C$3 -> 4.712389 | D24: =$D$3*COS(C24) -> -9.1886134e-16 | E24: =$D$3*SIN(C24) -> -5 | F24: =I24 -> 0 | G24: =D24+$E$3 -> 0.1 | H24: =E24+$F$3 -> -5 | I24: 0
B25: 20 | C25: =C24+$C$3 -> 4.9741884 | D25: =$D$3*COS(C25) -> 1.2940952 | E25: =$D$3*SIN(C25) -> -4.8296291 | F25: =I25 -> 0 | G25: =D25+$E$3 -> 1.3940952 | H25: =E25+$F$3 -> -4.8296291 | I25: 0
B26: 21 | C26: =C25+$C$3 -> 5.2359878 | D26: =$D$3*COS(C26) -> 2.5 | E26: =$D$3*SIN(C26) -> -4.330127 | F26: =I26 -> 0 | G26: =D26+$E$3 -> 2.6 | H26: =E26+$F$3 -> -4.330127 | I26: 0
B27: 22 | C27: =C26+$C$3 -> 5.4977871 | D27: =$D$3*COS(C27) -> 3.5355339 | E27: =$D$3*SIN(C27) -> -3.5355339 | F27: =I27 -> 0 | G27: =D27+$E$3 -> 3.6355339 | H27: =E27+$F$3 -> -3.5355339 | I27: 0
B28: 23 | C28: =C27+$C$3 -> 5.7595865 | D28: =$D$3*COS(C28) -> 4.330127 | E28: =$D$3*SIN(C28) -> -2.5 | F28: =I28 -> 0 | G28: =D28+$E$3 -> 4.430127 | H28: =E28+$F$3 -> -2.5 | I28: 0
B29: 24 | C29: =C28+$C$3 -> 6.0213859 | D29: =$D$3*COS(C29) -> 4.8296291 | E29: =$D$3*SIN(C29) -> -1.2940952 | F29: =I29 -> 0 | G29: =D29+$E$3 -> 4.9296291 | H29: =E29+$F$3 -> -1.2940952 | I29: 0
B30: 25 | C30: =C29+$C$3 -> 6.2831853 | D30: =$D$3*COS(C30) -> 5 | E30: =$D$3*SIN(C30) -> -1.0106933e-14 | F30: =I30 -> 0 | G30: =D30+$E$3 -> 5.1 | H30: =E30+$F$3 -> -1.0106933e-14 | I30: 0

Sheet Clacul intermédiaire 
B3: Cylindre avec déformation
B7: i | C7: Xi | D7: Yi | E7: Zi | F7: Xi² | G7: Yi² | H7: Zi² | I7: Ri | J7: Cos teta i | K7: Sin teta i | L7: Cos² teta i2 | M7: Sin² teta i2 | N7: Zi * sinteta | O7: Zi * sin²teta | P7: Zi * cos | Q7: Zi * cos² | R7: Zi*cos*sin | S7: Zi²*cos*sin | T7: Zi²*cos² | U7: Zi²*sin² | V7: cos sin | W7: Psi | X7: Zi*sin*psi | Y7: Zi*cos*psi | Z7: psi*cos | AA7: psi*sin
B8: 1. | C8: ='Points mesurés'!G6 -> 5.1 | D8: ='Points mesurés'!H6 -> 0 | E8: ='Points mesurés'!I6 -> 60 | F8: =Tableau378[[#This Row],[Xi]]*Tableau378[[#This Row],[Xi]] -> 26.01 | G8: =Tableau378[[#This Row],[Yi]]*Tableau378[[#This Row],[Yi]] -> 0 | H8: =E8*E8 -> 3600 | I8: =SQRT(Tableau378[[#This Row],[Xi²]]+Tableau378[[#This Row],[Yi²]]) -> 5.1 | J8: =IFERROR(Tableau378[[#This Row],[Xi]]/Tableau378[[#This Row],[Ri]],0) -> 1 | K8: =IFERROR(Tableau378[[#This Row],[Yi]]/Tableau378[[#This Row],[Ri]],0) -> 0 | L8: =Tableau378[[#This Row],[Cos teta i]]*Tableau378[[#This Row],[Cos teta i]] -> 1 | M8: =Tableau378[[#This Row],[Sin teta i]]*Tableau378[[#This Row],[Sin teta i]] -> 0 | N8: =Tableau378[[#This Row],[Zi]]*Tableau378[[#This Row],[Sin teta i]] -> 0 | O8: =Tableau378[[#This Row],[Zi]]*Tableau378[[#This Row],[Sin² teta i2]] -> 0 | P8: =Tableau378[[#This Row],[Zi]]*Tableau378[[#This Row],[Cos teta i]] -> 60 | Q8: =Tableau378[[#This Row],[Zi]]*Tableau378[[#This Row],[Cos² teta i2]] -> 60 | R8: =Tableau378[[#This Row],[Zi * sinteta]]*Tableau378[[#This Row],[Cos teta i]] -> 0 | S8: =Tableau378[[#This Row],[Zi²]]*Tableau378[[#This Row],[Cos teta i]]*Tableau378[[#This Row],[Sin teta i]] -> 0 | T8: =Tableau378[[#This Row],[Zi²]]*Tableau378[[#This Row],[Cos² teta i2]] -> 3600 | U8: =Tableau378[[#This Row],[Zi²]]*Tableau378[[#This Row],[Sin² teta i2]] -> 0 | V8: =Tableau378[[#This Row],[Cos teta i]]*Tableau378[[#This Row],[Sin teta i]] -> 0 | W8: =IF(Tableau378[[#This Row],[Ri]] <>0,Tableau378[[#This Row],[Ri]]-'Points mesurés'!$D$3,0) -> 0.1 | X8: =Tableau378[[#This Row],[Zi * sinteta]]*W8 -> 0 | Y8: =Tableau378[[#This Row],[Zi * cos]]*Tableau378[[#This Row],[Psi]] -> 6 | Z8: =Tableau378[[#This Row],[Psi]]*Tableau378[[#This Row],[Cos teta i]] -> 0.1 | AA8: =Tableau378[[#This Row],[Psi]]*Tableau378[[#This Row],[Sin teta i]] -> 0 | AB8: min | AC8: max
B9: 2. | C9: ='Points mesurés'!G7 -> 4.9296291 | D9: ='Points mesurés'!H7 -> 1.2940952 | E9: ='Points mesurés'!I7 -> 60 | F9: =Tableau378[[#This Row],[Xi]]*Tableau378[[#This Row],[Xi]] -> 24.301243 | G9: =Tableau378[[#This Row],[Yi]]*Tableau378[[#This Row],[Yi]] -> 1.6746825 | H9: =E9*E9 -> 3600 | I9: =SQRT(Tableau378[[#This Row],[Xi²]]+Tableau378[[#This Row],[Yi²]]) -> 5.0966583 | J9: =IFERROR(Tableau378[[#This Row],[Xi]]/Tableau378[[#This Row],[Ri]],0) -> 0.96722771 | K9: =IFERROR(Tableau378[[#This Row],[Yi]]/Tableau378[[#This Row],[Ri]],0) -> 0.25391053 | L9: =Tableau378[[#This Row],[Cos teta i]]*Tableau378[[#This Row],[Cos teta i]] -> 0.93552944 | M9: =Tableau378[[#This Row],[Sin teta i]]*Tableau378[[#This Row],[Sin teta i]] -> 0.064470559 | N9: =Tableau378[[#This Row],[Zi]]*Tableau378[[#This Row],[Sin teta i]] -> 15.234632 | O9: =Tableau378[[#This Row],[Zi]]*Tableau378[[#This Row],[Sin² teta i2]] -> 3.8682335 | P9: =Tableau378[[#This Row],[Zi]]*Tableau378[[#This Row],[Cos teta i]] -> 58.033663 | Q9: =Tableau378[[#This Row],[Zi]]*Tableau378[[#This Row],[Cos² teta i2]] -> 56.131766 | R9: =Tableau378[[#This Row],[Zi * sinteta]]*Tableau378[[#This Row],[Cos teta i]] -> 14.735358 | S9: =Tableau378[[#This Row],[Zi²]]*Tableau378[[#This Row],[Cos teta i]]*Tableau378[[#This Row],[Sin teta i]] -> 884.12149 | T9: =Tableau378[[#This Row],[Zi²]]*Tableau378[[#This Row],[Cos² teta i2]] -> 3367.906 | U9: =Tableau378[[#This Row],[Zi²]]*Tableau378[[#This Row],[Sin² teta i2]] -> 232.09401 | V9: =Tableau378[[#This Row],[Cos teta i]]*Tableau378[[#This Row],[Sin teta i]] -> 0.2455893 | W9: =IF(Tableau378[[#This Row],[Ri]] <>0,Tableau378[[#This Row],[Ri]]-'Points mesurés'!$D$3,0) -> 0.0966583 | X9: =Tableau378[[#This Row],[Zi * sinteta]]*W9 -> 1.4725536 | Y9: =Tableau378[[#This Row],[Zi * cos]]*Tableau378[[#This Row],[Psi]] -> 5.6094352 | Z9: =Tableau378[[#This Row],[Psi]]*Tableau378[[#This Row],[Cos teta i]] -> 0.093490586 | AA9: =Tableau378[[#This Row],[Psi]]*Tableau378[[#This Row],[Sin teta i]] -> 0.02454256 | AB9: =MIN(Tableau378[Psi]) -> -0.1 | AC9: =MAX(Tableau378[Psi]) -> 0.1
B10: 3. | C10: ='Points mesurés'!G8 -> 4.430127 | D10: ='Points mesurés'!H8 -> 2.5 | E10: ='Points mesurés'!I8 -> 60 | F10: =Tableau378[[#This Row],[Xi]]*Tableau378[[#This Row],[Xi]] -> 19.626025 | G10: =Tableau378[[#This Row],[Yi]]*Tableau378[[#This Row],[Yi]] -> 6.25 | H10: =E10*E10 -> 3600 | I10: =SQRT(Tableau378[[#This Row],[Xi²]]+Tableau378[[#This Row],[Yi²]]) -> 5.0868483 | J10: =IFERROR(Tableau378[[#This Row],[Xi]]/Tableau378[[#This Row],[Ri]],0) -> 0.8708982 | K10: =IFERROR(Tableau378[[#This Row],[Yi]]/Tableau378[[#This Row],[Ri]],0) -> 0.49146345 | L10: =Tableau378[[#This Row],[Cos teta i]]*Tableau378[[#This Row],[Cos teta i]] -> 0.75846368 | M10: =Tableau378[[#This Row],[Sin teta i]]*Tableau378[[#This Row],[Sin teta i]] -> 0.24153632 | N10: =Tableau378[[#This Row],[Zi]]*Tableau378[[#This Row],[Sin teta i]] -> 29.487807 | O10: =Tableau378[[#This Row],[Zi]]*Tableau378[[#This Row],[Sin² teta i2]] -> 14.492179 | P10: =Tableau378[[#This Row],[Zi]]*Tableau378[[#This Row],[Cos teta i]] -> 52.253892 | Q10: =Tableau378[[#This Row],[Zi]]*Tableau378[[#This Row],[Cos² teta i2]] -> 45.507821 | R10: =Tableau378[[#This Row],[Zi * sinteta]]*Tableau378[[#This Row],[Cos teta i]] -> 25.680878 | S10: =Tableau378[[#This Row],[Zi²]]*Tableau378[[#This Row],[Cos teta i]]*Tableau378[[#This Row],[Sin teta i]] -> 1540.8527 | T10: =Tableau378[[#This Row],[Zi²]]*Tableau378[[#This Row],[Cos² teta i2]] -> 2730.4692 | U10: =Tableau378[[#This Row],[Zi²]]*Tableau378[[#This Row],[Sin² teta i2]] -> 869.53076 | V10: =Tableau378[[#This Row],[Cos teta i]]*Tableau378[[#This Row],[Sin teta i]] -> 0.42801463 | W10: =IF(Tableau378[[#This Row],[Ri]] <>0,Tableau378[[#This Row],[Ri]]-'Points mesurés'!$D$3,0) -> 0.086848278 | X10: =Tableau378[[#This Row],[Zi * sinteta]]*W10 -> 2.5609653 | Y10: =Tableau378[[#This Row],[Zi * cos]]*Tableau378[[#This Row],[Psi]] -> 4.5381606 | Z10: =Tableau378[[#This Row],[Psi]]*Tableau378[[#This Row],[Cos teta i]] -> 0.075636009 | AA10: =Tableau378[[#This Row],[Psi]]*Tableau378[[#This Row],[Sin teta i]] -> 0.042682754 | AB10: Défaut
B11: 4. | C11: ='Points mesurés'!G9 -> 3.6355339 | D11: ='Points mesurés'!H9 -> 3.5355339 | E11: ='Points mesurés'!I9 -> 60 | F11: =Tableau378[[#This Row],[Xi]]*Tableau378[[#This Row],[Xi]] -> 13.217107 | G11: =Tableau378[[#This Row],[Yi]]*Tableau378[[#This Row],[Yi]] -> 12.5 | H11: =E11*E11 -> 3600 | I11: =SQRT(Tableau378[[#This Row],[Xi²]]+Tableau378[[#This Row],[Yi²]]) -> 5.0712037 | J11: =IFERROR(Tableau378[[#This Row],[Xi]]/Tableau378[[#This Row],[Ri]],0) -> 0.71689763 | K11: =IFERROR(Tableau378[[#This Row],[Yi]]/Tableau378[[#This Row],[Ri]],0) -> 0.69717845 | L11: =Tableau378[[#This Row],[Cos teta i]]*Tableau378[[#This Row],[Cos teta i]] -> 0.51394221 | M11: =Tableau378[[#This Row],[Sin teta i]]*Tableau378[[#This Row],[Sin teta i]] -> 0.48605779 | N11: =Tableau378[[#This Row],[Zi]]*Tableau378[[#This Row],[Sin teta i]] -> 41.830707 | O11: =Tableau378[[#This Row],[Zi]]*Tableau378[[#This Row],[Sin² teta i2]] -> 29.163467 | P11: =Tableau378[[#This Row],[Zi]]*Tableau378[[#This Row],[Cos teta i]] -> 43.013858 | Q11: =Tableau378[[#This Row],[Zi]]*Tableau378[[#This Row],[Cos² teta i2]] -> 30.836533 | R11: =Tableau378[[#This Row],[Zi * sinteta]]*Tableau378[[#This Row],[Cos teta i]] -> 29.988335 | S11: =Tableau378[[#This Row],[Zi²]]*Tableau378[[#This Row],[Cos teta i]]*Tableau378[[#This Row],[Sin teta i]] -> 1799.3001 | T11: =Tableau378[[#This Row],[Zi²]]*Tableau378[[#This Row],[Cos² teta i2]] -> 1850.192 | U11: =Tableau378[[#This Row],[Zi²]]*Tableau378[[#This Row],[Sin² teta i2]] -> 1749.808 | V11: =Tableau378[[#This Row],[Cos teta i]]*Tableau378[[#This Row],[Sin teta i]] -> 0.49980558 | W11: =IF(Tableau378[[#This Row],[Ri]] <>0,Tableau378[[#This Row],[Ri]]-'Points mesurés'!$D$3,0) -> 0.071203682 | X11: =Tableau378[[#This Row],[Zi * sinteta]]*W11 -> 2.9785003 | Y11: =Tableau378[[#This Row],[Zi * cos]]*Tableau378[[#This Row],[Psi]] -> 3.062745 | Z11: =Tableau378[[#This Row],[Psi]]*Tableau378[[#This Row],[Cos teta i]] -> 0.051045751 | AA11: =Tableau378[[#This Row],[Psi]]*Tableau378[[#This Row],[Sin teta i]] -> 0.049641672 | AB11: =AC9-AB9 -> 0.2
B12: 5. | C12: ='Points mesurés'!G10 -> 2.6 | D12: ='Points mesurés'!H10 -> 4.330127 | E12: ='Points mesurés'!I10 -> 60 | F12: =Tableau378[[#This Row],[Xi]]*Tableau378[[#This Row],[Xi]] -> 6.76 | G12: =Tableau378[[#This Row],[Yi]]*Tableau378[[#This Row],[Yi]] -> 18.75 | H12: =E12*E12 -> 3600 | I12: =SQRT(Tableau378[[#This Row],[Xi²]]+Tableau378[[#This Row],[Yi²]]) -> 5.0507425 | J12: =IFERROR(Tableau378[[#This Row],[Xi]]/Tableau378[[#This Row],[Ri]],0) -> 0.5147758 | K12: =IFERROR(Tableau378[[#This Row],[Yi]]/Tableau378[[#This Row],[Ri]],0) -> 0.85732484 | L12: =Tableau378[[#This Row],[Cos teta i]]*Tableau378[[#This Row],[Cos teta i]] -> 0.26499412 | M12: =Tableau378[[#This Row],[Sin teta i]]*Tableau378[[#This Row],[Sin teta i]] -> 0.73500588 | N12: =Tableau378[[#This Row],[Zi]]*Tableau378[[#This Row],[Sin teta i]] -> 51.43949 | O12: =Tableau378[[#This Row],[Zi]]*Tableau378[[#This Row],[Sin² teta i2]] -> 44.100353 | P12: =Tableau378[[#This Row],[Zi]]*Tableau378[[#This Row],[Cos teta i]] -> 30.886548 | Q12: =Tableau378[[#This Row],[Zi]]*Tableau378[[#This Row],[Cos² teta i2]] -> 15.899647 | R12: =Tableau378[[#This Row],[Zi * sinteta]]*Tableau378[[#This Row],[Cos teta i]] -> 26.479805 | S12: =Tableau378[[#This Row],[Zi²]]*Tableau378[[#This Row],[Cos teta i]]*Tableau378[[#This Row],[Sin teta i]] -> 1588.7883 | T12: =Tableau378[[#This Row],[Zi²]]*Tableau378[[#This Row],[Cos² teta i2]] -> 953.97883 | U12: =Tableau378[[#This Row],[Zi²]]*Tableau378[[#This Row],[Sin² teta i2]] -> 2646.0212 | V12: =Tableau378[[#This Row],[Cos teta i]]*Tableau378[[#This Row],[Sin teta i]] -> 0.44133008 | W12: =IF(Tableau378[[#This Row],[Ri]] <>0,Tableau378[[#This Row],[Ri]]-'Points mesurés'!$D$3,0) -> 0.05074252 | X12: =Tableau378[[#This Row],[Zi * sinteta]]*W12 -> 2.6101694 | Y12: =Tableau378[[#This Row],[Zi * cos]]*Tableau378[[#This Row],[Psi]] -> 1.5672613 | Z12: =Tableau378[[#This Row],[Psi]]*Tableau378[[#This Row],[Cos teta i]] -> 0.026121021 | AA12: =Tableau378[[#This Row],[Psi]]*Tableau378[[#This Row],[Sin teta i]] -> 0.043502823
B13: 6. | C13: ='Points mesurés'!G11 -> 1.3940952 | D13: ='Points mesurés'!H11 -> 4.8296291 | E13: ='Points mesurés'!I11 -> 60 | F13: =Tableau378[[#This Row],[Xi]]*Tableau378[[#This Row],[Xi]] -> 1.9435015 | G13: =Tableau378[[#This Row],[Yi]]*Tableau378[[#This Row],[Yi]] -> 23.325318 | H13: =E13*E13 -> 3600 | I13: =SQRT(Tableau378[[#This Row],[Xi²]]+Tableau378[[#This Row],[Yi²]]) -> 5.02681 | J13: =IFERROR(Tableau378[[#This Row],[Xi]]/Tableau378[[#This Row],[Ri]],0) -> 0.27733199 | K13: =IFERROR(Tableau378[[#This Row],[Yi]]/Tableau378[[#This Row],[Ri]],0) -> 0.96077415 | L13: =Tableau378[[#This Row],[Cos teta i]]*Tableau378[[#This Row],[Cos teta i]] -> 0.076913032 | M13: =Tableau378[[#This Row],[Sin teta i]]*Tableau378[[#This Row],[Sin teta i]] -> 0.92308697 | N13: =Tableau378[[#This Row],[Zi]]*Tableau378[[#This Row],[Sin teta i]] -> 57.646449 | O13: =Tableau378[[#This Row],[Zi]]*Tableau378[[#This Row],[Sin² teta i2]] -> 55.385218 | P13: =Tableau378[[#This Row],[Zi]]*Tableau378[[#This Row],[Cos teta i]] -> 16.639919 | Q13: =Tableau378[[#This Row],[Zi]]*Tableau378[[#This Row],[Cos² teta i2]] -> 4.6147819 | R13: =Tableau378[[#This Row],[Zi * sinteta]]*Tableau378[[#This Row],[Cos teta i]] -> 15.987204 | S13: =Tableau378[[#This Row],[Zi²]]*Tableau378[[#This Row],[Cos teta i]]*Tableau378[[#This Row],[Sin teta i]] -> 959.23226 | T13: =Tableau378[[#This Row],[Zi²]]*Tableau378[[#This Row],[Cos² teta i2]] -> 276.88692 | U13: =Tableau378[[#This Row],[Zi²]]*Tableau378[[#This Row],[Sin² teta i2]] -> 3323.1131 | V13: =Tableau378[[#This Row],[Cos teta i]]*Tableau378[[#This Row],[Sin teta i]] -> 0.26645341 | W13: =IF(Tableau378[[#This Row],[Ri]] <>0,Tableau378[[#This Row],[Ri]]-'Points mesurés'!$D$3,0) -> 0.026810027 | X13: =Tableau378[[#This Row],[Zi * sinteta]]*W13 -> 1.5455028 | Y13: =Tableau378[[#This Row],[Zi * cos]]*Tableau378[[#This Row],[Psi]] -> 0.44611668 | Z13: =Tableau378[[#This Row],[Psi]]*Tableau378[[#This Row],[Cos teta i]] -> 0.0074352781 | AA13: =Tableau378[[#This Row],[Psi]]*Tableau378[[#This Row],[Sin teta i]] -> 0.025758381
B14: 7. | C14: ='Points mesurés'!G12 -> 0.1 | D14: ='Points mesurés'!H12 -> 5 | E14: ='Points mesurés'!I12 -> 60 | F14: =Tableau378[[#This Row],[Xi]]*Tableau378[[#This Row],[Xi]] -> 0.01 | G14: =Tableau378[[#This Row],[Yi]]*Tableau378[[#This Row],[Yi]] -> 25 | H14: =E14*E14 -> 3600 | I14: =SQRT(Tableau378[[#This Row],[Xi²]]+Tableau378[[#This Row],[Yi²]]) -> 5.0009999 | J14: =IFERROR(Tableau378[[#This Row],[Xi]]/Tableau378[[#This Row],[Ri]],0) -> 0.019996001 | K14: =IFERROR(Tableau378[[#This Row],[Yi]]/Tableau378[[#This Row],[Ri]],0) -> 0.99980006 | L14: =Tableau378[[#This Row],[Cos teta i]]*Tableau378[[#This Row],[Cos teta i]] -> 0.00039984006 | M14: =Tableau378[[#This Row],[Sin teta i]]*Tableau378[[#This Row],[Sin teta i]] -> 0.99960016 | N14: =Tableau378[[#This Row],[Zi]]*Tableau378[[#This Row],[Sin teta i]] -> 59.988004 | O14: =Tableau378[[#This Row],[Zi]]*Tableau378[[#This Row],[Sin² teta i2]] -> 59.97601 | P14: =Tableau378[[#This Row],[Zi]]*Tableau378[[#This Row],[Cos teta i]] -> 1.1997601 | Q14: =Tableau378[[#This Row],[Zi]]*Tableau378[[#This Row],[Cos² teta i2]] -> 0.023990404 | R14: =Tableau378[[#This Row],[Zi * sinteta]]*Tableau378[[#This Row],[Cos teta i]] -> 1.1995202 | S14: =Tableau378[[#This Row],[Zi²]]*Tableau378[[#This Row],[Cos teta i]]*Tableau378[[#This Row],[Sin teta i]] -> 71.971212 | T14: =Tableau378[[#This Row],[Zi²]]*Tableau378[[#This Row],[Cos² teta i2]] -> 1.4394242 | U14: =Tableau378[[#This Row],[Zi²]]*Tableau378[[#This Row],[Sin² teta i2]] -> 3598.5606 | V14: =Tableau378[[#This Row],[Cos teta i]]*Tableau378[[#This Row],[Sin teta i]] -> 0.019992003 | W14: =IF(Tableau378[[#This Row],[Ri]] <>0,Tableau378[[#This Row],[Ri]]-'Points mesurés'!$D$3,0) -> 0.00099990002 | X14: =Tableau378[[#This Row],[Zi * sinteta]]*W14 -> 0.059982006 | Y14: =Tableau378[[#This Row],[Zi * cos]]*Tableau378[[#This Row],[Psi]] -> 0.0011996401 | Z14: =Tableau378[[#This Row],[Psi]]*Tableau378[[#This Row],[Cos teta i]] -> 1.9994002e-05 | AA14: =Tableau378[[#This Row],[Psi]]*Tableau378[[#This Row],[Sin teta i]] -> 0.0009997001
B15: 8. | C15: ='Points mesurés'!G13 -> -1.1940952 | D15: ='Points mesurés'!H13 -> 4.8296291 | E15: ='Points mesurés'!I13 -> 60 | F15: =Tableau378[[#This Row],[Xi]]*Tableau378[[#This Row],[Xi]] -> 1.4258634 | G15: =Tableau378[[#This Row],[Yi]]*Tableau378[[#This Row],[Yi]] -> 23.325318 | H15: =E15*E15 -> 3600 | I15: =SQRT(Tableau378[[#This Row],[Xi²]]+Tableau378[[#This Row],[Yi²]]) -> 4.9750559 | J15: =IFERROR(Tableau378[[#This Row],[Xi]]/Tableau378[[#This Row],[Ri]],0) -> -0.24001645 | K15: =IFERROR(Tableau378[[#This Row],[Yi]]/Tableau378[[#This Row],[Ri]],0) -> 0.97076882 | L15: =Tableau378[[#This Row],[Cos teta i]]*Tableau378[[#This Row],[Cos teta i]] -> 0.057607894 | M15: =Tableau378[[#This Row],[Sin teta i]]*Tableau378[[#This Row],[Sin teta i]] -> 0.94239211 | N15: =Tableau378[[#This Row],[Zi]]*Tableau378[[#This Row],[Sin teta i]] -> 58.246129 | O15: =Tableau378[[#This Row],[Zi]]*Tableau378[[#This Row],[Sin² teta i2]] -> 56.543526 | P15: =Tableau378[[#This Row],[Zi]]*Tableau378[[#This Row],[Cos teta i]] -> -14.400987 | Q15: =Tableau378[[#This Row],[Zi]]*Tableau378[[#This Row],[Cos² teta i2]] -> 3.4564736 | R15: =Tableau378[[#This Row],[Zi * sinteta]]*Tableau378[[#This Row],[Cos teta i]] -> -13.980029 | S15: =Tableau378[[#This Row],[Zi²]]*Tableau378[[#This Row],[Cos teta i]]*Tableau378[[#This Row],[Sin teta i]] -> -838.80173 | T15: =Tableau378[[#This Row],[Zi²]]*Tableau378[[#This Row],[Cos² teta i2]] -> 207.38842 | U15: =Tableau378[[#This Row],[Zi²]]*Tableau378[[#This Row],[Sin² teta i2]] -> 3392.6116 | V15: =Tableau378[[#This Row],[Cos teta i]]*Tableau378[[#This Row],[Sin teta i]] -> -0.23300048 | W15: =IF(Tableau378[[#This Row],[Ri]] <>0,Tableau378[[#This Row],[Ri]]-'Points mesurés'!$D$3,0) -> -0.024944125 | X15: =Tableau378[[#This Row],[Zi * sinteta]]*W15 -> -1.4528988 | Y15: =Tableau378[[#This Row],[Zi * cos]]*Tableau378[[#This Row],[Psi]] -> 0.35922002 | Z15: =Tableau378[[#This Row],[Psi]]*Tableau378[[#This Row],[Cos teta i]] -> 0.0059870003 | AA15: =Tableau378[[#This Row],[Psi]]*Tableau378[[#This Row],[Sin teta i]] -> -0.024214979
B16: 9. | C16: ='Points mesurés'!G14 -> -2.4 | D16: ='Points mesurés'!H14 -> 4.330127 | E16: ='Points mesurés'!I14 -> 60 | F16: =Tableau378[[#This Row],[Xi]]*Tableau378[[#This Row],[Xi]] -> 5.76 | G16: =Tableau378[[#This Row],[Yi]]*Tableau378[[#This Row],[Yi]] -> 18.75 | H16: =E16*E16 -> 3600 | I16: =SQRT(Tableau378[[#This Row],[Xi²]]+Tableau378[[#This Row],[Yi²]]) -> 4.9507575 | J16: =IFERROR(Tableau378[[#This Row],[Xi]]/Tableau378[[#This Row],[Ri]],0) -> -0.4847743 | K16: =IFERROR(Tableau378[[#This Row],[Yi]]/Tableau378[[#This Row],[Ri]],0) -> 0.87463929 | L16: =Tableau378[[#This Row],[Cos teta i]]*Tableau378[[#This Row],[Cos teta i]] -> 0.23500612 | M16: =Tableau378[[#This Row],[Sin teta i]]*Tableau378[[#This Row],[Sin teta i]] -> 0.76499388 | N16: =Tableau378[[#This Row],[Zi]]*Tableau378[[#This Row],[Sin teta i]] -> 52.478357 | O16: =Tableau378[[#This Row],[Zi]]*Tableau378[[#This Row],[Sin² teta i2]] -> 45.899633 | P16: =Tableau378[[#This Row],[Zi]]*Tableau378[[#This Row],[Cos teta i]] -> -29.086458 | Q16: =Tableau378[[#This Row],[Zi]]*Tableau378[[#This Row],[Cos² teta i2]] -> 14.100367 | R16: =Tableau378[[#This Row],[Zi * sinteta]]*Tableau378[[#This Row],[Cos teta i]] -> -25.440159 | S16: =Tableau378[[#This Row],[Zi²]]*Tableau378[[#This Row],[Cos teta i]]*Tableau378[[#This Row],[Sin teta i]] -> -1526.4095 | T16: =Tableau378[[#This Row],[Zi²]]*Tableau378[[#This Row],[Cos² teta i2]] -> 846.02203 | U16: =Tableau378[[#This Row],[Zi²]]*Tableau378[[#This Row],[Sin² teta i2]] -> 2753.978 | V16: =Tableau378[[#This Row],[Cos teta i]]*Tableau378[[#This Row],[Sin teta i]] -> -0.42400265 | W16: =IF(Tableau378[[#This Row],[Ri]] <>0,Tableau378[[#This Row],[Ri]]-'Points mesurés'!$D$3,0) -> -0.049242482 | X16: =Tableau378[[#This Row],[Zi * sinteta]]*W16 -> -2.5841646 | Y16: =Tableau378[[#This Row],[Zi * cos]]*Tableau378[[#This Row],[Psi]] -> 1.4322894 | Z16: =Tableau378[[#This Row],[Psi]]*Tableau378[[#This Row],[Cos teta i]] -> 0.02387149 | AA16: =Tableau378[[#This Row],[Psi]]*Tableau378[[#This Row],[Sin teta i]] -> -0.043069409
B17: 10. | C17: ='Points mesurés'!G15 -> -3.4355339 | D17: ='Points mesurés'!H15 -> 3.5355339 | E17: ='Points mesurés'!I15 -> 60 | F17: =Tableau378[[#This Row],[Xi]]*Tableau378[[#This Row],[Xi]] -> 11.802893 | G17: =Tableau378[[#This Row],[Yi]]*Tableau378[[#This Row],[Yi]] -> 12.5 | H17: =E17*E17 -> 3600 | I17: =SQRT(Tableau378[[#This Row],[Xi²]]+Tableau378[[#This Row],[Yi²]]) -> 4.9297965 | J17: =IFERROR(Tableau378[[#This Row],[Xi]]/Tableau378[[#This Row],[Ri]],0) -> -0.69689163 | K17: =IFERROR(Tableau378[[#This Row],[Yi]]/Tableau378[[#This Row],[Ri]],0) -> 0.71717645 | L17: =Tableau378[[#This Row],[Cos teta i]]*Tableau378[[#This Row],[Cos teta i]] -> 0.48565795 | M17: =Tableau378[[#This Row],[Sin teta i]]*Tableau378[[#This Row],[Sin teta i]] -> 0.51434205 | N17: =Tableau378[[#This Row],[Zi]]*Tableau378[[#This Row],[Sin teta i]] -> 43.030587 | O17: =Tableau378[[#This Row],[Zi]]*Tableau378[[#This Row],[Sin² teta i2]] -> 30.860523 | P17: =Tableau378[[#This Row],[Zi]]*Tableau378[[#This Row],[Cos teta i]] -> -41.813498 | Q17: =Tableau378[[#This Row],[Zi]]*Tableau378[[#This Row],[Cos² teta i2]] -> 29.139477 | R17: =Tableau378[[#This Row],[Zi * sinteta]]*Tableau378[[#This Row],[Cos teta i]] -> -29.987656 | S17: =Tableau378[[#This Row],[Zi²]]*Tableau378[[#This Row],[Cos teta i]]*Tableau378[[#This Row],[Sin teta i]] -> -1799.2593 | T17: =Tableau378[[#This Row],[Zi²]]*Tableau378[[#This Row],[Cos² teta i2]] -> 1748.3686 | U17: =Tableau378[[#This Row],[Zi²]]*Tableau378[[#This Row],[Sin² teta i2]] -> 1851.6314 | V17: =Tableau378[[#This Row],[Cos teta i]]*Tableau378[[#This Row],[Sin teta i]] -> -0.49979426 | W17: =IF(Tableau378[[#This Row],[Ri]] <>0,Tableau378[[#This Row],[Ri]]-'Points mesurés'!$D$3,0) -> -0.070203532 | X17: =Tableau378[[#This Row],[Zi * sinteta]]*W17 -> -3.0208992 | Y17: =Tableau378[[#This Row],[Zi * cos]]*Tableau378[[#This Row],[Psi]] -> 2.9354552 | Z17: =Tableau378[[#This Row],[Psi]]*Tableau378[[#This Row],[Cos teta i]] -> 0.048924254 | AA17: =Tableau378[[#This Row],[Psi]]*Tableau378[[#This Row],[Sin teta i]] -> -0.050348319
B18: 11. | C18: ='Points mesurés'!G16 -> -4.230127 | D18: ='Points mesurés'!H16 -> 2.5 | E18: ='Points mesurés'!I16 -> 60 | F18: =Tableau378[[#This Row],[Xi]]*Tableau378[[#This Row],[Xi]] -> 17.893975 | G18: =Tableau378[[#This Row],[Yi]]*Tableau378[[#This Row],[Yi]] -> 6.25 | H18: =E18*E18 -> 3600 | I18: =SQRT(Tableau378[[#This Row],[Xi²]]+Tableau378[[#This Row],[Yi²]]) -> 4.9136519 | J18: =IFERROR(Tableau378[[#This Row],[Xi]]/Tableau378[[#This Row],[Ri]],0) -> -0.8608927 | K18: =IFERROR(Tableau378[[#This Row],[Yi]]/Tableau378[[#This Row],[Ri]],0) -> 0.50878655 | L18: =Tableau378[[#This Row],[Cos teta i]]*Tableau378[[#This Row],[Cos teta i]] -> 0.74113624 | M18: =Tableau378[[#This Row],[Sin teta i]]*Tableau378[[#This Row],[Sin teta i]] -> 0.25886376 | N18: =Tableau378[[#This Row],[Zi]]*Tableau378[[#This Row],[Sin teta i]] -> 30.527193 | O18: =Tableau378[[#This Row],[Zi]]*Tableau378[[#This Row],[Sin² teta i2]] -> 15.531825 | P18: =Tableau378[[#This Row],[Zi]]*Tableau378[[#This Row],[Cos teta i]] -> -51.653562 | Q18: =Tableau378[[#This Row],[Zi]]*Tableau378[[#This Row],[Cos² teta i2]] -> 44.468175 | R18: =Tableau378[[#This Row],[Zi * sinteta]]*Tableau378[[#This Row],[Cos teta i]] -> -26.280638 | S18: =Tableau378[[#This Row],[Zi²]]*Tableau378[[#This Row],[Cos teta i]]*Tableau378[[#This Row],[Sin teta i]] -> -1576.8383 | T18: =Tableau378[[#This Row],[Zi²]]*Tableau378[[#This Row],[Cos² teta i2]] -> 2668.0905 | U18: =Tableau378[[#This Row],[Zi²]]*Tableau378[[#This Row],[Sin² teta i2]] -> 931.90953 | V18: =Tableau378[[#This Row],[Cos teta i]]*Tableau378[[#This Row],[Sin teta i]] -> -0.43801063 | W18: =IF(Tableau378[[#This Row],[Ri]] <>0,Tableau378[[#This Row],[Ri]]-'Points mesurés'!$D$3,0) -> -0.086348141 | X18: =Tableau378[[#This Row],[Zi * sinteta]]*W18 -> -2.6359664 | Y18: =Tableau378[[#This Row],[Zi * cos]]*Tableau378[[#This Row],[Psi]] -> 4.460189 | Z18: =Tableau378[[#This Row],[Psi]]*Tableau378[[#This Row],[Cos teta i]] -> 0.074336484 | AA18: =Tableau378[[#This Row],[Psi]]*Tableau378[[#This Row],[Sin teta i]] -> -0.043932773
B19: 12. | C19: ='Points mesurés'!G17 -> -4.7296291 | D19: ='Points mesurés'!H17 -> 1.2940952 | E19: ='Points mesurés'!I17 -> 60 | F19: =Tableau378[[#This Row],[Xi]]*Tableau378[[#This Row],[Xi]] -> 22.369392 | G19: =Tableau378[[#This Row],[Yi]]*Tableau378[[#This Row],[Yi]] -> 1.6746825 | H19: =E19*E19 -> 3600 | I19: =SQRT(Tableau378[[#This Row],[Xi²]]+Tableau378[[#This Row],[Yi²]]) -> 4.9034757 | J19: =IFERROR(Tableau378[[#This Row],[Xi]]/Tableau378[[#This Row],[Ri]],0) -> -0.96454625 | K19: =IFERROR(Tableau378[[#This Row],[Yi]]/Tableau378[[#This Row],[Ri]],0) -> 0.26391386 | L19: =Tableau378[[#This Row],[Cos teta i]]*Tableau378[[#This Row],[Cos teta i]] -> 0.93034947 | M19: =Tableau378[[#This Row],[Sin teta i]]*Tableau378[[#This Row],[Sin teta i]] -> 0.069650528 | N19: =Tableau378[[#This Row],[Zi]]*Tableau378[[#This Row],[Sin teta i]] -> 15.834832 | O19: =Tableau378[[#This Row],[Zi]]*Tableau378[[#This Row],[Sin² teta i2]] -> 4.1790317 | P19: =Tableau378[[#This Row],[Zi]]*Tableau378[[#This Row],[Cos teta i]] -> -57.872775 | Q19: =Tableau378[[#This Row],[Zi]]*Tableau378[[#This Row],[Cos² teta i2]] -> 55.820968 | R19: =Tableau378[[#This Row],[Zi * sinteta]]*Tableau378[[#This Row],[Cos teta i]] -> -15.273428 | S19: =Tableau378[[#This Row],[Zi²]]*Tableau378[[#This Row],[Cos teta i]]*Tableau378[[#This Row],[Sin teta i]] -> -916.40566 | T19: =Tableau378[[#This Row],[Zi²]]*Tableau378[[#This Row],[Cos² teta i2]] -> 3349.2581 | U19: =Tableau378[[#This Row],[Zi²]]*Tableau378[[#This Row],[Sin² teta i2]] -> 250.7419 | V19: =Tableau378[[#This Row],[Cos teta i]]*Tableau378[[#This Row],[Sin teta i]] -> -0.25455713 | W19: =IF(Tableau378[[#This Row],[Ri]] <>0,Tableau378[[#This Row],[Ri]]-'Points mesurés'!$D$3,0) -> -0.096524276 | X19: =Tableau378[[#This Row],[Zi * sinteta]]*W19 -> -1.5284457 | Y19: =Tableau378[[#This Row],[Zi * cos]]*Tableau378[[#This Row],[Psi]] -> 5.5861277 | Z19: =Tableau378[[#This Row],[Psi]]*Tableau378[[#This Row],[Cos teta i]] -> 0.093102129 | AA19: =Tableau378[[#This Row],[Psi]]*Tableau378[[#This Row],[Sin teta i]] -> -0.025474095
B20: 13. | C20: ='Points mesurés'!G18 -> -4.9 | D20: ='Points mesurés'!H18 -> -1.6078718e-15 | E20: ='Points mesurés'!I18 -> 60 | F20: =Tableau378[[#This Row],[Xi]]*Tableau378[[#This Row],[Xi]] -> 24.01 | G20: =Tableau378[[#This Row],[Yi]]*Tableau378[[#This Row],[Yi]] -> 2.5852518e-30 | H20: =E20*E20 -> 3600 | I20: =SQRT(Tableau378[[#This Row],[Xi²]]+Tableau378[[#This Row],[Yi²]]) -> 4.9 | J20: =IFERROR(Tableau378[[#This Row],[Xi]]/Tableau378[[#This Row],[Ri]],0) -> -1 | K20: =IFERROR(Tableau378[[#This Row],[Yi]]/Tableau378[[#This Row],[Ri]],0) -> -3.2813711e-16 | L20: =Tableau378[[#This Row],[Cos teta i]]*Tableau378[[#This Row],[Cos teta i]] -> 1 | M20: =Tableau378[[#This Row],[Sin teta i]]*Tableau378[[#This Row],[Sin teta i]] -> 1.0767396e-31 | N20: =Tableau378[[#This Row],[Zi]]*Tableau378[[#This Row],[Sin teta i]] -> -1.9688226e-14 | O20: =Tableau378[[#This Row],[Zi]]*Tableau378[[#This Row],[Sin² teta i2]] -> 6.4604376e-30 | P20: =Tableau378[[#This Row],[Zi]]*Tableau378[[#This Row],[Cos teta i]] -> -60 | Q20: =Tableau378[[#This Row],[Zi]]*Tableau378[[#This Row],[Cos² teta i2]] -> 60 | R20: =Tableau378[[#This Row],[Zi * sinteta]]*Tableau378[[#This Row],[Cos teta i]] -> 1.9688226e-14 | S20: =Tableau378[[#This Row],[Zi²]]*Tableau378[[#This Row],[Cos teta i]]*Tableau378[[#This Row],[Sin teta i]] -> 1.1812936e-12 | T20: =Tableau378[[#This Row],[Zi²]]*Tableau378[[#This Row],[Cos² teta i2]] -> 3600 | U20: =Tableau378[[#This Row],[Zi²]]*Tableau378[[#This Row],[Sin² teta i2]] -> 3.8762626e-28 | V20: =Tableau378[[#This Row],[Cos teta i]]*Tableau378[[#This Row],[Sin teta i]] -> 3.2813711e-16 | W20: =IF(Tableau378[[#This Row],[Ri]] <>0,Tableau378[[#This Row],[Ri]]-'Points mesurés'!$D$3,0) -> -0.1 | X20: =Tableau378[[#This Row],[Zi * sinteta]]*W20 -> 1.9688226e-15 | Y20: =Tableau378[[#This Row],[Zi * cos]]*Tableau378[[#This Row],[Psi]] -> 6 | Z20: =Tableau378[[#This Row],[Psi]]*Tableau378[[#This Row],[Cos teta i]] -> 0.1 | AA20: =Tableau378[[#This Row],[Psi]]*Tableau378[[#This Row],[Sin teta i]] -> 3.2813711e-17
B21: 14. | C21: ='Points mesurés'!G19 -> -4.7296291 | D21: ='Points mesurés'!H19 -> -1.2940952 | E21: ='Points mesurés'!I19 -> 0 | F21: =Tableau378[[#This Row],[Xi]]*Tableau378[[#This Row],[Xi]] -> 22.369392 | G21: =Tableau378[[#This Row],[Yi]]*Tableau378[[#This Row],[Yi]] -> 1.6746825 | H21: =E21*E21 -> 0 | I21: =SQRT(Tableau378[[#This Row],[Xi²]]+Tableau378[[#This Row],[Yi²]]) -> 4.9034757 | J21: =IFERROR(Tableau378[[#This Row],[Xi]]/Tableau378[[#This Row],[Ri]],0) -> -0.96454625 | K21: =IFERROR(Tableau378[[#This Row],[Yi]]/Tableau378[[#This Row],[Ri]],0) -> -0.26391386 | L21: =Tableau378[[#This Row],[Cos teta i]]*Tableau378[[#This Row],[Cos teta i]] -> 0.93034947 | M21: =Tableau378[[#This Row],[Sin teta i]]*Tableau378[[#This Row],[Sin teta i]] -> 0.069650528 | N21: =Tableau378[[#This Row],[Zi]]*Tableau378[[#This Row],[Sin teta i]] -> 0 | O21: =Tableau378[[#This Row],[Zi]]*Tableau378[[#This Row],[Sin² teta i2]] -> 0 | P21: =Tableau378[[#This Row],[Zi]]*Tableau378[[#This Row],[Cos teta i]] -> 0 | Q21: =Tableau378[[#This Row],[Zi]]*Tableau378[[#This Row],[Cos² teta i2]] -> 0 | R21: =Tableau378[[#This Row],[Zi * sinteta]]*Tableau378[[#This Row],[Cos teta i]] -> 0 | S21: =Tableau378[[#This Row],[Zi²]]*Tableau378[[#This Row],[Cos teta i]]*Tableau378[[#This Row],[Sin teta i]] -> 0 | T21: =Tableau378[[#This Row],[Zi²]]*Tableau378[[#This Row],[Cos² teta i2]] -> 0 | U21: =Tableau378[[#This Row],[Zi²]]*Tableau378[[#This Row],[Sin² teta i2]] -> 0 | V21: =Tableau378[[#This Row],[Cos teta i]]*Tableau378[[#This Row],[Sin teta i]] -> 0.25455713 | W21: =IF(Tableau378[[#This Row],[Ri]] <>0,Tableau378[[#This Row],[Ri]]-'Points mesurés'!$D$3,0) -> -0.096524276 | X21: =Tableau378[[#This Row],[Zi * sinteta]]*W21 -> 0 | Y21: =Tableau378[[#This Row],[Zi * cos]]*Tableau378[[#This Row],[Psi]] -> 0 | Z21: =Tableau378[[#This Row],[Psi]]*Tableau378[[#This Row],[Cos teta i]] -> 0.093102129 | AA21: =Tableau378[[#This Row],[Psi]]*Tableau378[[#This Row],[Sin teta i]] -> 0.025474095
B22: 15. | C22: ='Points mesurés'!G20 -> -4.230127 | D22: ='Points mesurés'!H20 -> -2.5 | E22: ='Points mesurés'!I20 -> 0 | F22: =Tableau378[[#This Row],[Xi]]*Tableau378[[#This Row],[Xi]] -> 17.893975 | G22: =Tableau378[[#This Row],[Yi]]*Tableau378[[#This Row],[Yi]] -> 6.25 | H22: =E22*E22 -> 0 | I22: =SQRT(Tableau378[[#This Row],[Xi²]]+Tableau378[[#This Row],[Yi²]]) -> 4.9136519 | J22: =IFERROR(Tableau378[[#This Row],[Xi]]/Tableau378[[#This Row],[Ri]],0) -> -0.8608927 | K22: =IFERROR(Tableau378[[#This Row],[Yi]]/Tableau378[[#This Row],[Ri]],0) -> -0.50878655 | L22: =Tableau378[[#This Row],[Cos teta i]]*Tableau378[[#This Row],[Cos teta i]] -> 0.74113624 | M22: =Tableau378[[#This Row],[Sin teta i]]*Tableau378[[#This Row],[Sin teta i]] -> 0.25886376 | N22: =Tableau378[[#This Row],[Zi]]*Tableau378[[#This Row],[Sin teta i]] -> 0 | O22: =Tableau378[[#This Row],[Zi]]*Tableau378[[#This Row],[Sin² teta i2]] -> 0 | P22: =Tableau378[[#This Row],[Zi]]*Tableau378[[#This Row],[Cos teta i]] -> 0 | Q22: =Tableau378[[#This Row],[Zi]]*Tableau378[[#This Row],[Cos² teta i2]] -> 0 | R22: =Tableau378[[#This Row],[Zi * sinteta]]*Tableau378[[#This Row],[Cos teta i]] -> 0 | S22: =Tableau378[[#This Row],[Zi²]]*Tableau378[[#This Row],[Cos teta i]]*Tableau378[[#This Row],[Sin teta i]] -> 0 | T22: =Tableau378[[#This Row],[Zi²]]*Tableau378[[#This Row],[Cos² teta i2]] -> 0 | U22: =Tableau378[[#This Row],[Zi²]]*Tableau378[[#This Row],[Sin² teta i2]] -> 0 | V22: =Tableau378[[#This Row],[Cos teta i]]*Tableau378[[#This Row],[Sin teta i]] -> 0.43801063 | W22: =IF(Tableau378[[#This Row],[Ri]] <>0,Tableau378[[#This Row],[Ri]]-'Points mesurés'!$D$3,0) -> -0.086348141 | X22: =Tableau378[[#This Row],[Zi * sinteta]]*W22 -> 0 | Y22: =Tableau378[[#This Row],[Zi * cos]]*Tableau378[[#This Row],[Psi]] -> 0 | Z22: =Tableau378[[#This Row],[Psi]]*Tableau378[[#This Row],[Cos teta i]] -> 0.074336484 | AA22: =Tableau378[[#This Row],[Psi]]*Tableau378[[#This Row],[Sin teta i]] -> 0.043932773
B23: 16. | C23: ='Points mesurés'!G21 -> -3.4355339 | D23: ='Points mesurés'!H21 -> -3.5355339 | E23: ='Points mesurés'!I21 -> 0 | F23: =Tableau378[[#This Row],[Xi]]*Tableau378[[#This Row],[Xi]] -> 11.802893 | G23: =Tableau378[[#This Row],[Yi]]*Tableau378[[#This Row],[Yi]] -> 12.5 | H23: =E23*E23 -> 0 | I23: =SQRT(Tableau378[[#This Row],[Xi²]]+Tableau378[[#This Row],[Yi²]]) -> 4.9297965 | J23: =IFERROR(Tableau378[[#This Row],[Xi]]/Tableau378[[#This Row],[Ri]],0) -> -0.69689163 | K23: =IFERROR(Tableau378[[#This Row],[Yi]]/Tableau378[[#This Row],[Ri]],0) -> -0.71717645 | L23: =Tableau378[[#This Row],[Cos teta i]]*Tableau378[[#This Row],[Cos teta i]] -> 0.48565795 | M23: =Tableau378[[#This Row],[Sin teta i]]*Tableau378[[#This Row],[Sin teta i]] -> 0.51434205 | N23: =Tableau378[[#This Row],[Zi]]*Tableau378[[#This Row],[Sin teta i]] -> 0 | O23: =Tableau378[[#This Row],[Zi]]*Tableau378[[#This Row],[Sin² teta i2]] -> 0 | P23: =Tableau378[[#This Row],[Zi]]*Tableau378[[#This Row],[Cos teta i]] -> 0 | Q23: =Tableau378[[#This Row],[Zi]]*Tableau378[[#This Row],[Cos² teta i2]] -> 0 | R23: =Tableau378[[#This Row],[Zi * sinteta]]*Tableau378[[#This Row],[Cos teta i]] -> 0 | S23: =Tableau378[[#This Row],[Zi²]]*Tableau378[[#This Row],[Cos teta i]]*Tableau378[[#This Row],[Sin teta i]] -> 0 | T23: =Tableau378[[#This Row],[Zi²]]*Tableau378[[#This Row],[Cos² teta i2]] -> 0 | U23: =Tableau378[[#This Row],[Zi²]]*Tableau378[[#This Row],[Sin² teta i2]] -> 0 | V23: =Tableau378[[#This Row],[Cos teta i]]*Tableau378[[#This Row],[Sin teta i]] -> 0.49979426 | W23: =IF(Tableau378[[#This Row],[Ri]] <>0,Tableau378[[#This Row],[Ri]]-'Points mesurés'!$D$3,0) -> -0.070203532 | X23: =Tableau378[[#This Row],[Zi * sinteta]]*W23 -> 0 | Y23: =Tableau378[[#This Row],[Zi * cos]]*Tableau378[[#This Row],[Psi]] -> 0 | Z23: =Tableau378[[#This Row],[Psi]]*Tableau378[[#This Row],[Cos teta i]] -> 0.048924254 | AA23: =Tableau378[[#This Row],[Psi]]*Tableau378[[#This Row],[Sin teta i]] -> 0.050348319
... B32: 25. | C32: ='Points mesurés'!G30 -> 5.1 | D32: ='Points mesurés'!H30 -> -1.0106933e-14 | E32: ='Points mesurés'!I30 -> 0 | F32: =Tableau378[[#This Row],[Xi]]*Tableau378[[#This Row],[Xi]] -> 26.01 | G32: =Tableau378[[#This Row],[Yi]]*Tableau378[[#This Row],[Yi]] -> 1.0215009e-28 | H32: =E32*E32 -> 0 | I32: =SQRT(Tableau378[[#This Row],[Xi²]]+Tableau378[[#This Row],[Yi²]]) -> 5.1 | J32: =IFERROR(Tableau378[[#This Row],[Xi]]/Tableau378[[#This Row],[Ri]],0) -> 1 | K32: =IFERROR(Tableau378[[#This Row],[Yi]]/Tableau378[[#This Row],[Ri]],0) -> -1.9817515e-15 | L32: =Tableau378[[#This Row],[Cos teta i]]*Tableau378[[#This Row],[Cos teta i]] -> 1 | M32: =Tableau378[[#This Row],[Sin teta i]]*Tableau378[[#This Row],[Sin teta i]] -> 3.927339e-30 | N32: =Tableau378[[#This Row],[Zi]]*Tableau378[[#This Row],[Sin teta i]] -> 0 | O32: =Tableau378[[#This Row],[Zi]]*Tableau378[[#This Row],[Sin² teta i2]] -> 0 | P32: =Tableau378[[#This Row],[Zi]]*Tableau378[[#This Row],[Cos teta i]] -> 0 | Q32: =Tableau378[[#This Row],[Zi]]*Tableau378[[#This Row],[Cos² teta i2]] -> 0 | R32: =Tableau378[[#This Row],[Zi * sinteta]]*Tableau378[[#This Row],[Cos teta i]] -> 0 | S32: =Tableau378[[#This Row],[Zi²]]*Tableau378[[#This Row],[Cos teta i]]*Tableau378[[#This Row],[Sin teta i]] -> 0 | T32: =Tableau378[[#This Row],[Zi²]]*Tableau378[[#This Row],[Cos² teta i2]] -> 0 | U32: =Tableau378[[#This Row],[Zi²]]*Tableau378[[#This Row],[Sin² teta i2]] -> 0 | V32: =Tableau378[[#This Row],[Cos teta i]]*Tableau378[[#This Row],[Sin teta i]] -> -1.9817515e-15 | W32: =IF(Tableau378[[#This Row],[Ri]] <>0,Tableau378[[#This Row],[Ri]]-'Points mesurés'!$D$3,0) -> 0.1 | X32: =Tableau378[[#This Row],[Zi * sinteta]]*W32 -> 0 | Y32: =Tableau378[[#This Row],[Zi * cos]]*Tableau378[[#This Row],[Psi]] -> 0 | Z32: =Tableau378[[#This Row],[Psi]]*Tableau378[[#This Row],[Cos teta i]] -> 0.1 | AA32: =Tableau378[[#This Row],[Psi]]*Tableau378[[#This Row],[Sin teta i]] -> -1.9817515e-16
C33: =SUM(Tableau378[Xi]) -> 7.5 | D33: =SUM(Tableau378[Yi]) -> -3.2311393e-14 | E33: =SUM(Tableau378[Zi]) -> 780 | F33: =SUM(Tableau378[Xi²]) -> 326.25 | G33: =SUM(Tableau378[Yi²]) -> 300 | H33: =SUM(Tableau378[Zi²]) -> 46800 | I33: =SUM(Tableau378[Ri]) -> 125.112 | J33: =SUM(Tableau378[Cos teta i]) -> 1.240012 | K33: =SUM(Tableau378[Sin teta i]) -> -7.9214447e-15 | L33: =SUM(Tableau378[Cos² teta i2]) -> 13 | M33: =SUM(Tableau378[Sin² teta i2]) -> 12 | N33: =SUM(Tableau378[Zi * sinteta]) -> 455.74419 | O33: =SUM(Tableau378[Zi * sin²teta]) -> 360 | P33: =SUM(Tableau378[Zi * cos]) -> 7.2003601 | Q33: =SUM(Tableau378[Zi * cos²]) -> 420 | R33: =SUM(Tableau378[Zi*cos*sin]) -> 3.109191 | S33: =SUM(Tableau378[Zi²*cos*sin]) -> 186.55146 | T33: =SUM(Tableau378[Zi²*cos²]) -> 25200 | U33: =SUM(Tableau378[Zi²*sin²]) -> 21600 | V33: =SUM(Tableau378[cos sin]) -> -5.6621714e-16 | W33: =SUM(Tableau378[Psi]) -> 0.1120003 | X33: =SUM(Tableau378[Zi*sin*psi]) -> 0.0052988742 | Y33: =SUM(Tableau378[Zi*cos*psi]) -> 41.9982 | Z33: =SUM(Tableau378[psi*cos]) -> 1.29994 | AA33: =SUM(Tableau378[psi*sin]) -> -7.4981722e-16
E36: Matrice
M37: B
E38: =COUNTA(C8:C32) -> 25 | F38: =-Tableau378[[#Totals],[Zi * sinteta]] -> -455.74419 | G38: =Tableau378[[#Totals],[Zi * cos]] -> 7.2003601 | H38: =Tableau378[[#Totals],[Cos teta i]] -> 1.240012 | I38: =Tableau378[[#Totals],[Sin teta i]] -> -7.9214447e-15 | M38: =Tableau378[[#Totals],[Psi]] -> 0.1120003
E39: =-Tableau378[[#Totals],[Zi * sinteta]] -> -455.74419 | F39: =Tableau378[[#Totals],[Zi²*sin²]] -> 21600 | G39: =-Tableau378[[#Totals],[Zi²*cos*sin]] -> -186.55146 | H39: =-Tableau378[[#Totals],[Zi*cos*sin]] -> -3.109191 | I39: =-Tableau378[[#Totals],[Zi * sin²teta]] -> -360 | M39: =-Tableau378[[#Totals],[Zi*sin*psi]] -> -0.0052988742
E40: =Tableau378[[#Totals],[Zi * cos]] -> 7.2003601 | F40: =-Tableau378[[#Totals],[Zi²*cos*sin]] -> -186.55146 | G40: =Tableau378[[#Totals],[Zi²*cos²]] -> 25200 | H40: =Tableau378[[#Totals],[Zi * cos²]] -> 420 | I40: =Tableau378[[#Totals],[Zi*cos*sin]] -> 3.109191 | M40: =Tableau378[[#Totals],[Zi*cos*psi]] -> 41.9982
E41: =H38 -> 1.240012 | F41: =-Tableau378[[#Totals],[Zi*cos*sin]] -> -3.109191 | G41: =Tableau378[[#Totals],[Zi * cos²]] -> 420 | H41: =Tableau378[[#Totals],[Cos² teta i2]] -> 13 | I41: =Tableau378[[#Totals],[cos sin]] -> -5.6621714e-16 | M41: =Tableau378[[#Totals],[psi*cos]] -> 1.29994
E42: =I38 -> -7.9214447e-15 | F42: =-Tableau378[[#Totals],[Zi * sin²teta]] -> -360 | G42: =Tableau378[[#Totals],[Zi*cos*sin]] -> 3.109191 | H42: =Tableau378[[#Totals],[cos sin]] -> -5.6621714e-16 | I42: =Tableau378[[#Totals],[Sin² teta i2]] -> 12 | M42: =Tableau378[[#Totals],[psi*sin]] -> -7.4981722e-16
E44: Matrice inverse
M45: A
E46: {=MINVERSE(E38:I42)} -> 0.17913021 | F46: 0.0075543007 | G46: 0.00050148883 | H46: -0.031481628 | I46: 0.22649909 | L46: DeltaR | M46: {=MMULT(E46:I50,M38:M42)} -> 0.00016000967
E47: 0.0075543007 | F47: 0.00041117988 | G47: 2.1091718e-05 | H47: -0.0013036545 | I47: 0.012329931 | L47: ALPHA | M47: 3.5046739e-05 | N47: =DEGREES(M47) -> 0.0020080302
E48: 0.00050148883 | F48: 2.1091718e-05 | G48: 8.7388783e-05 | H48: -0.0028661202 | I48: 0.00061010918 | L48: BETA | M48: 4.4240794e-07 | N48: =DEGREES(M48) -> 2.5348108e-05
E49: -0.031481628 | F49: -0.0013036545 | G49: -0.0028661202 | H49: 0.17221191 | I49: -0.038367025 | L49: U0 | M49: 0.09997421
E50: 0.22649909 | F50: 0.012329931 | G50: 0.00061010918 | H50: -0.038367025 | I50: 0.4530732 | L50: V0 | M50: 0.0010512876
B53: Cylindre sans déformation
B57: i | C57: Xi | D57: Yi | E57: Zi | F57: Xi² | G57: Yi² | H57: Zi² | I57: Ri | J57: Cos teta i | K57: Sin teta i | L57: Cos² teta i2 | M57: Sin² teta i2 | N57: Zi * sinteta | O57: Zi * sin²teta | P57: Zi * cos | Q57: Zi * cos² | R57: Zi*cos*sin | S57: Zi²*cos*sin | T57: Zi²*cos² | U57: Zi²*sin² | V57: cos sin | W57: Psi | X57: Zi*sin*psi | Y57: Zi*cos*psi | Z57: psi*cos | AA57: psi*sin
B58: 1. | C58: ='Points mesurés'!D6 -> 5 | D58: ='Points mesurés'!E6 -> 0 | E58: ='Points mesurés'!F6 -> 60 | F58: =Tableau3783[[#This Row],[Xi]]*Tableau3783[[#This Row],[Xi]] -> 25 | G58: =Tableau3783[[#This Row],[Yi]]*Tableau3783[[#This Row],[Yi]] -> 0 | H58: =E58*E58 -> 3600 | I58: ='Points mesurés'!$D$3 -> 5 | J58: =IFERROR(Tableau3783[[#This Row],[Xi]]/Tableau3783[[#This Row],[Ri]],0) -> 1 | K58: =IFERROR(Tableau3783[[#This Row],[Yi]]/Tableau3783[[#This Row],[Ri]],0) -> 0 | L58: =Tableau3783[[#This Row],[Cos teta i]]*Tableau3783[[#This Row],[Cos teta i]] -> 1 | M58: =Tableau3783[[#This Row],[Sin teta i]]*Tableau3783[[#This Row],[Sin teta i]] -> 0 | N58: =Tableau3783[[#This Row],[Zi]]*Tableau3783[[#This Row],[Sin teta i]] -> 0 | O58: =Tableau3783[[#This Row],[Zi]]*Tableau3783[[#This Row],[Sin² teta i2]] -> 0 | P58: =Tableau3783[[#This Row],[Zi]]*Tableau3783[[#This Row],[Cos teta i]] -> 60 | Q58: =Tableau3783[[#This Row],[Zi]]*Tableau3783[[#This Row],[Cos² teta i2]] -> 60 | R58: =Tableau3783[[#This Row],[Zi * sinteta]]*Tableau3783[[#This Row],[Cos teta i]] -> 0 | S58: =Tableau3783[[#This Row],[Zi²]]*Tableau3783[[#This Row],[Cos teta i]]*Tableau3783[[#This Row],[Sin teta i]] -> 0 | T58: =Tableau3783[[#This Row],[Zi²]]*Tableau3783[[#This Row],[Cos² teta i2]] -> 3600 | U58: =Tableau3783[[#This Row],[Zi²]]*Tableau3783[[#This Row],[Sin² teta i2]] -> 0 | V58: =Tableau3783[[#This Row],[Cos teta i]]*Tableau3783[[#This Row],[Sin teta i]] -> 0 | W58: =IF(Tableau3783[[#This Row],[Ri]] <>0,Tableau3783[[#This Row],[Ri]]-'Points mesurés'!$D$3,0) -> 0 | X58: =Tableau3783[[#This Row],[Zi * sinteta]]*W58 -> 0 | Y58: =Tableau3783[[#This Row],[Zi * cos]]*Tableau3783[[#This Row],[Psi]] -> 0 | Z58: =Tableau3783[[#This Row],[Psi]]*Tableau3783[[#This Row],[Cos teta i]] -> 0 | AA58: =Tableau3783[[#This Row],[Psi]]*Tableau3783[[#This Row],[Sin teta i]] -> 0
B59: 2. | C59: ='Points mesurés'!D7 -> 4.8296291 | D59: ='Points mesurés'!E7 -> 1.2940952 | E59: ='Points mesurés'!F7 -> 60 | F59: =Tableau3783[[#This Row],[Xi]]*Tableau3783[[#This Row],[Xi]] -> 23.325318 | G59: =Tableau3783[[#This Row],[Yi]]*Tableau3783[[#This Row],[Yi]] -> 1.6746825 | H59: =E59*E59 -> 3600 | I59: ='Points mesurés'!$D$3 -> 5 | J59: =IFERROR(Tableau3783[[#This Row],[Xi]]/Tableau3783[[#This Row],[Ri]],0) -> 0.96592583 | K59: =IFERROR(Tableau3783[[#This Row],[Yi]]/Tableau3783[[#This Row],[Ri]],0) -> 0.25881905 | L59: =Tableau3783[[#This Row],[Cos teta i]]*Tableau3783[[#This Row],[Cos teta i]] -> 0.9330127 | M59: =Tableau3783[[#This Row],[Sin teta i]]*Tableau3783[[#This Row],[Sin teta i]] -> 0.066987298 | N59: =Tableau3783[[#This Row],[Zi]]*Tableau3783[[#This Row],[Sin teta i]] -> 15.529143 | O59: =Tableau3783[[#This Row],[Zi]]*Tableau3783[[#This Row],[Sin² teta i2]] -> 4.0192379 | P59: =Tableau3783[[#This Row],[Zi]]*Tableau3783[[#This Row],[Cos teta i]] -> 57.95555 | Q59: =Tableau3783[[#This Row],[Zi]]*Tableau3783[[#This Row],[Cos² teta i2]] -> 55.980762 | R59: =Tableau3783[[#This Row],[Zi * sinteta]]*Tableau3783[[#This Row],[Cos teta i]] -> 15 | S59: =Tableau3783[[#This Row],[Zi²]]*Tableau3783[[#This Row],[Cos teta i]]*Tableau3783[[#This Row],[Sin teta i]] -> 900 | T59: =Tableau3783[[#This Row],[Zi²]]*Tableau3783[[#This Row],[Cos² teta i2]] -> 3358.8457 | U59: =Tableau3783[[#This Row],[Zi²]]*Tableau3783[[#This Row],[Sin² teta i2]] -> 241.15427 | V59: =Tableau3783[[#This Row],[Cos teta i]]*Tableau3783[[#This Row],[Sin teta i]] -> 0.25 | W59: =IF(Tableau3783[[#This Row],[Ri]] <>0,Tableau3783[[#This Row],[Ri]]-'Points mesurés'!$D$3,0) -> 0 | X59: =Tableau3783[[#This Row],[Zi * sinteta]]*W59 -> 0 | Y59: =Tableau3783[[#This Row],[Zi * cos]]*Tableau3783[[#This Row],[Psi]] -> 0 | Z59: =Tableau3783[[#This Row],[Psi]]*Tableau3783[[#This Row],[Cos teta i]] -> 0 | AA59: =Tableau3783[[#This Row],[Psi]]*Tableau3783[[#This Row],[Sin teta i]] -> 0
B60: 3. | C60: ='Points mesurés'!D8 -> 4.330127 | D60: ='Points mesurés'!E8 -> 2.5 | E60: ='Points mesurés'!F8 -> 60 | F60: =Tableau3783[[#This Row],[Xi]]*Tableau3783[[#This Row],[Xi]] -> 18.75 | G60: =Tableau3783[[#This Row],[Yi]]*Tableau3783[[#This Row],[Yi]] -> 6.25 | H60: =E60*E60 -> 3600 | I60: ='Points mesurés'!$D$3 -> 5 | J60: =IFERROR(Tableau3783[[#This Row],[Xi]]/Tableau3783[[#This Row],[Ri]],0) -> 0.8660254 | K60: =IFERROR(Tableau3783[[#This Row],[Yi]]/Tableau3783[[#This Row],[Ri]],0) -> 0.5 | L60: =Tableau3783[[#This Row],[Cos teta i]]*Tableau3783[[#This Row],[Cos teta i]] -> 0.75 | M60: =Tableau3783[[#This Row],[Sin teta i]]*Tableau3783[[#This Row],[Sin teta i]] -> 0.25 | N60: =Tableau3783[[#This Row],[Zi]]*Tableau3783[[#This Row],[Sin teta i]] -> 30 | O60: =Tableau3783[[#This Row],[Zi]]*Tableau3783[[#This Row],[Sin² teta i2]] -> 15 | P60: =Tableau3783[[#This Row],[Zi]]*Tableau3783[[#This Row],[Cos teta i]] -> 51.961524 | Q60: =Tableau3783[[#This Row],[Zi]]*Tableau3783[[#This Row],[Cos² teta i2]] -> 45 | R60: =Tableau3783[[#This Row],[Zi * sinteta]]*Tableau3783[[#This Row],[Cos teta i]] -> 25.980762 | S60: =Tableau3783[[#This Row],[Zi²]]*Tableau3783[[#This Row],[Cos teta i]]*Tableau3783[[#This Row],[Sin teta i]] -> 1558.8457 | T60: =Tableau3783[[#This Row],[Zi²]]*Tableau3783[[#This Row],[Cos² teta i2]] -> 2700 | U60: =Tableau3783[[#This Row],[Zi²]]*Tableau3783[[#This Row],[Sin² teta i2]] -> 900 | V60: =Tableau3783[[#This Row],[Cos teta i]]*Tableau3783[[#This Row],[Sin teta i]] -> 0.4330127 | W60: =IF(Tableau3783[[#This Row],[Ri]] <>0,Tableau3783[[#This Row],[Ri]]-'Points mesurés'!$D$3,0) -> 0 | X60: =Tableau3783[[#This Row],[Zi * sinteta]]*W60 -> 0 | Y60: =Tableau3783[[#This Row],[Zi * cos]]*Tableau3783[[#This Row],[Psi]] -> 0 | Z60: =Tableau3783[[#This Row],[Psi]]*Tableau3783[[#This Row],[Cos teta i]] -> 0 | AA60: =Tableau3783[[#This Row],[Psi]]*Tableau3783[[#This Row],[Sin teta i]] -> 0
B61: 4. | C61: ='Points mesurés'!D9 -> 3.5355339 | D61: ='Points mesurés'!E9 -> 3.5355339 | E61: ='Points mesurés'!F9 -> 60 | F61: =Tableau3783[[#This Row],[Xi]]*Tableau3783[[#This Row],[Xi]] -> 12.5 | G61: =Tableau3783[[#This Row],[Yi]]*Tableau3783[[#This Row],[Yi]] -> 12.5 | H61: =E61*E61 -> 3600 | I61: ='Points mesurés'!$D$3 -> 5 | J61: =IFERROR(Tableau3783[[#This Row],[Xi]]/Tableau3783[[#This Row],[Ri]],0) -> 0.70710678 | K61: =IFERROR(Tableau3783[[#This Row],[Yi]]/Tableau3783[[#This Row],[Ri]],0) -> 0.70710678 | L61: =Tableau3783[[#This Row],[Cos teta i]]*Tableau3783[[#This Row],[Cos teta i]] -> 0.5 | M61: =Tableau3783[[#This Row],[Sin teta i]]*Tableau3783[[#This Row],[Sin teta i]] -> 0.5 | N61: =Tableau3783[[#This Row],[Zi]]*Tableau3783[[#This Row],[Sin teta i]] -> 42.426407 | O61: =Tableau3783[[#This Row],[Zi]]*Tableau3783[[#This Row],[Sin² teta i2]] -> 30 | P61: =Tableau3783[[#This Row],[Zi]]*Tableau3783[[#This Row],[Cos teta i]] -> 42.426407 | Q61: =Tableau3783[[#This Row],[Zi]]*Tableau3783[[#This Row],[Cos² teta i2]] -> 30 | R61: =Tableau3783[[#This Row],[Zi * sinteta]]*Tableau3783[[#This Row],[Cos teta i]] -> 30 | S61: =Tableau3783[[#This Row],[Zi²]]*Tableau3783[[#This Row],[Cos teta i]]*Tableau3783[[#This Row],[Sin teta i]] -> 1800 | T61: =Tableau3783[[#This Row],[Zi²]]*Tableau3783[[#This Row],[Cos² teta i2]] -> 1800 | U61: =Tableau3783[[#This Row],[Zi²]]*Tableau3783[[#This Row],[Sin² teta i2]] -> 1800 | V61: =Tableau3783[[#This Row],[Cos teta i]]*Tableau3783[[#This Row],[Sin teta i]] -> 0.5 | W61: =IF(Tableau3783[[#This Row],[Ri]] <>0,Tableau3783[[#This Row],[Ri]]-'Points mesurés'!$D$3,0) -> 0 | X61: =Tableau3783[[#This Row],[Zi * sinteta]]*W61 -> 0 | Y61: =Tableau3783[[#This Row],[Zi * cos]]*Tableau3783[[#This Row],[Psi]] -> 0 | Z61: =Tableau3783[[#This Row],[Psi]]*Tableau3783[[#This Row],[Cos teta i]] -> 0 | AA61: =Tableau3783[[#This Row],[Psi]]*Tableau3783[[#This Row],[Sin teta i]] -> 0
B62: 5. | C62: ='Points mesurés'!D10 -> 2.5 | D62: ='Points mesurés'!E10 -> 4.330127 | E62: ='Points mesurés'!F10 -> 60 | F62: =Tableau3783[[#This Row],[Xi]]*Tableau3783[[#This Row],[Xi]] -> 6.25 | G62: =Tableau3783[[#This Row],[Yi]]*Tableau3783[[#This Row],[Yi]] -> 18.75 | H62: =E62*E62 -> 3600 | I62: ='Points mesurés'!$D$3 -> 5 | J62: =IFERROR(Tableau3783[[#This Row],[Xi]]/Tableau3783[[#This Row],[Ri]],0) -> 0.5 | K62: =IFERROR(Tableau3783[[#This Row],[Yi]]/Tableau3783[[#This Row],[Ri]],0) -> 0.8660254 | L62: =Tableau3783[[#This Row],[Cos teta i]]*Tableau3783[[#This Row],[Cos teta i]] -> 0.25 | M62: =Tableau3783[[#This Row],[Sin teta i]]*Tableau3783[[#This Row],[Sin teta i]] -> 0.75 | N62: =Tableau3783[[#This Row],[Zi]]*Tableau3783[[#This Row],[Sin teta i]] -> 51.961524 | O62: =Tableau3783[[#This Row],[Zi]]*Tableau3783[[#This Row],[Sin² teta i2]] -> 45 | P62: =Tableau3783[[#This Row],[Zi]]*Tableau3783[[#This Row],[Cos teta i]] -> 30 | Q62: =Tableau3783[[#This Row],[Zi]]*Tableau3783[[#This Row],[Cos² teta i2]] -> 15 | R62: =Tableau3783[[#This Row],[Zi * sinteta]]*Tableau3783[[#This Row],[Cos teta i]] -> 25.980762 | S62: =Tableau3783[[#This Row],[Zi²]]*Tableau3783[[#This Row],[Cos teta i]]*Tableau3783[[#This Row],[Sin teta i]] -> 1558.8457 | T62: =Tableau3783[[#This Row],[Zi²]]*Tableau3783[[#This Row],[Cos² teta i2]] -> 900 | U62: =Tableau3783[[#This Row],[Zi²]]*Tableau3783[[#This Row],[Sin² teta i2]] -> 2700 | V62: =Tableau3783[[#This Row],[Cos teta i]]*Tableau3783[[#This Row],[Sin teta i]] -> 0.4330127 | W62: =IF(Tableau3783[[#This Row],[Ri]] <>0,Tableau3783[[#This Row],[Ri]]-'Points mesurés'!$D$3,0) -> 0 | X62: =Tableau3783[[#This Row],[Zi * sinteta]]*W62 -> 0 | Y62: =Tableau3783[[#This Row],[Zi * cos]]*Tableau3783[[#This Row],[Psi]] -> 0 | Z62: =Tableau3783[[#This Row],[Psi]]*Tableau3783[[#This Row],[Cos teta i]] -> 0 | AA62: =Tableau3783[[#This Row],[Psi]]*Tableau3783[[#This Row],[Sin teta i]] -> 0
B63: 6. | C63: ='Points mesurés'!D11 -> 1.2940952 | D63: ='Points mesurés'!E11 -> 4.8296291 | E63: ='Points mesurés'!F11 -> 60 | F63: =Tableau3783[[#This Row],[Xi]]*Tableau3783[[#This Row],[Xi]] -> 1.6746825 | G63: =Tableau3783[[#This Row],[Yi]]*Tableau3783[[#This Row],[Yi]] -> 23.325318 | H63: =E63*E63 -> 3600 | I63: ='Points mesurés'!$D$3 -> 5 | J63: =IFERROR(Tableau3783[[#This Row],[Xi]]/Tableau3783[[#This Row],[Ri]],0) -> 0.25881905 | K63: =IFERROR(Tableau3783[[#This Row],[Yi]]/Tableau3783[[#This Row],[Ri]],0) -> 0.96592583 | L63: =Tableau3783[[#This Row],[Cos teta i]]*Tableau3783[[#This Row],[Cos teta i]] -> 0.066987298 | M63: =Tableau3783[[#This Row],[Sin teta i]]*Tableau3783[[#This Row],[Sin teta i]] -> 0.9330127 | N63: =Tableau3783[[#This Row],[Zi]]*Tableau3783[[#This Row],[Sin teta i]] -> 57.95555 | O63: =Tableau3783[[#This Row],[Zi]]*Tableau3783[[#This Row],[Sin² teta i2]] -> 55.980762 | P63: =Tableau3783[[#This Row],[Zi]]*Tableau3783[[#This Row],[Cos teta i]] -> 15.529143 | Q63: =Tableau3783[[#This Row],[Zi]]*Tableau3783[[#This Row],[Cos² teta i2]] -> 4.0192379 | R63: =Tableau3783[[#This Row],[Zi * sinteta]]*Tableau3783[[#This Row],[Cos teta i]] -> 15 | S63: =Tableau3783[[#This Row],[Zi²]]*Tableau3783[[#This Row],[Cos teta i]]*Tableau3783[[#This Row],[Sin teta i]] -> 900 | T63: =Tableau3783[[#This Row],[Zi²]]*Tableau3783[[#This Row],[Cos² teta i2]] -> 241.15427 | U63: =Tableau3783[[#This Row],[Zi²]]*Tableau3783[[#This Row],[Sin² teta i2]] -> 3358.8457 | V63: =Tableau3783[[#This Row],[Cos teta i]]*Tableau3783[[#This Row],[Sin teta i]] -> 0.25 | W63: =IF(Tableau3783[[#This Row],[Ri]] <>0,Tableau3783[[#This Row],[Ri]]-'Points mesurés'!$D$3,0) -> 0 | X63: =Tableau3783[[#This Row],[Zi * sinteta]]*W63 -> 0 | Y63: =Tableau3783[[#This Row],[Zi * cos]]*Tableau3783[[#This Row],[Psi]] -> 0 | Z63: =Tableau3783[[#This Row],[Psi]]*Tableau3783[[#This Row],[Cos teta i]] -> 0 | AA63: =Tableau3783[[#This Row],[Psi]]*Tableau3783[[#This Row],[Sin teta i]] -> 0
B64: 7. | C64: ='Points mesurés'!D12 -> 1.4165101e-15 | D64: ='Points mesurés'!E12 -> 5 | E64: ='Points mesurés'!F12 -> 60 | F64: =Tableau3783[[#This Row],[Xi]]*Tableau3783[[#This Row],[Xi]] -> 2.006501e-30 | G64: =Tableau3783[[#This Row],[Yi]]*Tableau3783[[#This Row],[Yi]] -> 25 | H64: =E64*E64 -> 3600 | I64: ='Points mesurés'!$D$3 -> 5 | J64: =IFERROR(Tableau3783[[#This Row],[Xi]]/Tableau3783[[#This Row],[Ri]],0) -> 2.8330203e-16 | K64: =IFERROR(Tableau3783[[#This Row],[Yi]]/Tableau3783[[#This Row],[Ri]],0) -> 1 | L64: =Tableau3783[[#This Row],[Cos teta i]]*Tableau3783[[#This Row],[Cos teta i]] -> 8.0260039e-32 | M64: =Tableau3783[[#This Row],[Sin teta i]]*Tableau3783[[#This Row],[Sin teta i]] -> 1 | N64: =Tableau3783[[#This Row],[Zi]]*Tableau3783[[#This Row],[Sin teta i]] -> 60 | O64: =Tableau3783[[#This Row],[Zi]]*Tableau3783[[#This Row],[Sin² teta i2]] -> 60 | P64: =Tableau3783[[#This Row],[Zi]]*Tableau3783[[#This Row],[Cos teta i]] -> 1.6998122e-14 | Q64: =Tableau3783[[#This Row],[Zi]]*Tableau3783[[#This Row],[Cos² teta i2]] -> 4.8156023e-30 | R64: =Tableau3783[[#This Row],[Zi * sinteta]]*Tableau3783[[#This Row],[Cos teta i]] -> 1.6998122e-14 | S64: =Tableau3783[[#This Row],[Zi²]]*Tableau3783[[#This Row],[Cos teta i]]*Tableau3783[[#This Row],[Sin teta i]] -> 1.0198873e-12 | T64: =Tableau3783[[#This Row],[Zi²]]*Tableau3783[[#This Row],[Cos² teta i2]] -> 2.8893614e-28 | U64: =Tableau3783[[#This Row],[Zi²]]*Tableau3783[[#This Row],[Sin² teta i2]] -> 3600 | V64: =Tableau3783[[#This Row],[Cos teta i]]*Tableau3783[[#This Row],[Sin teta i]] -> 2.8330203e-16 | W64: =IF(Tableau3783[[#This Row],[Ri]] <>0,Tableau3783[[#This Row],[Ri]]-'Points mesurés'!$D$3,0) -> 0 | X64: =Tableau3783[[#This Row],[Zi * sinteta]]*W64 -> 0 | Y64: =Tableau3783[[#This Row],[Zi * cos]]*Tableau3783[[#This Row],[Psi]] -> 0 | Z64: =Tableau3783[[#This Row],[Psi]]*Tableau3783[[#This Row],[Cos teta i]] -> 0 | AA64: =Tableau3783[[#This Row],[Psi]]*Tableau3783[[#This Row],[Sin teta i]] -> 0
B65: 8. | C65: ='Points mesurés'!D13 -> -1.2940952 | D65: ='Points mesurés'!E13 -> 4.8296291 | E65: ='Points mesurés'!F13 -> 60 | F65: =Tableau3783[[#This Row],[Xi]]*Tableau3783[[#This Row],[Xi]] -> 1.6746825 | G65: =Tableau3783[[#This Row],[Yi]]*Tableau3783[[#This Row],[Yi]] -> 23.325318 | H65: =E65*E65 -> 3600 | I65: ='Points mesurés'!$D$3 -> 5 | J65: =IFERROR(Tableau3783[[#This Row],[Xi]]/Tableau3783[[#This Row],[Ri]],0) -> -0.25881905 | K65: =IFERROR(Tableau3783[[#This Row],[Yi]]/Tableau3783[[#This Row],[Ri]],0) -> 0.96592583 | L65: =Tableau3783[[#This Row],[Cos teta i]]*Tableau3783[[#This Row],[Cos teta i]] -> 0.066987298 | M65: =Tableau3783[[#This Row],[Sin teta i]]*Tableau3783[[#This Row],[Sin teta i]] -> 0.9330127 | N65: =Tableau3783[[#This Row],[Zi]]*Tableau3783[[#This Row],[Sin teta i]] -> 57.95555 | O65: =Tableau3783[[#This Row],[Zi]]*Tableau3783[[#This Row],[Sin² teta i2]] -> 55.980762 | P65: =Tableau3783[[#This Row],[Zi]]*Tableau3783[[#This Row],[Cos teta i]] -> -15.529143 | Q65: =Tableau3783[[#This Row],[Zi]]*Tableau3783[[#This Row],[Cos² teta i2]] -> 4.0192379 | R65: =Tableau3783[[#This Row],[Zi * sinteta]]*Tableau3783[[#This Row],[Cos teta i]] -> -15 | S65: =Tableau3783[[#This Row],[Zi²]]*Tableau3783[[#This Row],[Cos teta i]]*Tableau3783[[#This Row],[Sin teta i]] -> -900 | T65: =Tableau3783[[#This Row],[Zi²]]*Tableau3783[[#This Row],[Cos² teta i2]] -> 241.15427 | U65: =Tableau3783[[#This Row],[Zi²]]*Tableau3783[[#This Row],[Sin² teta i2]] -> 3358.8457 | V65: =Tableau3783[[#This Row],[Cos teta i]]*Tableau3783[[#This Row],[Sin teta i]] -> -0.25 | W65: =IF(Tableau3783[[#This Row],[Ri]] <>0,Tableau3783[[#This Row],[Ri]]-'Points mesurés'!$D$3,0) -> 0 | X65: =Tableau3783[[#This Row],[Zi * sinteta]]*W65 -> 0 | Y65: =Tableau3783[[#This Row],[Zi * cos]]*Tableau3783[[#This Row],[Psi]] -> 0 | Z65: =Tableau3783[[#This Row],[Psi]]*Tableau3783[[#This Row],[Cos teta i]] -> 0 | AA65: =Tableau3783[[#This Row],[Psi]]*Tableau3783[[#This Row],[Sin teta i]] -> 0
B66: 9. | C66: ='Points mesurés'!D14 -> -2.5 | D66: ='Points mesurés'!E14 -> 4.330127 | E66: ='Points mesurés'!F14 -> 60 | F66: =Tableau3783[[#This Row],[Xi]]*Tableau3783[[#This Row],[Xi]] -> 6.25 | G66: =Tableau3783[[#This Row],[Yi]]*Tableau3783[[#This Row],[Yi]] -> 18.75 | H66: =E66*E66 -> 3600 | I66: ='Points mesurés'!$D$3 -> 5 | J66: =IFERROR(Tableau3783[[#This Row],[Xi]]/Tableau3783[[#This Row],[Ri]],0) -> -0.5 | K66: =IFERROR(Tableau3783[[#This Row],[Yi]]/Tableau3783[[#This Row],[Ri]],0) -> 0.8660254 | L66: =Tableau3783[[#This Row],[Cos teta i]]*Tableau3783[[#This Row],[Cos teta i]] -> 0.25 | M66: =Tableau3783[[#This Row],[Sin teta i]]*Tableau3783[[#This Row],[Sin teta i]] -> 0.75 | N66: =Tableau3783[[#This Row],[Zi]]*Tableau3783[[#This Row],[Sin teta i]] -> 51.961524 | O66: =Tableau3783[[#This Row],[Zi]]*Tableau3783[[#This Row],[Sin² teta i2]] -> 45 | P66: =Tableau3783[[#This Row],[Zi]]*Tableau3783[[#This Row],[Cos teta i]] -> -30 | Q66: =Tableau3783[[#This Row],[Zi]]*Tableau3783[[#This Row],[Cos² teta i2]] -> 15 | R66: =Tableau3783[[#This Row],[Zi * sinteta]]*Tableau3783[[#This Row],[Cos teta i]] -> -25.980762 | S66: =Tableau3783[[#This Row],[Zi²]]*Tableau3783[[#This Row],[Cos teta i]]*Tableau3783[[#This Row],[Sin teta i]] -> -1558.8457 | T66: =Tableau3783[[#This Row],[Zi²]]*Tableau3783[[#This Row],[Cos² teta i2]] -> 900 | U66: =Tableau3783[[#This Row],[Zi²]]*Tableau3783[[#This Row],[Sin² teta i2]] -> 2700 | V66: =Tableau3783[[#This Row],[Cos teta i]]*Tableau3783[[#This Row],[Sin teta i]] -> -0.4330127 | W66: =IF(Tableau3783[[#This Row],[Ri]] <>0,Tableau3783[[#This Row],[Ri]]-'Points mesurés'!$D$3,0) -> 0 | X66: =Tableau3783[[#This Row],[Zi * sinteta]]*W66 -> 0 | Y66: =Tableau3783[[#This Row],[Zi * cos]]*Tableau3783[[#This Row],[Psi]] -> 0 | Z66: =Tableau3783[[#This Row],[Psi]]*Tableau3783[[#This Row],[Cos teta i]] -> 0 | AA66: =Tableau3783[[#This Row],[Psi]]*Tableau3783[[#This Row],[Sin teta i]] -> 0
B67: 10. | C67: ='Points mesurés'!D15 -> -3.5355339 | D67: ='Points mesurés'!E15 -> 3.5355339 | E67: ='Points mesurés'!F15 -> 60 | F67: =Tableau3783[[#This Row],[Xi]]*Tableau3783[[#This Row],[Xi]] -> 12.5 | G67: =Tableau3783[[#This Row],[Yi]]*Tableau3783[[#This Row],[Yi]] -> 12.5 | H67: =E67*E67 -> 3600 | I67: ='Points mesurés'!$D$3 -> 5 | J67: =IFERROR(Tableau3783[[#This Row],[Xi]]/Tableau3783[[#This Row],[Ri]],0) -> -0.70710678 | K67: =IFERROR(Tableau3783[[#This Row],[Yi]]/Tableau3783[[#This Row],[Ri]],0) -> 0.70710678 | L67: =Tableau3783[[#This Row],[Cos teta i]]*Tableau3783[[#This Row],[Cos teta i]] -> 0.5 | M67: =Tableau3783[[#This Row],[Sin teta i]]*Tableau3783[[#This Row],[Sin teta i]] -> 0.5 | N67: =Tableau3783[[#This Row],[Zi]]*Tableau3783[[#This Row],[Sin teta i]] -> 42.426407 | O67: =Tableau3783[[#This Row],[Zi]]*Tableau3783[[#This Row],[Sin² teta i2]] -> 30 | P67: =Tableau3783[[#This Row],[Zi]]*Tableau3783[[#This Row],[Cos teta i]] -> -42.426407 | Q67: =Tableau3783[[#This Row],[Zi]]*Tableau3783[[#This Row],[Cos² teta i2]] -> 30 | R67: =Tableau3783[[#This Row],[Zi * sinteta]]*Tableau3783[[#This Row],[Cos teta i]] -> -30 | S67: =Tableau3783[[#This Row],[Zi²]]*Tableau3783[[#This Row],[Cos teta i]]*Tableau3783[[#This Row],[Sin teta i]] -> -1800 | T67: =Tableau3783[[#This Row],[Zi²]]*Tableau3783[[#This Row],[Cos² teta i2]] -> 1800 | U67: =Tableau3783[[#This Row],[Zi²]]*Tableau3783[[#This Row],[Sin² teta i2]] -> 1800 | V67: =Tableau3783[[#This Row],[Cos teta i]]*Tableau3783[[#This Row],[Sin teta i]] -> -0.5 | W67: =IF(Tableau3783[[#This Row],[Ri]] <>0,Tableau3783[[#This Row],[Ri]]-'Points mesurés'!$D$3,0) -> 0 | X67: =Tableau3783[[#This Row],[Zi * sinteta]]*W67 -> 0 | Y67: =Tableau3783[[#This Row],[Zi * cos]]*Tableau3783[[#This Row],[Psi]] -> 0 | Z67: =Tableau3783[[#This Row],[Psi]]*Tableau3783[[#This Row],[Cos teta i]] -> 0 | AA67: =Tableau3783[[#This Row],[Psi]]*Tableau3783[[#This Row],[Sin teta i]] -> 0
B68: 11. | C68: ='Points mesurés'!D16 -> -4.330127 | D68: ='Points mesurés'!E16 -> 2.5 | E68: ='Points mesurés'!F16 -> 60 | F68: =Tableau3783[[#This Row],[Xi]]*Tableau3783[[#This Row],[Xi]] -> 18.75 | G68: =Tableau3783[[#This Row],[Yi]]*Tableau3783[[#This Row],[Yi]] -> 6.25 | H68: =E68*E68 -> 3600 | I68: ='Points mesurés'!$D$3 -> 5 | J68: =IFERROR(Tableau3783[[#This Row],[Xi]]/Tableau3783[[#This Row],[Ri]],0) -> -0.8660254 | K68: =IFERROR(Tableau3783[[#This Row],[Yi]]/Tableau3783[[#This Row],[Ri]],0) -> 0.5 | L68: =Tableau3783[[#This Row],[Cos teta i]]*Tableau3783[[#This Row],[Cos teta i]] -> 0.75 | M68: =Tableau3783[[#This Row],[Sin teta i]]*Tableau3783[[#This Row],[Sin teta i]] -> 0.25 | N68: =Tableau3783[[#This Row],[Zi]]*Tableau3783[[#This Row],[Sin teta i]] -> 30 | O68: =Tableau3783[[#This Row],[Zi]]*Tableau3783[[#This Row],[Sin² teta i2]] -> 15 | P68: =Tableau3783[[#This Row],[Zi]]*Tableau3783[[#This Row],[Cos teta i]] -> -51.961524 | Q68: =Tableau3783[[#This Row],[Zi]]*Tableau3783[[#This Row],[Cos² teta i2]] -> 45 | R68: =Tableau3783[[#This Row],[Zi * sinteta]]*Tableau3783[[#This Row],[Cos teta i]] -> -25.980762 | S68: =Tableau3783[[#This Row],[Zi²]]*Tableau3783[[#This Row],[Cos teta i]]*Tableau3783[[#This Row],[Sin teta i]] -> -1558.8457 | T68: =Tableau3783[[#This Row],[Zi²]]*Tableau3783[[#This Row],[Cos² teta i2]] -> 2700 | U68: =Tableau3783[[#This Row],[Zi²]]*Tableau3783[[#This Row],[Sin² teta i2]] -> 900 | V68: =Tableau3783[[#This Row],[Cos teta i]]*Tableau3783[[#This Row],[Sin teta i]] -> -0.4330127 | W68: =IF(Tableau3783[[#This Row],[Ri]] <>0,Tableau3783[[#This Row],[Ri]]-'Points mesurés'!$D$3,0) -> 0 | X68: =Tableau3783[[#This Row],[Zi * sinteta]]*W68 -> 0 | Y68: =Tableau3783[[#This Row],[Zi * cos]]*Tableau3783[[#This Row],[Psi]] -> 0 | Z68: =Tableau3783[[#This Row],[Psi]]*Tableau3783[[#This Row],[Cos teta i]] -> 0 | AA68: =Tableau3783[[#This Row],[Psi]]*Tableau3783[[#This Row],[Sin teta i]] -> 0
B69: 12. | C69: ='Points mesurés'!D17 -> -4.8296291 | D69: ='Points mesurés'!E17 -> 1.2940952 | E69: ='Points mesurés'!F17 -> 60 | F69: =Tableau3783[[#This Row],[Xi]]*Tableau3783[[#This Row],[Xi]] -> 23.325318 | G69: =Tableau3783[[#This Row],[Yi]]*Tableau3783[[#This Row],[Yi]] -> 1.6746825 | H69: =E69*E69 -> 3600 | I69: ='Points mesurés'!$D$3 -> 5 | J69: =IFERROR(Tableau3783[[#This Row],[Xi]]/Tableau3783[[#This Row],[Ri]],0) -> -0.96592583 | K69: =IFERROR(Tableau3783[[#This Row],[Yi]]/Tableau3783[[#This Row],[Ri]],0) -> 0.25881905 | L69: =Tableau3783[[#This Row],[Cos teta i]]*Tableau3783[[#This Row],[Cos teta i]] -> 0.9330127 | M69: =Tableau3783[[#This Row],[Sin teta i]]*Tableau3783[[#This Row],[Sin teta i]] -> 0.066987298 | N69: =Tableau3783[[#This Row],[Zi]]*Tableau3783[[#This Row],[Sin teta i]] -> 15.529143 | O69: =Tableau3783[[#This Row],[Zi]]*Tableau3783[[#This Row],[Sin² teta i2]] -> 4.0192379 | P69: =Tableau3783[[#This Row],[Zi]]*Tableau3783[[#This Row],[Cos teta i]] -> -57.95555 | Q69: =Tableau3783[[#This Row],[Zi]]*Tableau3783[[#This Row],[Cos² teta i2]] -> 55.980762 | R69: =Tableau3783[[#This Row],[Zi * sinteta]]*Tableau3783[[#This Row],[Cos teta i]] -> -15 | S69: =Tableau3783[[#This Row],[Zi²]]*Tableau3783[[#This Row],[Cos teta i]]*Tableau3783[[#This Row],[Sin teta i]] -> -900 | T69: =Tableau3783[[#This Row],[Zi²]]*Tableau3783[[#This Row],[Cos² teta i2]] -> 3358.8457 | U69: =Tableau3783[[#This Row],[Zi²]]*Tableau3783[[#This Row],[Sin² teta i2]] -> 241.15427 | V69: =Tableau3783[[#This Row],[Cos teta i]]*Tableau3783[[#This Row],[Sin teta i]] -> -0.25 | W69: =IF(Tableau3783[[#This Row],[Ri]] <>0,Tableau3783[[#This Row],[Ri]]-'Points mesurés'!$D$3,0) -> 0 | X69: =Tableau3783[[#This Row],[Zi * sinteta]]*W69 -> 0 | Y69: =Tableau3783[[#This Row],[Zi * cos]]*Tableau3783[[#This Row],[Psi]] -> 0 | Z69: =Tableau3783[[#This Row],[Psi]]*Tableau3783[[#This Row],[Cos teta i]] -> 0 | AA69: =Tableau3783[[#This Row],[Psi]]*Tableau3783[[#This Row],[Sin teta i]] -> 0
... B82: 25. | C82: ='Points mesurés'!D30 -> 5 | D82: ='Points mesurés'!E30 -> -1.0106933e-14 | E82: ='Points mesurés'!F30 -> 0 | F82: =Tableau3783[[#This Row],[Xi]]*Tableau3783[[#This Row],[Xi]] -> 25 | G82: =Tableau3783[[#This Row],[Yi]]*Tableau3783[[#This Row],[Yi]] -> 1.0215009e-28 | H82: =E82*E82 -> 0 | I82: ='Points mesurés'!$D$3 -> 5 | J82: =IFERROR(Tableau3783[[#This Row],[Xi]]/Tableau3783[[#This Row],[Ri]],0) -> 1 | K82: =IFERROR(Tableau3783[[#This Row],[Yi]]/Tableau3783[[#This Row],[Ri]],0) -> -2.0213865e-15 | L82: =Tableau3783[[#This Row],[Cos teta i]]*Tableau3783[[#This Row],[Cos teta i]] -> 1 | M82: =Tableau3783[[#This Row],[Sin teta i]]*Tableau3783[[#This Row],[Sin teta i]] -> 4.0860035e-30 | N82: =Tableau3783[[#This Row],[Zi]]*Tableau3783[[#This Row],[Sin teta i]] -> 0 | O82: =Tableau3783[[#This Row],[Zi]]*Tableau3783[[#This Row],[Sin² teta i2]] -> 0 | P82: =Tableau3783[[#This Row],[Zi]]*Tableau3783[[#This Row],[Cos teta i]] -> 0 | Q82: =Tableau3783[[#This Row],[Zi]]*Tableau3783[[#This Row],[Cos² teta i2]] -> 0 | R82: =Tableau3783[[#This Row],[Zi * sinteta]]*Tableau3783[[#This Row],[Cos teta i]] -> 0 | S82: =Tableau3783[[#This Row],[Zi²]]*Tableau3783[[#This Row],[Cos teta i]]*Tableau3783[[#This Row],[Sin teta i]] -> 0 | T82: =Tableau3783[[#This Row],[Zi²]]*Tableau3783[[#This Row],[Cos² teta i2]] -> 0 | U82: =Tableau3783[[#This Row],[Zi²]]*Tableau3783[[#This Row],[Sin² teta i2]] -> 0 | V82: =Tableau3783[[#This Row],[Cos teta i]]*Tableau3783[[#This Row],[Sin teta i]] -> -2.0213865e-15 | W82: =IF(Tableau3783[[#This Row],[Ri]] <>0,Tableau3783[[#This Row],[Ri]]-'Points mesurés'!$D$3,0) -> 0 | X82: =Tableau3783[[#This Row],[Zi * sinteta]]*W82 -> 0 | Y82: =Tableau3783[[#This Row],[Zi * cos]]*Tableau3783[[#This Row],[Psi]] -> 0 | Z82: =Tableau3783[[#This Row],[Psi]]*Tableau3783[[#This Row],[Cos teta i]] -> 0 | AA82: =Tableau3783[[#This Row],[Psi]]*Tableau3783[[#This Row],[Sin teta i]] -> 0
C83: =SUM(Tableau3783[Xi]) -> 5 | D83: =SUM(Tableau3783[Yi]) -> -3.2311393e-14 | E83: =SUM(Tableau3783[Zi]) -> 780 | F83: =SUM(Tableau3783[Xi²]) -> 325 | G83: =SUM(Tableau3783[Yi²]) -> 300 | H83: =SUM(Tableau3783[Zi²]) -> 46800 | I83: =SUM(Tableau3783[Ri]) -> 125 | J83: =SUM(Tableau3783[Cos teta i]) -> 1 | K83: =SUM(Tableau3783[Sin teta i]) -> -8.6827247e-15 | L83: =SUM(Tableau3783[Cos² teta i2]) -> 13 | M83: =SUM(Tableau3783[Sin² teta i2]) -> 12 | N83: =SUM(Tableau3783[Zi * sinteta]) -> 455.74525 | O83: =SUM(Tableau3783[Zi * sin²teta]) -> 360 | P83: =SUM(Tableau3783[Zi * cos]) -> 2.8421709e-14 | Q83: =SUM(Tableau3783[Zi * cos²]) -> 420 | R83: =SUM(Tableau3783[Zi*cos*sin]) -> 6.1927026e-14 | S83: =SUM(Tableau3783[Zi²*cos*sin]) -> 5.4777675e-12 | T83: =SUM(Tableau3783[Zi²*cos²]) -> 25200 | U83: =SUM(Tableau3783[Zi²*sin²]) -> 21600 | V83: =SUM(Tableau3783[cos sin]) -> -1.2997416e-15 | W83: =SUM(Tableau3783[Psi]) -> 0 | X83: =SUM(Tableau3783[Zi*sin*psi]) -> 0 | Y83: =SUM(Tableau3783[Zi*cos*psi]) -> 0 | Z83: =SUM(Tableau3783[psi*cos]) -> 0 | AA83: =SUM(Tableau3783[psi*sin]) -> 0
E86: Matrice
M87: B
E88: =COUNTA(C58:C82) -> 25 | F88: =-Tableau3783[[#Totals],[Zi * sinteta]] -> -455.74525 | G88: =Tableau3783[[#Totals],[Zi * cos]] -> 2.8421709e-14 | H88: =Tableau3783[[#Totals],[Cos teta i]] -> 1 | I88: =Tableau3783[[#Totals],[Sin teta i]] -> -8.6827247e-15 | M88: =Tableau3783[[#Totals],[Psi]] -> 0
E89: =-Tableau3783[[#Totals],[Zi * sinteta]] -> -455.74525 | F89: =Tableau3783[[#Totals],[Zi²*sin²]] -> 21600 | G89: =-Tableau3783[[#Totals],[Zi²*cos*sin]] -> -5.4777675e-12 | H89: =-Tableau3783[[#Totals],[Zi*cos*sin]] -> -6.1927026e-14 | I89: =-Tableau3783[[#Totals],[Zi * sin²teta]] -> -360 | M89: =-Tableau3783[[#Totals],[Zi*sin*psi]] -> 0
E90: =Tableau3783[[#Totals],[Zi * cos]] -> 2.8421709e-14 | F90: =-Tableau3783[[#Totals],[Zi²*cos*sin]] -> -5.4777675e-12 | G90: =Tableau3783[[#Totals],[Zi²*cos²]] -> 25200 | H90: =Tableau3783[[#Totals],[Zi * cos²]] -> 420 | I90: =Tableau3783[[#Totals],[Zi*cos*sin]] -> 6.1927026e-14 | M90: =Tableau3783[[#Totals],[Zi*cos*psi]] -> 0
E91: =H88 -> 1 | F91: =-Tableau3783[[#Totals],[Zi*cos*sin]] -> -6.1927026e-14 | G91: =Tableau3783[[#Totals],[Zi * cos²]] -> 420 | H91: =Tableau3783[[#Totals],[Cos² teta i2]] -> 13 | I91: =Tableau3783[[#Totals],[cos sin]] -> -1.2997416e-15 | M91: =Tableau3783[[#Totals],[psi*cos]] -> 0
E92: =I88 -> -8.6827247e-15 | F92: =-Tableau3783[[#Totals],[Zi * sin²teta]] -> -360 | G92: =Tableau3783[[#Totals],[Zi*cos*sin]] -> 6.1927026e-14 | H92: =Tableau3783[[#Totals],[cos sin]] -> -1.2997416e-15 | I92: =Tableau3783[[#Totals],[Sin² teta i2]] -> 12 | M92: =Tableau3783[[#Totals],[psi*sin]] -> 0
E94: Matrice inverse
M95: A
E96: {=MINVERSE(E88:I92)} -> 0.1785234 | F96: 0.0075334437 | G96: 0.00049589834 | H96: -0.029753901 | I96: 0.22600331 | L96: DeltaR | M96: {=MMULT(E96:I100,M88:M92)} -> 0
E97: 0.0075334437 | F97: 0.00041049363 | G97: 2.0926233e-05 | H97: -0.001255574 | I97: 0.012314809 | L97: ALPHA | M97: 0
E98: 0.00049589834 | F98: 2.0926233e-05 | G98: 8.7356331e-05 | H98: -0.0028604275 | I98: 0.00062778698 | L98: BETA | M98: 0
E99: -0.029753901 | F99: -0.001255574 | G99: -0.0028604275 | H99: 0.17162565 | I99: -0.037667219 | L99: U0 | M99: 0
E100: 0.22600331 | F100: 0.012314809 | G100: 0.00062778698 | H100: -0.037667219 | I100: 0.4527776 | L100: V0 | M100: 0

Sheet Validation des résultats
B2: Cylindre avec défauts
F3: ΔR | G3: ='Clacul intermédiaire '!M46 -> 0.00016000967 | I3: O2h (Point centre haut) | J3: =G8 -> 80 | L3: O2b (Point centre bas) | M3: =G8 -> 80 | O3: O2bOPO2hOP | P3: =J3+G6+G5*G9-G6-M3 -> 2.6544477e-05
F4: α | G4: ='Clacul intermédiaire '!M47 -> 3.5046739e-05 | J4: 0 | M4: 0 | P4: =J4+G7-G4*G9-G7-M4 -> -0.0021028044 | R4: J2 (Vecteur de l'axe) | S4: =P3/$P$8 -> 4.4240794e-07
F5: β | G5: ='Clacul intermédiaire '!M48 -> 4.4240794e-07 | J5: =G9 -> 60 | M5: 0 | P5: =J5-M5 -> 60 | S5: =P4/$P$8 -> -3.5046739e-05
F6: uo | G6: ='Clacul intermédiaire '!M49 -> 0.09997421 | S6: =P5/$P$8 -> 1
F7: vo | G7: ='Clacul intermédiaire '!M50 -> 0.0010512876 | I7: O2hOp (Point centre haut optmisé) | J7: =J3+G6+G5*G9 -> 80.100001 | L7: O2bOp (Point centre bas optimisé) | M7: =M3+G6 -> 80.099974
F8: L | G8: ='Points mesurés'!H3 -> 80 | J8: =J4+G7-G4*G9 -> -0.0010515168 | M8: =M4+G7 -> 0.0010512876 | O8: II O2bOPO2hOP II | P8: =SQRT(P3^2+P4^2+P5^2) -> 60
F9: H | G9: ='Points mesurés'!I3 -> 60 | J9: =J5 -> 60 | M9: =M5 -> 0
B12: Cylindre parfais
F13: ΔR | G13: ='Clacul intermédiaire '!M96 -> 0 | I13: O1h (Point centre haut) | J13: =G18 -> 0 | L13: O1b (Point centre bas) | M13: =G18 -> 0 | O13: O1bOPO1hOP | P13: =J13+G16+G15*G19-G16-M13 -> 0
F14: α | G14: ='Clacul intermédiaire '!M97 -> 0 | J14: 0 | M14: 0 | P14: =J14+G17-G14*G19-G17-M14 -> 0 | R14: J1 (Vecteur de l'axe) | S14: =P13/$P$8 -> 0
F15: β | G15: ='Clacul intermédiaire '!M98 -> 0 | J15: =G19 -> 60 | M15: 0 | P15: =J15-M15 -> 60 | S15: =P14/$P$8 -> 0
F16: uo | G16: ='Clacul intermédiaire '!M99 -> 0 | S16: =P15/$P$8 -> 1
F17: vo | G17: ='Clacul intermédiaire '!M100 -> 0 | I17: O1hOp (Point centre haut optmisé) | J17: =J13+G16+G15*G19 -> 0 | L17: O1bOp (Point centre bas optimisé) | M17: =M13+G16 -> 0
F18: L | G18: 0 | J18: =J14+G17-G14*G19 -> 0 | M18: =M14+G17 -> 0 | O18: II O1bOPO1hOP II | P18: =SQRT(P13^2+P14^2+P15^2) -> 60
F19: H | G19: ='Points mesurés'!I3 -> 60 | J19: =J15 -> 60 | M19: =M15 -> 0
B22: Résultat des produis
F23: O1hOPO2bOP | G23: =M7-J17 -> 80.099974 | L23: O1bOPO2bOP | M23: =M7-M17 -> 80.099974
G24: =M8-J18 -> 0.0010512876 | M24: =M8-M18 -> 0.0010512876
G25: =M9-J19 -> -60 | M25: =M9-M19 -> 0
I26: II O1hOPO2bOP ^ J2 II | J26: =SQRT(G27^2+G28^2+G29^2) -> 80.100001 | O26: II O1bOPO2bOP ^ J2 II | P26: =SQRT(M27^2+M28^2+M29^2) -> 80.099974
F27: O1hOPO2bOP ^ J2 | G27: =G24*S6-G25*S5 -> -0.0010515168 | L27: O1hOPO2bOP ^ J2 | M27: =M24*S6-S5*M25 -> 0.0010512876
G28: =G25*S4-G23*S6 -> -80.100001 | M28: =M25*S4-M23*S6 -> -80.099974
G29: =G23*S5-G24*S4 -> -0.0028072434 | M29: =M23*S5-S4*M24 -> -0.0028072434

Sheet Feuille de résultats
