Workbook

Sheet 2017 TS
B2: Atteinte du seuil de point minimal | D2: =IF(AT23>=2100,"OUI","NON") -> OUI | G2: Résultats Qualicités 2017
B3: Mention | D3: =IF(AT23>=2700,"OR",IF(AT23>=2400,"ARGENT",IF(AT23>=2100,"BRONZE","aucune"))) -> OR
B5: Paliers Bronze : 2100 pts - Argent : 2400 pts - Or : 2700 pts
B7: Résultats Qualicités Transversale Sud | G7: Résultats annuels 2012 | H7: Résultats annuels 2013 | I7: Résultats annuels 2014 | J7: Résultats annuels 2015 | K7: Résultats annuels 2016 | M7: Objectifs | Q7: Résultats mensuels | U7: Résultats Q1 | Y7: Résultats mensuels | AC7: Résultats Q2 | AG7: Résultats mensuels | AK7: Résultats Q3 | AO7: Résultats 2016 | AP7: Evol / A-1 | AS7: Seuil atteint | AT7: Points reçus
B8: Thème | C8: N° | D8: indicateur | E8: points max (surperformance) | M8: Seuil minimum (70% points) | N8: Seuil Cible (85% points) | O8: Seuil Surper formance (100% pts) | Q8: janvier | R8: fevrier | S8: mars | T8: avril | U8: 1er quadri | V8: Evol / A-1 | Y8: mai | Z8: juin | AA8: juillet | AB8: août | AC8: 2ème quadri | AD8: Evol / Q1 | AG8: sept | AH8: oct | AI8: nov | AJ8: déc | AK8: 3ème quadri | AL8: Evol / Q2 | AO8: Cumul annuel
B9: Mon train propre et à l'heure | C9: 1 | D9: Régularité des trains à 5 min causes Activité | E9: 400 | J9: 0.921 | K9: 0.922 | M9: 0.921 | N9: 0.929 | O9: 0.931 | V9: =IF(U9=K9,"g",IF(U9>K9,"k","m")) -> m | W9: =IF(U9<>"",IF(U9>=$O9,$E9,IF(U9>=$N9,$E9*0.85,IF(U9>=$M9,$E9*0.7,0))),0) -> 0 | AD9: =IF(AC9=U9,"g",IF(AC9>U9,"k","m")) -> g | AE9: =IF(AC9<>"",IF(AC9>=$O9,$E9,IF(AC9>=$N9,$E9*0.85,IF(AC9>=$M9,$E9*0.7,0))),0) -> 0 | AL9: =IF(AK9=AC9,"g",IF(AK9>AC9,"k","m")) -> g | AM9: =IF(AK9<>"",IF(AK9>=$O9,$E9,IF(AK9>=$N9,$E9*0.85,IF(AK9>=$M9,$E9*0.7,0))),0) -> 0 | AP9: =IF(AO9=K9,"g",IF(AO9>K9,"k","m")) -> m | AQ9: =IF($AO9<>"",IF($AO9<=$O9,$E9,IF($AO9<=$N9,$E9*0.85,IF($AO9<=$M9,$E9*0.7,0)))) -> FALSE | AS9: =IF(AO9<>"",IF(AO9>=O9,"surperformance",IF(AO9>=N9,"cible",IF(AO9>=M9,"minimum","non validé"))),"") | AT9: =IF(AS9="surperformance",E9,IF(AS9="cible",E9*0.85,IF(AS9="minimum",E9*0.7,0))) -> 0
C10: 2 | D10: Trains supprimés | E10: 200 | G10: 19 | H10: 20 | I10: 82 | J10: 25 | K10: 26 | M10: 24 | N10: 22 | O10: 20 | V10: =IF(U10=K10,"g",IF(U10<(K10)/3,"k","m")) -> k | W10: =IF(U10<>"",IF(U10<=$O10/3,$E10,IF(U10<=$N10/3,$E10*0.85,IF(U10<=$M10/3,$E10*0.7,0))),0) -> 0 | AD10: =IF(AC10=U10,"g",IF(AC10<U10,"k","m")) -> g | AE10: =IF(AC10<>"",IF(AC10<=$O10/3,$E10,IF(AC10<=$N10/3,$E10*0.85,IF(AC10<=$M10/3,$E10*0.7,0))),0) -> 0 | AL10: =IF(AK10=AC10,"g",IF(AK10<AC10,"k","m")) -> g | AM10: =IF(AK10<>"",IF(AK10<=$O10/3,$E10,IF(AK10<=$N10/3,$E10*0.85,IF(AK10<=$M10/3,$E10*0.7,0))),0) -> 0 | AO10: =SUM(Q10:T10,Y10:AB10,AG10:AJ10) -> 0 | AP10: =IF(AO10=K10,"g",IF(AO10<K10,"k","m")) -> k | AQ10: =IF($AO10<>"",IF($AO10<=$O10,$E10,IF($AO10<=$N10,$E10*0.85,IF($AO10<=$M10,$E10*0.7,0)))) -> 200 | AR10: =COUNTA(Q10:T10,Y10:AB10,AG10:AJ10) -> 0 | AS10: =IF(AO10<>"",IF(AO10<=O10*($AR$10)/12,"surperformance",IF(AO10<=N10*($AR$10)/12,"cible",IF(AO10<=M10*($AR$10)/12,"minimum","non validé"))),"") -> surperformance | AT10: =IF(AS10="surperformance",E10,IF(AS10="cible",E10*0.85,IF(AS10="minimum",E10*0.7,0))) -> 200
C11: 3 | D11: Conformité des compositions | E11: 200 | G11: 0.95596459 | H11: 0.96773466 | I11: 0.96 | J11: 0.85 | K11: =95.6% -> 0.956 | M11: 0.91 | N11: 0.95 | O11: 0.97 | V11: =IF(U11=K11,"g",IF(U11>K11,"k","m")) -> m | W11: =IF(U11>=$O11,$E11,IF(U11>=$N11,$E11*0.85,IF(U11>=$M11,$E11*0.7,0))) -> 0 | AD11: =IF(AC11=U11,"g",IF(AC11>U11,"k","m")) -> g | AE11: =IF(AC11>=$O11,$E11,IF(AC11>=$N11,$E11*0.85,IF(AC11>=$M11,$E11*0.7,0))) -> 0 | AL11: =IF(AK11=AC11,"g",IF(AK11>AC11,"k","m")) -> g | AM11: =IF(AK11>=$O11,$E11,IF(AK11>=$N11,$E11*0.85,IF(AK11>=$M11,$E11*0.7,0))) -> 0 | AP11: =IF(AO11=K11,"g",IF(AO11>K11,"k","m")) -> m | AQ11: =IF($AO11>=$O11,$E11,IF($AO11>=$N11,$E11*0.85,IF($AO11>=$M11,$E11*0.7,0))) -> 0 | AS11: =IF(AO11<>"",IF(AO11>=O11,"surperformance",IF(AO11>=N11,"cible",IF(AO11>=M11,"minimum","non validé"))),"") | AT11: =IF(AS11="surperformance",E11,IF(AS11="cible",E11*0.85,IF(AS11="minimum",E11*0.7,0))) -> 0
C12: 4 | D12: Satisfaction sur la propreté générale du train | E12: 200 | G12: 0.79 | H12: 0.76 | I12: 0.7 | J12: 0.73 | K12: 0.82 | M12: 0.75 | N12: 0.78 | O12: 0.83 | V12: =IF(U12=K12,"g",IF(U12>K12,"k","m")) -> m | W12: =IF(U12>=$O12,$E12,IF(U12>=$N12,$E12*0.85,IF(U12>=$M12,$E12*0.7,0))) -> 0 | AD12: =IF(AC12=U12,"g",IF(AC12>U12,"k","m")) -> g | AE12: =IF(AC12>=$O12,$E12,IF(AC12>=$N12,$E12*0.85,IF(AC12>=$M12,$E12*0.7,0))) -> 0 | AL12: =IF(AK12=AC12,"g",IF(AK12>AC12,"k","m")) -> g | AM12: =IF(AK12>=$O12,$E12,IF(AK12>=$N12,$E12*0.85,IF(AK12>=$M12,$E12*0.7,0))) -> 0 | AP12: =IF(AO12=K12,"g",IF(AO12>K12,"k","m")) -> m | AQ12: =IF($AO12>=$O12,$E12,IF($AO12>=$N12,$E12*0.85,IF($AO12>=$M12,$E12*0.7,0))) -> 0 | AS12: =IF(AO12<>"",IF(AO12>=O12,"surperformance",IF(AO12>=N12,"cible",IF(AO12>=M12,"minimum","non validé"))),"") | AT12: =IF(AS12="surperformance",E12,IF(AS12="cible",E12*0.85,IF(AS12="minimum",E12*0.7,0))) -> 0
C13: 5 | D13: Satisfaction sur la propreté des toilettes à bord du train | E13: 200 | G13: 0.44 | H13: 0.41 | I13: 0.4 | J13: 0.41 | K13: 0.48 | M13: 0.43 | N13: 0.47 | O13: 0.55 | V13: =IF(U13=K13,"g",IF(U13>K13,"k","m")) -> m | W13: =IF(U13>=$O13,$E13,IF(U13>=$N13,$E13*0.85,IF(U13>=$M13,$E13*0.7,0))) -> 0 | AD13: =IF(AC13=U13,"g",IF(AC13>U13,"k","m")) -> g | AE13: =IF(AC13>=$O13,$E13,IF(AC13>=$N13,$E13*0.85,IF(AC13>=$M13,$E13*0.7,0))) -> 0 | AL13: =IF(AK13=AC13,"g",IF(AK13>AC13,"k","m")) -> g | AM13: =IF(AK13>=$O13,$E13,IF(AK13>=$N13,$E13*0.85,IF(AK13>=$M13,$E13*0.7,0))) -> 0 | AP13: =IF(AO13=K13,"g",IF(AO13>K13,"k","m")) -> m | AQ13: =IF($AO13>=$O13,$E13,IF($AO13>=$N13,$E13*0.85,IF($AO13>=$M13,$E13*0.7,0))) -> 0 | AS13: =IF(AO13<>"",IF(AO13>=O13,"surperformance",IF(AO13>=N13,"cible",IF(AO13>=M13,"minimum","non validé"))),"") | AT13: =IF(AS13="surperformance",E13,IF(AS13="cible",E13*0.85,IF(AS13="minimum",E13*0.7,0))) -> 0
B14: Ma gare acceuillante | C14: 6 | D14: Satisfaction sur l'amabilité du personnel en gare de départ | E14: 250 | G14: 0.92 | H14: 0.91 | I14: 0.92 | J14: 0.92 | K14: 0.94 | M14: 0.91 | N14: 0.93 | O14: 0.95 | V14: =IF(U14=K14,"g",IF(U14>K14,"k","m")) -> m | W14: =IF(U14>=$O14,$E14,IF(U14>=$N14,$E14*0.85,IF(U14>=$M14,$E14*0.7,0))) -> 0 | AD14: =IF(AC14=U14,"g",IF(AC14>U14,"k","m")) -> g | AE14: =IF(AC14>=$O14,$E14,IF(AC14>=$N14,$E14*0.85,IF(AC14>=$M14,$E14*0.7,0))) -> 0 | AL14: =IF(AK14=AC14,"g",IF(AK14>AC14,"k","m")) -> g | AM14: =IF(AK14>=$O14,$E14,IF(AK14>=$N14,$E14*0.85,IF(AK14>=$M14,$E14*0.7,0))) -> 0 | AP14: =IF(AO14=K14,"g",IF(AO14>K14,"k","m")) -> m | AQ14: =IF($AO14>=$O14,$E14,IF($AO14>=$N14,$E14*0.85,IF($AO14>=$M14,$E14*0.7,0))) -> 0 | AS14: =IF(AO14<>"",IF(AO14>=O14,"surperformance",IF(AO14>=N14,"cible",IF(AO14>=M14,"minimum","non validé"))),"") | AT14: =IF(AS14="surperformance",E14,IF(AS14="cible",E14*0.85,IF(AS14="minimum",E14*0.7,0))) -> 0
C15: 7 | D15: Satisfaction sur l'équipement mis à disposition pour circuler en gare de départ | E15: 250 | G15: 0.71 | H15: 0.69 | I15: 0.72 | J15: 0.78 | K15: 0.76 | M15: 0.75 | N15: 0.77 | O15: 0.8 | V15: =IF(U15=K15,"g",IF(U15>K15,"k","m")) -> m | W15: =IF(U15>=$O15,$E15,IF(U15>=$N15,$E15*0.85,IF(U15>=$M15,$E15*0.7,0))) -> 0 | AD15: =IF(AC15=U15,"g",IF(AC15>U15,"k","m")) -> g | AE15: =IF(AC15>=$O15,$E15,IF(AC15>=$N15,$E15*0.85,IF(AC15>=$M15,$E15*0.7,0))) -> 0 | AL15: =IF(AK15=AC15,"g",IF(AK15>AC15,"k","m")) -> g | AM15: =IF(AK15>=$O15,$E15,IF(AK15>=$N15,$E15*0.85,IF(AK15>=$M15,$E15*0.7,0))) -> 0 | AP15: =IF(AO15=K15,"g",IF(AO15>K15,"k","m")) -> m | AQ15: =IF($AO15>=$O15,$E18,IF($AO15>=$N15,$E18*0.85,IF($AO15>=$M15,$E18*0.7,0))) -> 0 | AS15: =IF(AO15<>"",IF(AO15>=O15,"surperformance",IF(AO15>=N15,"cible",IF(AO15>=M15,"minimum","non validé"))),"") | AT15: =IF(AS15="surperformance",E15,IF(AS15="cible",E15*0.85,IF(AS15="minimum",E15*0.7,0))) -> 0
C16: 8 | D16: Satisfaction par rapport aux informations fournies par le personnel en gare de départ en SP | E16: 300 | G16: 0.44 | H16: 0.7 | I16: 0.65 | J16: 0.74 | K16: 0.63 | M16: 0.65 | N16: 0.68 | O16: 0.73 | V16: =IF(U16=K16,"g",IF(U16>K16,"k","m")) -> m | W16: =IF(U16>=$O16,$E16,IF(U16>=$N16,$E16*0.85,IF(U16>=$M16,$E16*0.7,0))) -> 0 | AD16: =IF(AC16=U16,"g",IF(AC16>U16,"k","m")) -> g | AE16: =IF(AC16>=$O16,$E16,IF(AC16>=$N16,$E16*0.85,IF(AC16>=$M16,$E16*0.7,0))) -> 0 | AL16: =IF(AK16=AC16,"g",IF(AK16>AC16,"k","m")) -> g | AM16: =IF(AK16>=$O16,$E16,IF(AK16>=$N16,$E16*0.85,IF(AK16>=$M16,$E16*0.7,0))) -> 0 | AP16: =IF(AO16=K16,"g",IF(AO16>K16,"k","m")) -> m | AQ16: =IF($AO16>=$O16,$E16,IF($AO16>=$N16,$E16*0.85,IF($AO16>=$M16,$E16*0.7,0))) -> 0 | AS16: =IF(AO16<>"",IF(AO16>=O16,"surperformance",IF(AO16>=N16,"cible",IF(AO16>=M16,"minimum","non validé"))),"") | AT16: =IF(AS16="surperformance",E16,IF(AS16="cible",E16*0.85,IF(AS16="minimum",E16*0.7,0))) -> 0
B17: Mon voyage tranquille | C17: 9 | D17: Satisfaction par rapport aux informations fournies à bord du train en SP | E17: 400 | G17: 0.71 | H17: 0.66 | I17: 0.67 | J17: 0.7 | K17: 0.79 | M17: 0.7 | N17: 0.75 | O17: 0.8 | V17: =IF(U17=K17,"g",IF(U17>K17,"k","m")) -> m | W17: =IF(U17>=$O17,$E17,IF(U17>=$N17,$E17*0.85,IF(U17>=$M17,$E17*0.7,0))) -> 0 | AD17: =IF(AC17=U17,"g",IF(AC17>U17,"k","m")) -> g | AE17: =IF(AC17>=$O17,$E17,IF(AC17>=$N17,$E17*0.85,IF(AC17>=$M17,$E17*0.7,0))) -> 0 | AL17: =IF(AK17=AC17,"g",IF(AK17>AC17,"k","m")) -> g | AM17: =IF(AK17>=$O17,$E17,IF(AK17>=$N17,$E17*0.85,IF(AK17>=$M17,$E17*0.7,0))) -> 0 | AP17: =IF(AO17=K17,"g",IF(AO17>K17,"k","m")) -> m | AQ17: =IF($AO17>=$O17,$E17,IF($AO17>=$N17,$E17*0.85,IF($AO17>=$M17,$E17*0.7,0))) -> 0 | AS17: =IF(AO17<>"",IF(AO17>=O17,"surperformance",IF(AO17>=N17,"cible",IF(AO17>=M17,"minimum","non validé"))),"") | AT17: =IF(AS17="surperformance",E17,IF(AS17="cible",E17*0.85,IF(AS17="minimum",E17*0.7,0))) -> 0
C18: 10 | D18: Satisfaction sur les informations fournies par le chef de bord en SN | E18: 200 | G18: 0.96 | H18: 0.97 | I18: 0.96 | J18: 0.95 | K18: 0.97 | M18: 0.91 | N18: 0.94 | O18: 0.97 | V18: =IF(U18=K18,"g",IF(U18>K18,"k","m")) -> m | W18: =IF(U18>=$O18,$E18,IF(U18>=$N18,$E18*0.85,IF(U18>=$M18,$E18*0.7,0))) -> 0 | AD18: =IF(AC18=U18,"g",IF(AC18>U18,"k","m")) -> g | AE18: =IF(AC18>=$O18,$E18,IF(AC18>=$N18,$E18*0.85,IF(AC18>=$M18,$E18*0.7,0))) -> 0 | AL18: =IF(AK18=AC18,"g",IF(AK18>AC18,"k","m")) -> g | AM18: =IF(AK18>=$O18,$E18,IF(AK18>=$N18,$E18*0.85,IF(AK18>=$M18,$E18*0.7,0))) -> 0 | AP18: =IF(AO18=K18,"g",IF(AO18>K18,"k","m")) -> m | AQ18: =IF($AO18>=$O18,$E15,IF($AO18>=$N18,$E15*0.85,IF($AO18>=$M18,$E15*0.7,0))) -> 0 | AS18: =IF(AO18<>"",IF(AO18>=O18,"surperformance",IF(AO18>=N18,"cible",IF(AO18>=M18,"minimum","non validé"))),"") | AT18: =IF(AS18="surperformance",E18,IF(AS18="cible",E18*0.85,IF(AS18="minimum",E18*0.7,0))) -> 0
C19: 11 | D19: Satisfaction sur l'amabilité du chef de bord | E19: 200 | G19: 0.96 | H19: 0.95 | I19: 0.95 | J19: 0.95 | K19: 0.97 | M19: 0.91 | N19: 0.93 | O19: 0.95 | V19: =IF(U19=K19,"g",IF(U19>K19,"k","m")) -> m | W19: =IF(U19>=$O19,$E19,IF(U19>=$N19,$E19*0.85,IF(U19>=$M19,$E19*0.7,0))) -> 0 | AD19: =IF(AC19=U19,"g",IF(AC19>U19,"k","m")) -> g | AE19: =IF(AC19>=$O19,$E19,IF(AC19>=$N19,$E19*0.85,IF(AC19>=$M19,$E19*0.7,0))) -> 0 | AL19: =IF(AK19=AC19,"g",IF(AK19>AC19,"k","m")) -> g | AM19: =IF(AK19>=$O19,$E19,IF(AK19>=$N19,$E19*0.85,IF(AK19>=$M19,$E19*0.7,0))) -> 0 | AP19: =IF(AO19=K19,"g",IF(AO19>K19,"k","m")) -> m | AQ19: =IF($AO19>=$O19,$E19,IF($AO19>=$N19,$E19*0.85,IF($AO19>=$M19,$E19*0.7,0))) -> 0 | AS19: =IF(AO19<>"",IF(AO19>=O19,"surperformance",IF(AO19>=N19,"cible",IF(AO19>=M19,"minimum","non validé"))),"") | AT19: =IF(AS19="surperformance",E19,IF(AS19="cible",E19*0.85,IF(AS19="minimum",E19*0.7,0))) -> 0
B20: Mon voyage en règle | C20: 12 | D20: Taux de contrôle | E20: 200 | G20: 0.515 | H20: 0.594 | I20: 0.52 | J20: 0.47 | K20: 0.47 | M20: 0.48 | N20: 0.5 | O20: 0.52 | V20: =IF(U20=K20,"g",IF(U20>K20,"k","m")) -> m | W20: =IF(U20>=$O20,$E20,IF(U20>=$N20,$E20*0.85,IF(U20>=$M20,$E20*0.7,0))) -> 0 | AD20: =IF(AC20=U20,"g",IF(AC20>U20,"k","m")) -> g | AE20: =IF(AC20>=$O20,$E20,IF(AC20>=$N20,$E20*0.85,IF(AC20>=$M20,$E20*0.7,0))) -> 0 | AL20: =IF(AK20=AC20,"g",IF(AK20>AC20,"k","m")) -> g | AM20: =IF(AK20>=$O20,$E20,IF(AK20>=$N20,$E20*0.85,IF(AK20>=$M20,$E20*0.7,0))) -> 0 | AP20: =IF(AO20=K20,"g",IF(AO20>K20,"k","m")) -> m | AQ20: =IF($AO20>=$O20,$E20,IF($AO20>=$N20,$E20*0.85,IF($AO20>=$M20,$E20*0.7,0))) -> 0 | AS20: =IF(AO20<>"",IF(AO20>=O20,"surperformance",IF(AO20>=N20,"cible",IF(AO20>=M20,"minimum","non validé"))),"") | AT20: =IF(AS20="surperformance",E20,IF(AS20="cible",E20*0.85,IF(AS20="minimum",E20*0.7,0))) -> 0
O22: résultat brut | U22: =SUM(W9:W20) -> 0 | AC22: =SUM(AE9:AE20) -> 0 | AD22: =AC22-U22 -> 0 | AK22: =SUM(AM9:AM20) -> 0 | AL22: =AK22-AC22 -> 0 | AS22: Total brut | AT22: =SUM(AT9:AT20) -> 200
O23: résultat redressé | U23: =U22/(3000-SUMIF(U9:U20,"",$E9:$E20))*3000 -> #DIV/0! | AC23: =AC22/(3000-SUMIF(AC9:AC20,"",$E9:$E20))*3000 -> #DIV/0! | AD23: =AC23-U23 -> #DIV/0! | AK23: =AK22/(3000-SUMIF(AK9:AK20,"",$E9:$E20))*3000 -> #DIV/0! | AL23: =AK23-AC23 -> #DIV/0! | AS23: Total redressé | AT23: =AT22/(3000-SUMIF(AO9:AO20,"",$E9:$E20))*3000 -> 3000
B49: Seuil de tolérance :
B50: 0.005

Sheet 2017 BN
B2: Atteinte du seuil de point minimal | D2: =IF(AU23>=2100,"OUI","NON") -> OUI | G2: Résultats Qualicités 2017
B3: Mention | D3: =IF(AU23>=2700,"OR",IF(AU23>=2400,"ARGENT",IF(AU23>=2100,"BRONZE","aucune"))) -> OR
B5: Paliers Bronze : 2100 pts - Argent : 2400 pts - Or : 2700 pts
B7: Résultats Qualicités Bordeaux - Nantes | G7: Résultats annuels 2011 | H7: Résultats annuels 2012 | I7: Résultats annuels 2013 | J7: Résultats annuels 2014 | K7: Résultats annuels 2015 | L7: Résultats annuels 2016 | N7: Objectifs | R7: Résultats mensuels | V7: Résultats Q1 | Z7: Résultats mensuels | AD7: Résultats Q2 | AH7: Résultats mensuels | AL7: Résultats Q3 | AP7: Résultats 2016 | AQ7: Evol / A-1 | AT7: Seuil atteint | AU7: Points reçus
B8: Thème | C8: N° | D8: indicateur | E8: points max (surperformance) | N8: Seuil minimum (70% points) | O8: Seuil Cible (85% points) | P8: Seuil Surper formance (100% pts) | R8: janvier | S8: fevrier | T8: mars | U8: avril | V8: 1er quadri | W8: Evol / A-1 | Z8: mai | AA8: juin | AB8: juillet | AC8: août | AD8: 2ème quadri | AE8: Evol / Q1 | AH8: sept | AI8: oct | AJ8: nov | AK8: déc | AL8: 3ème quadri | AM8: Evol / Q2 | AP8: Cumul annuel
B9: Mon train propre et à l'heure | C9: 1 | D9: Régularité des trains à 5 min causes Activité | E9: 400 | K9: 0.89 | L9: 0.827 | N9: 0.847 | O9: 0.853 | P9: 0.856 | W9: =IF(V9=L9,"g",IF(V9>L9,"k","m")) -> m | X9: =IF(V9<>"",IF(V9>=$P9,$E9,IF(V9>=$O9,$E9*0.85,IF(V9>=$N9,$E9*0.7,0))),0) -> 0 | AE9: =IF(AD9=V9,"g",IF(AD9>V9,"k","m")) -> g | AF9: =IF(AD9<>"",IF(AD9>=$P9,$E9,IF(AD9>=$O9,$E9*0.85,IF(AD9>=$N9,$E9*0.7,0))),0) -> 0 | AM9: =IF(AL9=AD9,"g",IF(AL9>AD9,"k","m")) -> g | AN9: =IF(AL9<>"",IF(AL9>=$P9,$E9,IF(AL9>=$O9,$E9*0.85,IF(AL9>=$N9,$E9*0.7,0))),0) -> 0 | AQ9: =IF(AP9=L9,"g",IF(AP9>L9,"k","m")) -> m | AR9: =IF($AP9<>"",IF($AP9<=$P9,$E9,IF($AP9<=$O9,$E9*0.85,IF($AP9<=$N9,$E9*0.7,0)))) -> FALSE | AT9: =IF(AP9<>"",IF(AP9>=P9,"surperformance",IF(AP9>=O9,"cible",IF(AP9>=N9,"minimum","non validé"))),"") | AU9: =IF(AT9="surperformance",E9,IF(AT9="cible",E9*0.85,IF(AT9="minimum",E9*0.7,0))) -> 0
C10: 2 | D10: Trains supprimés | E10: 200 | G10: 22 | H10: 33 | I10: 41 | J10: 42 | K10: 30 | L10: 30 | N10: 33 | O10: 30 | P10: 27 | W10: =IF(V10=L10,"g",IF(V10<(L10)/3,"k","m")) -> k | X10: =IF(V10<>"",IF(V10<=$P10/3,$E10,IF(V10<=$O10/3,$E10*0.85,IF(V10<=$N10/3,$E10*0.7,0))),0) -> 0 | AE10: =IF(AD10=V10,"g",IF(AD10<V10,"k","m")) -> g | AF10: =IF(AD10<>"",IF(AD10<=$P10/3,$E10,IF(AD10<=$O10/3,$E10*0.85,IF(AD10<=$N10/3,$E10*0.7,0))),0) -> 0 | AM10: =IF(AL10=AD10,"g",IF(AL10<AD10,"k","m")) -> g | AN10: =IF(AL10<>"",IF(AL10<=$P10/3,$E10,IF(AL10<=$O10/3,$E10*0.85,IF(AL10<=$N10/3,$E10*0.7,0))),0) -> 0 | AP10: =SUM(R10:U10,Z10:AC10,AH10:AK10) -> 0 | AQ10: =IF(AP10=L10,"g",IF(AP10<L10,"k","m")) -> k | AR10: =IF($AP10<>"",IF($AP10<=$P10,$E10,IF($AP10<=$O10,$E10*0.85,IF($AP10<=$N10,$E10*0.7,0)))) -> 200 | AS10: =COUNTA(R10:U10,Z10:AC10,AH10:AK10) -> 0 | AT10: =IF(AP10<>"",IF(AP10<=P10*($AS$10)/12,"surperformance",IF(AP10<=O10*($AS$10)/12,"cible",IF(AP10<=N10*($AS$10)/12,"minimum","non validé"))),"") -> surperformance | AU10: =IF(AT10="surperformance",E10,IF(AT10="cible",E10*0.85,IF(AT10="minimum",E10*0.7,0))) -> 200
C11: 3 | D11: Conformité des compositions | E11: 200 | G11: 0.99 | H11: 0.94931328 | I11: 0.92088512 | J11: 0.88270576 | K11: 0.93 | L11: 0.938 | N11: 0.93 | O11: 0.96 | P11: 0.98 | W11: =IF(V11=L11,"g",IF(V11>L11,"k","m")) -> m | X11: =IF(V11>=$P11,$E11,IF(V11>=$O11,$E11*0.85,IF(V11>=$N11,$E11*0.7,0))) -> 0 | AE11: =IF(AD11=V11,"g",IF(AD11>V11,"k","m")) -> g | AF11: =IF(AD11>=$P11,$E11,IF(AD11>=$O11,$E11*0.85,IF(AD11>=$N11,$E11*0.7,0))) -> 0 | AM11: =IF(AL11=AD11,"g",IF(AL11>AD11,"k","m")) -> g | AN11: =IF(AL11>=$P11,$E11,IF(AL11>=$O11,$E11*0.85,IF(AL11>=$N11,$E11*0.7,0))) -> 0 | AQ11: =IF(AP11=L11,"g",IF(AP11>L11,"k","m")) -> m | AR11: =IF($AP11>=$P11,$E11,IF($AP11>=$O11,$E11*0.85,IF($AP11>=$N11,$E11*0.7,0))) -> 0 | AT11: =IF(AP11<>"",IF(AP11>=P11,"surperformance",IF(AP11>=O11,"cible",IF(AP11>=N11,"minimum","non validé"))),"") | AU11: =IF(AT11="surperformance",E11,IF(AT11="cible",E11*0.85,IF(AT11="minimum",E11*0.7,0))) -> 0
C12: 4 | D12: Satisfaction sur la propreté générale du train | E12: 200 | G12: 0.91 | H12: 0.92 | I12: 0.9 | J12: 0.85 | K12: 0.89 | L12: 0.87 | N12: 0.82 | O12: 0.84 | P12: 0.86 | W12: =IF(V12=L12,"g",IF(V12>L12,"k","m")) -> m | X12: =IF(V12>=$P12,$E12,IF(V12>=$O12,$E12*0.85,IF(V12>=$N12,$E12*0.7,0))) -> 0 | AE12: =IF(AD12=V12,"g",IF(AD12>V12,"k","m")) -> g | AF12: =IF(AD12>=$P12,$E12,IF(AD12>=$O12,$E12*0.85,IF(AD12>=$N12,$E12*0.7,0))) -> 0 | AM12: =IF(AL12=AD12,"g",IF(AL12>AD12,"k","m")) -> g | AN12: =IF(AL12>=$P12,$E12,IF(AL12>=$O12,$E12*0.85,IF(AL12>=$N12,$E12*0.7,0))) -> 0 | AQ12: =IF(AP12=L12,"g",IF(AP12>L12,"k","m")) -> m | AR12: =IF($AP12>=$P12,$E12,IF($AP12>=$O12,$E12*0.85,IF($AP12>=$N12,$E12*0.7,0))) -> 0 | AT12: =IF(AP12<>"",IF(AP12>=P12,"surperformance",IF(AP12>=O12,"cible",IF(AP12>=N12,"minimum","non validé"))),"") | AU12: =IF(AT12="surperformance",E12,IF(AT12="cible",E12*0.85,IF(AT12="minimum",E12*0.7,0))) -> 0
C13: 5 | D13: Satisfaction sur la propreté des toilettes à bord du train | E13: 200 | H13: 0.62 | I13: 0.54 | J13: 0.48 | K13: 0.58 | L13: 0.56 | N13: 0.55 | O13: 0.58 | P13: 0.6 | W13: =IF(V13=L13,"g",IF(V13>L13,"k","m")) -> m | X13: =IF(V13>=$P13,$E13,IF(V13>=$O13,$E13*0.85,IF(V13>=$N13,$E13*0.7,0))) -> 0 | AE13: =IF(AD13=V13,"g",IF(AD13>V13,"k","m")) -> g | AF13: =IF(AD13>=$P13,$E13,IF(AD13>=$O13,$E13*0.85,IF(AD13>=$N13,$E13*0.7,0))) -> 0 | AM13: =IF(AL13=AD13,"g",IF(AL13>AD13,"k","m")) -> g | AN13: =IF(AL13>=$P13,$E13,IF(AL13>=$O13,$E13*0.85,IF(AL13>=$N13,$E13*0.7,0))) -> 0 | AQ13: =IF(AP13=L13,"g",IF(AP13>L13,"k","m")) -> m | AR13: =IF($AP13>=$P13,$E13,IF($AP13>=$O13,$E13*0.85,IF($AP13>=$N13,$E13*0.7,0))) -> 0 | AT13: =IF(AP13<>"",IF(AP13>=P13,"surperformance",IF(AP13>=O13,"cible",IF(AP13>=N13,"minimum","non validé"))),"") | AU13: =IF(AT13="surperformance",E13,IF(AT13="cible",E13*0.85,IF(AT13="minimum",E13*0.7,0))) -> 0
B14: Ma gare acceuillante | C14: 6 | D14: Satisfaction sur l'amabilité du personnel en gare de départ | E14: 250 | G14: 0.93 | H14: 0.94 | I14: 0.94 | J14: 0.98 | K14: 0.95 | L14: 0.96 | N14: 0.91 | O14: 0.93 | P14: 0.95 | W14: =IF(V14=L14,"g",IF(V14>L14,"k","m")) -> m | X14: =IF(V14>=$P14,$E14,IF(V14>=$O14,$E14*0.85,IF(V14>=$N14,$E14*0.7,0))) -> 0 | AE14: =IF(AD14=V14,"g",IF(AD14>V14,"k","m")) -> g | AF14: =IF(AD14>=$P14,$E14,IF(AD14>=$O14,$E14*0.85,IF(AD14>=$N14,$E14*0.7,0))) -> 0 | AM14: =IF(AL14=AD14,"g",IF(AL14>AD14,"k","m")) -> g | AN14: =IF(AL14>=$P14,$E14,IF(AL14>=$O14,$E14*0.85,IF(AL14>=$N14,$E14*0.7,0))) -> 0 | AQ14: =IF(AP14=L14,"g",IF(AP14>L14,"k","m")) -> m | AR14: =IF($AP14>=$P14,$E14,IF($AP14>=$O14,$E14*0.85,IF($AP14>=$N14,$E14*0.7,0))) -> 0 | AT14: =IF(AP14<>"",IF(AP14>=P14,"surperformance",IF(AP14>=O14,"cible",IF(AP14>=N14,"minimum","non validé"))),"") | AU14: =IF(AT14="surperformance",E14,IF(AT14="cible",E14*0.85,IF(AT14="minimum",E14*0.7,0))) -> 0
C15: 7 | D15: Satisfaction sur l'équipement mis à disposition pour circuler en gare de départ | E15: 250 | G15: 0.76 | H15: 0.76 | I15: 0.75 | J15: 0.76 | K15: 0.75 | L15: 0.73 | N15: 0.7 | O15: 0.75 | P15: 0.8 | W15: =IF(V15=L15,"g",IF(V15>L15,"k","m")) -> m | X15: =IF(V15>=$P15,$E15,IF(V15>=$O15,$E15*0.85,IF(V15>=$N15,$E15*0.7,0))) -> 0 | AE15: =IF(AD15=V15,"g",IF(AD15>V15,"k","m")) -> g | AF15: =IF(AD15>=$P15,$E15,IF(AD15>=$O15,$E15*0.85,IF(AD15>=$N15,$E15*0.7,0))) -> 0 | AM15: =IF(AL15=AD15,"g",IF(AL15>AD15,"k","m")) -> g | AN15: =IF(AL15>=$P15,$E15,IF(AL15>=$O15,$E15*0.85,IF(AL15>=$N15,$E15*0.7,0))) -> 0 | AQ15: =IF(AP15=L15,"g",IF(AP15>L15,"k","m")) -> m | AR15: =IF($AP15>=$P15,$E18,IF($AP15>=$O15,$E18*0.85,IF($AP15>=$N15,$E18*0.7,0))) -> 0 | AT15: =IF(AP15<>"",IF(AP15>=P15,"surperformance",IF(AP15>=O15,"cible",IF(AP15>=N15,"minimum","non validé"))),"") | AU15: =IF(AT15="surperformance",E15,IF(AT15="cible",E15*0.85,IF(AT15="minimum",E15*0.7,0))) -> 0
C16: 8 | D16: Satisfaction par rapport aux informations fournies par le personnel en gare de départ en SP | E16: 300 | G16: 0.69 | H16: 0.54 | I16: 0.81 | J16: 0.72 | K16: 0.69 | L16: 0.74 | N16: 0.65 | O16: 0.69 | P16: 0.77 | W16: =IF(V16=L16,"g",IF(V16>L16,"k","m")) -> m | X16: =IF(V16>=$P16,$E16,IF(V16>=$O16,$E16*0.85,IF(V16>=$N16,$E16*0.7,0))) -> 0 | AE16: =IF(AD16=V16,"g",IF(AD16>V16,"k","m")) -> g | AF16: =IF(AD16>=$P16,$E16,IF(AD16>=$O16,$E16*0.85,IF(AD16>=$N16,$E16*0.7,0))) -> 0 | AM16: =IF(AL16=AD16,"g",IF(AL16>AD16,"k","m")) -> g | AN16: =IF(AL16>=$P16,$E16,IF(AL16>=$O16,$E16*0.85,IF(AL16>=$N16,$E16*0.7,0))) -> 0 | AQ16: =IF(AP16=L16,"g",IF(AP16>L16,"k","m")) -> m | AR16: =IF($AP16>=$P16,$E16,IF($AP16>=$O16,$E16*0.85,IF($AP16>=$N16,$E16*0.7,0))) -> 0 | AT16: =IF(AP16<>"",IF(AP16>=P16,"surperformance",IF(AP16>=O16,"cible",IF(AP16>=N16,"minimum","non validé"))),"") | AU16: =IF(AT16="surperformance",E16,IF(AT16="cible",E16*0.85,IF(AT16="minimum",E16*0.7,0))) -> 0
B17: Mon voyage tranquille | C17: 9 | D17: Satisfaction par rapport aux informations fournies à bord du train en SP | E17: 400 | G17: 0.78 | H17: 0.77 | I17: 0.75 | J17: 0.71 | K17: 0.72 | L17: 0.74 | N17: 0.65 | O17: 0.69 | P17: 0.77 | W17: =IF(V17=L17,"g",IF(V17>L17,"k","m")) -> m | X17: =IF(V17>=$P17,$E17,IF(V17>=$O17,$E17*0.85,IF(V17>=$N17,$E17*0.7,0))) -> 0 | AE17: =IF(AD17=V17,"g",IF(AD17>V17,"k","m")) -> g | AF17: =IF(AD17>=$P17,$E17,IF(AD17>=$O17,$E17*0.85,IF(AD17>=$N17,$E17*0.7,0))) -> 0 | AM17: =IF(AL17=AD17,"g",IF(AL17>AD17,"k","m")) -> g | AN17: =IF(AL17>=$P17,$E17,IF(AL17>=$O17,$E17*0.85,IF(AL17>=$N17,$E17*0.7,0))) -> 0 | AQ17: =IF(AP17=L17,"g",IF(AP17>L17,"k","m")) -> m | AR17: =IF($AP17>=$P17,$E17,IF($AP17>=$O17,$E17*0.85,IF($AP17>=$N17,$E17*0.7,0))) -> 0 | AT17: =IF(AP17<>"",IF(AP17>=P17,"surperformance",IF(AP17>=O17,"cible",IF(AP17>=N17,"minimum","non validé"))),"") | AU17: =IF(AT17="surperformance",E17,IF(AT17="cible",E17*0.85,IF(AT17="minimum",E17*0.7,0))) -> 0
C18: 10 | D18: Satisfaction sur les informations fournies par le chef de bord en SN | E18: 200 | G18: 0.96 | H18: 0.97 | I18: 0.97 | J18: 0.95 | K18: 0.98 | L18: 0.98 | N18: 0.91 | O18: 0.94 | P18: 0.97 | W18: =IF(V18=L18,"g",IF(V18>L18,"k","m")) -> m | X18: =IF(V18>=$P18,$E18,IF(V18>=$O18,$E18*0.85,IF(V18>=$N18,$E18*0.7,0))) -> 0 | AE18: =IF(AD18=V18,"g",IF(AD18>V18,"k","m")) -> g | AF18: =IF(AD18>=$P18,$E18,IF(AD18>=$O18,$E18*0.85,IF(AD18>=$N18,$E18*0.7,0))) -> 0 | AM18: =IF(AL18=AD18,"g",IF(AL18>AD18,"k","m")) -> g | AN18: =IF(AL18>=$P18,$E18,IF(AL18>=$O18,$E18*0.85,IF(AL18>=$N18,$E18*0.7,0))) -> 0 | AQ18: =IF(AP18=L18,"g",IF(AP18>L18,"k","m")) -> m | AR18: =IF($AP18>=$P18,$E15,IF($AP18>=$O18,$E15*0.85,IF($AP18>=$N18,$E15*0.7,0))) -> 0 | AT18: =IF(AP18<>"",IF(AP18>=P18,"surperformance",IF(AP18>=O18,"cible",IF(AP18>=N18,"minimum","non validé"))),"") | AU18: =IF(AT18="surperformance",E18,IF(AT18="cible",E18*0.85,IF(AT18="minimum",E18*0.7,0))) -> 0
C19: 11 | D19: Satisfaction sur l'amabilité du chef de bord | E19: 200 | G19: 0.96 | H19: 0.97 | I19: 0.96 | J19: 0.95 | K19: 0.97 | L19: 0.98 | N19: 0.91 | O19: 0.93 | P19: 0.95 | W19: =IF(V19=L19,"g",IF(V19>L19,"k","m")) -> m | X19: =IF(V19>=$P19,$E19,IF(V19>=$O19,$E19*0.85,IF(V19>=$N19,$E19*0.7,0))) -> 0 | AE19: =IF(AD19=V19,"g",IF(AD19>V19,"k","m")) -> g | AF19: =IF(AD19>=$P19,$E19,IF(AD19>=$O19,$E19*0.85,IF(AD19>=$N19,$E19*0.7,0))) -> 0 | AM19: =IF(AL19=AD19,"g",IF(AL19>AD19,"k","m")) -> g | AN19: =IF(AL19>=$P19,$E19,IF(AL19>=$O19,$E19*0.85,IF(AL19>=$N19,$E19*0.7,0))) -> 0 | AQ19: =IF(AP19=L19,"g",IF(AP19>L19,"k","m")) -> m | AR19: =IF($AP19>=$P19,$E19,IF($AP19>=$O19,$E19*0.85,IF($AP19>=$N19,$E19*0.7,0))) -> 0 | AT19: =IF(AP19<>"",IF(AP19>=P19,"surperformance",IF(AP19>=O19,"cible",IF(AP19>=N19,"minimum","non validé"))),"") | AU19: =IF(AT19="surperformance",E19,IF(AT19="cible",E19*0.85,IF(AT19="minimum",E19*0.7,0))) -> 0
B20: Mon voyage en règle | C20: 12 | D20: Taux de contrôle | E20: 200 | G20: 0.62 | H20: 0.579 | I20: 0.565 | J20: 0.597 | K20: 0.66 | L20: 0.482 | N20: 0.48 | O20: 0.5 | P20: 0.55 | W20: =IF(V20=L20,"g",IF(V20>L20,"k","m")) -> m | X20: =IF(V20>=$P20,$E20,IF(V20>=$O20,$E20*0.85,IF(V20>=$N20,$E20*0.7,0))) -> 0 | AE20: =IF(AD20=V20,"g",IF(AD20>V20,"k","m")) -> g | AF20: =IF(AD20>=$P20,$E20,IF(AD20>=$O20,$E20*0.85,IF(AD20>=$N20,$E20*0.7,0))) -> 0 | AM20: =IF(AL20=AD20,"g",IF(AL20>AD20,"k","m")) -> g | AN20: =IF(AL20>=$P20,$E20,IF(AL20>=$O20,$E20*0.85,IF(AL20>=$N20,$E20*0.7,0))) -> 0 | AQ20: =IF(AP20=L20,"g",IF(AP20>L20,"k","m")) -> m | AR20: =IF($AP20>=$P20,$E20,IF($AP20>=$O20,$E20*0.85,IF($AP20>=$N20,$E20*0.7,0))) -> 0 | AT20: =IF(AP20<>"",IF(AP20>=P20,"surperformance",IF(AP20>=O20,"cible",IF(AP20>=N20,"minimum","non validé"))),"") | AU20: =IF(AT20="surperformance",E20,IF(AT20="cible",E20*0.85,IF(AT20="minimum",E20*0.7,0))) -> 0
P22: résultat brut | V22: =SUM(X9:X20) -> 0 | AD22: =SUM(AF9:AF20) -> 0 | AE22: =AD22-V22 -> 0 | AL22: =SUM(AN9:AN20) -> 0 | AM22: =AL22-AD22 -> 0 | AT22: Total brut | AU22: =SUM(AU9:AU20) -> 200
P23: résultat redressé | V23: =V22/(3000-SUMIF(V9:V20,"",$E9:$E20))*3000 -> #DIV/0! | AD23: =AD22/(3000-SUMIF(AD9:AD20,"",$E9:$E20))*3000 -> #DIV/0! | AE23: =AD23-V23 -> #DIV/0! | AL23: =AL22/(3000-SUMIF(AL9:AL20,"",$E9:$E20))*3000 -> #DIV/0! | AM23: =AL23-AD23 -> #DIV/0! | AT23: Total redressé | AU23: =AU22/(3000-SUMIF(AP9:AP20,"",$E9:$E20))*3000 -> 3000
B49: Seuil de tolérance :
B50: 0.005

Sheet 2017 TH
B2: Atteinte du seuil de point minimal | D2: =IF(AU23>=2100,"OUI","NON") -> OUI | G2: Résultats Qualicités 2017
B3: Mention | D3: =IF(AU23>=2700,"OR",IF(AU23>=2400,"ARGENT",IF(AU23>=2100,"BRONZE","aucune"))) -> ARGENT
B5: Paliers Bronze : 2100 pts - Argent : 2400 pts - Or : 2700 pts
B7: Résultats Qualicités Toulouse - Hendaye | G7: Résultats annuels 2011 | H7: Résultats annuels 2012 | I7: Résultats annuels 2013 | J7: Résultats annuels 2014 | K7: Résultats annuels 2015 | L7: Résultats annuels 2016 | N7: Objectifs | R7: Résultats mensuels | V7: Résultats Q1 | Z7: Résultats mensuels | AD7: Résultats Q2 | AH7: Résultats mensuels | AL7: Résultats Q3 | AP7: Résultats 2016 | AQ7: Evol / A-1 | AT7: Seuil atteint | AU7: Points reçus
B8: Thème | C8: N° | D8: indicateur | E8: points max (surperformance) | N8: Seuil minimum (70% points) | O8: Seuil Cible (85% points) | P8: Seuil Surper formance (100% pts) | R8: janvier | S8: fevrier | T8: mars | U8: avril | V8: 1er quadri | W8: Evol / A-1 | Z8: mai | AA8: juin | AB8: juillet | AC8: août | AD8: 2ème quadri | AE8: Evol / Q1 | AH8: sept | AI8: oct | AJ8: nov | AK8: déc | AL8: 3ème quadri | AM8: Evol / Q2 | AP8: Cumul annuel
B9: Mon train propre et à l'heure | C9: 1 | D9: Régularité des trains à 5 min causes Activité | E9: 400 | K9: 0.96 | L9: 0.937 | N9: 0.945 | O9: 0.951 | P9: 0.954 | R9: 0.946 | S9: 0.939 | W9: =IF(V9=L9,"g",IF(V9>L9,"k","m")) -> m | X9: =IF(V9<>"",IF(V9>=$P9,$E9,IF(V9>=$O9,$E9*0.85,IF(V9>=$N9,$E9*0.7,0))),0) -> 0 | AE9: =IF(AD9=V9,"g",IF(AD9>V9,"k","m")) -> g | AF9: =IF(AD9<>"",IF(AD9>=$P9,$E9,IF(AD9>=$O9,$E9*0.85,IF(AD9>=$N9,$E9*0.7,0))),0) -> 0 | AM9: =IF(AL9=AD9,"g",IF(AL9>AD9,"k","m")) -> g | AN9: =IF(AL9<>"",IF(AL9>=$P9,$E9,IF(AL9>=$O9,$E9*0.85,IF(AL9>=$N9,$E9*0.7,0))),0) -> 0 | AQ9: =IF(AP9=L9,"g",IF(AP9>L9,"k","m")) -> m | AR9: =IF($AP9<>"",IF($AP9<=$P9,$E9,IF($AP9<=$O9,$E9*0.85,IF($AP9<=$N9,$E9*0.7,0)))) -> FALSE | AT9: =IF(AP9<>"",IF(AP9>=P9,"surperformance",IF(AP9>=O9,"cible",IF(AP9>=N9,"minimum","non validé"))),"") | AU9: =IF(AT9="surperformance",E9,IF(AT9="cible",E9*0.85,IF(AT9="minimum",E9*0.7,0))) -> 0
C10: 2 | D10: Trains supprimés | E10: 200 | G10: 60 | H10: 26 | I10: 26 | J10: 71 | K10: 14 | L10: 12 | N10: 16 | O10: 13 | P10: 10 | R10: 2 | S10: 0 | W10: =IF(V10=L10,"g",IF(V10<(L10)/3,"k","m")) -> k | X10: =IF(V10<>"",IF(V10<=$P10/3,$E10,IF(V10<=$O10/3,$E10*0.85,IF(V10<=$N10/3,$E10*0.7,0))),0) -> 0 | AE10: =IF(AD10=V10,"g",IF(AD10<V10,"k","m")) -> g | AF10: =IF(AD10<>"",IF(AD10<=$P10/3,$E10,IF(AD10<=$O10/3,$E10*0.85,IF(AD10<=$N10/3,$E10*0.7,0))),0) -> 0 | AM10: =IF(AL10=AD10,"g",IF(AL10<AD10,"k","m")) -> g | AN10: =IF(AL10<>"",IF(AL10<=$P10/3,$E10,IF(AL10<=$O10/3,$E10*0.85,IF(AL10<=$N10/3,$E10*0.7,0))),0) -> 0 | AP10: =SUM(AH10:AK10,Z10:AC10,R10:U10) -> 2 | AQ10: =IF(AP10=L10,"g",IF(AP10<L10,"k","m")) -> k | AR10: =IF($AP10<>"",IF($AP10<=$P10,$E10,IF($AP10<=$O10,$E10*0.85,IF($AP10<=$N10,$E10*0.7,0)))) -> 200 | AS10: =COUNTA(R10:U10,Z10:AC10,AH10:AK10) -> 2 | AT10: =IF(AP10<>"",IF(AP10<=P10*($AS$10)/12,"surperformance",IF(AP10<=O10*($AS$10)/12,"cible",IF(AP10<=N10*($AS$10)/12,"minimum","non validé"))),"") -> cible | AU10: =IF(AT10="surperformance",E10,IF(AT10="cible",E10*0.85,IF(AT10="minimum",E10*0.7,0))) -> 170
C11: 3 | D11: Conformité des compositions | E11: 200 | G11: 0.93 | H11: 0.98685417 | I11: 0.955495 | J11: 0.97 | K11: 0.98 | L11: 0.988 | N11: 0.93 | O11: 0.96 | P11: 0.98 | R11: 0.97 | S11: 0.98 | W11: =IF(V11=L11,"g",IF(V11>L11,"k","m")) -> m | X11: =IF(V11>=$P11,$E11,IF(V11>=$O11,$E11*0.85,IF(V11>=$N11,$E11*0.7,0))) -> 0 | AE11: =IF(AD11=V11,"g",IF(AD11>V11,"k","m")) -> g | AF11: =IF(AD11>=$P11,$E11,IF(AD11>=$O11,$E11*0.85,IF(AD11>=$N11,$E11*0.7,0))) -> 0 | AM11: =IF(AL11=AD11,"g",IF(AL11>AD11,"k","m")) -> g | AN11: =IF(AL11>=$P11,$E11,IF(AL11>=$O11,$E11*0.85,IF(AL11>=$N11,$E11*0.7,0))) -> 0 | AQ11: =IF(AP11=L11,"g",IF(AP11>L11,"k","m")) -> m | AR11: =IF($AP11>=$P11,$E11,IF($AP11>=$O11,$E11*0.85,IF($AP11>=$N11,$E11*0.7,0))) -> 0 | AT11: =IF(AP11<>"",IF(AP11>=P11,"surperformance",IF(AP11>=O11,"cible",IF(AP11>=N11,"minimum","non validé"))),"") | AU11: =IF(AT11="surperformance",E11,IF(AT11="cible",E11*0.85,IF(AT11="minimum",E11*0.7,0))) -> 0
C12: 4 | D12: Satisfaction sur la propreté générale du train | E12: 200 | G12: 0.85 | H12: 0.83 | I12: 0.76 | J12: 0.77 | K12: 0.78 | L12: 0.85 | N12: 0.78 | O12: 0.8 | P12: 0.82 | R12: 0.82 | S12: 0.81 | W12: =IF(V12=L12,"g",IF(V12>L12,"k","m")) -> m | X12: =IF(V12>=$P12,$E12,IF(V12>=$O12,$E12*0.85,IF(V12>=$N12,$E12*0.7,0))) -> 0 | AE12: =IF(AD12=V12,"g",IF(AD12>V12,"k","m")) -> g | AF12: =IF(AD12>=$P12,$E12,IF(AD12>=$O12,$E12*0.85,IF(AD12>=$N12,$E12*0.7,0))) -> 0 | AM12: =IF(AL12=AD12,"g",IF(AL12>AD12,"k","m")) -> g | AN12: =IF(AL12>=$P12,$E12,IF(AL12>=$O12,$E12*0.85,IF(AL12>=$N12,$E12*0.7,0))) -> 0 | AQ12: =IF(AP12=L12,"g",IF(AP12>L12,"k","m")) -> m | AR12: =IF($AP12>=$P12,$E12,IF($AP12>=$O12,$E12*0.85,IF($AP12>=$N12,$E12*0.7,0))) -> 0 | AT12: =IF(AP12<>"",IF(AP12>=P12,"surperformance",IF(AP12>=O12,"cible",IF(AP12>=N12,"minimum","non validé"))),"") | AU12: =IF(AT12="surperformance",E12,IF(AT12="cible",E12*0.85,IF(AT12="minimum",E12*0.7,0))) -> 0
C13: 5 | D13: Satisfaction sur la propreté des toilettes à bord du train | E13: 200 | H13: 0.48 | I13: 0.44 | J13: 0.41 | K13: 0.47 | L13: 0.49 | N13: 0.45 | O13: 0.5 | P13: 0.55 | R13: 0.5 | S13: 0.48 | W13: =IF(V13=L13,"g",IF(V13>L13,"k","m")) -> m | X13: =IF(V13>=$P13,$E13,IF(V13>=$O13,$E13*0.85,IF(V13>=$N13,$E13*0.7,0))) -> 0 | AE13: =IF(AD13=V13,"g",IF(AD13>V13,"k","m")) -> g | AF13: =IF(AD13>=$P13,$E13,IF(AD13>=$O13,$E13*0.85,IF(AD13>=$N13,$E13*0.7,0))) -> 0 | AM13: =IF(AL13=AD13,"g",IF(AL13>AD13,"k","m")) -> g | AN13: =IF(AL13>=$P13,$E13,IF(AL13>=$O13,$E13*0.85,IF(AL13>=$N13,$E13*0.7,0))) -> 0 | AQ13: =IF(AP13=L13,"g",IF(AP13>L13,"k","m")) -> m | AR13: =IF($AP13>=$P13,$E13,IF($AP13>=$O13,$E13*0.85,IF($AP13>=$N13,$E13*0.7,0))) -> 0 | AT13: =IF(AP13<>"",IF(AP13>=P13,"surperformance",IF(AP13>=O13,"cible",IF(AP13>=N13,"minimum","non validé"))),"") | AU13: =IF(AT13="surperformance",E13,IF(AT13="cible",E13*0.85,IF(AT13="minimum",E13*0.7,0))) -> 0
B14: Ma gare acceuillante | C14: 6 | D14: Satisfaction sur l'amabilité du personnel en gare de départ | E14: 250 | G14: 0.92 | H14: 0.92 | I14: 0.93 | J14: 0.94 | K14: 0.9 | L14: 0.94 | N14: 0.91 | O14: 0.93 | P14: 0.95 | R14: 0.97 | S14: 0.98 | W14: =IF(V14=L14,"g",IF(V14>L14,"k","m")) -> m | X14: =IF(V14>=$P14,$E14,IF(V14>=$O14,$E14*0.85,IF(V14>=$N14,$E14*0.7,0))) -> 0 | AE14: =IF(AD14=V14,"g",IF(AD14>V14,"k","m")) -> g | AF14: =IF(AD14>=$P14,$E14,IF(AD14>=$O14,$E14*0.85,IF(AD14>=$N14,$E14*0.7,0))) -> 0 | AM14: =IF(AL14=AD14,"g",IF(AL14>AD14,"k","m")) -> g | AN14: =IF(AL14>=$P14,$E14,IF(AL14>=$O14,$E14*0.85,IF(AL14>=$N14,$E14*0.7,0))) -> 0 | AQ14: =IF(AP14=L14,"g",IF(AP14>L14,"k","m")) -> m | AR14: =IF($AP14>=$P14,$E14,IF($AP14>=$O14,$E14*0.85,IF($AP14>=$N14,$E14*0.7,0))) -> 0 | AT14: =IF(AP14<>"",IF(AP14>=P14,"surperformance",IF(AP14>=O14,"cible",IF(AP14>=N14,"minimum","non validé"))),"") | AU14: =IF(AT14="surperformance",E14,IF(AT14="cible",E14*0.85,IF(AT14="minimum",E14*0.7,0))) -> 0
C15: 7 | D15: Satisfaction sur l'équipement mis à disposition pour circuler en gare de départ | E15: 250 | G15: 0.73 | H15: 0.75 | I15: 0.72 | J15: 0.75 | K15: 0.75 | L15: 0.79 | N15: 0.8 | O15: 0.82 | P15: 0.85 | R15: 0.83 | S15: 0.82 | W15: =IF(V15=L15,"g",IF(V15>L15,"k","m")) -> m | X15: =IF(V15>=$P15,$E15,IF(V15>=$O15,$E15*0.85,IF(V15>=$N15,$E15*0.7,0))) -> 0 | AE15: =IF(AD15=V15,"g",IF(AD15>V15,"k","m")) -> g | AF15: =IF(AD15>=$P15,$E15,IF(AD15>=$O15,$E15*0.85,IF(AD15>=$N15,$E15*0.7,0))) -> 0 | AM15: =IF(AL15=AD15,"g",IF(AL15>AD15,"k","m")) -> g | AN15: =IF(AL15>=$P15,$E15,IF(AL15>=$O15,$E15*0.85,IF(AL15>=$N15,$E15*0.7,0))) -> 0 | AQ15: =IF(AP15=L15,"g",IF(AP15>L15,"k","m")) -> m | AR15: =IF($AP15>=$P15,$E18,IF($AP15>=$O15,$E18*0.85,IF($AP15>=$N15,$E18*0.7,0))) -> 0 | AT15: =IF(AP15<>"",IF(AP15>=P15,"surperformance",IF(AP15>=O15,"cible",IF(AP15>=N15,"minimum","non validé"))),"") | AU15: =IF(AT15="surperformance",E15,IF(AT15="cible",E15*0.85,IF(AT15="minimum",E15*0.7,0))) -> 0
C16: 8 | D16: Satisfaction par rapport aux informations fournies par le personnel en gare de départ en SP | E16: 300 | AR16: =IF($AP16>=$P16,$E16,IF($AP16>=$O16,$E16*0.85,IF($AP16>=$N16,$E16*0.7,0))) -> 300
B17: Mon voyage tranquille | C17: 9 | D17: Satisfaction par rapport aux informations fournies à bord du train en SP | E17: 400 | AR17: =IF($AP17>=$P17,$E17,IF($AP17>=$O17,$E17*0.85,IF($AP17>=$N17,$E17*0.7,0))) -> 400
C18: 10 | D18: Satisfaction sur les informations fournies par le chef de bord en SN | E18: 200 | G18: 0.95 | H18: 0.96 | I18: 0.97 | J18: 0.97 | K18: 0.98 | L18: 0.97 | N18: 0.91 | O18: 0.94 | P18: 0.97 | R18: 0.98 | S18: 0.98 | W18: =IF(V18=L18,"g",IF(V18>L18,"k","m")) -> m | X18: =IF(V18>=$P18,$E18,IF(V18>=$O18,$E18*0.85,IF(V18>=$N18,$E18*0.7,0))) -> 0 | AE18: =IF(AD18=V18,"g",IF(AD18>V18,"k","m")) -> g | AF18: =IF(AD18>=$P18,$E18,IF(AD18>=$O18,$E18*0.85,IF(AD18>=$N18,$E18*0.7,0))) -> 0 | AM18: =IF(AL18=AD18,"g",IF(AL18>AD18,"k","m")) -> g | AN18: =IF(AL18>=$P18,$E18,IF(AL18>=$O18,$E18*0.85,IF(AL18>=$N18,$E18*0.7,0))) -> 0 | AQ18: =IF(AP18=L18,"g",IF(AP18>L18,"k","m")) -> m | AR18: =IF($AP18>=$P18,$E15,IF($AP18>=$O18,$E15*0.85,IF($AP18>=$N18,$E15*0.7,0))) -> 0 | AT18: =IF(AP18<>"",IF(AP18>=P18,"surperformance",IF(AP18>=O18,"cible",IF(AP18>=N18,"minimum","non validé"))),"") | AU18: =IF(AT18="surperformance",E18,IF(AT18="cible",E18*0.85,IF(AT18="minimum",E18*0.7,0))) -> 0
C19: 11 | D19: Satisfaction sur l'amabilité du chef de bord | E19: 200 | G19: 0.97 | H19: 0.94 | I19: 0.96 | J19: 0.96 | K19: 0.95 | L19: 0.97 | N19: 0.91 | O19: 0.93 | P19: 0.95 | R19: 0.95 | S19: 0.94 | W19: =IF(V19=L19,"g",IF(V19>L19,"k","m")) -> m | X19: =IF(V19>=$P19,$E19,IF(V19>=$O19,$E19*0.85,IF(V19>=$N19,$E19*0.7,0))) -> 0 | AE19: =IF(AD19=V19,"g",IF(AD19>V19,"k","m")) -> g | AF19: =IF(AD19>=$P19,$E19,IF(AD19>=$O19,$E19*0.85,IF(AD19>=$N19,$E19*0.7,0))) -> 0 | AM19: =IF(AL19=AD19,"g",IF(AL19>AD19,"k","m")) -> g | AN19: =IF(AL19>=$P19,$E19,IF(AL19>=$O19,$E19*0.85,IF(AL19>=$N19,$E19*0.7,0))) -> 0 | AQ19: =IF(AP19=L19,"g",IF(AP19>L19,"k","m")) -> m | AR19: =IF($AP19>=$P19,$E19,IF($AP19>=$O19,$E19*0.85,IF($AP19>=$N19,$E19*0.7,0))) -> 0 | AT19: =IF(AP19<>"",IF(AP19>=P19,"surperformance",IF(AP19>=O19,"cible",IF(AP19>=N19,"minimum","non validé"))),"") | AU19: =IF(AT19="surperformance",E19,IF(AT19="cible",E19*0.85,IF(AT19="minimum",E19*0.7,0))) -> 0
B20: Mon voyage en règle | C20: 12 | D20: Taux de contrôle | E20: 200 | G20: 0.792 | H20: 0.704 | I20: 0.647 | J20: 0.666 | K20: 0.62 | L20: 0.602 | N20: 0.6 | O20: 0.62 | P20: 0.64 | R20: 0.55 | S20: 0.61 | W20: =IF(V20=L20,"g",IF(V20>L20,"k","m")) -> m | X20: =IF(V20>=$P20,$E20,IF(V20>=$O20,$E20*0.85,IF(V20>=$N20,$E20*0.7,0))) -> 0 | AE20: =IF(AD20=V20,"g",IF(AD20>V20,"k","m")) -> g | AF20: =IF(AD20>=$P20,$E20,IF(AD20>=$O20,$E20*0.85,IF(AD20>=$N20,$E20*0.7,0))) -> 0 | AM20: =IF(AL20=AD20,"g",IF(AL20>AD20,"k","m")) -> g | AN20: =IF(AL20>=$P20,$E20,IF(AL20>=$O20,$E20*0.85,IF(AL20>=$N20,$E20*0.7,0))) -> 0 | AQ20: =IF(AP20=L20,"g",IF(AP20>L20,"k","m")) -> m | AR20: =IF($AP20>=$P20,$E20,IF($AP20>=$O20,$E20*0.85,IF($AP20>=$N20,$E20*0.7,0))) -> 0 | AT20: =IF(AP20<>"",IF(AP20>=P20,"surperformance",IF(AP20>=O20,"cible",IF(AP20>=N20,"minimum","non validé"))),"") | AU20: =IF(AT20="surperformance",E20,IF(AT20="cible",E20*0.85,IF(AT20="minimum",E20*0.7,0))) -> 0
P22: résultat brut | V22: =SUM(X9:X20) -> 0 | AD22: =SUM(AF9:AF20) -> 0 | AE22: =AD22-V22 -> 0 | AL22: =SUM(AN9:AN20) -> 0 | AM22: =AL22-AD22 -> 0 | AT22: Total brut | AU22: =SUM(AU9:AU20) -> 170
P23: résultat redressé | V23: =V22/(3000-SUMIF(V9:V20,"",$E9:$E20))*3000 -> #DIV/0! | AD23: =AD22/(3000-SUMIF(AD9:AD20,"",$E9:$E20))*3000 -> #DIV/0! | AE23: =AD23-V23 -> #DIV/0! | AL23: =AL22/(3000-SUMIF(AL9:AL20,"",$E9:$E20))*3000 -> #DIV/0! | AM23: =AL23-AD23 -> #DIV/0! | AT23: Total redressé | AU23: =AU22/(3000-SUMIF(AP9:AP20,"",$E9:$E20))*3000 -> 2550
B49: Seuil de tolérance :
B50: 0.005

Sheet 2017 NL
B2: Atteinte du seuil de point minimal | D2: =IF(AU23>=2100,"OUI","NON") -> OUI | G2: Résultats Qualicités 2017
B3: Mention | D3: =IF(AU23>=2700,"OR",IF(AU23>=2400,"ARGENT",IF(AU23>=2100,"BRONZE","aucune"))) -> OR
B5: Paliers Bronze : 2100 pts - Argent : 2400 pts - Or : 2700 pts
B7: Résultats Qualicités Nantes - Lyon | G7: Résultats annuels 2011 | H7: Résultats annuels 2012 | I7: Résultats annuels 2013 | J7: Résultats annuels 2014 | K7: Résultats annuels 2015 | L7: Résultats annuels 2016 | N7: Objectifs | R7: Résultats mensuels | V7: Résultats Q1 | Z7: Résultats mensuels | AD7: Résultats Q2 | AH7: Résultats mensuels | AL7: Résultats Q3 | AP7: Résultats 2016 | AQ7: Evol / A-1 | AT7: Seuil atteint | AU7: Points reçus
B8: Thème | C8: N° | D8: indicateur | E8: points max (surperformance) | N8: Seuil minimum (70% points) | O8: Seuil Cible (85% points) | P8: Seuil Surper formance (100% pts) | R8: janvier | S8: fevrier | T8: mars | U8: avril | V8: 1er quadri | W8: Evol / A-1 | Z8: mai | AA8: juin | AB8: juillet | AC8: août | AD8: 2ème quadri | AE8: Evol / Q1 | AH8: sept | AI8: oct | AJ8: nov | AK8: déc | AL8: 3ème quadri | AM8: Evol / Q2 | AP8: Cumul annuel
B9: Mon train propre et à l'heure | C9: 1 | D9: Régularité des trains à 5 min causes Activité | E9: 400 | K9: 0.943 | L9: 0.951 | N9: 0.937 | O9: 0.943 | P9: 0.946 | W9: =IF(V9=L9,"g",IF(V9>L9,"k","m")) -> m | X9: =IF(V9<>"",IF(V9>=$P9,$E9,IF(V9>=$O9,$E9*0.85,IF(V9>=$N9,$E9*0.7,0))),0) -> 0 | AE9: =IF(AD9=V9,"g",IF(AD9>V9,"k","m")) -> g | AF9: =IF(AD9<>"",IF(AD9>=$P9,$E9,IF(AD9>=$O9,$E9*0.85,IF(AD9>=$N9,$E9*0.7,0))),0) -> 0 | AM9: =IF(AL9=AD9,"g",IF(AL9>AD9,"k","m")) -> g | AN9: =IF(AL9<>"",IF(AL9>=$P9,$E9,IF(AL9>=$O9,$E9*0.85,IF(AL9>=$N9,$E9*0.7,0))),0) -> 0 | AQ9: =IF(AP9=L9,"g",IF(AP9>L9,"k","m")) -> m | AR9: =IF($AP9<>"",IF($AP9<=$P9,$E9,IF($AP9<=$O9,$E9*0.85,IF($AP9<=$N9,$E9*0.7,0)))) -> FALSE | AT9: =IF(AP9<>"",IF(AP9>=P9,"surperformance",IF(AP9>=O9,"cible",IF(AP9>=N9,"minimum","non validé"))),"") | AU9: =IF(AT9="surperformance",E9,IF(AT9="cible",E9*0.85,IF(AT9="minimum",E9*0.7,0))) -> 0
C10: 2 | D10: Trains supprimés | E10: 200 | K10: 18 | L10: 15 | N10: 19 | O10: 17 | P10: 15 | W10: =IF(V10=L10,"g",IF(V10<(L10)/3,"k","m")) -> k | X10: =IF(V10<>"",IF(V10<=$P10/3,$E10,IF(V10<=$O10/3,$E10*0.85,IF(V10<=$N10/3,$E10*0.7,0))),0) -> 0 | AE10: =IF(AD10=V10,"g",IF(AD10<V10,"k","m")) -> g | AF10: =IF(AD10<>"",IF(AD10<=$P10/3,$E10,IF(AD10<=$O10/3,$E10*0.85,IF(AD10<=$N10/3,$E10*0.7,0))),0) -> 0 | AM10: =IF(AL10=AD10,"g",IF(AL10<AD10,"k","m")) -> g | AN10: =IF(AL10<>"",IF(AL10<=$P10/3,$E10,IF(AL10<=$O10/3,$E10*0.85,IF(AL10<=$N10/3,$E10*0.7,0))),0) -> 0 | AP10: =SUM(R10:U10,Z10:AC10,AH10:AK10) -> 0 | AQ10: =IF(AP10=L10,"g",IF(AP10<L10,"k","m")) -> k | AR10: =IF($AP10<>"",IF($AP10<=$P10,$E10,IF($AP10<=$O10,$E10*0.85,IF($AP10<=$N10,$E10*0.7,0)))) -> 200 | AS10: =COUNTA(R10:U10,Z10:AC10,AH10:AK10) -> 0 | AT10: =IF(AP10<>"",IF(AP10<=P10*($AS$10)/12,"surperformance",IF(AP10<=O10*($AS$10)/12,"cible",IF(AP10<=N10*($AS$10)/12,"minimum","non validé"))),"") -> surperformance | AU10: =IF(AT10="surperformance",E10,IF(AT10="cible",E10*0.85,IF(AT10="minimum",E10*0.7,0))) -> 200
C11: 3 | D11: Conformité des compositions | E11: 200 | K11: 0.92 | AR11: =IF($AP11>=$P11,$E11,IF($AP11>=$O11,$E11*0.85,IF($AP11>=$N11,$E11*0.7,0))) -> 200
C12: 4 | D12: Satisfaction sur la propreté générale du train | E12: 200 | K12: 0.86 | L12: 0.73 | N12: 0.73 | O12: 0.75 | P12: 0.78 | W12: =IF(V12=L12,"g",IF(V12>L12,"k","m")) -> m | X12: =IF(V12>=$P12,$E12,IF(V12>=$O12,$E12*0.85,IF(V12>=$N12,$E12*0.7,0))) -> 0 | AE12: =IF(AD12=V12,"g",IF(AD12>V12,"k","m")) -> g | AF12: =IF(AD12>=$P12,$E12,IF(AD12>=$O12,$E12*0.85,IF(AD12>=$N12,$E12*0.7,0))) -> 0 | AM12: =IF(AL12=AD12,"g",IF(AL12>AD12,"k","m")) -> g | AN12: =IF(AL12>=$P12,$E12,IF(AL12>=$O12,$E12*0.85,IF(AL12>=$N12,$E12*0.7,0))) -> 0 | AQ12: =IF(AP12=L12,"g",IF(AP12>L12,"k","m")) -> m | AR12: =IF($AP12>=$P12,$E12,IF($AP12>=$O12,$E12*0.85,IF($AP12>=$N12,$E12*0.7,0))) -> 0 | AT12: =IF(AP12<>"",IF(AP12>=P12,"surperformance",IF(AP12>=O12,"cible",IF(AP12>=N12,"minimum","non validé"))),"") | AU12: =IF(AT12="surperformance",E12,IF(AT12="cible",E12*0.85,IF(AT12="minimum",E12*0.7,0))) -> 0
C13: 5 | D13: Satisfaction sur la propreté des toilettes à bord du train | E13: 200 | K13: 0.59 | L13: 0.52 | N13: 0.47 | O13: 0.5 | P13: 0.55 | W13: =IF(V13=L13,"g",IF(V13>L13,"k","m")) -> m | X13: =IF(V13>=$P13,$E13,IF(V13>=$O13,$E13*0.85,IF(V13>=$N13,$E13*0.7,0))) -> 0 | AE13: =IF(AD13=V13,"g",IF(AD13>V13,"k","m")) -> g | AF13: =IF(AD13>=$P13,$E13,IF(AD13>=$O13,$E13*0.85,IF(AD13>=$N13,$E13*0.7,0))) -> 0 | AM13: =IF(AL13=AD13,"g",IF(AL13>AD13,"k","m")) -> g | AN13: =IF(AL13>=$P13,$E13,IF(AL13>=$O13,$E13*0.85,IF(AL13>=$N13,$E13*0.7,0))) -> 0 | AQ13: =IF(AP13=L13,"g",IF(AP13>L13,"k","m")) -> m | AR13: =IF($AP13>=$P13,$E13,IF($AP13>=$O13,$E13*0.85,IF($AP13>=$N13,$E13*0.7,0))) -> 0 | AT13: =IF(AP13<>"",IF(AP13>=P13,"surperformance",IF(AP13>=O13,"cible",IF(AP13>=N13,"minimum","non validé"))),"") | AU13: =IF(AT13="surperformance",E13,IF(AT13="cible",E13*0.85,IF(AT13="minimum",E13*0.7,0))) -> 0
B14: Ma gare acceuillante | C14: 6 | D14: Satisfaction sur l'amabilité du personnel en gare de départ | E14: 250 | K14: 0.95 | L14: 0.92 | N14: 0.91 | O14: 0.93 | P14: 0.95 | W14: =IF(V14=L14,"g",IF(V14>L14,"k","m")) -> m | X14: =IF(V14>=$P14,$E14,IF(V14>=$O14,$E14*0.85,IF(V14>=$N14,$E14*0.7,0))) -> 0 | AE14: =IF(AD14=V14,"g",IF(AD14>V14,"k","m")) -> g | AF14: =IF(AD14>=$P14,$E14,IF(AD14>=$O14,$E14*0.85,IF(AD14>=$N14,$E14*0.7,0))) -> 0 | AM14: =IF(AL14=AD14,"g",IF(AL14>AD14,"k","m")) -> g | AN14: =IF(AL14>=$P14,$E14,IF(AL14>=$O14,$E14*0.85,IF(AL14>=$N14,$E14*0.7,0))) -> 0 | AQ14: =IF(AP14=L14,"g",IF(AP14>L14,"k","m")) -> m | AR14: =IF($AP14>=$P14,$E14,IF($AP14>=$O14,$E14*0.85,IF($AP14>=$N14,$E14*0.7,0))) -> 0 | AT14: =IF(AP14<>"",IF(AP14>=P14,"surperformance",IF(AP14>=O14,"cible",IF(AP14>=N14,"minimum","non validé"))),"") | AU14: =IF(AT14="surperformance",E14,IF(AT14="cible",E14*0.85,IF(AT14="minimum",E14*0.7,0))) -> 0
C15: 7 | D15: Satisfaction sur l'équipement mis à disposition pour circuler en gare de départ | E15: 250 | K15: 0.84 | L15: 0.8 | N15: 0.8 | O15: 0.82 | P15: 0.85 | W15: =IF(V15=L15,"g",IF(V15>L15,"k","m")) -> m | X15: =IF(V15>=$P15,$E15,IF(V15>=$O15,$E15*0.85,IF(V15>=$N15,$E15*0.7,0))) -> 0 | AE15: =IF(AD15=V15,"g",IF(AD15>V15,"k","m")) -> g | AF15: =IF(AD15>=$P15,$E15,IF(AD15>=$O15,$E15*0.85,IF(AD15>=$N15,$E15*0.7,0))) -> 0 | AM15: =IF(AL15=AD15,"g",IF(AL15>AD15,"k","m")) -> g | AN15: =IF(AL15>=$P15,$E15,IF(AL15>=$O15,$E15*0.85,IF(AL15>=$N15,$E15*0.7,0))) -> 0 | AQ15: =IF(AP15=L15,"g",IF(AP15>L15,"k","m")) -> m | AR15: =IF($AP15>=$P15,$E18,IF($AP15>=$O15,$E18*0.85,IF($AP15>=$N15,$E18*0.7,0))) -> 0 | AT15: =IF(AP15<>"",IF(AP15>=P15,"surperformance",IF(AP15>=O15,"cible",IF(AP15>=N15,"minimum","non validé"))),"") | AU15: =IF(AT15="surperformance",E15,IF(AT15="cible",E15*0.85,IF(AT15="minimum",E15*0.7,0))) -> 0
C16: 8 | D16: Satisfaction par rapport aux informations fournies par le personnel en gare de départ en SP | E16: 300 | AR16: =IF($AP16>=$P16,$E16,IF($AP16>=$O16,$E16*0.85,IF($AP16>=$N16,$E16*0.7,0))) -> 300
B17: Mon voyage tranquille | C17: 9 | D17: Satisfaction par rapport aux informations fournies à bord du train en SP | E17: 400 | AR17: =IF($AP17>=$P17,$E17,IF($AP17>=$O17,$E17*0.85,IF($AP17>=$N17,$E17*0.7,0))) -> 400
C18: 10 | D18: Satisfaction sur les informations fournies par le chef de bord en SN | E18: 200 | K18: 0.98 | L18: 0.94 | N18: 0.91 | O18: 0.94 | P18: 0.97 | W18: =IF(V18=L18,"g",IF(V18>L18,"k","m")) -> m | X18: =IF(V18>=$P18,$E18,IF(V18>=$O18,$E18*0.85,IF(V18>=$N18,$E18*0.7,0))) -> 0 | AE18: =IF(AD18=V18,"g",IF(AD18>V18,"k","m")) -> g | AF18: =IF(AD18>=$P18,$E18,IF(AD18>=$O18,$E18*0.85,IF(AD18>=$N18,$E18*0.7,0))) -> 0 | AM18: =IF(AL18=AD18,"g",IF(AL18>AD18,"k","m")) -> g | AN18: =IF(AL18>=$P18,$E18,IF(AL18>=$O18,$E18*0.85,IF(AL18>=$N18,$E18*0.7,0))) -> 0 | AQ18: =IF(AP18=L18,"g",IF(AP18>L18,"k","m")) -> m | AR18: =IF($AP18>=$P18,$E15,IF($AP18>=$O18,$E15*0.85,IF($AP18>=$N18,$E15*0.7,0))) -> 0 | AT18: =IF(AP18<>"",IF(AP18>=P18,"surperformance",IF(AP18>=O18,"cible",IF(AP18>=N18,"minimum","non validé"))),"") | AU18: =IF(AT18="surperformance",E18,IF(AT18="cible",E18*0.85,IF(AT18="minimum",E18*0.7,0))) -> 0
C19: 11 | D19: Satisfaction sur l'amabilité du chef de bord | E19: 200 | K19: 0.97 | L19: 0.95 | N19: 0.91 | O19: 0.93 | P19: 0.95 | W19: =IF(V19=L19,"g",IF(V19>L19,"k","m")) -> m | X19: =IF(V19>=$P19,$E19,IF(V19>=$O19,$E19*0.85,IF(V19>=$N19,$E19*0.7,0))) -> 0 | AE19: =IF(AD19=V19,"g",IF(AD19>V19,"k","m")) -> g | AF19: =IF(AD19>=$P19,$E19,IF(AD19>=$O19,$E19*0.85,IF(AD19>=$N19,$E19*0.7,0))) -> 0 | AM19: =IF(AL19=AD19,"g",IF(AL19>AD19,"k","m")) -> g | AN19: =IF(AL19>=$P19,$E19,IF(AL19>=$O19,$E19*0.85,IF(AL19>=$N19,$E19*0.7,0))) -> 0 | AQ19: =IF(AP19=L19,"g",IF(AP19>L19,"k","m")) -> m | AR19: =IF($AP19>=$P19,$E19,IF($AP19>=$O19,$E19*0.85,IF($AP19>=$N19,$E19*0.7,0))) -> 0 | AT19: =IF(AP19<>"",IF(AP19>=P19,"surperformance",IF(AP19>=O19,"cible",IF(AP19>=N19,"minimum","non validé"))),"") | AU19: =IF(AT19="surperformance",E19,IF(AT19="cible",E19*0.85,IF(AT19="minimum",E19*0.7,0))) -> 0
B20: Mon voyage en règle | C20: 12 | D20: Taux de contrôle | E20: 200 | K20: 0.65 | L20: 0.455 | N20: 0.45 | O20: 0.48 | P20: 0.51 | W20: =IF(V20=L20,"g",IF(V20>L20,"k","m")) -> m | X20: =IF(V20>=$P20,$E20,IF(V20>=$O20,$E20*0.85,IF(V20>=$N20,$E20*0.7,0))) -> 0 | AE20: =IF(AD20=V20,"g",IF(AD20>V20,"k","m")) -> g | AF20: =IF(AD20>=$P20,$E20,IF(AD20>=$O20,$E20*0.85,IF(AD20>=$N20,$E20*0.7,0))) -> 0 | AM20: =IF(AL20=AD20,"g",IF(AL20>AD20,"k","m")) -> g | AN20: =IF(AL20>=$P20,$E20,IF(AL20>=$O20,$E20*0.85,IF(AL20>=$N20,$E20*0.7,0))) -> 0 | AQ20: =IF(AP20=L20,"g",IF(AP20>L20,"k","m")) -> m | AR20: =IF($AP20>=$P20,$E20,IF($AP20>=$O20,$E20*0.85,IF($AP20>=$N20,$E20*0.7,0))) -> 0 | AT20: =IF(AP20<>"",IF(AP20>=P20,"surperformance",IF(AP20>=O20,"cible",IF(AP20>=N20,"minimum","non validé"))),"") | AU20: =IF(AT20="surperformance",E20,IF(AT20="cible",E20*0.85,IF(AT20="minimum",E20*0.7,0))) -> 0
P22: résultat brut | V22: =SUM(X9:X20) -> 0 | AD22: =SUM(AF9:AF20) -> 0 | AE22: =AD22-V22 -> 0 | AL22: =SUM(AN9:AN20) -> 0 | AM22: =AL22-AD22 -> 0 | AT22: Total brut | AU22: =SUM(AU9:AU20) -> 200
P23: résultat redressé | V23: =V22/(3000-SUMIF(V9:V20,"",$E9:$E20))*3000 -> #DIV/0! | AD23: =AD22/(3000-SUMIF(AD9:AD20,"",$E9:$E20))*3000 -> #DIV/0! | AE23: =AD23-V23 -> #DIV/0! | AL23: =AL22/(3000-SUMIF(AL9:AL20,"",$E9:$E20))*3000 -> #DIV/0! | AM23: =AL23-AD23 -> #DIV/0! | AT23: Total redressé | AU23: =AU22/(3000-SUMIF(AP9:AP20,"",$E9:$E20))*3000 -> 3000
B49: Seuil de tolérance :
B50: 0.005

Sheet Courbe évolution cumul
B1: Courbe d'évolution des indicateurs des différentes lignes
D8: Ligne | F8: janvier | G8: février | H8: mars | I8: avril | J8: mai | K8: juin | L8: juillet | M8: août | N8: septembre | O8: octobre | P8: novembre | Q8: décembre
D9: Transversale Sud | H9: =IF(COUNTA('2017 TS'!Q9:T9,'2017 TS'!Y9:AB9,'2017 TS'!AG9:AJ9)=3,'2017 TS'!AO9,"") | I9: =IF(COUNTA('2017 TS'!Q9:T9,'2017 TS'!Y9:AB9,'2017 TS'!AG9:AJ9)=4,'2017 TS'!AO9,"") | J9: =IF(COUNTA('2017 TS'!Q9:T9,'2017 TS'!Y9:AB9,'2017 TS'!AG9:AJ9)=5,'2017 TS'!AO9,"") | K9: =IF(COUNTA('2017 TS'!Q9:T9,'2017 TS'!Y9:AB9,'2017 TS'!AG9:AJ9)=6,'2017 TS'!AO9,"") | L9: =IF(COUNTA('2017 TS'!Q9:T9,'2017 TS'!Y9:AB9,'2017 TS'!AG9:AJ9)=7,'2017 TS'!AO9,"") | M9: =IF(COUNTA('2017 TS'!Q9:T9,'2017 TS'!Y9:AB9,'2017 TS'!AG9:AJ9)=8,'2017 TS'!AO9,"") | N9: =IF(COUNTA('2017 TS'!Q9:T9,'2017 TS'!Y9:AB9,'2017 TS'!AG9:AJ9)=9,'2017 TS'!AO9,"") | O9: =IF(COUNTA('2017 TS'!Q9:T9,'2017 TS'!Y9:AB9,'2017 TS'!AG9:AJ9)=10,'2017 TS'!AO9,"") | P9: =IF(COUNTA('2017 TS'!Q9:T9,'2017 TS'!Y9:AB9,'2017 TS'!AG9:AJ9)=11,'2017 TS'!AO9,"") | Q9: =IF(COUNTA('2017 TS'!Q9:T9,'2017 TS'!Y9:AB9,'2017 TS'!AG9:AJ9)=12,'2017 TS'!AO9,"")
D10: Bordeaux - Nantes
D11: Toulouse - Hendaye
D12: Nantes - Lyon
