Workbook

Sheet Base commande
A1: REF INT | B1: Pivot | C1: NUM | D1: TYPE | E1: STATUT CDE | F1: REF CLIENT | G1: REF INT | H1: D.DEPART | I1: D.ARRIVEE | J1: KG | K1: PAL | L1: ML | M1: VOLUME | N1: PAL TOT | O1: RATTACHE A | P1: DATE C | Q1: CODE MAG
A2: 702261154 | B2: =Q2&I2 -> 302018022309644974 | C2: S230372384 | D2: PILOT | E2: CONFIRME | F2: OT 616480 | G2: 702261154 | H2: 44974 | I2: 44974 | J2: 22492.34 | K2: 42 | L2: 0 | M2: 70.772003 | N2: 42 | P2: 44991.481 | Q2: 3020180223096
A3: 702270010_02 | B3: =Q3&I3 -> 301229926020844984 | C3: S230261498 | D3: PILOT | E3: CHARG | F3: 111825 | G3: 702270010_02 | H3: 44981 | I3: 44984 | J3: 4755.394 | K3: 18 | L3: 0 | M3: 24.50526 | N3: 18 | P3: 44980.733 | Q3: 3012299260208
A4: 702270010_01 | B4: =Q4&I4 -> 301229926020844984 | C4: S230261497 | D4: PILOT | E4: CHARG | F4: 111825 | G4: 702270010_01 | H4: 44981 | I4: 44984 | J4: 10410.14 | K4: 32 | L4: 0 | M4: 41.311661 | N4: 33 | P4: 44980.732 | Q4: 3012299260208
A5: 702269996 | B5: =Q5&I5 -> 301229926020844984 | C5: S230261484 | D5: PILOT | E5: CHARG | F5: 111169 | G5: 702269996 | H5: 44984 | I5: 44984 | J5: 282.64001 | K5: 1 | M5: 1.1917599 | N5: 1 | P5: 44980.721 | Q5: 3012299260208
A6: 702269802 | B6: =Q6&I6 -> 302539000040644985,375 | C6: S230260844 | D6: PILOT | E6: CHARG | F6: 39463101 | G6: 702269802 | H6: 44981 | I6: 44985.375 | J6: 9418.29 | K6: 21 | M6: 27.32584 | N6: 22 | P6: 44980.521 | Q6: 3025390000406
A7: 702269598 | B7: =Q7&I7 -> 302013137480844985,2708333333 | C7: S230260567 | D7: PILOT | E7: CHARG | F7: 00007212554 | G7: 702269598 | H7: 44984 | I7: 44985.271 | J7: 14448.1 | K7: 30 | M7: 43.551552 | N7: 30 | P7: 44980.432 | Q7: 3020131374808
A8: 702269600 | B8: =Q8&I8 -> 302013137480844985,2708333333 | C8: S230260564 | D8: PILOT | E8: CHARG | F8: 00007212555 | G8: 702269600 | H8: 44984 | I8: 44985.271 | J8: 5098.2842 | K8: 13 | M8: 19.06682 | N8: 14 | P8: 44980.432 | Q8: 3020131374808
A9: 702269294 | B9: =Q9&I9 -> 302011264100444985,5625 | C9: S230259895 | D9: PILOT | E9: CHARG | F9: 00005394379 | G9: 702269294 | H9: 44984 | I9: 44985.562 | J9: 11577.56 | K9: 24 | M9: 39.14344 | N9: 24 | O9: S230259896 | P9: 44979.68 | Q9: 3020112641004
A10: 702269290 | B10: =Q10&I10 -> 302011264100444985,5625 | C10: S230259869 | D10: PILOT | E10: CHARG | F10: 00005254157 | G10: 702269290 | H10: 44984 | I10: 44985.562 | J10: 1032.0179 | K10: 2 | M10: 2.45084 | N10: 3 | O10: S230259896 | P10: 44979.678 | Q10: 3020112641004
A11: 702269166_02 | B11: =Q11&I11 -> 302572000200144985,3333333333 | C11: S230259436 | D11: PILOT | E11: CHARG | F11: 38073601 | G11: 702269166_02 | H11: 44981 | I11: 44985.333 | J11: 7782.8091 | K11: 24 | M11: 28.76449 | N11: 24 | P11: 44979.553 | Q11: 3025720002001
A12: 702269166_01 | B12: =Q12&I12 -> 302572000200144985,3333333333 | C12: S230259435 | D12: PILOT | E12: CHARG | F12: 38073601 | G12: 702269166_01 | H12: 44981 | I12: 44985.333 | J12: 12922.01 | K12: 33 | M12: 38.321289 | N12: 33 | P12: 44979.553 | Q12: 3025720002001
A13: 702269094 | B13: =Q13&I13 -> 302573039000644985 | C13: S230259364 | D13: PILOT | E13: CHARG | F13: 00184338 | G13: 702269094 | H13: 44981 | I13: 44985 | J13: 972.349 | K13: 2 | M13: 2.5025499 | N13: 2 | P13: 44979.527 | Q13: 3025730390006
A14: 702269092_02 | B14: =Q14&I14 -> 302470000080044985,4791666667 | C14: S230259329 | D14: PILOT | E14: CHARG | F14: C8000580 | G14: 702269092_02 | H14: 44981 | I14: 44985.479 | J14: 1621.162 | K14: 7 | M14: 7.48138 | N14: 7 | P14: 44979.526 | Q14: 3024700000800
A15: 702269092_01 | B15: =Q15&I15 -> 302470000080044985,4791666667 | C15: S230259328 | D15: PILOT | E15: CHARG | F15: C8000580 | G15: 702269092_01 | H15: 44981 | I15: 44985.479 | J15: 10133.88 | K15: 32 | M15: 26.97378 | N15: 33 | P15: 44979.526 | Q15: 3024700000800
A16: 702269091 | B16: =Q16&I16 -> 302017002612644984,375 | C16: S230259317 | D16: PILOT | E16: CHARG | F16: 03443601 | G16: 702269091 | H16: 44980 | I16: 44984.375 | J16: 7375.4189 | K16: 15 | M16: 18.415039 | N16: 16 | P16: 44979.524 | Q16: 3020170026126
A17: 702269089 | B17: =Q17&I17 -> 302595010550044985,25 | C17: S230259313 | D17: PILOT | E17: CHARG | F17: 4500775298 | G17: 702269089 | H17: 44981 | I17: 44985.25 | J17: 2988.5801 | K17: 13 | M17: 8.3587999 | N17: 13 | P17: 44979.521 | Q17: 3025950105500
A18: 702269074 | B18: =Q18&I18 -> 302108117678844985,5208333333 | C18: S230259288 | D18: PILOT | E18: CHARG | F18: 04547000 | G18: 702269074 | H18: 44984 | I18: 44985.521 | J18: 6670.7168 | K18: 12 | M18: 17.07214 | N18: 12 | P18: 44979.512 | Q18: 3021081176788
A19: 702269019 | B19: =Q19&I19 -> 302573084000644985 | C19: S230259256 | D19: PILOT | E19: CHARG | F19: 00113636 | G19: 702269019 | H19: 44981 | I19: 44985 | J19: 472.923 | K19: 1 | M19: 1.38434 | N19: 2 | P19: 44979.505 | Q19: 3025730840006
A20: 702269010_02 | B20: =Q20&I20 -> 302011697050644984,4583333333 | C20: S230259234 | D20: PILOT | E20: CHARG | F20: 00031783448 | G20: 702269010_02 | H20: 44981 | I20: 44984.458 | J20: 5798.0781 | K20: 17 | M20: 22.614929 | N20: 17 | P20: 44979.501 | Q20: 3020116970506
A21: 702269010_01 | B21: =Q21&I21 -> 302011697050644984,4583333333 | C21: S230259232 | D21: PILOT | E21: CHARG | F21: 00031783448 | G21: 702269010_01 | H21: 44981 | I21: 44984.458 | J21: 12550.36 | K21: 30 | M21: 39.593689 | N21: 33 | P21: 44979.5 | Q21: 3020116970506
A22: 702269007_02 | B22: =Q22&I22 -> 302482013479744985,25 | C22: S230259229 | D22: PILOT | E22: CHARG | F22: 00374355 | G22: 702269007_02 | H22: 44981 | I22: 44985.25 | J22: 2614.875 | K22: 3 | M22: 3.9456 | N22: 3 | P22: 44979.497 | Q22: 3024820134797
... A33: 702268731 | B33: =Q33&I33 -> 302109300139944985 | C33: S230258045 | D33: PILOT | E33: CHARG | F33: 04095052 | G33: 702268731 | H33: 44981 | I33: 44985 | J33: 16265.29 | K33: 29 | M33: 46.107571 | N33: 29 | P33: 44978.679 | Q33: 3021093001399
A34: 702268730 | B34: =Q34&I34 -> 302575000000044985,25 | C34: S230258007 | D34: PILOT | E34: CHARG | F34: 65296901 | G34: 702268730 | H34: 44981 | I34: 44985.25 | J34: 807.80701 | K34: 2 | M34: 3.18396 | N34: 2 | O34: S230258016 | P34: 44978.678 | Q34: 3025750000000
A35: 702268728 | B35: =Q35&I35 -> 405291500014544985,40625 | C35: S230257991 | D35: PILOT | E35: CHARG | F35: 236228022301 | G35: 702268728 | H35: 44981 | I35: 44985.406 | J35: 5694.98 | K35: 10 | M35: 15.5808 | N35: 10 | P35: 44978.677 | Q35: 4052915000145
A36: 702268729 | B36: =Q36&I36 -> 302575000000044985,25 | C36: S230257978 | D36: PILOT | E36: CHARG | F36: 65296701 | G36: 702268729 | H36: 44981 | I36: 44985.25 | J36: 6958.3672 | K36: 15 | M36: 24.55245 | N36: 15 | O36: S230258016 | P36: 44978.676 | Q36: 3025750000000
A37: 702268725 | B37: =Q37&I37 -> 302108117509544985,3541666667 | C37: S230257971 | D37: PILOT | E37: CHARG | F37: 08227916 | G37: 702268725 | H37: 44981 | I37: 44985.354 | J37: 13975.41 | K37: 25 | M37: 44.502239 | N37: 26 | P37: 44978.662 | Q37: 3021081175095
A38: 702268675 | B38: =Q38&I38 -> 302215000010244985,25 | C38: S230257899 | D38: PILOT | E38: CHARG | F38: 517869 | G38: 702268675 | H38: 44984 | I38: 44985.25 | J38: 13878.18 | K38: 27 | M38: 44.420181 | N38: 27 | P38: 44978.634 | Q38: 3022150000102
A39: 702268662_02 | B39: =Q39&I39 -> 302073000015444984,5416666667 | C39: S230257827 | D39: PILOT | E39: CHARG | F39: 88073301 | G39: 702268662_02 | H39: 44981 | I39: 44984.542 | J39: 1893.801 | K39: 5 | M39: 6.36198 | N39: 5 | P39: 44978.595 | Q39: 3020730000154
A40: 702268662_01 | B40: =Q40&I40 -> 302073000015444984,5416666667 | C40: S230257826 | D40: PILOT | E40: CHARG | F40: 88073301 | G40: 702268662_01 | H40: 44981 | I40: 44984.542 | J40: 12592.94 | K40: 30 | M40: 39.56921 | N40: 33 | P40: 44978.594 | Q40: 3020730000154
A41: 702268663 | B41: =Q41&I41 -> 301229935049744985,375 | C41: S230257822 | D41: CODE 1 | E41: CHARG | F41: 75005 | G41: 702268663 | H41: 44981.375 | I41: 44985.375 | J41: 68.519997 | K41: 1 | M41: 0.52032 | N41: 1 | P41: 44978.593 | Q41: 3012299350497
A42: 702268583 | B42: =Q42&I42 -> 302051070000644985 | C42: S230257762 | D42: CODE 1 | E42: CHARG | F42: 00484177 | G42: 702268583 | H42: 44980.458 | I42: 44985 | J42: 267.37799 | K42: 1 | M42: 0.65529001 | N42: 1 | P42: 44978.539 | Q42: 3020510700006
A43: 702268581 | B43: =Q43&I43 -> 302568002300044985 | C43: S230257761 | D43: CODE 1 | E43: CHARG | F43: 00451438 | G43: 702268581 | H43: 44980.375 | I43: 44985 | J43: 896.48499 | K43: 2 | M43: 2.24597 | N43: 2 | P43: 44978.538 | Q43: 3025680023000
A44: 702268580 | B44: =Q44&I44 -> 302573021000744985 | C44: S230257759 | D44: CODE 1 | E44: CHARG | F44: 00074340 | G44: 702268580 | H44: 44981.375 | I44: 44985 | J44: 322.11801 | K44: 1 | M44: 1.07493 | N44: 1 | P44: 44978.537 | Q44: 3025730210007
A45: 702268542 | B45: =Q45&I45 -> 301229934253944985 | C45: S230257756 | D45: CODE 1 | E45: CHARG | F45: 01230221 | G45: 702268542 | H45: 44981.375 | I45: 44985 | J45: 379.67001 | K45: 1 | M45: 0.92667001 | N45: 1 | P45: 44978.53 | Q45: 3012299342539
A46: 702268543 | B46: =Q46&I46 -> 302017035612444981,5625 | C46: S230257754 | D46: PILOT | E46: CHARG | F46: 03236187 | G46: 702268543 | H46: 44979 | I46: 44981.562 | J46: 1650.83 | K46: 6 | M46: 6.09659 | N46: 7 | O46: S230257755 | P46: 44978.53 | Q46: 3020170356124
A47: 702268539_01 | B47: =Q47&I47 -> 302017015612044985,4583333333 | C47: S230257739 | D47: PILOT | E47: CHARG | F47: 03236234 | G47: 702268539_01 | H47: 44981 | I47: 44985.458 | J47: 10890.43 | K47: 33 | M47: 35.984058 | N47: 33 | P47: 44978.528 | Q47: 3020170156120
A48: 702268539_02 | B48: =Q48&I48 -> 302017015612044985,4583333333 | C48: S230257738 | D48: PILOT | E48: CHARG | F48: 03236234 | G48: 702268539_02 | H48: 44981 | I48: 44985.458 | J48: 1903.168 | K48: 7 | M48: 5.9962001 | N48: 7 | O48: S230257741 | P48: 44978.528 | Q48: 3020170156120
A49: 702268537 | B49: =Q49&I49 -> 302482020034844985,4215277778 | C49: S230257723 | D49: PILOT | E49: CHARG | F49: 69752850 | G49: 702268537 | H49: 44981 | I49: 44985.422 | J49: 7107.3652 | K49: 12 | M49: 20.634951 | N49: 12 | P49: 44978.526 | Q49: 3024820200348
A50: 702268536 | B50: =Q50&I50 -> 302482013703344985,4013888889 | C50: S230257718 | D50: PILOT | E50: CHARG | F50: 69752866 | G50: 702268536 | H50: 44984 | I50: 44985.401 | J50: 13095.1 | K50: 22 | M50: 38.6861 | N50: 22 | P50: 44978.524 | Q50: 3024820137033
A51: 702268534 | B51: =Q51&I51 -> 302482013238044985,25 | C51: S230257713 | D51: PILOT | E51: CHARG | F51: 69752593 | G51: 702268534 | H51: 44981 | I51: 44985.25 | J51: 16828.24 | K51: 31 | M51: 50.321339 | N51: 31 | P51: 44978.523 | Q51: 3024820132380
A52: 702268535 | B52: =Q52&I52 -> 302576030000644985 | C52: S230257711 | D52: PILOT | E52: CHARG | F52: 00139697 | G52: 702268535 | H52: 44981 | I52: 44985 | J52: 660.93597 | K52: 2 | M52: 2.0114801 | N52: 2 | P52: 44978.522 | Q52: 3025760300006
A53: 702268531_02 | B53: =Q53&I53 -> 302482011883444985,3368055556 | C53: S230257710 | D53: PILOT | E53: CHARG | F53: 69752577 | G53: 702268531_02 | H53: 44981 | I53: 44985.337 | J53: 744.93201 | K53: 2 | M53: 3.4175999 | N53: 2 | P53: 44978.522 | Q53: 3024820118834
A54: 702268531_01 | B54: =Q54&I54 -> 302482011883444985,3368055556 | C54: S230257708 | D54: PILOT | E54: CHARG | F54: 69752577 | G54: 702268531_01 | H54: 44981 | I54: 44985.337 | J54: 17325.59 | K54: 33 | M54: 52.908291 | N54: 33 | P54: 44978.521 | Q54: 3024820118834
A55: 702268530 | B55: =Q55&I55 -> 302482011878044985,2916666667 | C55: S230257707 | D55: PILOT | E55: CHARG | F55: 69752556 | G55: 702268530 | H55: 44984 | I55: 44985.292 | J55: 16564.07 | K55: 32 | M55: 52.10984 | N55: 33 | P55: 44978.52 | Q55: 3024820118780
A56: 702268529 | B56: =Q56&I56 -> 302482011878044985,3333333333 | C56: S230257706 | D56: PILOT | E56: CHARG | F56: 69752555 | G56: 702268529 | H56: 44984 | I56: 44985.333 | J56: 21919.08 | K56: 33 | M56: 50.841599 | N56: 33 | P56: 44978.519 | Q56: 3024820118780
A57: 702268527_02 | B57: =Q57&I57 -> 302050000030744985,2916666667 | C57: S230257705 | D57: PILOT | E57: CHARG | F57: 47358901 | G57: 702268527_02 | H57: 44981 | I57: 44985.292 | J57: 3403.042 | K57: 14 | M57: 10.98826 | N57: 14 | O57: S230257689 | P57: 44978.519 | Q57: 3020500000307
A58: 702268527_01 | B58: =Q58&I58 -> 302050000030744985,2916666667 | C58: S230257703 | D58: PILOT | E58: CHARG | F58: 47358901 | G58: 702268527_01 | H58: 44981 | I58: 44985.292 | J58: 11595.67 | K58: 33 | M58: 33.643478 | N58: 33 | P58: 44978.518 | Q58: 3020500000307
A59: 702268532 | B59: =Q59&I59 -> 302482013703344985,25 | C59: S230257688 | D59: PILOT | E59: CHARG | F59: 69752566 | G59: 702268532 | H59: 44984 | I59: 44985.25 | J59: 20119.439 | K59: 31 | M59: 48.397442 | N59: 32 | P59: 44978.516 | Q59: 3024820137033
A60: 702268528 | B60: =Q60&I60 -> 302017035612444981,5625 | C60: S230257687 | D60: PILOT | E60: CHARG | F60: 03236267 | G60: 702268528 | H60: 44979 | I60: 44981.562 | J60: 510.56 | K60: 2 | M60: 0.81636 | N60: 2 | O60: S230257755 | P60: 44978.516 | Q60: 3020170356124
A61: 702268523 | B61: =Q61&I61 -> 302050000030744985,2916666667 | C61: S230257686 | D61: PILOT | E61: CHARG | F61: 47037701 | G61: 702268523 | H61: 44981 | I61: 44985.292 | J61: 3034.3601 | K61: 9 | M61: 11.60406 | N61: 9 | O61: S230257689 | P61: 44978.516 | Q61: 3020500000307
A62: 702268525 | B62: =Q62&I62 -> 302050000030744985,2916666667 | C62: S230257685 | D62: PILOT | E62: CHARG | F62: 47358801 | G62: 702268525 | H62: 44981 | I62: 44985.292 | J62: 703.50598 | K62: 4 | M62: 2.20276 | N62: 4 | O62: S230257689 | P62: 44978.516 | Q62: 3020500000307
A63: 702268521 | B63: =Q63&I63 -> 302017015612044985,4618055556 | C63: S230257684 | D63: PILOT | E63: CHARG | F63: 03228266 | G63: 702268521 | H63: 44981 | I63: 44985.462 | J63: 1753.155 | K63: 11 | M63: 14.14874 | N63: 11 | O63: S230257741 | P63: 44978.515 | Q63: 3020170156120
A64: 702268520 | B64: =Q64&I64 -> 302017035612444985,4583333333 | C64: S230257678 | D64: PILOT | E64: CHARG | F64: 03226634 | G64: 702268520 | H64: 44981 | I64: 44985.458 | J64: 1336.9301 | K64: 4 | M64: 4.1560502 | N64: 4 | P64: 44978.515 | Q64: 3020170356124
A65: 702268479 | B65: =Q65&I65 -> 302050000030744985,2916666667 | C65: S230257576 | D65: PILOT | E65: CHARG | F65: 47359001 | G65: 702268479 | H65: 44981 | I65: 44985.292 | J65: 2766.8679 | K65: 9 | M65: 9.9909496 | N65: 9 | P65: 44978.472 | Q65: 3020500000307
A66: 702268487 | B66: =Q66&I66 -> 302470000080044984,4791666667 | C66: S230257567 | D66: PILOT | E66: CHARG | F66: C8000567 | G66: 702268487 | H66: 44980 | I66: 44984.479 | J66: 1739.0439 | K66: 8 | M66: 6.2046199 | N66: 9 | P66: 44978.471 | Q66: 3024700000800
A67: 702268478 | B67: =Q67&I67 -> 302017010622444985,4583333333 | C67: S230257557 | D67: PILOT | E67: CHARG | F67: 03239116 | G67: 702268478 | H67: 44984 | I67: 44985.458 | J67: 3795.479 | K67: 10 | M67: 11.24429 | N67: 11 | P67: 44978.469 | Q67: 3020170106224
A68: 702268473 | B68: =Q68&I68 -> 302108114288244985,5 | C68: S230257549 | D68: PILOT | E68: CHARG | F68: 01150765 | G68: 702268473 | H68: 44981 | I68: 44985.5 | J68: 15423.71 | K68: 28 | M68: 44.344318 | N68: 28 | P68: 44978.469 | Q68: 3021081142882
A69: 702268486 | B69: =Q69&I69 -> 302573038000744985 | C69: S230257544 | D69: PILOT | E69: CHARG | F69: 00003699 | G69: 702268486 | H69: 44981 | I69: 44985 | J69: 562.12299 | K69: 1 | M69: 1.23121 | N69: 2 | P69: 44978.468 | Q69: 3025730380007
A70: 702268476 | B70: =Q70&I70 -> 302108117678844985,3333333333 | C70: S230257536 | D70: PILOT | E70: CHARG | F70: 04311873 | G70: 702268476 | H70: 44984 | I70: 44985.333 | J70: 19799.439 | K70: 29 | M70: 45.191521 | N70: 29 | P70: 44978.467 | Q70: 3021081176788
A71: 702268402 | B71: =Q71&I71 -> 302573061000544985 | C71: S230257437 | D71: PILOT | E71: CHARG | F71: 00070001 | G71: 702268402 | H71: 44981 | I71: 44985 | J71: 434.87701 | K71: 1 | M71: 1.3234 | N71: 1 | P71: 44978.432 | Q71: 3025730610005
A72: 702268401 | B72: =Q72&I72 -> 302108114288244985,5208333333 | C72: S230257436 | D72: PILOT | E72: CHARG | F72: 01283161 | G72: 702268401 | H72: 44981 | I72: 44985.521 | J72: 12250.09 | K72: 25 | M72: 41.784538 | N72: 26 | P72: 44978.431 | Q72: 3021081142882
A73: 702268399 | B73: =Q73&I73 -> 302108113694244985,4166666667 | C73: S230257407 | D73: PILOT | E73: CHARG | F73: 01706826 | G73: 702268399 | H73: 44981 | I73: 44985.417 | J73: 5729.4028 | K73: 10 | M73: 16.632 | N73: 10 | O73: S230257408 | P73: 44978.43 | Q73: 3021081136942
A74: 702268397 | B74: =Q74&I74 -> 302108113694244985,4166666667 | C74: S230257396 | D74: PILOT | E74: CHARG | F74: 01706825 | G74: 702268397 | H74: 44981 | I74: 44985.417 | J74: 1996.08 | K74: 8 | M74: 17.8944 | N74: 8 | O74: S230257408 | P74: 44978.428 | Q74: 3021081136942
A75: 702268395 | B75: =Q75&I75 -> 301229940315544984,4166666667 | C75: S230257384 | D75: PILOT | E75: CHARG | F75: WPO-20230208-5C69C19 | G75: 702268395 | H75: 44981 | I75: 44984.417 | J75: 3232.6809 | K75: 7 | M75: 8.0619402 | N75: 9 | P75: 44978.427 | Q75: 3012299403155
A76: 702268393 | B76: =Q76&I76 -> 302108117509544985,375 | C76: S230257383 | D76: PILOT | E76: CHARG | F76: 08341138 | G76: 702268393 | H76: 44981 | I76: 44985.375 | J76: 14241.21 | K76: 27 | M76: 45.503399 | N76: 29 | P76: 44978.426 | Q76: 3021081175095
A77: 702268394 | B77: =Q77&I77 -> 301229940370444984 | C77: S230257382 | D77: CODE 1 | E77: CHARG | F77: 86931178A4 | G77: 702268394 | H77: 44980.458 | I77: 44984 | J77: 934.56799 | K77: 2 | M77: 2.45386 | N77: 3 | P77: 44978.425 | Q77: 3012299403704
A78: 702268357 | B78: =Q78&I78 -> 302573053000644985 | C78: S230257301 | D78: CODE 1 | E78: CHARG | F78: 00002851 | G78: 702268357 | H78: 44981.375 | I78: 44985 | J78: 934.42902 | K78: 2 | M78: 2.1642699 | N78: 2 | P78: 44978.394 | Q78: 3025730530006
A79: 702268358 | B79: =Q79&I79 -> 302542003210044985 | C79: S230257300 | D79: PILOT | E79: CHARG | F79: 01230221 | G79: 702268358 | H79: 44981 | I79: 44985 | J79: 1642 | K79: 5 | M79: 7.5408001 | N79: 5 | P79: 44978.394 | Q79: 3025420032100
A80: 702268182 | B80: =Q80&I80 -> 302573105118044984 | C80: S230256838 | D80: CODE 1 | E80: CHARG | F80: 00000699 | G80: 702268182 | H80: 44980.458 | I80: 44984 | J80: 776.94702 | K80: 2 | M80: 2.3988099 | N80: 2 | P80: 44977.761 | Q80: 3025731051180
A81: 702268183 | B81: =Q81&I81 -> 302573033000244984 | C81: S230256835 | D81: CODE 1 | E81: CHARG | F81: 00149089 | G81: 702268183 | H81: 44980 | I81: 44984 | J81: 231.3 | K81: 1 | M81: 0.73093998 | N81: 1 | O81: S230256831 | P81: 44977.76 | Q81: 3025730330002
A82: 702268181 | B82: =Q82&I82 -> 301229909480344984 | C82: S230256834 | D82: CODE 1 | E82: CHARG | F82: 20230220 | G82: 702268181 | H82: 44980.458 | I82: 44984 | J82: 100.311 | K82: 1 | M82: 0.43709001 | N82: 1 | P82: 44977.759 | Q82: 3012299094803
A83: 702268179 | B83: =Q83&I83 -> 301229940209744984 | C83: S230256828 | D83: CODE 1 | E83: CHARG | F83: 20660 | G83: 702268179 | H83: 44980.375 | I83: 44984 | J83: 298.73999 | K83: 3 | M83: 3.55812 | N83: 3 | P83: 44977.728 | Q83: 3012299402097
A84: 702268178 | B84: =Q84&I84 -> 301229934357444984 | C84: S230256827 | D84: CODE 1 | E84: CHARG | F84: 13960 | G84: 702268178 | H84: 44980.458 | I84: 44984 | J84: 75.029999 | K84: 1 | M84: 0.3527 | N84: 1 | P84: 44977.728 | Q84: 3012299343574
A85: 702268177 | B85: =Q85&I85 -> 302573033000244984 | C85: S230256826 | D85: PILOT | E85: CHARG | F85: 00149088 | G85: 702268177 | H85: 44980 | I85: 44984 | J85: 787.245 | K85: 1 | M85: 1.04905 | N85: 2 | O85: S230256831 | P85: 44977.728 | Q85: 3025730330002
A86: 702268176 | B86: =Q86&I86 -> 301229942291044984 | C86: S230256825 | D86: CODE 1 | E86: CHARG | F86: 4800000265 | G86: 702268176 | H86: 44980.458 | I86: 44984 | J86: 313.60501 | K86: 2 | M86: 2.96433 | N86: 2 | P86: 44977.728 | Q86: 3012299422910
A87: 702268175 | B87: =Q87&I87 -> 302573033000244984 | C87: S230256824 | D87: PILOT | E87: CHARG | F87: 00149074 | G87: 702268175 | H87: 44980 | I87: 44984 | J87: 514.46503 | K87: 2 | M87: 1.97848 | N87: 2 | O87: S230256831 | P87: 44977.728 | Q87: 3025730330002
A88: 702268174 | B88: =Q88&I88 -> 301229934993444984 | C88: S230256823 | D88: PILOT | E88: CHARG | F88: 2093042 | G88: 702268174 | H88: 44981 | I88: 44984 | J88: 218.745 | K88: 2 | M88: 1.64227 | N88: 2 | P88: 44977.728 | Q88: 3012299349934
A89: 702268173 | B89: =Q89&I89 -> 301229935048044984,3125 | C89: S230256822 | D89: CODE 1 | E89: CHARG | F89: 74964 | G89: 702268173 | H89: 44980.458 | I89: 44984.312 | J89: 210.02 | K89: 1 | M89: 0.66364002 | N89: 1 | P89: 44977.728 | Q89: 3012299350480
A90: 702268171_02 | B90: =Q90&I90 -> 302139000014944984,3333333333 | C90: S230256821 | D90: PILOT | E90: CHARG | F90: 26271001 | G90: 702268171_02 | H90: 44980 | I90: 44984.333 | J90: 2298.791 | K90: 9 | M90: 8.6475496 | N90: 9 | P90: 44977.728 | Q90: 3021390000149
A91: 702268171_01 | B91: =Q91&I91 -> 302139000014944984,3333333333 | C91: S230256820 | D91: PILOT | E91: CHARG | F91: 26271001 | G91: 702268171_01 | H91: 44980 | I91: 44984.333 | J91: 10636.77 | K91: 30 | M91: 35.73048 | N91: 33 | P91: 44977.728 | Q91: 3021390000149
A92: 702268172 | B92: =Q92&I92 -> 301229934293544984 | C92: S230256816 | D92: CODE 1 | E92: CHARG | F92: 01230220 | G92: 702268172 | H92: 44980.375 | I92: 44984 | J92: 214.299 | K92: 1 | M92: 0.67698002 | N92: 1 | P92: 44977.728 | Q92: 3012299342935
A93: 702268168 | B93: =Q93&I93 -> 301229909492644984 | C93: S230256761 | D93: CODE 1 | E93: CHARG | F93: 01230220 | G93: 702268168 | H93: 44980.458 | I93: 44984 | J93: 339.48401 | K93: 1 | M93: 1.04712 | N93: 1 | P93: 44977.687 | Q93: 3012299094926
A94: 702268169 | B94: =Q94&I94 -> 301229935517144984 | C94: S230256760 | D94: CODE 1 | E94: CHARG | F94: 23BJ0201 | G94: 702268169 | H94: 44980.375 | I94: 44984 | J94: 280.85501 | K94: 2 | M94: 2.1923001 | N94: 2 | P94: 44977.686 | Q94: 3012299355171
A95: 702268167 | B95: =Q95&I95 -> 301229933690344984 | C95: S230256759 | D95: CODE 1 | E95: CHARG | F95: 01230220 | G95: 702268167 | H95: 44980.458 | I95: 44984 | J95: 181.539 | K95: 1 | M95: 0.57046998 | N95: 1 | P95: 44977.685 | Q95: 3012299336903
A96: 702268166 | B96: =Q96&I96 -> 301229940361244984 | C96: S230256752 | D96: CODE 1 | E96: CHARG | F96: 01230220 | G96: 702268166 | H96: 44980.542 | I96: 44984 | J96: 258.55701 | K96: 1 | M96: 0.67304999 | N96: 1 | P96: 44977.684 | Q96: 3012299403612
A97: 702268164 | B97: =Q97&I97 -> 301229929119644985 | C97: S230256748 | D97: CODE 1 | E97: CHARG | F97: 88230220 | G97: 702268164 | H97: 44980.458 | I97: 44985 | J97: 71.959999 | K97: 1 | M97: 0.34823 | N97: 1 | P97: 44977.683 | Q97: 3012299291196
A98: 702268163 | B98: =Q98&I98 -> 301229930157444985 | C98: S230256747 | D98: CODE 1 | E98: CHARG | F98: 88230220 | G98: 702268163 | H98: 44981.375 | I98: 44985 | J98: 176.53999 | K98: 1 | M98: 0.61199999 | N98: 1 | P98: 44977.682 | Q98: 3012299301574
A99: 702268161 | B99: =Q99&I99 -> 302017032500744984 | C99: S230256746 | D99: PILOT | E99: CHARG | F99: 00118342 | G99: 702268161 | H99: 44980.375 | I99: 44984 | J99: 922 | K99: 3 | L99: 0 | M99: 4.8600001 | N99: 3 | P99: 44977.682 | Q99: 3020170325007
A100: 702268165 | B100: =Q100&I100 -> 302573035000044984 | C100: S230256729 | D100: CODE 1 | E100: CHARG | F100: 00032254 | G100: 702268165 | H100: 44980.458 | I100: 44984 | J100: 457.82001 | K100: 1 | M100: 1.29056 | N100: 1 | P100: 44977.682 | Q100: 3025730350000
A101: 702268160 | B101: =Q101&I101 -> 302573071000244984 | C101: S230256726 | D101: CODE 1 | E101: CHARG | F101: 00027903 | G101: 702268160 | H101: 44980 | I101: 44984 | J101: 297.14899 | K101: 1 | M101: 0.96180999 | N101: 1 | O101: S230256767 | P101: 44977.682 | Q101: 3025730710002
A102: 702268159 | B102: =Q102&I102 -> 405291500002244984,4375 | C102: S230256714 | D102: PILOT | E102: CHARG | F102: 236227022301 | G102: 702268159 | H102: 44980 | I102: 44984.438 | J102: 8561.1299 | K102: 18 | M102: 28.7616 | N102: 18 | P102: 44977.68 | Q102: 4052915000022
A103: 702268158 | B103: =Q103&I103 -> 405291500011444984,3541666667 | C103: S230256713 | D103: PILOT | E103: CHARG | F103: 236224022301 | G103: 702268158 | H103: 44980 | I103: 44984.354 | J103: 5630.3799 | K103: 10 | M103: 15.3456 | N103: 10 | P103: 44977.68 | Q103: 4052915000114
A104: 702268157 | B104: =Q104&I104 -> 405291500004644984,4375 | C104: S230256698 | D104: PILOT | E104: CHARG | F104: 236227022301 | G104: 702268157 | H104: 44980 | I104: 44984.438 | J104: 6475.625 | K104: 10 | M104: 14.496 | N104: 10 | P104: 44977.678 | Q104: 4052915000046
A105: 702268156 | B105: =Q105&I105 -> 405291500015244984,4166666667 | C105: S230256697 | D105: PILOT | E105: CHARG | F105: 236227022301 | G105: 702268156 | H105: 44980 | I105: 44984.417 | J105: 6247.8901 | K105: 10 | M105: 14.7504 | N105: 10 | P105: 44977.678 | Q105: 4052915000152
A106: 702268155 | B106: =Q106&I106 -> 405291500024444984,4166666667 | C106: S230256694 | D106: PILOT | E106: CHARG | F106: 236227022301 | G106: 702268155 | H106: 44981 | I106: 44984.417 | J106: 5080.3198 | K106: 10 | M106: 15.1104 | N106: 10 | P106: 44977.676 | Q106: 4052915000244
A107: 702268154 | B107: =Q107&I107 -> 302564036000744984 | C107: S230256677 | D107: PILOT | E107: CHARG | F107: 00108291 | G107: 702268154 | H107: 44980.375 | I107: 44984 | J107: 584.53302 | K107: 2 | L107: 0 | M107: 2.9778299 | N107: 3 | P107: 44977.662 | Q107: 3025640360007
A108: 702268055_03 | B108: =Q108&I108 -> 302550005019244984 | C108: S230256527 | D108: PILOT | E108: CHARG | F108: 04741231 | G108: 702268055_03 | H108: 44981 | I108: 44984 | J108: 1515.171 | K108: 5 | M108: 2.45613 | N108: 5 | O108: S230256470 | P108: 44977.642 | Q108: 3025500050192
A109: 702268055_02 | B109: =Q109&I109 -> 302550005019244984,25 | C109: S230256519 | D109: PILOT | E109: CHARG | F109: 04741231 | G109: 702268055_02 | H109: 44981 | I109: 44984.25 | J109: 13826.12 | K109: 32 | L109: 0 | M109: 43.067959 | N109: 33 | P109: 44977.641 | Q109: 3025500050192
A110: 702268055_01 | B110: =Q110&I110 -> 302550005019244984,25 | C110: S230256507 | D110: PILOT | E110: CHARG | F110: 04741231 | G110: 702268055_01 | H110: 44981 | I110: 44984.25 | J110: 17765.311 | K110: 33 | L110: 0 | M110: 45.92091 | N110: 33 | P110: 44977.64 | Q110: 3025500050192
...

Sheet Segment par pivot
B1: =COUNTA(B3:B8) -> 1 | C1: =COUNTA(C3:C8) -> 2 | D1: =COUNTA(D3:D8) -> 4 | E1: =COUNTA(E3:E8) -> 1 | F1: =COUNTA(F3:F8) -> 2 | G1: =COUNTA(G3:G8) -> 2 | H1: =COUNTA(H3:H8) -> 1 | I1: =COUNTA(I3:I8) -> 2 | ... ABH1: =COUNTA(ABH3:ABH8) -> 1
A2: Pivot | B2: 302018022309644974 | C2: 302572000200144985,3333333333 | D2: 301229926020844984 | E2: 302539000040644985,375 | F2: 302013137480844985,2708333333 | G2: 302011264100444985,5625 | H2: 302573039000644985 | I2: 302470000080044985,4791666667 | J2: 302017002612644984,375 | K2: 302595010550044985,25 | L2: 302108117678844985,5208333333 | M2: 302573084000644985 | N2: 302011697050644984,4583333333 | O2: 302482013479744985,25 | P2: 302482013479744984,25 | Q2: 302109590600544985,5833333333 | R2: 301229909197044985 | S2: 302017011622344985,3131944444 | T2: 302565004003644985,2916666667 | U2: 302573059000044985 | V2: 302017011622344985,2916666667 | W2: 302573025000344985 | X2: 302109300139944985 | Y2: 302575000000044985,25 | Z2: 405291500014544985,40625 | AA2: 302108117509544985,3541666667 | AB2: 302215000010244985,25 | AC2: 302073000015444984,5416666667 | AD2: 301229935049744985,375 | AE2: 302051070000644985 | AF2: 302568002300044985 | AG2: 302573021000744985 | AH2: 301229934253944985 | AI2: 302017035612444981,5625 | AJ2: 302017015612044985,4583333333 | AK2: 302482020034844985,4215277778 | AL2: 302482013703344985,4013888889 | AM2: 302482013238044985,25 | AN2: 302576030000644985 | AO2: 302482011883444985,3368055556 | AP2: 302482011878044985,2916666667 | AQ2: 302482011878044985,3333333333 | AR2: 302050000030744985,2916666667 | AS2: 302482013703344985,25 | AT2: 302017015612044985,4618055556 | AU2: 302017035612444985,4583333333 | AV2: 302470000080044984,4791666667 | AW2: 302017010622444985,4583333333 | AX2: 302108114288244985,5 | AY2: 302573038000744985 | AZ2: 302108117678844985,3333333333 | BA2: 302573061000544985 | BB2: 302108114288244985,5208333333 | BC2: 302108113694244985,4166666667 | BD2: 301229940315544984,4166666667 | BE2: 302108117509544985,375 | BF2: 301229940370444984 | BG2: 302573053000644985 | BH2: 302542003210044985 | BI2: 302573105118044984 | BJ2: 302573033000244984 | BK2: 301229909480344984 | BL2: 301229940209744984 | BM2: 301229934357444984 | BN2: 301229942291044984 | BO2: 301229934993444984 | BP2: 301229935048044984,3125 | BQ2: 302139000014944984,3333333333 | BR2: 301229934293544984 | BS2: 301229909492644984 | BT2: 301229935517144984 | BU2: 301229933690344984 | BV2: 301229940361244984 | BW2: 301229929119644985 | BX2: 301229930157444985 | BY2: 302017032500744984 | BZ2: 302573035000044984 | CA2: 302573071000244984 | CB2: 405291500002244984,4375 | CC2: 405291500011444984,3541666667 | CD2: 405291500004644984,4375 | CE2: 405291500015244984,4166666667 | CF2: 405291500024444984,4166666667 | CG2: 302564036000744984 | CH2: 302550005019244984 | CI2: 302550005019244984,25 | CJ2: 302573010000144984 | CK2: 301229934034444984 | CL2: 301229924596044984 | CM2: 302573081000944985 | CN2: 302109590300444984,4791666667 | CO2: 302482013485844984,2291666667 | CP2: 302573042000044984 | CQ2: 302569000032844984,25 | CR2: 302013137410544981,375 | CS2: 302573070000344984 | CT2: 302550006047444984 | CU2: 302564071000044984 | CV2: 302013583920444984,2708333333 | CW2: 302013588330644984,3333333333 | CX2: 302013137410544984,375 | CY2: 302013137410544984,4375 | CZ2: 302109590600544984,2916666667 | DA2: 302109300139944984 | DB2: 302108117678844984,5416666667 | DC2: 302482013477344984,4583333333 | DD2: 302108000020044984,5416666667 | DE2: 302017025612744980,2083333333 | DF2: 302017002612644980,375 | DG2: 302011683900144981,2916666667 | DH2: 302108114288244984,5208333333 | DI2: 302108117678844984,3333333333 | DJ2: 302109699970044984,5416666667 | DK2: 302011251100044984,3333333333 | DL2: 302108117509544984,375 | DM2: 302011131030744981,5208333333 | DN2: 302482011883444984,3895833333 | DO2: 302108114288244984,5 | DP2: 302573076000744981 | DQ2: 301229908791144985 | DR2: 302573017000444984 | DS2: 302573087000344981 | DT2: 302576020000944984 | DU2: 302573044000844984 | DV2: 302539000170044985,5416666667 | DW2: 302573037000844984 | DX2: 302573007000744984 | DY2: 302573041000144984 | DZ2: 302573043000944984 | EA2: 302564042000844984 | EB2: 302573012000944984 | EC2: 302573024000444984 | ED2: 302573005000944981 | EE2: 302573054000544984 | EF2: 301229935435844984 | EG2: 302576018000444984 | EH2: 302573040000244984 | EI2: 302013137480844980,2708333333 | EJ2: 302573045000744984 | EK2: 302576944000044981 | EL2: 302576064000344981 | EM2: 301229924207544981 | EN2: 302129000120844981,4583333333 | EO2: 405291500008444981,4166666667 | EP2: 405291500022044981,4166666667 | EQ2: 302011131030744981,625 | ER2: 302011131030744981,6666666667 | ES2: 301229935405144981 | ET2: 302573007000744981 | EU2: 302573107000644981 | EV2: 302482011883444980,3694444444 | EW2: 302573014000744981 | EX2: 302573028000044981 | EY2: 302018023247044981,5 | EZ2: 302108000140044981,3125 | FA2: 302108116199944981,5 | FB2: 302108114288244981,5 | FC2: 302108000110044981,5833333333 | FD2: 302108112398044981,375 | FE2: 302108117678844980,3125 | FF2: 302108114288244981,5208333333 | FG2: 302108117509544981,375 | FH2: 302108116681944981,4166666667 | FI2: 302129000010244981,5416666667 | FJ2: 302017007622044981,4583333333 | FK2: 302017025611044981,3333333333 | FL2: 302017007622044981,5833333333 | FM2: 302139000017044981,375 | FN2: 302574085000244984,4583333333 | FO2: 302470000080044980,4791666667 | FP2: 302109300139944981 | FQ2: 302017015612044981,5416666667 | FR2: 302017015612044981,5625 | FS2: 302011823100144980,5729166667 | FT2: 545053400237044980 | FU2: 302482013703344981,25 | FV2: 302573030000544981 | FW2: 302482013477344981,375 | FX2: 302482011878044981,25 | FY2: 302573018000344981 | FZ2: 302550006066544981 | GA2: 302550006029044981 | GB2: 302573086000444981 | GC2: 302574000110744985 | GD2: 302573023000544981 | GE2: 302033980690044981 | GF2: 302573083000744981 | GG2: 302482011911444981,4340277778 | GH2: 302109699970044981,5833333333 | GI2: 302482011883444981,3743055556 | GJ2: 302482013337044980,4631944444 | GK2: 545053400857044980 | GL2: 302576062000544981 | GM2: 302564092000344980 | GN2: 302573036000944980 | GO2: 301229942242244980 | GP2: 301229934540044980 | GQ2: 302550006020744980 | GR2: 301229935046644980 | GS2: 302564014000544980 | GT2: 302564238000344980 | GU2: 301229933742944980 | GV2: 302564073000844980 | GW2: 405291500017644980,4375 | GX2: 405291500019044980,46875 | GY2: 405291500010744980,4375 | GZ2: 302573065000144980 | HA2: 302557002300344980,4166666667 | HB2: 302139000017044980,4583333333 | HC2: 302573000010344979,375 | HD2: 545053400100744980 | HE2: 545053400196044980 | HF2: 370023950025444984,3333333333 | HG2: 370023950025444980,3333333333 | HH2: 302576038000844980,2916666667 | HI2: 302108113694244980,375 | HJ2: 302109590600544980,5833333333 | HK2: 301229941882144984 | HL2: 301229925995044979 | HM2: 302073000015444979,5416666667 | HN2: 301229923077544980 | HO2: 302573013000844981 | HP2: 302017011711444980,6041666667 | HQ2: 302108117678844984,5 | HR2: 302564020000644979 | HS2: 302564049000144980 | HT2: 302571612000944979,4166666667 | HU2: 302017010612544980,2916666667 | HV2: 302108117678844980,4375 | HW2: 302108117678844981,4791666667 | HX2: 302109300139944980 | HY2: 302470000080044979,4791666667 | HZ2: 302573027000144980 | IA2: 302482011904644980,4868055556 | IB2: 302482011774544980,4701388889 | IC2: 302482011900844980,3784722222 | ID2: 302482013172744980,4645833333 | IE2: 302482011920644980,3881944444 | IF2: 302108114288244980,5 | IG2: 302108117509544981,3541666667 | IH2: 302539000040644978,375 | II2: 302573059000044980 | IJ2: 302108117158544980,375 | IK2: 302018022309644980,4583333333 | IL2: 302047612287444980,4583333333 | IM2: 302108110900744980,5 | IN2: 302108117679544981,4166666667 | IO2: 302108117809644981,4166666667 | IP2: 302018026564544980,375 | IQ2: 301229933988144980 | IR2: 302565000230044980,25 | IS2: 302564276000344980 | IT2: 302564036000744980 | IU2: 302576005000044980 | IV2: 302565000220144980,25 | IW2: 302573029000944980 | IX2: 302013137480844978,2708333333 | IY2: 301229927429844980 | IZ2: 302573055000444980 | JA2: 302573073000044981 | JB2: 302542009868744979 | JC2: 302017002612644973,375 | JD2: 301229909231144981 | JE2: 301229909654844980 | JF2: 405291500007744979,4375 | JG2: 301229906678744980 | JH2: 405291500011444979,3333333333 | JI2: 301229935064044979 | JJ2: 302575000000044979,34375 | JK2: 405291500012144979,4375 | JL2: 405291500021344979,4375 | JM2: 405291500009144979,5 | JN2: 405291500025144979,4375 | JO2: 302215000010244979,3541666667 | JP2: 302215000010244979,25 | JQ2: 405291500024444979,3541666667 | JR2: 405291500016944979,3541666667 | JS2: 301229932637944981 | JT2: 302576244000744979 | JU2: 302576205000844979 | JV2: 301229935418144980 | JW2: 302573020000844979 | JX2: 301229934357444979 | JY2: 302574000280744979 | JZ2: 302572000200144978,3333333333 | KA2: 302573008000644979 | KB2: 301229928150044980 | KC2: 302550006036844979 | KD2: 302573017000444979 | KE2: 302573096000144981 | KF2: 302482013238044979,4118055556 | KG2: 302482011872844979,3972222222 | KH2: 302482013703344981,4291666667 | KI2: 302482020034844979,3840277778 | KJ2: 302017025611044979,25 | KK2: 302576009000644979 | KL2: 302482015491744979,4479166667 | KM2: 302109300139944979 | KN2: 302573066000044979 | KO2: 302482011878044979,3333333333 | KP2: 302557000670944979,4166666667 | KQ2: 302595010010044980,28125 | KR2: 302108117509544979,375 | KS2: 302011251100044979 | KT2: 301229940397144979 | KU2: 302108103800044979,4583333333 | KV2: 302482011878044979,25 | KW2: 302482013703344979,25 | KX2: 302108117678844979,4166666667 | KY2: 302013583920444978,3541666667 | KZ2: 302109699970044979,5833333333 | LA2: 302017010612544980,25 | LB2: 302017025612744980,2118055556 | LC2: 302017007622044981,4618055556 | LD2: 302482011878044978,2916666667 | LE2: 302573011000044979 | LF2: 302573047000544979 | LG2: 302470000080044978,4791666667 | LH2: 302557000034944979,25 | LI2: 302557000033244979,2916666667 | LJ2: 301229928664244979 | LK2: 301229935049744979,375 | LL2: 302017002612644977,375 | LM2: 302573091001344979 | LN2: 301229906493644978,3333333333 | LO2: 301229934346844978,3333333333 | LP2: 301229906496744978,3333333333 | LQ2: 302011697050644977,4583333333 | LR2: 302576054000644979 | LS2: 302595010550044978,25 | LT2: 301229911701444978 | LU2: 301229926020844978,3958333333 | LV2: 302139000017044978,6666666667 | LW2: 302017011622344978,2916666667 | LX2: 301229932637944978 | LY2: 301229925766644980 | LZ2: 301229940209744978 | MA2: 301229929390944978,3333333333 | MB2: 301229933820444978 | MC2: 302573015000644978 | MD2: 302576018000444978 | ME2: 301229923639544978 | MF2: 302573070000344978 | MG2: 302108113694244978,4166666667 | MH2: 302564028000844978 | MI2: 302108117678844978,5 | MJ2: 302073000015444977,5416666667 | MK2: 302557003100844977,375 | ML2: 302571613000844978,6354166667 | MM2: 405291500014544978,4375 | MN2: 405291500003944978,4270833333 | MO2: 302051000045844977,5833333333 | MP2: 302108117678844981,4166666667 | MQ2: 302108117678844985,4166666667 | MR2: 302108117678844984,4166666667 | MS2: 302108114288244985,4583333333 | MT2: 302108114288244981,4583333333 | MU2: 302108114288244984,4583333333 | MV2: 302017011711444978,4791666667 | MW2: 302017010622444978,4583333333 | MX2: 302568000500044978 | MY2: 302108117509544980,375 | MZ2: 302108117678844980,4166666667 | NA2: 302108117509544979,3541666667 | NB2: 302108117678844979,3333333333 | NC2: 302108114288244978,4375 | ND2: 302573045000744978 | NE2: 302017010612544979,25 | NF2: 302108114288244979,4583333333 | NG2: 302108114288244980,4583333333 | NH2: 302564096000944978 | NI2: 302017035612444974,5625 | NJ2: 302017015612044978,4583333333 | NK2: 302470000080044977,4791666667 | NL2: 302573061000544978 | NM2: 302050000030744978,2916666667 | NN2: 301229935044244978 | NO2: 302050000030744980,2916666667 | NP2: 302013588330644977,3333333333 | NQ2: 302572000700644977,375 | NR2: 301229910547944978,3958333333 | NS2: 302573100000344978 | NT2: 302573028000044978 | NU2: 301229934993444978 | NV2: 302109300139944977 | NW2: 302482013238044978,25 | NX2: 302482014960944978,4756944444 | NY2: 302109699970044978,5416666667 | NZ2: 302108117509544978,375 | OA2: 302011131030744977,5833333333 | OB2: 302108117678844978,3333333333 | OC2: 302108117678844978,4166666667 | OD2: 302108114288244978,5 | OE2: 302573009000544978 | OF2: 302482011883444978,3333333333 | OG2: 302482011878044979,2694444444 | OH2: 302482013703344978,3020833333 | OI2: 302013583920444978,3125 | OJ2: 302573039000644978 | OK2: 302604002133844978,3125 | OL2: 302568002300044978 | OM2: 302573093000444978 | ON2: 302573025000344977 | OO2: 301229940448044977 | OP2: 301229934357444977 | OQ2: 302573089000144981 | OR2: 302047480000044978 | OS2: 405291500010744977,4166666667 | OT2: 405291500022044977,375 | OU2: 302550005019244977,25 | OV2: 302572000700644977,6041666667 | OW2: 302050000010944977,5 | OX2: 302550005019244977 | OY2: 302109590600544977,2916666667 | OZ2: 302109591700144977,3333333333 | PA2: 302573042000044977 | PB2: 302573081000944974 | PC2: 302482013479744974,25 | PD2: 301229933963844977 | PE2: 302564000610344974,4375 | PF2: 302574081000644974,2708333333 | PG2: 302564000610344974,3958333333 | PH2: 302011131030744980,5833333333 | PI2: 302011683900144979,2916666667 | PJ2: 302011251100044979,2708333333 | PK2: 302011823100144979,625 | PL2: 302011357800244979,25 | PM2: 302011131030744978,5833333333 | PN2: 302011357800244980,4583333333 | PO2: 302011357800244978,4166666667 | PP2: 302011131030744979,5833333333 | PQ2: 301229928664244974 | PR2: 302569000032844977,25 | PS2: 302573007000744977 | PT2: 302564071000044977 | PU2: 302013137410544977,3958333333 | PV2: 302573080000044974 | PW2: 302017025612744973,2083333333 | PX2: 302573017000444977 | PY2: 302482013066944977,4326388889 | PZ2: 302482013461244977 | QA2: 302539000170044978,4826388889 | QB2: 302033980070044977 | QC2: 302109699970044974,5416666667 | QD2: 302109699970044974,3333333333 | QE2: 302011683900144978,2916666667 | QF2: 302011823100144978,5833333333 | QG2: 302573070000344977 | QH2: 302568003100044977 | QI2: 302108114288244977,5208333333 | QJ2: 302573041000144977 | QK2: 301229933261544977 | QL2: 302573037000844977 | QM2: 302108102760844977,4166666667 | QN2: 302018024874744977,3958333333 | QO2: 302108114288244977,4583333333 | QP2: 301229934435944977 | QQ2: 302108117509544977,4166666667 | QR2: 302108117678844977,4166666667 | QS2: 302108117678844977,3333333333 | QT2: 302108117509544977,375 | QU2: 302108114288244977,5 | QV2: 302017010612544985,2916666667 | QW2: 302017002612644985,375 | QX2: 302017015612044978,4618055556 | QY2: 302017002612644979,375 | QZ2: 302017035612444978,5625 | RA2: 301229933810544980 | RB2: 302573024000444977 | RC2: 302573035000044977 | RD2: 302573033000244977 | RE2: 302576010000244977 | RF2: 302573020000844977 | RG2: 302573010000144977 | RH2: 302573000200844977 | RI2: 302573077000644977 | RJ2: 302573046000644977 | RK2: 302573097000044977 | RL2: 302576024000544977 | RM2: 302573005000944977 | RN2: 302573012000944977 | RO2: 302013137480844973,2708333333 | RP2: 302470000890544978 | RQ2: 302573031000444978 | RR2: 301229934503544974 | RS2: 301229930157444974 | RT2: 301229927625444974 | RU2: 302573004000044974 | RV2: 302017025611044974,375 | RW2: 301229931671444974 | RX2: 302017023500944977 | RY2: 302573025000344974 | RZ2: 302573001000344974 | SA2: 302539145410944977,4166666667 | SB2: 302550005019244981,3333333333 | SC2: 302573005000944974 | SD2: 302564023000344974 | SE2: 302073000012244974,4166666667 | SF2: 302018023247044974,5416666667 | SG2: 302109699970044972,5416666667 | SH2: 302109590600544974,2916666667 | SI2: 405291500020644974,2916666667 | SJ2: 302017011711444974,5833333333 | SK2: 302017015612044974,5416666667 | SL2: 302017007622044974,5833333333 | SM2: 302017007622044974,4583333333 | SN2: 302017010612544973,2916666667 | SO2: 405291500026844974,34375 | SP2: 405291500014544974,375 | SQ2: 301229920560544974 | SR2: 302576052000844974,375 | SS2: 301229911846244974 | ST2: 301229935070144977 | SU2: 301229935075644977 | SV2: 302108000140044974,375 | SW2: 302109202000144977 | SX2: 302129000010244974,4583333333 | SY2: 302129000120844974,4583333333 | SZ2: 302482013703344974,25 | TA2: 302482013238044974,2916666667 | TB2: 302482011883444974,3333333333 | TC2: 301229917553344974 | TD2: 545053400237044973 | TE2: 545053400100744973 | TF2: 302564000650944974,4166666667 | TG2: 302573043000944973 | TH2: 302139014950344977 | TI2: 302573021000744974 | TJ2: 301229930159844974 | TK2: 302573089000144974 | TL2: 302564076000544974 | TM2: 302108117678844974,5208333333 | TN2: 302470000080044973,4791666667 | TO2: 302564059000844974 | TP2: 302108117678844974,4375 | TQ2: 302108117509544974,4166666667 | TR2: 302108114288244974,4583333333 | TS2: 302108114288244974,5 | TT2: 302573054000544974 | TU2: 302569000032844974,4791666667 | TV2: 301229911531744974 | TW2: 302573043000944974 | TX2: 302482011878044974,25 | TY2: 302573031000444974 | TZ2: 302573016000544974 | UA2: 302482011878044977,25 | UB2: 302109300139944973 | UC2: 301229909238044974 | UD2: 302574002000944974,4583333333 | UE2: 302573031000444973 | UF2: 302576008010644974,5416666667 | UG2: 301229911524944974 | UH2: 302051038000044980 | UI2: 302550006020744973 | UJ2: 302573029000944973 | UK2: 301229906678744973 | UL2: 301229906678744972 | UM2: 301229935418144974 | UN2: 302073000012344974,2916666667 | UO2: 302017011622344973,2916666667 | UP2: 302139000017044974,5416666667 | UQ2: 301229934537044973 | UR2: 302573003000144973 | US2: 301229934356744973 | UT2: 301229933689744973 | UU2: 302564176000444973 | UV2: 302017025612744973,2118055556 | UW2: 302573028000044973 | UX2: 302576018000444973 | UY2: 302011683900144973,5416666667 | UZ2: 302109590600544973,375 | VA2: 302108114288244973,25 | VB2: 302109699970044973 | VC2: 370023950025444973,3333333333 | VD2: 302011264100444972,5833333333 | VE2: 302073000015444972,25 | VF2: 302573006000844973 | VG2: 301229927216444973,3541666667 | VH2: 302573022000644973 | VI2: 302482011883444972,4368055556 | VJ2: 302575000000044981,25 | VK2: 302108117679544974,375 | VL2: 302018022309644973,6041666667 | VM2: 302018026564544973,375 | VN2: 302108117433344974,6041666667 | VO2: 302108117678844973,3125 | VP2: 302108112398044974,4375 | VQ2: 405291500006044973,3541666667 | VR2: 405291500009144973,5 | VS2: 302108116199944973,4583333333 | VT2: 405291500016944973,4791666667 | VU2: 302571612000944972,4166666667 | VV2: 302564244000444973 | VW2: 302564049000144974 | VX2: 302482011874244980 | VY2: 302557002300344973,4166666667 | VZ2: 302109300020044973 | WA2: 301229925995044972 | WB2: 302470000080044972,4791666667 | WC2: 302573027000144973 | WD2: 302564082000644973 | WE2: 302604002133844973,3125 | WF2: 301229940180944973,3333333333 | WG2: 302073027800244973 | WH2: 302108032350344972 | WI2: 302565000230044973,25 | WJ2: 302565000220144973,25 | WK2: 302152050904744973 | WL2: 302550006120444973 | WM2: 302051000045844973,625 | WN2: 302576005000044973 | WO2: 302564214000344974 | WP2: 302564253000244974 | WQ2: 302017025611044972,25 | WR2: 302565004003644974,4166666667 | WS2: 302571613000844974,3333333333 | WT2: 302013137410544974,3958333333 | WU2: 302013583920444974,3333333333 | WV2: 301229933726944977 | WW2: 301229933725244977 | WX2: 301229934575244977 | WY2: 301229933723844977 | WZ2: 301229933724544977 | XA2: 301229933722144977 | XB2: 301229933720744977 | XC2: 301229933721444977 | XD2: 301229933769644977 | XE2: 301229933719144977 | XF2: 301229933718444977 | XG2: 301229934577644977 | XH2: 301229934576944977 | XI2: 301229933717744977 | XJ2: 302013588330644972,3333333333 | XK2: 301229933716044977 | XL2: 301229933603344977 | XM2: 302557000680844973,375 | XN2: 302215000010244973,25 | XO2: 302576207000644972 | XP2: 301229935271244972 | XQ2: 301229942025144972 | XR2: 302482013703344984,375 | XS2: 302482014960944984,375 | XT2: 302482013238044984,375 | XU2: 302482011883444984,375 | XV2: 302482011872844984,375 | XW2: 302482011878044984,375 | XX2: 302482011877344984,375 | XY2: 302573015000644972 | XZ2: 301229928312244972 | YA2: 302576001000444972,2916666667 | YB2: 301229934357444972 | YC2: 302573101000244972 | YD2: 302073089200044972 | YE2: 302573060000644972,3541666667 | YF2: 302557000670944972,4166666667 | YG2: 302557000034944972,25 | YH2: 302573008000644972 | YI2: 302573010000144972 | YJ2: 301229934538744972 | YK2: 405291500024444972,4166666667 | YL2: 405291500021344972,3541666667 | YM2: 405291500013844972,4166666667 | YN2: 302573083000744972 | YO2: 302573039000644972 | YP2: 301229930157444972 | YQ2: 302573100000344972 | YR2: 302564071000044972 | YS2: 302573071000244972 | YT2: 302573080000044972 | YU2: 301229935064044972 | YV2: 302573011000044972 | YW2: 301229935063344972 | YX2: 302572017330044972 | YY2: 301229935049744972,375 | YZ2: 302573079000444972 | ZA2: 302109300139944972 | ZB2: 302573004000044972 | ZC2: 301229935066444972 | ZD2: 302573055000444972 | ZE2: 302109300240044972 | ZF2: 302108117679544972,375 | ZG2: 302108117433344972,4583333333 | ZH2: 302108117678844972,4166666667 | ZI2: 302550006036844972 | ZJ2: 302564301000844972 | ZK2: 302575000000044978,25 | ZL2: 302573059000044972 | ZM2: 302047523000044973 | ZN2: 302017010612544972,25 | ZO2: 302573033000244972 | ZP2: 302573005000944972 | ZQ2: 302564044000644972 | ZR2: 302573018000344972 | ZS2: 405291500015244972,4166666667 | ZT2: 405291500008444972,4166666667 | ZU2: 302482013238044972,3888888889 | ZV2: 302482014960944972,4402777778 | ZW2: 302482011872844972,375 | ZX2: 302482013703344972,4361111111 | ZY2: 302482011878044972,25 | ZZ2: 302482013703344972,25 | AAA2: 302482020034844972,4333333333 | AAB2: 302568000600044972 | AAC2: 302482013475944981,4722222222 | AAD2: 302575000000044974,25 | AAE2: 301229917553344973 | AAF2: 301229933447344973 | AAG2: 301229930156744973 | AAH2: 301229934345144973 | AAI2: 301229930149944973 | AAJ2: 405291500018344973 | AAK2: 301229940116844972 | AAL2: 302017015612044974 | AAM2: 302573073000044972 | AAN2: 302564014000544974 | AAO2: 301229940167044972 | AAP2: 302482012605144973 | AAQ2: 370023950032244973,0006944444 | AAR2: 302482013238044977,375 | AAS2: 302482011883444977,375 | AAT2: 302482011878044977,375 | AAU2: 302482013703344977,375 | AAV2: 301229933675044979 | AAW2: 302017007622044972,5833333333 | AAX2: 302017007622044974,625 | AAY2: 302017010622444977,4201388889 | AAZ2: 302017002612644972,375 | ABA2: 302013583920444973,3333333333 | ABB2: 302013588330644972,375 | ABC2: 302013583920444972,3333333333 | ABD2: 302013137410544972,375 | ABE2: 302470000080044974,4583333333 | ABF2: 302470000080044974,5 | ABG2: 302013137410544974,375 | ABH2: 302013137410544973,3958333333
B3: {=_xlfn._xlws.FILTER('Base commande'!$G:$G,'Base commande'!$B:$B='Segment par pivot'!B2)} -> 702261154 | C3: {=_xlfn._xlws.FILTER('Base commande'!$G:$G,'Base commande'!$B:$B='Segment par pivot'!C2)} -> 702269166_02 | D3: {=_xlfn._xlws.FILTER('Base commande'!$G:$G,'Base commande'!$B:$B='Segment par pivot'!D2)} -> 702270010_02 | E3: {=_xlfn._xlws.FILTER('Base commande'!$G:$G,'Base commande'!$B:$B='Segment par pivot'!E2)} -> 702269802 | F3: {=_xlfn._xlws.FILTER('Base commande'!$G:$G,'Base commande'!$B:$B='Segment par pivot'!F2)} -> 702269598 | G3: {=_xlfn._xlws.FILTER('Base commande'!$G:$G,'Base commande'!$B:$B='Segment par pivot'!G2)} -> 702269294 | H3: {=_xlfn._xlws.FILTER('Base commande'!$G:$G,'Base commande'!$B:$B='Segment par pivot'!H2)} -> 702269094 | I3: {=_xlfn._xlws.FILTER('Base commande'!$G:$G,'Base commande'!$B:$B='Segment par pivot'!I2)} -> 702269092_02 | ... ABH3: {=_xlfn._xlws.FILTER('Base commande'!$G:$G,'Base commande'!$B:$B='Segment par pivot'!ABH2)} -> 702259085
C4: 702269166_01 | D4: 702270010_01 | F4: 702269600 | G4: 702269290 | I4: 702269092_01 | N4: 702269010_01 | O4: 702269007_01 | P4: 702269005_01 | Y4: 702268729 | AC4: 702268662_01 | AI4: 702268528 | AJ4: 702268539_02 | AO4: 702268531_01 | AR4: 702268527_01 | BC4: 702268397 | BJ4: 702268177 | BQ4: 702268171_01 | CA4: 702267779 | CG4: 702267431 | CH4: 702268043 | CI4: 702268055_01 | CO4: 702268040_01 | CP4: 702267903 | CQ4: 702267901_01 | CU4: 702267781 | CW4: 702267866 | CY4: 702267867 | DA4: 702265148 | DF4: 702266634 | EI4: 702267625 | EN4: 702267372 | EV4: 702266731_02 | EY4: 702267304 | EZ4: 702267309 | FA4: 702267302 | FC4: 702267292 | FD4: 702267293 | FH4: 702267295 | FO4: 702267262_01 | FQ4: 702267246 | FT4: 702266959_02 | GB4: 702267178 | GK4: 702266996 | HI4: 702266913 | HL4: 702266901 | HT4: 702266749_01 | HU4: 702266744 | IG4: 702266653_01 | IJ4: 702266645 | IK4: 702266642 | IL4: 702266640 | IM4: 702266639 | IN4: 702266637 | IO4: 702266638 | IP4: 702266635 | IR4: 702266546_01 | IX4: 702266522_01 | JC4: 702264791 | JZ4: 702266241_01 | KJ4: 702266119 | KU4: 702266111 | KZ4: 702266103 | LB4: 702266102 | LD4: 702265386_02 | LG4: 702266040_01 | LQ4: 702265950_01 | LS4: 702264765 | LU4: 702265760_01 | LW4: 702265662 | MG4: 702265495 | MI4: 702265424 | MJ4: 702265654_02 | MO4: 702265595 | NE4: 702265502 | NI4: 702265493 | NJ4: 702265497_01 | NM4: 702265492_01 | NN4: 702265341 | NR4: 702265418 | NV4: 702264962 | OK4: 702265155 | OU4: 702265078_01 | OX4: 702265077 | OY4: 702265072 | PA4: 702264970 | PE4: 702264967_01 | PF4: 702264964_02 | PG4: 702264966_01 | PJ4: 702264957_01 | PR4: 702264878_01 | PS4: 702264804 | PT4: 702264797 | PU4: 702264860 | PW4: 702264865_02 | QA4: 702264867 | QB4: 702264606 | QM4: 702264794 | QN4: 702264793 | QZ4: 702264758 | RD4: 702264657 | RO4: 702264641 | SF4: 702264306 | SG4: 702263032 | SK4: 702264291 | SN4: 702263721 | SV4: 702264264 | SY4: 702264203 | TB4: 702264258_01 | TF4: 702264224 | TG4: 702263770 | TN4: 702264226_01 | UK4: 702263954_01 | UP4: 702263939 | UR4: 702263938 | UV4: 702261233 | VC4: 702263864_01 | VD4: 702263862 | VE4: 702263798_01 | VL4: 702263715 | VM4: 702263712 | VN4: 702263717 | VP4: 702263710 | VS4: 702263711 | VU4: 702263646_01 | WA4: 702263582 | WE4: 702263522 | WG4: 702260539 | WI4: 702263504_01 | WM4: 702263496 | WV4: 702263452 | WW4: 702263447 | WX4: 702263449 | WY4: 702263444 | WZ4: 702263446 | XA4: 702263441 | XB4: 702263437 | XC4: 702263440 | XD4: 702263435 | XE4: 702263433 | XF4: 702263431 | XG4: 702263429 | XH4: 702263427 | XI4: 702263425 | XK4: 702263423 | XL4: 702263421 | XR4: 702263272 | XT4: 702263269 | XU4: 702263261 | XW4: 702263262 | YT4: 702262919 | ZF4: 702263028 | ZN4: 702262987 | AAY4: 702261232
D5: 702269996 | AR5: 702268523 | BJ5: 702268175 | CG5: 702267195 | CH5: 702268042 | CO5: 702267847 | EV5: 702266731_01 | FQ5: 702267259 | FT5: 702266959_01 | IX5: 702266521 | JC5: 702263526 | KJ5: 702266108 | LD5: 702265386_01 | LS5: 702264755 | MG5: 702265494 | MJ5: 702265654_01 | NE5: 702265499 | NM5: 702265484 | NR5: 702265411 | NV5: 702264871 | PF5: 702264964_01 | PW5: 702264865_01 | SK5: 702264290 | SN5: 702263704 | TF5: 702264215 | XR5: 702263263 | XT5: 702263265 | ZN5: 702262986
D6: 702268028 | AR6: 702268525 | NV6: 702264870 | PF6: 702264963 | SK6: 702261238
AR7: 702268479

Sheet Feuil3
A2: 1 | B2: 302018022309644974 | C2: 702261154
A3: 2 | B3: 302572000200144985,3333333333 | C3: 702269166_02 | D3: 702269166_01
A4: 4 | B4: 301229926020844984 | C4: 702270010_02 | D4: 702270010_01 | E4: 702269996 | F4: 702268028
A5: 1 | B5: 302539000040644985,375 | C5: 702269802
A6: 2 | B6: 302013137480844985,2708333333 | C6: 702269598 | D6: 702269600
A7: 2 | B7: 302011264100444985,5625 | C7: 702269294 | D7: 702269290
A8: 1 | B8: 302573039000644985 | C8: 702269094
A9: 2 | B9: 302470000080044985,4791666667 | C9: 702269092_02 | D9: 702269092_01
A10: 1 | B10: 302017002612644984,375 | C10: 702269091
A11: 1 | B11: 302595010550044985,25 | C11: 702269089
A12: 1 | B12: 302108117678844985,5208333333 | C12: 702269074
A13: 1 | B13: 302573084000644985 | C13: 702269019
A14: 2 | B14: 302011697050644984,4583333333 | C14: 702269010_02 | D14: 702269010_01
A15: 2 | B15: 302482013479744985,25 | C15: 702269007_02 | D15: 702269007_01
A16: 2 | B16: 302482013479744984,25 | C16: 702269005_02 | D16: 702269005_01
A17: 1 | B17: 302109590600544985,5833333333 | C17: 702268997
A18: 1 | B18: 301229909197044985 | C18: 702268742
A19: 1 | B19: 302017011622344985,3131944444 | C19: 702268737
A20: 1 | B20: 302565004003644985,2916666667 | C20: 702268736
A21: 1 | B21: 302573059000044985 | C21: 702268739
A22: 1 | B22: 302017011622344985,2916666667 | C22: 702268738
A23: 1 | B23: 302573025000344985 | C23: 702268733
A24: 1 | B24: 302109300139944985 | C24: 702268731
A25: 2 | B25: 302575000000044985,25 | C25: 702268730 | D25: 702268729
A26: 1 | B26: 405291500014544985,40625 | C26: 702268728
A27: 1 | B27: 302108117509544985,3541666667 | C27: 702268725
A28: 1 | B28: 302215000010244985,25 | C28: 702268675
A29: 2 | B29: 302073000015444984,5416666667 | C29: 702268662_02 | D29: 702268662_01
A30: 1 | B30: 301229935049744985,375 | C30: 702268663
A31: 1 | B31: 302051070000644985 | C31: 702268583
A32: 1 | B32: 302568002300044985 | C32: 702268581
A33: 1 | B33: 302573021000744985 | C33: 702268580
A34: 1 | B34: 301229934253944985 | C34: 702268542
A35: 2 | B35: 302017035612444981,5625 | C35: 702268543 | D35: 702268528
A36: 2 | B36: 302017015612044985,4583333333 | C36: 702268539_01 | D36: 702268539_02
A37: 1 | B37: 302482020034844985,4215277778 | C37: 702268537
A38: 1 | B38: 302482013703344985,4013888889 | C38: 702268536
A39: 1 | B39: 302482013238044985,25 | C39: 702268534
A40: 1 | B40: 302576030000644985 | C40: 702268535
A41: 2 | B41: 302482011883444985,3368055556 | C41: 702268531_02 | D41: 702268531_01
A42: 1 | B42: 302482011878044985,2916666667 | C42: 702268530
A43: 1 | B43: 302482011878044985,3333333333 | C43: 702268529
A44: 5 | B44: 302050000030744985,2916666667 | C44: 702268527_02 | D44: 702268527_01 | E44: 702268523 | F44: 702268525 | G44: 702268479
A45: 1 | B45: 302482013703344985,25 | C45: 702268532
A46: 1 | B46: 302017015612044985,4618055556 | C46: 702268521
A47: 1 | B47: 302017035612444985,4583333333 | C47: 702268520
A48: 1 | B48: 302470000080044984,4791666667 | C48: 702268487
A49: 1 | B49: 302017010622444985,4583333333 | C49: 702268478
A50: 1 | B50: 302108114288244985,5 | C50: 702268473
A51: 1 | B51: 302573038000744985 | C51: 702268486
A52: 1 | B52: 302108117678844985,3333333333 | C52: 702268476
A53: 1 | B53: 302573061000544985 | C53: 702268402
A54: 1 | B54: 302108114288244985,5208333333 | C54: 702268401
A55: 2 | B55: 302108113694244985,4166666667 | C55: 702268399 | D55: 702268397
A56: 1 | B56: 301229940315544984,4166666667 | C56: 702268395
A57: 1 | B57: 302108117509544985,375 | C57: 702268393
A58: 1 | B58: 301229940370444984 | C58: 702268394
A59: 1 | B59: 302573053000644985 | C59: 702268357
A60: 1 | B60: 302542003210044985 | C60: 702268358
A61: 1 | B61: 302573105118044984 | C61: 702268182
A62: 3 | B62: 302573033000244984 | C62: 702268183 | D62: 702268177 | E62: 702268175
A63: 1 | B63: 301229909480344984 | C63: 702268181
A64: 1 | B64: 301229940209744984 | C64: 702268179
A65: 1 | B65: 301229934357444984 | C65: 702268178
A66: 1 | B66: 301229942291044984 | C66: 702268176
A67: 1 | B67: 301229934993444984 | C67: 702268174
A68: 1 | B68: 301229935048044984,3125 | C68: 702268173
A69: 2 | B69: 302139000014944984,3333333333 | C69: 702268171_02 | D69: 702268171_01
A70: 1 | B70: 301229934293544984 | C70: 702268172
A71: 1 | B71: 301229909492644984 | C71: 702268168
A72: 1 | B72: 301229935517144984 | C72: 702268169
A73: 1 | B73: 301229933690344984 | C73: 702268167
A74: 1 | B74: 301229940361244984 | C74: 702268166
A75: 1 | B75: 301229929119644985 | C75: 702268164
A76: 1 | B76: 301229930157444985 | C76: 702268163
A77: 1 | B77: 302017032500744984 | C77: 702268161
A78: 1 | B78: 302573035000044984 | C78: 702268165
A79: 2 | B79: 302573071000244984 | C79: 702268160 | D79: 702267779
A80: 1 | B80: 405291500002244984,4375 | C80: 702268159
A81: 1 | B81: 405291500011444984,3541666667 | C81: 702268158
A82: 1 | B82: 405291500004644984,4375 | C82: 702268157
A83: 1 | B83: 405291500015244984,4166666667 | C83: 702268156
A84: 1 | B84: 405291500024444984,4166666667 | C84: 702268155
A85: 3 | B85: 302564036000744984 | C85: 702268154 | D85: 702267431 | E85: 702267195
A86: 3 | B86: 302550005019244984 | C86: 702268055_03 | D86: 702268043 | E86: 702268042
A87: 2 | B87: 302550005019244984,25 | C87: 702268055_02 | D87: 702268055_01
A88: 1 | B88: 302573010000144984 | C88: 702268059
A89: 1 | B89: 301229934034444984 | C89: 702268058
A90: 1 | B90: 301229924596044984 | C90: 702268057
A91: 1 | B91: 302573081000944985 | C91: 702268056
A92: 1 | B92: 302109590300444984,4791666667 | C92: 702268041
A93: 3 | B93: 302482013485844984,2291666667 | C93: 702268040_02 | D93: 702268040_01 | E93: 702267847
A94: 2 | B94: 302573042000044984 | C94: 702267905 | D94: 702267903
A95: 2 | B95: 302569000032844984,25 | C95: 702267901_02 | D95: 702267901_01
A96: 1 | B96: 302013137410544981,375 | C96: 702267906
A97: 1 | B97: 302573070000344984 | C97: 702267875
A98: 1 | B98: 302550006047444984 | C98: 702267874
A99: 2 | B99: 302564071000044984 | C99: 702267873 | D99: 702267781
A100: 1 | B100: 302013583920444984,2708333333 | C100: 702267869
A101: 2 | B101: 302013588330644984,3333333333 | C101: 702267868 | D101: 702267866
...

Sheet Correspondance
A1: Segment | B1: Rattaché à
A2: 702269166_02 | B2: =VLOOKUP(A2,'Base commande'!$G:$O,9,0) -> 0
A3: 702270010_02 | B3: =VLOOKUP(A3,'Base commande'!$G:$O,9,0) -> 0
A4: 702269598 | B4: =VLOOKUP(A4,'Base commande'!$G:$O,9,0) -> 0
A5: 702269294 | B5: =VLOOKUP(A5,'Base commande'!$G:$O,9,0) -> S230259896
A6: 702269092_02 | B6: =VLOOKUP(A6,'Base commande'!$G:$O,9,0) -> 0
A7: 702269010_02 | B7: =VLOOKUP(A7,'Base commande'!$G:$O,9,0) -> 0
A8: 702269007_02 | B8: =VLOOKUP(A8,'Base commande'!$G:$O,9,0) -> 0
A9: 702269005_02 | B9: =VLOOKUP(A9,'Base commande'!$G:$O,9,0) -> 0
A10: 702268730 | B10: =VLOOKUP(A10,'Base commande'!$G:$O,9,0) -> S230258016
A11: 702268662_02 | B11: =VLOOKUP(A11,'Base commande'!$G:$O,9,0) -> 0
A12: 702268543 | B12: =VLOOKUP(A12,'Base commande'!$G:$O,9,0) -> S230257755
A13: 702268539_01 | B13: =VLOOKUP(A13,'Base commande'!$G:$O,9,0) -> 0
... A341: 702268479 | B341: =VLOOKUP(A341,'Base commande'!$G:$O,9,0) -> 0
A342: =COUNTA(A2:A341) -> 340 | B342: =COUNTIF($B$2:$B$341,"<>0") -> 212 | C342: =B342/A342 -> 0.62352941

Sheet 702269166_02
A1: 702269166_02 | B1: =VLOOKUP(A1,'Base commande'!$A:$B,2,0) -> 302572000200144985,3333333333 | C1: NUM | D1: TYPE | E1: STATUT CDE | F1: REF CLIENT | G1: REF INT | H1: D.DEPART | I1: D.ARRIVEE | J1: KG | K1: PAL | L1: ML | M1: VOLUME | N1: PAL TOT | O1: RATTACHE A | P1: DATE C | Q1: CODE MAG
B2: {=_xlfn._xlws.FILTER('Base commande'!$B$1:$Q$923,'Base commande'!$B$1:$B$923='702269166_02'!B1)} -> 302572000200144985,3333333333 | C2: S230259436 | D2: PILOT | E2: CHARG | F2: 38073601 | G2: 702269166_02 | H2: 44981 | I2: 44985.333 | J2: 7782.8091 | K2: 24 | L2: 0 | M2: 28.76449 | N2: 24 | O2: 0 | P2: 44979.553 | Q2: 3025720002001
B3: 302572000200144985,3333333333 | C3: S230259435 | D3: PILOT | E3: CHARG | F3: 38073601 | G3: 702269166_01 | H3: 44981 | I3: 44985.333 | J3: 12922.01 | K3: 33 | L3: 0 | M3: 38.321289 | N3: 33 | O3: 0 | P3: 44979.553 | Q3: 3025720002001

Sheet 702270010_02
A1: 702270010_02 | B1: =VLOOKUP(A1,'Base commande'!$A:$B,2,0) -> 301229926020844984 | C1: NUM | D1: TYPE | E1: STATUT CDE | F1: REF CLIENT | G1: REF INT | H1: D.DEPART | I1: D.ARRIVEE | J1: KG | K1: PAL | L1: ML | M1: VOLUME | N1: PAL TOT | O1: RATTACHE A | P1: DATE C | Q1: CODE MAG
B2: {=_xlfn._xlws.FILTER('Base commande'!$B$1:$Q$923,'Base commande'!$B$1:$B$923='702270010_02'!B1)} -> 301229926020844984 | C2: S230261498 | D2: PILOT | E2: CHARG | F2: 111825 | G2: 702270010_02 | H2: 44981 | I2: 44984 | J2: 4755.394 | K2: 18 | L2: 0 | M2: 24.50526 | N2: 18 | O2: 0 | P2: 44980.733 | Q2: 3012299260208
B3: 301229926020844984 | C3: S230261497 | D3: PILOT | E3: CHARG | F3: 111825 | G3: 702270010_01 | H3: 44981 | I3: 44984 | J3: 10410.14 | K3: 32 | L3: 0 | M3: 41.311661 | N3: 33 | O3: 0 | P3: 44980.732 | Q3: 3012299260208
B4: 301229926020844984 | C4: S230261484 | D4: PILOT | E4: CHARG | F4: 111169 | G4: 702269996 | H4: 44984 | I4: 44984 | J4: 282.64001 | K4: 1 | L4: 0 | M4: 1.1917599 | N4: 1 | O4: 0 | P4: 44980.721 | Q4: 3012299260208
B5: 301229926020844984 | C5: S230256091 | D5: PILOT | E5: ANNUL | F5: 111825 | G5: 702268028 | H5: 44981 | I5: 44984 | J5: 0 | K5: 0 | L5: 0 | M5: 0 | N5: 18 | O5: 0 | P5: 44977.614 | Q5: 3012299260208
